{"text_format":"3","workbook":"xlsx","n_sheets":17,"sheets":["Model Choice","Home","Shortcut","Full","IF Factors","Grid Calc","Calculations","ridership calculator","Calculations2","Summary","Summary2","Color Coding","Dissemination Rate","Default","Writeup","Impact of Speed","CO2 per km CO2 per pax"],"not_rendered":{"charts":39,"images":26,"macros":1,"external_links":9,"defined_names":118,"comments":3},"read":"whole","date_system":"1900"}

{"sheet":"Model Choice","index":0,"n_rows":3,"n_cols":3,"rows_kept":3}
[]
[]
[null,null,"Transport Emissions Evaluation Model for Projects (TEEMP) - BRT "]

{"sheet":"Home","index":1,"n_rows":1,"n_cols":3,"rows_kept":1,"merged":[[0,2,1,6]]}
[null,null,"TEEMP BRT - Full Model"]

{"sheet":"Shortcut","index":2,"n_rows":707,"n_cols":22,"rows_kept":707,"merged":[[0,2,1,12],[0,34,1,37],[5,4,5,12],[7,6,7,10],[8,6,8,10],[9,6,9,10],[14,5,14,8],[15,5,15,8],[16,5,17,5],[19,5,20,5],[22,5,23,5],[26,4,30,4],[31,4,35,4],[89,5,89,6],[90,5,90,6],[99,4,99,12],[103,4,105,4],[107,4,117,4],[119,4,128,4]]}
[null,null,"Sketch Analysis Tool"]
[]
[]
[]
[]
[{"$nulls":4},"Inputs"]
[]
[{"$nulls":5},"Project Name"]
[{"$nulls":5},"Location"]
[{"$nulls":5},"Details"]
[]
[{"$nulls":5},"Base Year",null,{"$f":"IF(G12=\"\",\"\",G12+9)","v":""},{"$f":"IF(H12=\"\",\"\",H12+10)","v":""}]
[{"$nulls":5},"Cumulative length of BRTS Constructed (km)"]
[]
[{"$nulls":5},"BRT Ridership",{"$nulls":11},{"$f":"IF(F16=R16,1,0)","v":0}]
[{"$nulls":5},"Ridership figures are not available. I would like to estimate the figures using the ridership estimator",{"$nulls":11},"I have the ridership figures/day ('000).  I would like to input it directly  "]
[{"$nulls":5},{"$f":"IF(R15=1,\" BRT Ridership ('000)/day\",\"\")","v":""},{"$f":"IF(G12=\"\",\"\",G12)","v":""},{"$f":"H12","v":""},{"$f":"I12","v":""},{"$nulls":8},"Ridership figures are not available. I would like to estimate the figures using the ridership estimator"]
[]
[]
[{"$nulls":5},"Existing Public Transport Ridership in the Corridor/day ('000s)",{"$f":"G12","v":0},{"$f":"H12","v":""},{"$f":"I12","v":""}]
[]
[]
[{"$nulls":5},"Annual population growth",{"$f":"CONCATENATE(G20,\"-\",G20+4)","v":"0-4"},{"$f":"CONCATENATE(H20-4,\"-\",H20)","v":{"$error":"#VALUE!"}},{"$f":"CONCATENATE(H20+1,\"-\",I20-5)","v":{"$error":"#VALUE!"}},{"$f":"CONCATENATE(H20+6,\"-\",I20)","v":{"$error":"#VALUE!"}}]
[]
[]
[{"$nulls":5},{"$f":"IF(R15=0,\"Mode shift to BRT\",\"Mode share in the corridor if the BRT is not implemented\")","v":"Mode shift to BRT"},{"$f":"IF(G12=\"\",\"\",G12)","v":""},{"$f":"H20","v":""},""]
[{"$nulls":4},"private","Car"]
[{"$nulls":5},"2-wheeler"]
[{"$nulls":5},"Taxi"]
[]
[]
[{"$nulls":4},"public","3-wheeler"]
[{"$nulls":5},"Bus"]
[{"$nulls":5},"Mini-bus"]
[]
[]
[{"$nulls":5},"TOTAL",{"$f":"SUM(G27:G36)","v":{"v":0,"d":"0%"}},{"$f":"SUM(H27:H36)","v":{"v":0,"d":"0%"}},{"$f":"SUM(I27:I36)","v":{"v":0,"d":"0%"}}]
[]
[]
[]
[{"$nulls":5},"BRT Scorecard"]
[{"$nulls":5},"Click here for BRT Standard write-up and Scoring Instructions "]
[{"$nulls":5},"Component","Existing System","BRT System","Score per component",{"$nulls":5},{"$f":"G43","v":"Existing System"},{"$f":"H43","v":"BRT System"},null,null,"Year","% Increase","Ridership"]
[{"$nulls":5},"BRT Basics"]
[{"$nulls":5},"Busway Alignment",null,null,8,{"$nulls":5},{"$f":"G45","v":0},{"$f":"H45","v":0},null,1,{"$f":"G26","v":""},{"$f":"$G$24","v":{"v":0,"d":"0%"}},{"$f":"G21*1000","v":0}]
[{"$nulls":5},"Dedicated right-of-way",null,null,8,{"$nulls":5},{"$f":"G46","v":0},0,null,2,{"$f":"S45+1","v":{"$error":"#VALUE!"}},{"$f":"$G$24","v":{"v":0,"d":"0%"}},{"$f":"U45+(U45*T46)","v":0}]
[{"$nulls":5},"Off-board fare collection",null,null,8,{"$nulls":5},0,0,null,3,{"$f":"S46+1","v":{"$error":"#VALUE!"}},{"$f":"$G$24","v":{"v":0,"d":"0%"}},{"$f":"U46+(U46*T47)","v":0}]
[{"$nulls":5},"Intersection treatments",null,null,7,{"$nulls":5},0,0,null,4,{"$error":"#VALUE!"},{"$f":"$G$24","v":{"v":0,"d":"0%"}},0]
[{"$nulls":5},"Platform-level boarding",null,null,7,{"$nulls":5},0,0,null,5,{"$error":"#VALUE!"},{"$f":"$G$24","v":{"v":0,"d":"0%"}},0]
[{"$nulls":5},"Service Planning",{"$nulls":11},6,{"$error":"#VALUE!"},{"$f":"$H$24","v":{"v":0,"d":"0%"}},0]
[{"$nulls":5},"Multiple routes",null,null,4,{"$nulls":5},{"$f":"G51","v":0},0,null,7,{"$error":"#VALUE!"},{"v":0,"d":"0%"},0]
[{"$nulls":5},"Express, limited and local services",null,null,3,{"$nulls":5},{"$f":"G52","v":0},{"$f":"H52","v":0},null,8,{"$f":"S51+1","v":{"$error":"#VALUE!"}},{"v":0,"d":"0%"},0]
[{"$nulls":5},"Control center",null,null,3,{"$nulls":5},{"$f":"G53","v":0},{"$f":"H53","v":0},null,9,{"$error":"#VALUE!"},{"v":0,"d":"0%"},0]
[{"$nulls":5},"Located in top-ten corridors",null,null,2,{"$nulls":5},{"$f":"G54","v":0},{"$f":"H54","v":0},null,10,{"$error":"#VALUE!"},{"v":0,"d":"0%"},0]
[{"$nulls":5},"Demand Profile",null,null,2,{"$nulls":5},{"$f":"G55","v":0},{"$f":"H55","v":0},null,11,{"$error":"#VALUE!"},{"$f":"$I$24","v":{"v":0,"d":"0%"}},0]
[{"$nulls":5},"Hours of Operations",null,null,3,{"$nulls":5},{"$f":"G56","v":0},{"$f":"H56","v":0},null,12,{"$error":"#VALUE!"},{"$f":"$I$24","v":{"v":0,"d":"0%"}},0]
[{"$nulls":5},"Multi-corridor network",null,null,2,{"$nulls":5},{"$f":"G57","v":0},{"$f":"H57","v":0},null,13,{"$error":"#VALUE!"},{"$f":"$I$24","v":{"v":0,"d":"0%"}},0]
[{"$nulls":5},"Infrastructure",{"$nulls":11},14,{"$error":"#VALUE!"},{"$f":"$I$24","v":{"v":0,"d":"0%"}},0]
[{"$nulls":5},"Passing lanes at stations",null,null,4,{"$nulls":5},{"$f":"G59","v":0},{"$f":"H59","v":0},null,15,{"$error":"#VALUE!"},{"$f":"$I$24","v":{"v":0,"d":"0%"}},0]
[{"$nulls":5},"Minimizing bus emissions",null,null,3,{"$nulls":5},{"$f":"G60","v":0},{"$f":"H60","v":0},null,16,{"$error":"#VALUE!"},{"$f":"$J$24","v":{"v":0,"d":"0%"}},0]
[{"$nulls":5},"Stations set back from intersections",null,null,3,{"$nulls":5},0,0,null,17,{"$f":"#REF!+1","v":{"$error":"#REF!"}},{"$f":"$J$24","v":{"v":0,"d":"0%"}},0]
[{"$nulls":5},"Center stations",null,null,2,{"$nulls":5},0,0,null,18,{"$error":"#REF!"},{"$f":"$J$24","v":{"v":0,"d":"0%"}},0]
[{"$nulls":5},"Pavement quality\n",null,null,2,{"$nulls":5},0,0,null,19,{"$error":"#REF!"},{"$f":"$J$24","v":{"v":0,"d":"0%"}},0]
[{"$nulls":5},"Station Design and Station-Bus Interface",{"$nulls":11},20,{"$error":"#REF!"},{"v":0,"d":"0%"},0]
[{"$nulls":5},"Distance between stations",null,null,2,{"$nulls":5},{"$f":"G65","v":0},{"$f":"H65","v":0},null,21,{"$error":"#REF!"},{"v":0,"d":"0%"},0]
[{"$nulls":5},"Safe and comfortable stations\n",null,null,3,{"$nulls":5},{"$f":"G66","v":0},{"$f":"H66","v":0},null,22,{"$error":"#REF!"},{"v":0,"d":"0%"},0]
[{"$nulls":5},"Number of doors on bus",null,null,3,{"$nulls":5},0,0,null,23,{"$f":"#REF!+1","v":{"$error":"#REF!"}},{"v":0,"d":"0%"},0]
[{"$nulls":5},"Docking bays and sub-stops\n",null,null,1,{"$nulls":5},0,0]
[{"$nulls":5},"Sliding doors in BRT stations",null,null,1,{"$nulls":5},0,0,null,"Score before improvement",{"$f":"G89","v":0}]
[{"$nulls":5},"Quality of Service and Passenger information Systems",{"$nulls":11},"Score after improvement",{"$f":"H89","v":0}]
[{"$nulls":5},"Branding",null,null,3,{"$nulls":5},{"$f":"G71","v":0},{"$f":"H71","v":0},null,"Bonus factor"]
[{"$nulls":5},"Passenger information",null,null,2,{"$nulls":5},{"$f":"G72","v":0},{"$f":"H72","v":0}]
[{"$nulls":5},"Integration and Access"]
[{"$nulls":5},"Universal access",null,null,3,{"$nulls":5},{"$f":"G74","v":0},{"$f":"H74","v":0}]
[{"$nulls":5},"Integration with other public transport\n",null,null,3,{"$nulls":5},{"$f":"G75","v":0},{"$f":"H75","v":0}]
[{"$nulls":5},"Pedestrian access",null,null,3,{"$nulls":5},0,0]
[{"$nulls":5},"Secure bicycle parking",null,null,2,{"$nulls":5},0,0]
[{"$nulls":5},"Bicycle lanes",null,null,2,{"$nulls":5},0,0]
[{"$nulls":5},"Bicycle sharing integration",null,null,1,{"$nulls":5},0,0]
[{"$nulls":5},"Point Deduction"]
[{"$nulls":5},"Commercial speeds",null,null,-10,{"$nulls":5},{"$f":"G81","v":0},{"$f":"H81","v":0}]
[{"$nulls":5},"Peak passengers per hour per direction (pphpd) below 1,000",null,null,-5,{"$nulls":5},{"$f":"G82","v":0},{"$f":"H82","v":0}]
[{"$nulls":5},"Lack of enforcement of right-of-way",null,null,-5,{"$nulls":5},0,0]
[{"$nulls":5},"Significant gap between bus floor and station platform",null,null,-5,{"$nulls":5},0,0]
[{"$nulls":5},"Overcrowding",null,null,-5,{"$nulls":5},0,0]
[{"$nulls":5},"Poorly maintained busways, buses, stations, and technology systems",null,null,-10,{"$nulls":5},0,0]
[{"$nulls":5},"Low Peak frequency",null,null,-3,{"$nulls":5},0,0]
[{"$nulls":5},"Low Off-peak frequency",null,null,-2,{"$nulls":5},0,0]
[{"$nulls":5},"TOTAL SCORE",{"$f":"IF(SUM(O44:O88)>0,SUM(O44:O88),0)","v":0},{"$f":"IF(SUM(P44:P88)>0,SUM(P44:P88),0)","v":0},{"$f":"(SUM(I45:I57)+SUM(I59:I63)+SUM(I65:I69)+SUM(I71:I72)+SUM(I74:I79))","v":100}]
[{"$nulls":5},"ASSESSMENT",null,{"$f":"VLOOKUP(H89,D607:E707,2,FALSE)","v":"Not BRT"}]
[{"$nulls":5},"Ridership Bonus Factor",null,{"$f":"IF((((H89-G89)*0.01/5)+1)>1,((H89-G89)*0.01/5)+1,1)","v":1}]
[]
[]
[{"$nulls":14},"Ridership (thousands)"]
[{"$nulls":5},"Emissions indicators",{"$f":"G103","v":""},{"$f":"H103","v":""},{"$f":"I103","v":""},{"$nulls":5},"Direct Input",{"$f":"G18*1000*$H$91","v":0},{"$f":"H18*1000*$H$91","v":0},{"$f":"I18*1000*$H$91","v":0}]
[{"$nulls":5},"ton CO2/kilometer",{"$f":"'CO2 per km CO2 per pax'!I33","v":{"v":2236.202357617276,"d":"2,236.20"}},{"$f":"G96","v":{"v":2236.202357617276,"d":"2,236.20"}},{"$f":"H96","v":{"v":2236.202357617276,"d":"2,236.20"}},{"$nulls":5},"Calculated",{"$f":"G104*$H$91","v":0},{"$f":"H104*$H$91","v":0},{"$f":"I104*$H$91","v":0}]
[{"$nulls":5},"ton CO2/ passenger",{"$f":"'CO2 per km CO2 per pax'!J33","v":{"v":0.40645917325497094,"d":"0.41"}},{"$f":"G97","v":{"v":0.40645917325497094,"d":"0.41"}},{"$f":"H97","v":{"v":0.40645917325497094,"d":"0.41"}}]
[]
[]
[{"$nulls":4},"Outputs"]
[]
[{"$nulls":4},"Ridership, Trips and Mode Shift"]
[{"$nulls":6},{"$f":"G26","v":""},{"$f":"H26","v":""},{"$f":"I26","v":""}]
[{"$nulls":4},"Ridership","Public Transport Ridership",{"$f":"U45","v":0},{"$f":"U59","v":0},{"$f":"U66","v":0}]
[{"$nulls":5},"Adjusted Ridership of BRT",{"$f":"IF($R$15=1,P95,P96)","v":0},{"$f":"IF($R$15=1,Q95,Q96)","v":0},0]
[{"$nulls":5},"New Riders to BRT",{"$f":"G105-G104","v":0},{"$f":"H105-H104","v":0},0]
[]
[{"$nulls":4},"Trips","Car",{"$f":"IF($R$15=1,G$105*G120,G$106*T120)","v":{"$error":"#DIV/0!"}},{"$f":"IF($R$15=1,H$105*H120,H$106*U120)","v":{"$error":"#DIV/0!"}},{"$f":"IF($R$15=1,I$105*I120,I$106*V120)","v":{"$error":"#DIV/0!"}},{"$nulls":9},{"$f":"G95","v":""},{"$f":"H95","v":""},{"$f":"I95","v":""}]
[{"$nulls":5},"2-wheeler",{"$f":"IF($R$15=1,G$105*G121,G$106*T121)","v":{"$error":"#DIV/0!"}},{"$f":"IF($R$15=1,H$105*H121,H$106*U121)","v":{"$error":"#DIV/0!"}},{"$f":"IF($R$15=1,I$105*I121,I$106*V121)","v":{"$error":"#DIV/0!"}},{"$nulls":8},"km based",{"$f":"G96*G13","v":0},{"$f":"H96*H13","v":0},{"$f":"I96*I13","v":0}]
[{"$nulls":5},"Taxi",{"$f":"IF($R$15=1,G$105*G122,G$106*T122)","v":{"$error":"#DIV/0!"}},{"$f":"IF($R$15=1,H$105*H122,H$106*U122)","v":{"$error":"#DIV/0!"}},{"$f":"IF($R$15=1,I$105*I122,I$106*V122)","v":{"$error":"#DIV/0!"}},{"$nulls":8},"passenger based",{"$f":"G97*G105","v":0},{"$f":"H97*H105","v":0},{"$f":"I97*I105","v":0}]
[{"$nulls":5},{"$f":"IF(F30=\"\",\"\",F30)","v":""},{"$f":"IF($R$15=1,G$105*G123,G$106*T123)","v":{"$error":"#DIV/0!"}},{"$f":"IF($R$15=1,H$105*H123,H$106*U123)","v":{"$error":"#DIV/0!"}},{"$f":"IF($R$15=1,I$105*I123,I$106*V123)","v":{"$error":"#DIV/0!"}},{"$nulls":8},"average",{"$f":"AVERAGE(S109:S110)","v":0},{"$f":"AVERAGE(T109:T110)","v":0},0]
[{"$nulls":5},{"$f":"IF(F31=\"\",\"\",F31)","v":""},{"$f":"IF($R$15=1,G$105*G124,G$106*T124)","v":{"$error":"#DIV/0!"}},{"$f":"IF($R$15=1,H$105*H124,H$106*U124)","v":{"$error":"#DIV/0!"}},{"$f":"IF($R$15=1,I$105*I124,I$106*V124)","v":{"$error":"#DIV/0!"}}]
[{"$nulls":5},"3-wheeler",{"$f":"IF($R$15=1,G$105*G125,G$104*T125)","v":{"$error":"#DIV/0!"}},{"$f":"IF($R$15=1,H$105*H125,H$104*U125)","v":{"$error":"#DIV/0!"}},{"$f":"IF($R$15=1,I$105*I125,I$104*V125)","v":{"$error":"#DIV/0!"}}]
[{"$nulls":5},"Bus",{"$f":"IF($R$15=1,G$105*G126,G$104*T126)","v":{"$error":"#DIV/0!"}},{"$f":"IF($R$15=1,H$105*H126,H$104*U126)","v":{"$error":"#DIV/0!"}},{"$f":"IF($R$15=1,I$105*I126,I$104*V126)","v":{"$error":"#DIV/0!"}}]
[{"$nulls":5},"Mini-bus",{"$f":"IF($R$15=1,G$105*G127,G$104*T127)","v":{"$error":"#DIV/0!"}},{"$f":"IF($R$15=1,H$105*H127,H$104*U127)","v":{"$error":"#DIV/0!"}},{"$f":"IF($R$15=1,I$105*I127,I$104*V127)","v":{"$error":"#DIV/0!"}}]
[{"$nulls":5},{"$f":"IF(F35=\"\",\"\",F35)","v":""},{"$f":"IF($R$15=1,G$105*G128,G$104*T128)","v":{"$error":"#DIV/0!"}},{"$f":"IF($R$15=1,H$105*H128,H$104*U128)","v":{"$error":"#DIV/0!"}},{"$f":"IF($R$15=1,I$105*I128,I$104*V128)","v":{"$error":"#DIV/0!"}}]
[{"$nulls":5},{"$f":"IF(F36=\"\",\"\",F36)","v":""},{"$f":"IF($R$15=1,G$105*G129,G$104*T129)","v":{"$error":"#DIV/0!"}},{"$f":"IF($R$15=1,H$105*H129,H$104*U129)","v":{"$error":"#DIV/0!"}},{"$f":"IF($R$15=1,I$105*I129,I$104*V129)","v":{"$error":"#DIV/0!"}}]
[{"$nulls":5},"TOTAL",{"$f":"SUM(G108:G117)","v":{"$error":"#DIV/0!"}},{"$f":"SUM(H108:H117)","v":{"$error":"#DIV/0!"}},{"$error":"#DIV/0!"},{"$nulls":10},"Revised"]
[]
[{"$nulls":4},"Final Mode Shift",{"$f":"F108","v":"Car"},{"$f":"IF($R$15=1,G27,G108/G$118)","v":{"$error":"#DIV/0!"}},{"$f":"IF($R$15=1,H27,H108/H$118)","v":{"$error":"#DIV/0!"}},{"$f":"IF($R$15=1,I27,I108/I$118)","v":{"$error":"#DIV/0!"}},{"$nulls":5},{"$f":"F120","v":"Car"},{"$f":"G27","v":{"v":0,"d":"0%"}},{"$f":"H27","v":{"v":0,"d":"0%"}},{"v":0,"d":"0%"},null,{"$f":"P120/P$131","v":{"$error":"#DIV/0!"}},{"$f":"Q120/Q$131","v":{"$error":"#DIV/0!"}},{"$f":"R120/R$131","v":{"$error":"#DIV/0!"}}]
[{"$nulls":5},{"$f":"F109","v":"2-wheeler"},{"$f":"IF($R$15=1,G28,G109/G$118)","v":{"$error":"#DIV/0!"}},{"$f":"IF($R$15=1,H28,H109/H$118)","v":{"$error":"#DIV/0!"}},{"$f":"IF($R$15=1,I28,I109/I$118)","v":{"$error":"#DIV/0!"}},{"$nulls":5},{"$f":"F121","v":"2-wheeler"},{"$f":"G28","v":{"v":0,"d":"0%"}},{"v":0,"d":"0%"},{"v":0,"d":"0%"},null,{"$f":"P121/P$131","v":{"$error":"#DIV/0!"}},{"$error":"#DIV/0!"},{"$error":"#DIV/0!"}]
[{"$nulls":5},"Taxi",{"$f":"IF($R$15=1,G29,G110/G$118)","v":{"$error":"#DIV/0!"}},{"$f":"IF($R$15=1,H29,H110/H$118)","v":{"$error":"#DIV/0!"}},{"$f":"IF($R$15=1,I29,I110/I$118)","v":{"$error":"#DIV/0!"}},{"$nulls":5},"Taxi",{"$f":"G29","v":{"v":0,"d":"0%"}},{"v":0,"d":"0%"},{"v":0,"d":"0%"},null,{"$error":"#DIV/0!"},{"$error":"#DIV/0!"},{"$error":"#DIV/0!"}]
[{"$nulls":5},"",{"$f":"IF($R$15=1,G30,G111/G$118)","v":{"$error":"#DIV/0!"}},{"$f":"IF($R$15=1,H30,H111/H$118)","v":{"$error":"#DIV/0!"}},{"$f":"IF($R$15=1,I30,I111/I$118)","v":{"$error":"#DIV/0!"}},{"$nulls":5},"",{"$f":"G30","v":{"v":0,"d":"0%"}},{"v":0,"d":"0%"},{"v":0,"d":"0%"},null,{"$error":"#DIV/0!"},{"$error":"#DIV/0!"},{"$error":"#DIV/0!"}]
[{"$nulls":5},"",{"$f":"IF($R$15=1,G31,G112/G$118)","v":{"$error":"#DIV/0!"}},{"$f":"IF($R$15=1,H31,H112/H$118)","v":{"$error":"#DIV/0!"}},{"$f":"IF($R$15=1,I31,I112/I$118)","v":{"$error":"#DIV/0!"}},{"$nulls":5},"",{"$f":"G31","v":{"v":0,"d":"0%"}},{"v":0,"d":"0%"},{"v":0,"d":"0%"},null,{"$error":"#DIV/0!"},{"$error":"#DIV/0!"},{"$error":"#DIV/0!"}]
[{"$nulls":5},"3-wheeler",{"$f":"IF($R$15=1,G32,G113/G$118)","v":{"$error":"#DIV/0!"}},{"$f":"IF($R$15=1,H32,H113/H$118)","v":{"$error":"#DIV/0!"}},{"$f":"IF($R$15=1,I32,I113/I$118)","v":{"$error":"#DIV/0!"}},{"$nulls":5},"3-wheeler",{"$f":"G32","v":{"v":0,"d":"0%"}},{"v":0,"d":"0%"},{"v":0,"d":"0%"},null,{"$f":"P125/P$132","v":{"$error":"#DIV/0!"}},{"$f":"Q125/Q$132","v":{"$error":"#DIV/0!"}},{"$f":"R125/R$132","v":{"$error":"#DIV/0!"}}]
[{"$nulls":5},"Bus",{"$f":"IF($R$15=1,G33,G114/G$118)","v":{"$error":"#DIV/0!"}},{"$f":"IF($R$15=1,H33,H114/H$118)","v":{"$error":"#DIV/0!"}},{"$f":"IF($R$15=1,I33,I114/I$118)","v":{"$error":"#DIV/0!"}},{"$nulls":5},"Bus",{"$f":"G33","v":{"v":0,"d":"0%"}},{"v":0,"d":"0%"},{"v":0,"d":"0%"},null,{"$f":"P126/P$132","v":{"$error":"#DIV/0!"}},{"$error":"#DIV/0!"},{"$error":"#DIV/0!"}]
[{"$nulls":5},"Mini-bus",{"$f":"IF($R$15=1,G34,G115/G$118)","v":{"$error":"#DIV/0!"}},{"$f":"IF($R$15=1,H34,H115/H$118)","v":{"$error":"#DIV/0!"}},{"$f":"IF($R$15=1,I34,I115/I$118)","v":{"$error":"#DIV/0!"}},{"$nulls":5},"Mini-bus",{"$f":"G34","v":{"v":0,"d":"0%"}},{"v":0,"d":"0%"},{"v":0,"d":"0%"},null,{"$error":"#DIV/0!"},{"$error":"#DIV/0!"},{"$error":"#DIV/0!"}]
[{"$nulls":5},"",{"$f":"IF($R$15=1,G35,G116/G$118)","v":{"$error":"#DIV/0!"}},{"$f":"IF($R$15=1,H35,H116/H$118)","v":{"$error":"#DIV/0!"}},{"$f":"IF($R$15=1,I35,I116/I$118)","v":{"$error":"#DIV/0!"}},{"$nulls":5},"",{"$f":"G35","v":{"v":0,"d":"0%"}},{"v":0,"d":"0%"},{"v":0,"d":"0%"},null,{"$error":"#DIV/0!"},{"$error":"#DIV/0!"},{"$error":"#DIV/0!"}]
[{"$nulls":5},"",{"$f":"IF($R$15=1,G36,G117/G$118)","v":{"$error":"#DIV/0!"}},{"$f":"IF($R$15=1,H36,H117/H$118)","v":{"$error":"#DIV/0!"}},{"$f":"IF($R$15=1,I36,I117/I$118)","v":{"$error":"#DIV/0!"}},{"$nulls":5},"",{"$f":"G36","v":{"v":0,"d":"0%"}},{"v":0,"d":"0%"},{"v":0,"d":"0%"},null,{"$error":"#DIV/0!"},{"$error":"#DIV/0!"},{"$error":"#DIV/0!"}]
[{"$nulls":5},"TOTAL",{"$f":"SUM(G120:G129)","v":{"$error":"#DIV/0!"}},{"$f":"SUM(H120:H129)","v":{"$error":"#DIV/0!"}},{"$error":"#DIV/0!"},{"$nulls":5},"Total",{"$f":"BM1","v":{"v":0,"d":"0%"}},{"v":0,"d":"0%"},{"v":0,"d":"0%"}]
[{"$nulls":14},"Total Private",{"$f":"SUM(P120:P124)","v":{"v":0,"d":"0%"}},{"$f":"SUM(Q120:Q124)","v":{"v":0,"d":"0%"}},{"v":0,"d":"0%"}]
[{"$nulls":6},{"$f":"G95","v":""},{"$f":"H95","v":""},{"$f":"I95","v":""},{"$nulls":5},"Total Public",{"$f":"SUM(P125:P129)","v":{"v":0,"d":"0%"}},{"$f":"SUM(Q125:Q129)","v":{"v":0,"d":"0%"}},{"v":0,"d":"0%"}]
[{"$nulls":5},"CO2 Reductions (tons)",{"$f":"S111","v":0},{"$f":"T111","v":0},{"$f":"U111","v":0},{"$f":"H133/56","v":0}]
{"$rows_empty":473}
[{"$nulls":3},0,"Not BRT"]
[{"$nulls":3},1,"Not BRT"]
[{"$nulls":3},2,"Not BRT"]
[{"$nulls":3},3,"Not BRT"]
[{"$nulls":3},4,"Not BRT"]
[{"$nulls":3},5,"Not BRT"]
[{"$nulls":3},6,"Not BRT"]
[{"$nulls":3},7,"Not BRT"]
[{"$nulls":3},8,"Not BRT"]
[{"$nulls":3},9,"Not BRT"]
[{"$nulls":3},10,"Not BRT"]
[{"$nulls":3},11,"Not BRT"]
[{"$nulls":3},12,"Not BRT"]
[{"$nulls":3},13,"Not BRT"]
[{"$nulls":3},14,"Not BRT"]
[{"$nulls":3},15,"Not BRT"]
[{"$nulls":3},16,"Not BRT"]
[{"$nulls":3},17,"Not BRT"]
[{"$nulls":3},18,"Not BRT"]
[{"$nulls":3},19,"Not BRT"]
[{"$nulls":3},20,"Not BRT"]
[{"$nulls":3},21,"Not BRT"]
[{"$nulls":3},22,"Not BRT"]
[{"$nulls":3},23,"Not BRT"]
[{"$nulls":3},24,"Not BRT"]
[{"$nulls":3},25,"Not BRT"]
[{"$nulls":3},26,"Not BRT"]
[{"$nulls":3},27,"Not BRT"]
[{"$nulls":3},28,"Not BRT"]
[{"$nulls":3},29,"Not BRT"]
[{"$nulls":3},30,"Not BRT"]
[{"$nulls":3},31,"Not BRT"]
[{"$nulls":3},32,"Not BRT"]
[{"$nulls":3},33,"Not BRT"]
[{"$nulls":3},34,"Not BRT"]
[{"$nulls":3},35,"Not BRT"]
[{"$nulls":3},36,"Not BRT"]
[{"$nulls":3},37,"Not BRT"]
[{"$nulls":3},38,"Not BRT"]
[{"$nulls":3},39,"Not BRT"]
[{"$nulls":3},40,"Not BRT"]
[{"$nulls":3},41,"Not BRT"]
[{"$nulls":3},42,"Not BRT"]
[{"$nulls":3},43,"Not BRT"]
[{"$nulls":3},44,"Not BRT"]
[{"$nulls":3},45,"Not BRT"]
[{"$nulls":3},46,"Not BRT"]
[{"$nulls":3},47,"Not BRT"]
[{"$nulls":3},48,"Not BRT"]
[{"$nulls":3},49,"Not BRT"]
[{"$nulls":3},50,"Bronze"]
[{"$nulls":3},51,"Bronze"]
[{"$nulls":3},52,"Bronze"]
[{"$nulls":3},53,"Bronze"]
[{"$nulls":3},54,"Bronze"]
[{"$nulls":3},55,"Bronze"]
[{"$nulls":3},56,"Bronze"]
[{"$nulls":3},57,"Bronze"]
[{"$nulls":3},58,"Bronze"]
[{"$nulls":3},59,"Bronze"]
[{"$nulls":3},60,"Bronze"]
[{"$nulls":3},61,"Bronze"]
[{"$nulls":3},62,"Bronze"]
[{"$nulls":3},63,"Bronze"]
[{"$nulls":3},64,"Bronze"]
[{"$nulls":3},65,"Bronze"]
[{"$nulls":3},66,"Bronze"]
[{"$nulls":3},67,"Bronze"]
[{"$nulls":3},68,"Bronze"]
[{"$nulls":3},69,"Bronze"]
[{"$nulls":3},70,"Silver"]
[{"$nulls":3},71,"Silver"]
[{"$nulls":3},72,"Silver"]
[{"$nulls":3},73,"Silver"]
[{"$nulls":3},74,"Silver"]
[{"$nulls":3},75,"Silver"]
[{"$nulls":3},76,"Silver"]
[{"$nulls":3},77,"Silver"]
[{"$nulls":3},78,"Silver"]
[{"$nulls":3},79,"Silver"]
[{"$nulls":3},80,"Silver"]
[{"$nulls":3},81,"Silver"]
[{"$nulls":3},82,"Silver"]
[{"$nulls":3},83,"Silver"]
[{"$nulls":3},84,"Silver"]
[{"$nulls":3},85,"Gold"]
[{"$nulls":3},86,"Gold"]
[{"$nulls":3},87,"Gold"]
[{"$nulls":3},88,"Gold"]
[{"$nulls":3},89,"Gold"]
[{"$nulls":3},90,"Gold"]
[{"$nulls":3},91,"Gold"]
[{"$nulls":3},92,"Gold"]
[{"$nulls":3},93,"Gold"]
[{"$nulls":3},94,"Gold"]
[{"$nulls":3},95,"Gold"]
[{"$nulls":3},96,"Gold"]
[{"$nulls":3},97,"Gold"]
[{"$nulls":3},98,"Gold"]
[{"$nulls":3},99,"Gold"]
[{"$nulls":3},100,"Gold"]

{"sheet":"Full","index":3,"n_rows":1712,"n_cols":68,"rows_kept":1712,"merged":[[0,2,1,5],[0,34,1,37],[7,3,7,4],[7,5,7,6],[8,3,8,4],[8,5,8,6],[9,3,9,4],[9,5,9,6],[11,3,11,4],[12,3,12,4],[13,3,13,4],[15,3,15,4],[41,5,42,5],[46,5,46,8],[47,5,47,8],[49,63,50,63],[52,37,53,37],[56,36,60,36],[56,62,60,62],[61,36,65,36],[61,62,65,62],[169,4,171,4],[173,4,183,4],[185,4,195,4],[215,5,217,5],[215,6,216,8],[215,9,216,9],[282,6,282,7],[283,6,283,7],[284,6,284,7],[285,6,285,7],[286,6,286,7],[287,6,287,7],[288,6,288,7],[289,6,289,7],[290,6,290,7],[291,6,291,7],[331,6,331,7],[560,5,560,8]]}
[null,null,"Full Model ",{"$nulls":31},"Full Model "]
[]
[]
[]
[]
[]
[]
[{"$nulls":3},"Project Name:"]
[{"$nulls":3},"Location:"]
[{"$nulls":3},"Other Details:"]
[]
[{"$nulls":3},"Base Year:"]
[{"$nulls":3},"Intermediate Year:",null,{"$f":"F12+9","v":9}]
[{"$nulls":3},"Horizon Year:",null,{"$f":"F13+10","v":19}]
[]
[{"$nulls":3},"Days in Operation/year"]
{"$rows_empty":25}
[{"$nulls":5},"Cumulative Length of BRTS Constructed (km)",{"$f":"F12","v":0},{"$f":"F13","v":9},{"$f":"F14","v":19},{"$nulls":4},"I have the ridership figures/day ('000).  I would like to input it directly  "]
[{"$nulls":13},"Ridership figures are not available."]
[]
[]
[{"$nulls":13},"Direct Input ridership?",{"$nulls":8},"Total Ridership ('000)/day",{"$f":"IF(Full!$N$47=1,Full!AM54,Full!G171)","v":0},{"$f":"IF(Full!$N$47=1,Full!AN54,Full!H171)","v":0},{"$f":"IF(Full!$N$47=1,Full!AO54,Full!I171)","v":0}]
[{"$nulls":5},"BRT Ridership",{"$nulls":7},{"$f":"IF(F48=N42,1,0)","v":0},{"$nulls":4},{"$f":"G42","v":0},{"$f":"H42","v":9},{"$f":"I42","v":19},{"$nulls":42},"Ridership Estimator"]
[{"$nulls":5},"Ridership figures are not available."]
[]
[{"$nulls":37},"Direct Input - Ridership",{"$nulls":25},"Existing public transport ridership in the corridor/day ('000s)",{"$f":"AM53","v":0},{"$f":"AN53","v":9},{"$f":"AO53","v":19}]
[]
[]
[{"$nulls":37},"BRT Ridership -  ('000)/day",{"$f":"G42","v":0},{"$f":"H42","v":9},{"$f":"I42","v":19},{"$nulls":22},"Population growth rate",{"$f":"CONCATENATE(BM50,\"-\",BM50+4)","v":"0-4"},{"$f":"CONCATENATE(BN50-4,\"-\",BN50)","v":"5-9"},{"$f":"CONCATENATE(BN50+1,\"-\",BO50-5)","v":"10-14"},{"$f":"CONCATENATE(BN50+6,\"-\",BO50)","v":"15-19"}]
[{"$nulls":63},"Click here to see Population Growth Estimates for Brasil"]
[]
[{"$nulls":37},"Modeshift to BRT",{"$f":"AM53","v":0},{"$f":"AN53","v":9},{"$f":"AO53","v":19},{"$nulls":22},"Mode share in the corridor if the BRT is not implemented",{"$f":"BM50","v":0},{"$f":"BN50","v":9},19]
[{"$nulls":36},"private","Car",{"$nulls":24},"private","Car"]
[{"$nulls":37},"2-wheeler",{"$nulls":25},"2-wheeler"]
[{"$nulls":37},"Taxi",{"$nulls":25},"Taxi"]
[]
[]
[{"$nulls":36},"public","3-wheeler",{"$nulls":24},"public","3-wheeler"]
[{"$nulls":37},"Bus",{"$nulls":25},"Bus"]
[{"$nulls":37},"Mini-bus",{"$nulls":25},"Mini-bus"]
[]
[]
[{"$nulls":37},"TOTAL",{"$f":"SUM(AM57:AM66)","v":{"v":0,"d":"0.0%"}},{"$f":"SUM(AN57:AN66)","v":{"v":0,"d":"0.0%"}},{"v":0,"d":"0.0%"},{"$nulls":22},"TOTAL",{"$f":"SUM(BM57:BM66)","v":{"v":0,"d":"0%"}},{"$f":"SUM(BN57:BN66)","v":{"v":0,"d":"0%"}},{"v":0,"d":"0%"}]
[]
[{"$nulls":37},"To proceed, please click the home button and move to the next section (BRT Scorecard)",{"$nulls":25},"To proceed, please click the home button and move to the next section"]
{"$rows_empty":37}
[{"$nulls":5},"BRT Scorecard (BROWSE OVER THE PARAMETERS TO SEE GUIDANCE ON HOW TO SCORE)"]
[{"$nulls":5},"Click here for BRT Standard write-up and Scoring Instructions "]
[{"$nulls":5},"Component","Existing System","BRT System","Score per component",{"$nulls":5},{"$f":"G109","v":"Existing System"},{"$f":"H109","v":"BRT System"},"Speed Scaling Factor",null,null,"Year","% Increase","Ridership"]
[{"$nulls":5},"BRT Basics"]
[{"$nulls":5},"Dedicated right-of-way",null,null,8,{"$nulls":5},{"$f":"G111","v":0},{"$f":"H111","v":0},{"$f":"IF(P111>0,10,0)","v":0},null,1,{"$f":"F12","v":0},{"$f":"$BM$54","v":{"v":0,"d":"0%"}},{"$f":"BM51*1000","v":0}]
[{"$nulls":5},"Busway Alignment",null,null,8,{"$nulls":5},{"$f":"G112","v":0},{"$f":"H112","v":0},{"$f":"IF(P112>0,10,0)","v":0},null,2,{"$f":"T111+1","v":1},{"$f":"$BM$54","v":{"v":0,"d":"0%"}},{"$f":"V111+(V111*U112)","v":0}]
[{"$nulls":5},"Off-board fare collection",null,null,8,{"$nulls":5},0,0,0,null,3,2,{"$f":"$BM$54","v":{"v":0,"d":"0%"}},0]
[{"$nulls":5},"Intersection treatments",null,null,7,{"$nulls":5},0,0,0,null,4,3,{"$f":"$BM$54","v":{"v":0,"d":"0%"}},0]
[{"$nulls":5},"Platform-level boarding",null,null,7,{"$nulls":5},0,0,0,null,5,4,{"$f":"$BM$54","v":{"v":0,"d":"0%"}},0]
[{"$nulls":5},"Service Planning",{"$nulls":12},6,5,{"$f":"$BN$54","v":{"v":0,"d":"0%"}},0]
[{"$nulls":5},"Multiple routes",null,null,4,{"$nulls":5},{"$f":"G117","v":0},{"$f":"H117","v":0},{"$f":"IF(P117>0,10,0)","v":0},null,7,6,{"v":0,"d":"0%"},0]
[{"$nulls":5},"Express, limited and local services",null,null,3,{"$nulls":5},{"$f":"G118","v":0},{"$f":"H118","v":0},{"$f":"IF(P118>0,10,0)","v":0},null,8,7,{"v":0,"d":"0%"},0]
[{"$nulls":5},"Control center",null,null,3,{"$nulls":5},{"$f":"G119","v":0},{"$f":"H119","v":0},{"$f":"IF(P119>0,10,0)","v":0},null,9,8,{"v":0,"d":"0%"},0]
[{"$nulls":5},"Located in top-ten corridors",null,null,2,{"$nulls":5},{"$f":"G120","v":0},{"$f":"H120","v":0},{"$f":"IF(P120>0,10,0)","v":0},null,10,9,{"v":0,"d":"0%"},0]
[{"$nulls":5},"Demand Profile",null,null,3,{"$nulls":5},{"$f":"G121","v":0},{"$f":"H121","v":0},{"$f":"IF(P121>0,10,0)","v":0},null,11,10,{"$f":"$BO$54","v":{"v":0,"d":"0%"}},0]
[{"$nulls":5},"Hours of Operation",null,null,2,{"$nulls":5},{"$f":"G122","v":0},{"$f":"H122","v":0},{"$f":"IF(P122>0,10,0)","v":0},null,12,11,{"$f":"$BO$54","v":{"v":0,"d":"0%"}},0]
[{"$nulls":5},"Multi-corridor network",null,null,2,{"$nulls":5},{"$f":"G123","v":0},{"$f":"H123","v":0},{"$f":"IF(P123>0,10,0)","v":0},null,13,12,{"$f":"$BO$54","v":{"v":0,"d":"0%"}},0]
[{"$nulls":5},"Infrastructure",{"$nulls":12},14,13,{"$f":"$BO$54","v":{"v":0,"d":"0%"}},0]
[{"$nulls":5},"Passing lanes at stations",null,null,4,{"$nulls":5},{"$f":"G125","v":0},{"$f":"H125","v":0},{"$f":"IF(P125>0,10,0)","v":0},null,15,14,{"$f":"$BO$54","v":{"v":0,"d":"0%"}},0]
[{"$nulls":5},"Minimizing bus emissions",null,null,3,{"$nulls":5},{"$f":"G126","v":0},{"$f":"H126","v":0},{"$f":"IF(P126>0,10,0)","v":0},null,16,15,{"$f":"$BP$54","v":{"v":0,"d":"0%"}},0]
[{"$nulls":5},"Stations set back from intersections",null,null,3,{"$nulls":5},0,0,0,null,17,16,{"$f":"$BP$54","v":{"v":0,"d":"0%"}},0]
[{"$nulls":5},"Center stations",null,null,2,{"$nulls":5},0,0,0,null,18,17,{"v":0,"d":"0%"},0]
[{"$nulls":5},"Pavement quality\n",null,null,2,{"$nulls":5},0,0,0,null,19,18,{"v":0,"d":"0%"},0]
[{"$nulls":5},"Stations",{"$nulls":12},20,19,{"v":0,"d":"0%"},0]
[{"$nulls":5},"Distance between stations",null,null,2,{"$nulls":5},{"$f":"G131","v":0},{"$f":"H131","v":0},{"$f":"IF(P131>0,10,0)","v":0},null,21,{"$f":"T130+1","v":20},{"v":0,"d":"0%"},{"$f":"V130+(V130*U131)","v":0}]
[{"$nulls":5},"Safe and comfortable stations",null,null,3,{"$nulls":5},{"$f":"G132","v":0},{"$f":"H132","v":0},{"$f":"IF(P132>0,10,0)","v":0},null,22,21,{"v":0,"d":"0%"},{"$f":"V131+(V131*U132)","v":0}]
[{"$nulls":5},"Number of doors on bus",null,null,3,{"$nulls":5},0,0,0]
[{"$nulls":5},"Docking bays and sub-stops",null,null,1,{"$nulls":5},0,0,0,null,"Score before improvement",{"$f":"G155","v":0}]
[{"$nulls":5},"Sliding doors in BRT stations",null,null,1,{"$nulls":5},0,0,0,null,"Score after improvement",{"$f":"H155","v":0}]
[{"$nulls":5},"Communications",{"$nulls":12},"Bonus"]
[{"$nulls":5},"Branding",null,null,3,{"$nulls":5},{"$f":"G137","v":0},{"$f":"H137","v":0},0]
[{"$nulls":5},"Passenger information",null,null,2,{"$nulls":5},0,0,0]
[{"$nulls":5},"Integration and Access"]
[{"$nulls":5},"Universal access",null,null,3,{"$nulls":5},{"$f":"G140","v":0},{"$f":"H140","v":0},0]
[{"$nulls":5},"Integration with other public transport\n",null,null,3,{"$nulls":5},{"$f":"G141","v":0},{"$f":"H141","v":0},0]
[{"$nulls":5},"Pedestrian access",null,null,3,{"$nulls":5},0,0,0]
[{"$nulls":5},"Secure bicycle parking",null,null,2,{"$nulls":5},0,0,0]
[{"$nulls":5},"Bicycle lanes",null,null,2,{"$nulls":5},0,0,0]
[{"$nulls":5},"Bicycle sharing integration",null,null,1,{"$nulls":5},0,0,0]
[{"$nulls":5},"Point Deduction"]
[{"$nulls":5},"Commercial speeds",null,null,-10,{"$nulls":5},{"$f":"G147","v":0},{"$f":"H147","v":0},0]
[{"$nulls":5},"Peak passengers per hour per direction (pphpd) below 1,000",null,null,-5,{"$nulls":5},{"$f":"G148","v":0},{"$f":"H148","v":0},0]
[{"$nulls":5},"Lack of enforcement of right-of-way",null,null,-5,{"$nulls":5},0,0,0]
[{"$nulls":5},"Significant gap between bus floor and station platform",null,null,-5,{"$nulls":5},0,0,0]
[{"$nulls":5},"Overcrowding",null,null,-5,{"$nulls":5},0,0,0]
[{"$nulls":5},"Poorly maintained busways, buses, stations, and technology systems",null,null,-10,{"$nulls":5},0,0,0]
[{"$nulls":5},"Low Peak frequency",null,null,-3,{"$nulls":5},0,0,0]
[{"$nulls":5},"Low Off-peak frequency",null,null,-2,{"$nulls":5},0,0,0]
[{"$nulls":5},"TOTAL SCORE",{"$f":"IF(SUM(O110:O157)>0,SUM(O110:O157),0)","v":0},{"$f":"IF(SUM(P110:P157)>0,SUM(P110:P157),0)","v":0},{"$f":"(SUM(I111:I123)+SUM(I125:I129)+SUM(I131:I135)+SUM(I137:I138)+SUM(I140:I145))","v":100},{"$nulls":3}," ",{"$nulls":3},{"$f":"SUM(Q111:Q154)/100","v":0}]
[{"$nulls":5},"ASSESSMENT",null,{"$f":"VLOOKUP(H155,E1612:H1712,4,FALSE)","v":"Not BRT"}]
[{"$nulls":5},"Ridership Bonus Factor",null,{"$f":"IF((((H155-G155)*0.01/5)+1)>1,((H155-G155)*0.01/5)+1,1)","v":1}]
[]
[]
[]
[{"$nulls":5},"Scaling factor for Land Use",{"$f":"H155/100","v":{"v":0,"d":"0.00"}},{"$nulls":8},{"$f":"O161","v":0},{"$f":"P161","v":0}]
[{"$nulls":5},"Scaling Factor for demand",{"$f":"H157","v":{"v":1,"d":"1.00"}},{"$nulls":8},{"$f":"O162","v":0},{"$f":"P162","v":0}]
[{"$nulls":5},"Maximum speed w/ optimal station stop distance",{"$f":"O163","v":0},{"$nulls":7},{"$f":"'IF Factors'!E243","v":0},{"$f":"'IF Factors'!F243","v":0},{"$f":"'IF Factors'!G243","v":0}]
[{"$nulls":5},"Speed Scaling Factor",{"$f":"O164","v":{"v":0,"d":"0.00"}},{"$nulls":7},{"$f":"Q155","v":{"v":0,"d":"0.00"}},{"$f":"O164","v":{"v":0,"d":"0.00"}},{"$f":"P164","v":{"v":0,"d":"0.00"}}]
[{"$nulls":5},"Projected Speed",{"$f":"O165","v":0},{"$nulls":7},{"$f":"IF(S165>=$G$163,$G$163,S165)","v":0},{"$f":"IF(T165>=$G$163,$G$163,T165)","v":0},{"$f":"IF(U165>=$G$163,$G$163,U165)","v":0},null,{"$f":"IF((O163*O164)>15,O163*O164,15)","v":15},{"$f":"IF((P163*P164)>15,P163*P164,15)","v":15},{"$f":"IF((Q163*Q164)>15,Q163*Q164,15)","v":15}]
[{"$nulls":5},"Scaling factor for dissemination",{"$f":"IF(H155>80,G161,0)","v":{"v":0,"d":"0.00"}}]
[" "]
[" "]
[{"$nulls":5},"Ridership, Trips and Mode Shift",{"$f":"Full!F12","v":0},{"$f":"Full!F13","v":9},{"$f":"Full!F14","v":19}]
[{"$nulls":4},"Ridership","Ridership of Existing System",{"$f":"V111","v":0},{"$f":"V120","v":0},{"$f":"V130","v":0},{"$nulls":5},"Ridership (thousands)"]
[{"$nulls":5},"Adjusted Ridership of BRT",{"$f":"IF($N$47=1,P171,P172)","v":0},{"$f":"IF($N$47=1,Q171,Q172)","v":0},0,{"$nulls":5},"Direct Input",{"$f":"Full!AM54*1000*$H$157","v":0},{"$f":"Full!AN54*1000*$H$157","v":0},{"$f":"Full!AO54*1000*$H$157","v":0}]
[{"$nulls":5},"New Riders to BRT",{"$f":"G171-G170","v":0},{"$f":"H171-H170","v":0},0,{"$nulls":5},"Calculated",{"$f":"G170*$H$157","v":0},{"$f":"H170*$H$157","v":0},{"$f":"I170*$H$157","v":0}]
[]
[{"$nulls":4},"Trips","Car",{"$f":"IF($N$47=1,G$171*G186,G$172*T186)","v":{"$error":"#DIV/0!"}},{"$f":"IF($N$47=1,H$171*H186,H$172*U186)","v":{"$error":"#DIV/0!"}},{"$f":"IF($N$47=1,I$171*I186,I$172*V186)","v":{"$error":"#DIV/0!"}},{"$nulls":5},{"$f":"IF($N$47=1,AL57,BL57)","v":"Car"}]
[{"$nulls":5},"2-wheeler",{"$f":"IF($N$47=1,G$171*G187,G$172*T187)","v":{"$error":"#DIV/0!"}},{"$f":"IF($N$47=1,H$171*H187,H$172*U187)","v":{"$error":"#DIV/0!"}},{"$f":"IF($N$47=1,I$171*I187,I$172*V187)","v":{"$error":"#DIV/0!"}},{"$nulls":5},{"$f":"IF($N$47=1,AL58,BL58)","v":"2-wheeler"}]
[{"$nulls":5},"Taxi",{"$f":"IF($N$47=1,G$171*G188,G$172*T188)","v":{"$error":"#DIV/0!"}},{"$f":"IF($N$47=1,H$171*H188,H$172*U188)","v":{"$error":"#DIV/0!"}},{"$f":"IF($N$47=1,I$171*I188,I$172*V188)","v":{"$error":"#DIV/0!"}},{"$nulls":5},"Taxi"]
[{"$nulls":5},{"$f":"IF(O177=0,\"\",O177)","v":""},{"$f":"IF($N$47=1,G$171*G189,G$172*T189)","v":{"$error":"#DIV/0!"}},{"$f":"IF($N$47=1,H$171*H189,H$172*U189)","v":{"$error":"#DIV/0!"}},{"$f":"IF($N$47=1,I$171*I189,I$172*V189)","v":{"$error":"#DIV/0!"}},{"$nulls":5},0]
[{"$nulls":5},{"$f":"IF(O178=0,\"\",O178)","v":""},{"$f":"IF($N$47=1,G$171*G190,G$172*T190)","v":{"$error":"#DIV/0!"}},{"$f":"IF($N$47=1,H$171*H190,H$172*U190)","v":{"$error":"#DIV/0!"}},{"$f":"IF($N$47=1,I$171*I190,I$172*V190)","v":{"$error":"#DIV/0!"}},{"$nulls":5},0]
[{"$nulls":5},"3-wheeler",{"$f":"IF($N$47=1,G$171*G191,G$170*T191)","v":{"$error":"#DIV/0!"}},{"$f":"IF($N$47=1,H$171*H191,H$170*U191)","v":{"$error":"#DIV/0!"}},{"$f":"IF($N$47=1,I$171*I191,I$170*V191)","v":{"$error":"#DIV/0!"}},{"$nulls":5},"3-wheeler"]
[{"$nulls":5},"Bus",{"$f":"IF($N$47=1,G$171*G192,G$170*T192)","v":{"$error":"#DIV/0!"}},{"$f":"IF($N$47=1,H$171*H192,H$170*U192)","v":{"$error":"#DIV/0!"}},{"$f":"IF($N$47=1,I$171*I192,I$170*V192)","v":{"$error":"#DIV/0!"}},{"$nulls":5},"Bus"]
[{"$nulls":5},"Mini-bus",{"$f":"IF($N$47=1,G$171*G193,G$170*T193)","v":{"$error":"#DIV/0!"}},{"$f":"IF($N$47=1,H$171*H193,H$170*U193)","v":{"$error":"#DIV/0!"}},{"$f":"IF($N$47=1,I$171*I193,I$170*V193)","v":{"$error":"#DIV/0!"}},{"$nulls":5},"Mini-bus"]
[{"$nulls":5},{"$f":"IF(O182=0,\"\",O182)","v":""},{"$f":"IF($N$47=1,G$171*G194,G$170*T194)","v":{"$error":"#DIV/0!"}},{"$f":"IF($N$47=1,H$171*H194,H$170*U194)","v":{"$error":"#DIV/0!"}},{"$f":"IF($N$47=1,I$171*I194,I$170*V194)","v":{"$error":"#DIV/0!"}},{"$nulls":5},0]
[{"$nulls":5},{"$f":"IF(O183=0,\"\",O183)","v":""},{"$f":"IF($N$47=1,G$171*G195,G$170*T195)","v":{"$error":"#DIV/0!"}},{"$f":"IF($N$47=1,H$171*H195,H$170*U195)","v":{"$error":"#DIV/0!"}},{"$f":"IF($N$47=1,I$171*I195,I$170*V195)","v":{"$error":"#DIV/0!"}},{"$nulls":5},0]
[{"$nulls":5},"TOTAL",{"$f":"SUM(G174:G183)","v":{"$error":"#DIV/0!"}},{"$f":"SUM(H174:H183)","v":{"$error":"#DIV/0!"}},{"$f":"SUM(I174:I183)","v":{"$error":"#DIV/0!"}},{"$f":"G171*2","v":0},{"$nulls":9},"Revised"]
[]
[{"$nulls":4},"Final Mode Shift",{"$f":"F174","v":"Car"},{"$f":"IF($N$47=1,AM57,G174/G$184)","v":{"$error":"#DIV/0!"}},{"$f":"IF($N$47=1,AN57,H174/H$184)","v":{"$error":"#DIV/0!"}},{"$f":"IF($N$47=1,AO57,I174/I$184)","v":{"$error":"#DIV/0!"}},{"$nulls":5},{"$f":"F186","v":"Car"},{"$f":"BM57","v":{"v":0,"d":"0%"}},{"$f":"BN57","v":{"v":0,"d":"0%"}},{"v":0,"d":"0%"},null,{"$f":"P186/P$197","v":{"$error":"#DIV/0!"}},{"$f":"Q186/Q$197","v":{"$error":"#DIV/0!"}},{"$error":"#DIV/0!"}]
[{"$nulls":5},{"$f":"F175","v":"2-wheeler"},{"$f":"IF($N$47=1,AM58,G175/G$184)","v":{"$error":"#DIV/0!"}},{"$f":"IF($N$47=1,AN58,H175/H$184)","v":{"$error":"#DIV/0!"}},{"$f":"IF($N$47=1,AO58,I175/I$184)","v":{"$error":"#DIV/0!"}},{"$nulls":5},{"$f":"F187","v":"2-wheeler"},{"$f":"BM58","v":{"v":0,"d":"0%"}},{"v":0,"d":"0%"},{"v":0,"d":"0%"},null,{"$f":"P187/P$197","v":{"$error":"#DIV/0!"}},{"$error":"#DIV/0!"},{"$error":"#DIV/0!"}]
[{"$nulls":5},"Taxi",{"$f":"IF($N$47=1,AM59,G176/G$184)","v":{"$error":"#DIV/0!"}},{"$f":"IF($N$47=1,AN59,H176/H$184)","v":{"$error":"#DIV/0!"}},{"$f":"IF($N$47=1,AO59,I176/I$184)","v":{"$error":"#DIV/0!"}},{"$nulls":5},"Taxi",{"$f":"BM59","v":{"v":0,"d":"0%"}},{"v":0,"d":"0%"},{"v":0,"d":"0%"},null,{"$error":"#DIV/0!"},{"$error":"#DIV/0!"},{"$error":"#DIV/0!"}]
[{"$nulls":5},"",{"$f":"IF($N$47=1,AM60,G177/G$184)","v":{"$error":"#DIV/0!"}},{"$f":"IF($N$47=1,AN60,H177/H$184)","v":{"$error":"#DIV/0!"}},{"$f":"IF($N$47=1,AO60,I177/I$184)","v":{"$error":"#DIV/0!"}},{"$nulls":5},"",{"$f":"BM60","v":{"v":0,"d":"0%"}},{"v":0,"d":"0%"},{"v":0,"d":"0%"},null,{"$error":"#DIV/0!"},{"$error":"#DIV/0!"},{"$error":"#DIV/0!"}]
[{"$nulls":5},"",{"$f":"IF($N$47=1,AM61,G178/G$184)","v":{"$error":"#DIV/0!"}},{"$f":"IF($N$47=1,AN61,H178/H$184)","v":{"$error":"#DIV/0!"}},{"$f":"IF($N$47=1,AO61,I178/I$184)","v":{"$error":"#DIV/0!"}},{"$nulls":5},"",{"$f":"BM61","v":{"v":0,"d":"0%"}},{"v":0,"d":"0%"},{"v":0,"d":"0%"},null,{"$error":"#DIV/0!"},{"$error":"#DIV/0!"},{"$error":"#DIV/0!"}]
[{"$nulls":5},"3-wheeler",{"$f":"IF($N$47=1,AM62,G179/G$184)","v":{"$error":"#DIV/0!"}},{"$f":"IF($N$47=1,AN62,H179/H$184)","v":{"$error":"#DIV/0!"}},{"$f":"IF($N$47=1,AO62,I179/I$184)","v":{"$error":"#DIV/0!"}},{"$nulls":5},"3-wheeler",{"$f":"BM62","v":{"v":0,"d":"0%"}},{"v":0,"d":"0%"},{"v":0,"d":"0%"},null,{"$f":"P191/P$198","v":{"$error":"#DIV/0!"}},{"$f":"Q191/Q$198","v":{"$error":"#DIV/0!"}},{"$f":"R191/R$198","v":{"$error":"#DIV/0!"}}]
[{"$nulls":5},"Bus",{"$f":"IF($N$47=1,AM63,G180/G$184)","v":{"$error":"#DIV/0!"}},{"$f":"IF($N$47=1,AN63,H180/H$184)","v":{"$error":"#DIV/0!"}},{"$f":"IF($N$47=1,AO63,I180/I$184)","v":{"$error":"#DIV/0!"}},{"$nulls":5},"Bus",{"$f":"BM63","v":{"v":0,"d":"0%"}},{"v":0,"d":"0%"},{"v":0,"d":"0%"},null,{"$f":"P192/P$198","v":{"$error":"#DIV/0!"}},{"$error":"#DIV/0!"},{"$error":"#DIV/0!"}]
[{"$nulls":5},"Mini-bus",{"$f":"IF($N$47=1,AM64,G181/G$184)","v":{"$error":"#DIV/0!"}},{"$f":"IF($N$47=1,AN64,H181/H$184)","v":{"$error":"#DIV/0!"}},{"$f":"IF($N$47=1,AO64,I181/I$184)","v":{"$error":"#DIV/0!"}},{"$nulls":5},"Mini-bus",{"$f":"BM64","v":{"v":0,"d":"0%"}},{"v":0,"d":"0%"},{"v":0,"d":"0%"},null,{"$error":"#DIV/0!"},{"$error":"#DIV/0!"},{"$error":"#DIV/0!"}]
[{"$nulls":5},"",{"$f":"IF($N$47=1,AM65,G182/G$184)","v":{"$error":"#DIV/0!"}},{"$f":"IF($N$47=1,AN65,H182/H$184)","v":{"$error":"#DIV/0!"}},{"$f":"IF($N$47=1,AO65,I182/I$184)","v":{"$error":"#DIV/0!"}},{"$nulls":5},"",{"$f":"BM65","v":{"v":0,"d":"0%"}},{"v":0,"d":"0%"},{"v":0,"d":"0%"},null,{"$error":"#DIV/0!"},{"$error":"#DIV/0!"},{"$error":"#DIV/0!"}]
[{"$nulls":5},"",{"$f":"IF($N$47=1,AM66,G183/G$184)","v":{"$error":"#DIV/0!"}},{"$f":"IF($N$47=1,AN66,H183/H$184)","v":{"$error":"#DIV/0!"}},{"$f":"IF($N$47=1,AO66,I183/I$184)","v":{"$error":"#DIV/0!"}},{"$nulls":5},"",{"$f":"BM66","v":{"v":0,"d":"0%"}},{"v":0,"d":"0%"},{"v":0,"d":"0%"},null,{"$error":"#DIV/0!"},{"$error":"#DIV/0!"},{"$error":"#DIV/0!"}]
[{"$nulls":5},"TOTAL",{"$f":"SUM(G186:G195)","v":{"$error":"#DIV/0!"}},{"$f":"SUM(H186:H195)","v":{"$error":"#DIV/0!"}},{"$f":"SUM(I186:I195)","v":{"$error":"#DIV/0!"}},{"$nulls":5},"Total",{"$f":"BM67","v":{"v":0,"d":"0%"}},{"v":0,"d":"0%"},{"v":0,"d":"0%"}]
[{"$nulls":14},"Total Private",{"$f":"SUM(P186:P190)","v":{"v":0,"d":"0%"}},{"$f":"SUM(Q186:Q190)","v":{"v":0,"d":"0%"}},{"v":0,"d":"0%"}]
[{"$nulls":14},"Total Public",{"$f":"SUM(P191:P195)","v":{"v":0,"d":"0%"}},{"$f":"SUM(Q191:Q195)","v":{"v":0,"d":"0%"}},{"v":0,"d":"0%"}]
{"$rows_empty":16}
[{"$nulls":5},"Construction"]
[{"$nulls":6},"Quantity (tons/kilometer)",null,null,"(tonCO2/\nton of material)"]
[]
[{"$nulls":6},{"$f":"G42","v":0},{"$f":"H42","v":9},19,{"$f":"G218","v":0}]
[{"$nulls":5},"Cement",737.8,737.8,737.8,0.99,{"$nulls":4},0.99,0.99,0.99]
[{"$nulls":5},"Bitumen",403.5,403.5,403.5,0.03,{"$nulls":4},0.03,0.03,0.03]
[{"$nulls":5},"Steel",143.2,143.2,143.2,2.5,{"$nulls":4},2.5,2.5,2.5]
{"$rows_empty":57}
[{"$nulls":6},"Gasoline",{"$f":"'IF Factors'!F8","v":"Diesel"},{"$f":"'IF Factors'!G8","v":"LPG"},{"$f":"'IF Factors'!H8","v":"CNG"},{"$f":"'IF Factors'!I8","v":"Electric"},{"$f":"IF('IF Factors'!J8=\"\",\"\",'IF Factors'!J8)","v":"Ethanol"}]
[{"$nulls":5},"unit of consumption",{"$f":"IF('IF Factors'!E22=\"\",\"\",'IF Factors'!E22)","v":"liter"},{"$f":"IF('IF Factors'!F22=\"\",\"\",'IF Factors'!F22)","v":"liter"},{"$f":"IF('IF Factors'!G22=\"\",\"\",'IF Factors'!G22)","v":"liter"},{"$f":"IF('IF Factors'!H22=\"\",\"\",'IF Factors'!H22)","v":"kg"},{"$f":"IF('IF Factors'!I22=\"\",\"\",'IF Factors'!I22)","v":"kwh"},{"$f":"IF('IF Factors'!J22=\"\",\"\",'IF Factors'!J22)","v":"liter"}]
[{"$nulls":5},"price/unit (USD)"]
[]
[{"$nulls":5},"Project Construction Cost (USD)"]
[{"$nulls":5},"Cost of CO2 (USD)/Ton"]
[{"$nulls":5},"Cost of PM (USD)/ton"]
[{"$nulls":5},"Cost of Nox (USD)/ton"]
[{"$nulls":5},"Cost of Time (USD/hour)"]
[{"$nulls":5},"Cost of fatality (USD/person)"]
[{"$nulls":5},"Cost of Injury (USD/person)"]
[{"$nulls":5},"Annual inflation (%)"]
[{"$nulls":5},"Discount Rate (%)"]
[{"$nulls":5},"Annual Maintenance (% of construction)"]
{"$rows_empty":39}
[{"$nulls":5},"Land Use Impact Factor",{"v":1,"d":"1.00"}]
{"$rows_empty":219}
[{"$nulls":5},"Factors used for the calculation of savings from fatality reduction"]
[]
[{"$nulls":5},"Traffic Fatality rates "]
[{"$nulls":5},"\n(per billion km)",2000,2010,2020,2030,2040,2050]
[{"$nulls":5},"OECD Regions - Reference Case",{"v":19.6,"d":"19.60"},{"v":12.3,"d":"12.30"},{"v":7.5,"d":"7.50"},{"v":4.6,"d":"4.60"},{"v":2.8,"d":"2.80"},{"v":1.7,"d":"1.70"}]
[{"$nulls":5},"Non OECD Regions - Reference Case",{"v":251.4,"d":"251.40"},{"v":193.6,"d":"193.60"},{"v":141.2,"d":"141.20"},{"v":99.6,"d":"99.60"},{"v":66.6,"d":"66.60"},{"v":44,"d":"44.00"}]
[{"$nulls":5},"City Traffic Fatality rates (per billion vehicle km)",{"$f":"G557","v":{"v":251.4,"d":"251.40"}},{"v":193.6,"d":"193.60"},{"v":141.2,"d":"141.20"},{"v":99.6,"d":"99.60"},{"v":66.6,"d":"66.60"},{"v":44,"d":"44.00"}]
[{"$nulls":5},"Growth rate",null,{"$f":"(((H558/G558)^(1/(H555-G555)))-1)*100","v":{"v":-2.578680390563959,"d":"-2.58"}},{"$f":"(((I558/H558)^(1/(I555-H555)))-1)*100","v":{"v":-3.106881388892946,"d":"-3.11"}},{"$f":"(((J558/I558)^(1/(J555-I555)))-1)*100","v":{"v":-3.429948242096581,"d":"-3.43"}},{"$f":"(((K558/J558)^(1/(K555-J555)))-1)*100","v":{"v":-3.944665420327731,"d":"-3.94"}},{"$f":"(((L558/K558)^(1/(L555-K555)))-1)*100","v":{"v":-4.060412967913218,"d":"-4.06"}}]
[{"$nulls":5},"Growth rate %",null,{"$f":"H559/100","v":{"v":-0.025786803905639588,"d":"-0.03"}},{"$f":"I559/100","v":{"v":-0.03106881388892946,"d":"-0.03"}},{"v":-0.03429948242096581,"d":"-0.03"},{"v":-0.03944665420327731,"d":"-0.04"},{"v":-0.040604129679132184,"d":"-0.04"}]
[{"$nulls":5},"Source: Koornstra Reference Model as proposed in SMP"]
{"$rows_empty":1050}
[{"$nulls":4},0,null,null,"Not BRT"]
[{"$nulls":4},1,null,null,"Not BRT"]
[{"$nulls":4},2,null,null,"Not BRT"]
[{"$nulls":4},3,null,null,"Not BRT"]
[{"$nulls":4},4,null,null,"Not BRT"]
[{"$nulls":4},5,null,null,"Not BRT"]
[{"$nulls":4},6,null,null,"Not BRT"]
[{"$nulls":4},7,null,null,"Not BRT"]
[{"$nulls":4},8,null,null,"Not BRT"]
[{"$nulls":4},9,null,null,"Not BRT"]
[{"$nulls":4},10,null,null,"Not BRT"]
[{"$nulls":4},11,null,null,"Not BRT"]
[{"$nulls":4},12,null,null,"Not BRT"]
[{"$nulls":4},13,null,null,"Not BRT"]
[{"$nulls":4},14,null,null,"Not BRT"]
[{"$nulls":4},15,null,null,"Not BRT"]
[{"$nulls":4},16,null,null,"Not BRT"]
[{"$nulls":4},17,null,null,"Not BRT"]
[{"$nulls":4},18,null,null,"Not BRT"]
[{"$nulls":4},19,null,null,"Not BRT"]
[{"$nulls":4},20,null,null,"Not BRT"]
[{"$nulls":4},21,null,null,"Not BRT"]
[{"$nulls":4},22,null,null,"Not BRT"]
[{"$nulls":4},23,null,null,"Not BRT"]
[{"$nulls":4},24,null,null,"Not BRT"]
[{"$nulls":4},25,null,null,"Not BRT"]
[{"$nulls":4},26,null,null,"Not BRT"]
[{"$nulls":4},27,null,null,"Not BRT"]
[{"$nulls":4},28,null,null,"Not BRT"]
[{"$nulls":4},29,null,null,"Not BRT"]
[{"$nulls":4},30,null,null,"Not BRT"]
[{"$nulls":4},31,null,null,"Not BRT"]
[{"$nulls":4},32,null,null,"Not BRT"]
[{"$nulls":4},33,null,null,"Not BRT"]
[{"$nulls":4},34,null,null,"Not BRT"]
[{"$nulls":4},35,null,null,"Not BRT"]
[{"$nulls":4},36,null,null,"Not BRT"]
[{"$nulls":4},37,null,null,"Not BRT"]
[{"$nulls":4},38,null,null,"Not BRT"]
[{"$nulls":4},39,null,null,"Not BRT"]
[{"$nulls":4},40,null,null,"Not BRT"]
[{"$nulls":4},41,null,null,"Not BRT"]
[{"$nulls":4},42,null,null,"Not BRT"]
[{"$nulls":4},43,null,null,"Not BRT"]
[{"$nulls":4},44,null,null,"Not BRT"]
[{"$nulls":4},45,null,null,"Not BRT"]
[{"$nulls":4},46,null,null,"Not BRT"]
[{"$nulls":4},47,null,null,"Not BRT"]
[{"$nulls":4},48,null,null,"Not BRT"]
[{"$nulls":4},49,null,null,"Not BRT"]
[{"$nulls":4},50,null,null,"Bronze"]
[{"$nulls":4},51,null,null,"Bronze"]
[{"$nulls":4},52,null,null,"Bronze"]
[{"$nulls":4},53,null,null,"Bronze"]
[{"$nulls":4},54,null,null,"Bronze"]
[{"$nulls":4},55,null,null,"Bronze"]
[{"$nulls":4},56,null,null,"Bronze"]
[{"$nulls":4},57,null,null,"Bronze"]
[{"$nulls":4},58,null,null,"Bronze"]
[{"$nulls":4},59,null,null,"Bronze"]
[{"$nulls":4},60,null,null,"Bronze"]
[{"$nulls":4},61,null,null,"Bronze"]
[{"$nulls":4},62,null,null,"Bronze"]
[{"$nulls":4},63,null,null,"Bronze"]
[{"$nulls":4},64,null,null,"Bronze"]
[{"$nulls":4},65,null,null,"Bronze"]
[{"$nulls":4},66,null,null,"Bronze"]
[{"$nulls":4},67,null,null,"Bronze"]
[{"$nulls":4},68,null,null,"Bronze"]
[{"$nulls":4},69,null,null,"Bronze"]
[{"$nulls":4},70,null,null,"Silver"]
[{"$nulls":4},71,null,null,"Silver"]
[{"$nulls":4},72,null,null,"Silver"]
[{"$nulls":4},73,null,null,"Silver"]
[{"$nulls":4},74,null,null,"Silver"]
[{"$nulls":4},75,null,null,"Silver"]
[{"$nulls":4},76,null,null,"Silver"]
[{"$nulls":4},77,null,null,"Silver"]
[{"$nulls":4},78,null,null,"Silver"]
[{"$nulls":4},79,null,null,"Silver"]
[{"$nulls":4},80,null,null,"Silver"]
[{"$nulls":4},81,null,null,"Silver"]
[{"$nulls":4},82,null,null,"Silver"]
[{"$nulls":4},83,null,null,"Silver"]
[{"$nulls":4},84,null,null,"Silver"]
[{"$nulls":4},85,null,null,"Gold"]
[{"$nulls":4},86,null,null,"Gold"]
[{"$nulls":4},87,null,null,"Gold"]
[{"$nulls":4},88,null,null,"Gold"]
[{"$nulls":4},89,null,null,"Gold"]
[{"$nulls":4},90,null,null,"Gold"]
[{"$nulls":4},91,null,null,"Gold"]
[{"$nulls":4},92,null,null,"Gold"]
[{"$nulls":4},93,null,null,"Gold"]
[{"$nulls":4},94,null,null,"Gold"]
[{"$nulls":4},95,null,null,"Gold"]
[{"$nulls":4},96,null,null,"Gold"]
[{"$nulls":4},97,null,null,"Gold"]
[{"$nulls":4},98,null,null,"Gold"]
[{"$nulls":4},99,null,null,"Gold"]
[{"$nulls":4},100,null,null,"Gold"]

{"sheet":"IF Factors","index":4,"n_rows":243,"n_cols":99,"rows_kept":243,"merged":[[0,3,1,12],[0,29,1,36],[6,3,7,3],[6,4,6,10],[6,11,6,17],[6,18,6,24],[8,1,17,1],[8,2,12,2],[13,2,17,2],[18,2,18,3],[27,3,27,5],[28,3,29,3],[28,4,28,8],[28,9,28,13],[28,14,28,18],[28,29,29,29],[28,30,28,34],[28,35,28,39],[28,40,28,44],[28,56,29,56],[28,57,28,61],[28,62,28,66],[28,67,28,71],[28,83,29,83],[28,84,28,88],[28,89,28,93],[28,94,28,98],[30,1,39,1],[30,2,34,2],[30,28,34,28],[30,55,34,55],[30,82,34,82],[35,2,39,2],[35,28,40,28],[35,55,40,55],[35,82,40,82],[40,2,40,3],[43,3,44,3],[43,4,43,8],[43,9,43,13],[43,14,43,18],[43,29,44,29],[43,30,43,34],[43,35,43,39],[43,40,43,44],[43,56,44,56],[43,57,43,61],[43,62,43,66],[43,67,43,71],[43,83,44,83],[43,84,43,88],[43,89,43,93],[43,94,43,98],[45,1,54,1],[45,2,49,2],[45,28,49,28],[45,55,49,55],[45,82,49,82],[50,2,54,2],[50,28,55,28],[50,55,55,55],[50,82,55,82],[55,2,55,3],[58,3,59,3],[58,4,58,8],[58,9,58,13],[58,14,58,18],[58,29,59,29],[58,30,58,34],[58,35,58,39],[58,40,58,44],[58,56,59,56],[58,57,58,61],[58,62,58,66],[58,67,58,71],[58,83,59,83],[58,84,58,88],[58,89,58,93],[58,94,58,98],[60,1,69,1],[60,2,64,2],[60,28,64,28],[60,55,64,55],[60,82,64,82],[65,2,69,2],[65,28,70,28],[65,55,70,55],[65,82,70,82],[70,2,70,3],[73,3,74,3],[73,4,73,8],[73,9,73,13],[73,14,73,18],[73,29,74,29],[73,30,73,34],[73,35,73,39],[73,40,73,44],[73,56,74,56],[73,57,73,61],[73,62,73,66],[73,67,73,71],[73,83,74,83],[73,84,73,88],[73,89,73,93],[73,94,73,98],[75,1,84,1],[75,2,79,2],[75,28,79,28],[75,55,79,55],[75,82,79,82],[80,2,84,2],[80,28,85,28],[80,55,85,55],[80,82,85,82],[85,2,85,3],[88,3,89,3],[88,4,88,8],[88,9,88,13],[88,14,88,18],[88,29,89,29],[88,30,88,34],[88,35,88,39],[88,40,88,44],[88,56,89,56],[88,57,88,61],[88,62,88,66],[88,67,88,71],[88,83,89,83],[88,84,88,88],[88,89,88,93],[88,94,88,98],[90,1,99,1],[90,2,94,2],[90,28,94,28],[90,55,94,55],[90,82,94,82],[95,2,99,2],[95,28,100,28],[95,55,100,55],[95,82,100,82],[100,2,100,3],[103,3,104,3],[103,4,103,8],[103,9,103,13],[103,14,103,18],[103,29,104,29],[103,30,103,34],[103,35,103,39],[103,40,103,44],[103,56,104,56],[103,57,103,61],[103,62,103,66],[103,67,103,71],[103,83,104,83],[103,84,103,88],[103,89,103,93],[103,94,103,98],[105,1,114,1],[105,2,109,2],[105,28,109,28],[105,55,109,55],[105,82,109,82],[110,2,114,2],[110,28,115,28],[110,55,115,55],[110,82,115,82],[115,2,115,3],[121,28,125,28],[121,55,125,55],[121,82,125,82],[126,28,131,28],[126,55,131,55],[126,82,131,82],[192,3,193,3],[192,4,192,10],[192,11,192,17],[192,18,192,24],[194,1,203,1],[194,2,198,2],[199,2,203,2],[204,2,204,3],[229,4,229,6],[229,7,229,9],[229,10,229,12],[229,13,231,14],[229,18,230,18],[229,19,229,21],[229,22,229,24],[230,3,231,3],[230,4,231,4],[230,5,231,5],[230,6,231,6],[230,7,231,7],[230,8,231,8],[230,9,231,9],[230,10,231,10],[230,11,231,11],[230,12,231,12],[232,1,241,1],[232,2,236,2],[232,13,232,14],[233,13,233,14],[234,13,234,14],[235,13,235,14],[236,13,236,14],[237,2,241,2],[237,13,237,14],[238,13,238,14],[239,13,239,14],[240,13,240,14],[241,13,241,14],[242,2,242,3],[242,13,242,14]]}
[{"$nulls":3},"Full Model",{"$nulls":25},"Activity, Intensity and Emission Factors"]
[{"$nulls":55},"Activity, Intensity and Emission Factors",{"$nulls":26},"Activity, Intensity and Emission Factors"]
[]
[]
[]
[{"$nulls":3},"Fuel Type (%)"]
[{"$nulls":3},"Vehicle Type",{"$f":"'IF Factors'!E29","v":"Base Year"},{"$nulls":6},{"$f":"'IF Factors'!J29","v":9},{"$nulls":6},{"$f":"'IF Factors'!O29","v":19}]
[{"$nulls":4},"Petrol","Diesel","LPG","CNG","Electric","Ethanol","sum","Petrol","Diesel","LPG","CNG","Electric","Ethanol","sum","Petrol","Diesel","LPG","CNG","Electric","Ethanol","sum"]
[null,"No Project","Private",{"$f":"Full!F174","v":"Car"},{"$nulls":6},{"$f":"SUM(E9:J9)","v":{"v":0,"d":"0%"}},{"$nulls":6},{"$f":"SUM(L9:Q9)","v":{"v":0,"d":"0%"}},{"$nulls":6},{"$f":"SUM(S9:X9)","v":{"v":0,"d":"0%"}}]
[{"$nulls":3},{"$f":"Full!F175","v":"2-wheeler"},{"$nulls":6},{"$f":"SUM(E10:J10)","v":{"v":0,"d":"0%"}},{"$nulls":6},{"$f":"SUM(L10:Q10)","v":{"v":0,"d":"0%"}},{"$nulls":6},{"$f":"SUM(S10:X10)","v":{"v":0,"d":"0%"}}]
[{"$nulls":3},{"$f":"Full!F176","v":"Taxi"},{"$nulls":6},{"v":0,"d":"0%"},{"$nulls":6},{"v":0,"d":"0%"},{"$nulls":6},{"v":0,"d":"0%"}]
[{"$nulls":3},{"$f":"Full!F177","v":""},{"$nulls":6},{"v":0,"d":"0%"},{"$nulls":6},{"v":0,"d":"0%"},{"$nulls":6},{"v":0,"d":"0%"}]
[{"$nulls":3},{"$f":"Full!F178","v":""},{"$nulls":6},{"v":0,"d":"0%"},{"$nulls":6},{"v":0,"d":"0%"},{"$nulls":6},{"v":0,"d":"0%"}]
[null,null,"Public",{"$f":"Full!F179","v":"3-wheeler"},{"$nulls":6},{"v":0,"d":"0%"},{"$nulls":6},{"v":0,"d":"0%"},{"$nulls":6},{"v":0,"d":"0%"}]
[{"$nulls":3},{"$f":"Full!F180","v":"Bus"},{"$nulls":6},{"v":0,"d":"0%"},{"$nulls":6},{"v":0,"d":"0%"},{"$nulls":6},{"v":0,"d":"0%"}]
[{"$nulls":3},{"$f":"Full!F181","v":"Mini-bus"},{"$nulls":6},{"v":0,"d":"0%"},{"$nulls":6},{"v":0,"d":"0%"},{"$nulls":6},{"v":0,"d":"0%"}]
[{"$nulls":3},{"$f":"Full!F182","v":""},{"$nulls":6},{"v":0,"d":"0%"},{"$nulls":6},{"v":0,"d":"0%"},{"$nulls":6},{"v":0,"d":"0%"}]
[{"$nulls":3},{"$f":"Full!F183","v":""},{"$nulls":6},{"v":0,"d":"0%"},{"$nulls":6},{"v":0,"d":"0%"},{"$nulls":6},{"v":0,"d":"0%"}]
[null,null,"BRT",{"$nulls":7},{"v":0,"d":"0%"},{"$nulls":6},{"v":0,"d":"0%"},{"$nulls":6},{"v":0,"d":"0%"}]
[]
[{"$nulls":4},{"$f":"E8","v":"Petrol"},{"$f":"F8","v":"Diesel"},"LPG","CNG","Electric",{"$f":"IF(J8=\"\",\"\",J8)","v":"Ethanol"}]
[{"$nulls":3},"unit of consumption","liter","liter","liter","kg","kwh","liter"]
[]
[]
[]
[]
[]
[{"$nulls":3},"Technology Split (%) - Gasoline",{"$nulls":25},"PM Emission Factor (g/vkm) - Gasoline",{"$nulls":26},"Nox Emission Factor (g/vkm) - Gasoline",{"$nulls":26},{"$f":"CONCATENATE(\"CO2 Emission Factor - Gasoline - (kg/\",E22,\")\")","v":"CO2 Emission Factor - Gasoline - (kg/liter)"}]
[{"$nulls":3},"Vehicle Type",{"$f":"'IF Factors'!E231","v":"Base Year"},{"$nulls":4},{"$f":"'IF Factors'!F231","v":9},{"$nulls":4},{"$f":"'IF Factors'!G231","v":19},{"$nulls":14},"Vehicle Type",{"$f":"E29","v":"Base Year"},{"$nulls":4},{"$f":"J29","v":9},{"$nulls":4},{"$f":"O29","v":19},{"$nulls":15},"Vehicle Type",{"$f":"AE29","v":"Base Year"},{"$nulls":4},{"$f":"AJ29","v":9},{"$nulls":4},{"$f":"AO29","v":19},{"$nulls":15},"Vehicle Type",{"$f":"BF29","v":"Base Year"},{"$nulls":4},{"$f":"BK29","v":9},{"$nulls":4},{"$f":"BP29","v":19}]
[{"$nulls":4},"Pre-Euro IV","Euro IV","Euro V","Euro VI","sum",{"$f":"E30","v":"Pre-Euro IV"},{"$f":"F30","v":"Euro IV"},"Euro V","Euro VI","sum",{"$f":"J30","v":"Pre-Euro IV"},"Euro IV","Euro V","Euro VI","sum",{"$nulls":11},{"$f":"E30","v":"Pre-Euro IV"},{"$f":"F30","v":"Euro IV"},"Euro V","Euro VI","Average",{"$f":"J30","v":"Pre-Euro IV"},{"$f":"K30","v":"Euro IV"},{"$f":"L30","v":"Euro V"},{"$f":"M30","v":"Euro VI"},"Average",{"$f":"O30","v":"Pre-Euro IV"},{"$f":"P30","v":"Euro IV"},{"$f":"Q30","v":"Euro V"},{"$f":"R30","v":"Euro VI"},"Average",{"$nulls":12},{"$f":"AE30","v":"Pre-Euro IV"},"Euro IV","Euro V","Euro VI","Average",{"$f":"AJ30","v":"Pre-Euro IV"},"Euro IV","Euro V","Euro VI","Average",{"$f":"AO30","v":"Pre-Euro IV"},"Euro IV","Euro V","Euro VI","Average",{"$nulls":12},{"$f":"BF30","v":"Pre-Euro IV"},{"$f":"BG30","v":"Euro IV"},"Euro V","Euro VI","Average",{"$f":"BK30","v":"Pre-Euro IV"},{"$f":"BL30","v":"Euro IV"},{"$f":"BM30","v":"Euro V"},{"$f":"BN30","v":"Euro VI"},"Average",{"$f":"BP30","v":"Pre-Euro IV"},{"$f":"BQ30","v":"Euro IV"},{"$f":"BR30","v":"Euro V"},{"$f":"BS30","v":"Euro VI"},"Average"]
[null,"No Project","Private",{"$f":"D9","v":"Car"},{"$nulls":4},{"$f":"SUM(E31:H31)","v":{"v":0,"d":"0%"}},{"$nulls":4},{"$f":"SUM(J31:M31)","v":{"v":0,"d":"0%"}},{"$nulls":4},{"$f":"SUM(O31:R31)","v":{"v":0,"d":"0%"}},{"$nulls":9},"Private",{"$f":"D31","v":"Car"},{"$nulls":4},{"$f":"(E31*AE31)+(F31*AF31)+(G31*AG31)+(H31*AH31)","v":0},{"$nulls":4},{"$f":"(J31*AJ31)+(K31*AK31)+(L31*AL31)+(M31*AM31)","v":0},{"$nulls":4},{"$f":"(O31*AO31)+(P31*AP31)+(Q31*AQ31)+(R31*AR31)","v":0},{"$nulls":10},"Private",{"$f":"AD31","v":"Car"},{"$nulls":4},{"$f":"(E31*BF31)+(F31*BG31)+(G31*BH31)+(H31*BI31)","v":0},{"$nulls":4},{"$f":"(J31*BK31)+(K31*BL31)+(L31*BM31)+(M31*BN31)","v":0},{"$nulls":4},{"$f":"(O31*BP31)+(P31*BQ31)+(Q31*BR31)+(R31*BS31)","v":0},{"$nulls":10},"Private",{"$f":"BE31","v":"Car"},{"$nulls":4},{"$f":"(E31*CG31)+(F31*CH31)+(G31*CI31)+(H31*CJ31)","v":0},{"$nulls":4},{"$f":"(J31*CL31)+(K31*CM31)+(L31*CN31)+(M31*CO31)","v":0},{"$nulls":4},{"$f":"(O31*CQ31)+(P31*CR31)+(Q31*CS31)+(R31*CT31)","v":0}]
[{"$nulls":3},{"$f":"D10","v":"2-wheeler"},{"$nulls":4},{"v":0,"d":"0%"},{"$nulls":4},{"v":0,"d":"0%"},{"$nulls":4},{"v":0,"d":"0%"},{"$nulls":10},{"$f":"D32","v":"2-wheeler"},{"$nulls":4},{"$f":"(E32*AE32)+(F32*AF32)+(G32*AG32)+(H32*AH32)","v":0},{"$nulls":4},{"$f":"(J32*AJ32)+(K32*AK32)+(L32*AL32)+(M32*AM32)","v":0},{"$nulls":4},{"$f":"(O32*AO32)+(P32*AP32)+(Q32*AQ32)+(R32*AR32)","v":0},{"$nulls":11},{"$f":"AD32","v":"2-wheeler"},{"$nulls":4},{"$f":"(E32*BF32)+(F32*BG32)+(G32*BH32)+(H32*BI32)","v":0},{"$nulls":4},{"$f":"(J32*BK32)+(K32*BL32)+(L32*BM32)+(M32*BN32)","v":0},{"$nulls":4},{"$f":"(O32*BP32)+(P32*BQ32)+(Q32*BR32)+(R32*BS32)","v":0},{"$nulls":11},{"$f":"BE32","v":"2-wheeler"},{"$nulls":4},{"$f":"(E32*CG32)+(F32*CH32)+(G32*CI32)+(H32*CJ32)","v":0},{"$nulls":4},{"$f":"(J32*CL32)+(K32*CM32)+(L32*CN32)+(M32*CO32)","v":0},{"$nulls":4},{"$f":"(O32*CQ32)+(P32*CR32)+(Q32*CS32)+(R32*CT32)","v":0}]
[{"$nulls":3},"Taxi",{"$nulls":4},{"v":0,"d":"0%"},{"$nulls":4},{"v":0,"d":"0%"},{"$nulls":4},{"v":0,"d":"0%"},{"$nulls":10},"Taxi",{"$nulls":4},0,{"$nulls":4},0,{"$nulls":4},0,{"$nulls":11},"Taxi",{"$nulls":4},0,{"$nulls":4},0,{"$nulls":4},0,{"$nulls":11},"Taxi",{"$nulls":4},0,{"$nulls":4},0,{"$nulls":4},0]
[{"$nulls":3},"",{"$nulls":4},{"v":0,"d":"0%"},{"$nulls":4},{"v":0,"d":"0%"},{"$nulls":4},{"v":0,"d":"0%"},{"$nulls":10},"",{"$nulls":4},0,{"$nulls":4},0,{"$nulls":4},0,{"$nulls":11},"",{"$nulls":4},0,{"$nulls":4},0,{"$nulls":4},0,{"$nulls":11},"",{"$nulls":4},0,{"$nulls":4},0,{"$nulls":4},0]
[{"$nulls":3},"",{"$nulls":4},{"v":0,"d":"0%"},{"$nulls":4},{"v":0,"d":"0%"},{"$nulls":4},{"v":0,"d":"0%"},{"$nulls":10},"",{"$nulls":4},0,{"$nulls":4},0,{"$nulls":4},0,{"$nulls":11},"",{"$nulls":4},0,{"$nulls":4},0,{"$nulls":4},0,{"$nulls":11},"",{"$nulls":4},0,{"$nulls":4},0,{"$nulls":4},0]
[null,null,"Public","3-wheeler",{"$nulls":4},{"v":0,"d":"0%"},{"$nulls":4},{"v":0,"d":"0%"},{"$nulls":4},{"v":0,"d":"0%"},{"$nulls":9},"Public","3-wheeler",{"$nulls":4},0,{"$nulls":4},0,{"$nulls":4},0,{"$nulls":10},"Public","3-wheeler",{"$nulls":4},0,{"$nulls":4},0,{"$nulls":4},0,{"$nulls":10},"Public","3-wheeler",{"$nulls":4},0,{"$nulls":4},0,{"$nulls":4},0]
[{"$nulls":3},"Bus",{"$nulls":4},{"v":0,"d":"0%"},{"$nulls":4},{"v":0,"d":"0%"},{"$nulls":4},{"v":0,"d":"0%"},{"$nulls":10},"Bus",{"$nulls":4},0,{"$nulls":4},0,{"$nulls":4},0,{"$nulls":11},"Bus",{"$nulls":4},0,{"$nulls":4},0,{"$nulls":4},0,{"$nulls":11},"Bus",{"$nulls":4},0,{"$nulls":4},0,{"$nulls":4},0]
[{"$nulls":3},"Mini-bus",{"$nulls":4},{"v":0,"d":"0%"},{"$nulls":4},{"v":0,"d":"0%"},{"$nulls":4},{"v":0,"d":"0%"},{"$nulls":10},"Mini-bus",{"$nulls":4},0,{"$nulls":4},0,{"$nulls":4},0,{"$nulls":11},"Mini-bus",{"$nulls":4},0,{"$nulls":4},0,{"$nulls":4},0,{"$nulls":11},"Mini-bus",{"$nulls":4},0,{"$nulls":4},0,{"$nulls":4},0]
[{"$nulls":3},"",{"$nulls":4},{"v":0,"d":"0%"},{"$nulls":4},{"v":0,"d":"0%"},{"$nulls":4},{"v":0,"d":"0%"},{"$nulls":10},"",{"$nulls":4},0,{"$nulls":4},0,{"$nulls":4},0,{"$nulls":11},"",{"$nulls":4},0,{"$nulls":4},0,{"$nulls":4},0,{"$nulls":11},"",{"$nulls":4},0,{"$nulls":4},0,{"$nulls":4},0]
[{"$nulls":3},"",{"$nulls":4},{"v":0,"d":"0%"},{"$nulls":4},{"v":0,"d":"0%"},{"$nulls":4},{"v":0,"d":"0%"},{"$nulls":10},"",{"$nulls":4},0,{"$nulls":4},0,{"$nulls":4},0,{"$nulls":11},"",{"$nulls":4},0,{"$nulls":4},0,{"$nulls":4},0,{"$nulls":11},"",{"$nulls":4},0,{"$nulls":4},0,{"$nulls":4},0]
[null,null,{"$f":"$C$19","v":"BRT"},{"$f":"C19","v":"BRT"},{"$nulls":4},{"v":0,"d":"0%"},{"$nulls":4},{"v":0,"d":"0%"},{"$nulls":4},{"v":0,"d":"0%"},{"$nulls":10},{"$f":"$D$41","v":"BRT"},{"$nulls":4},0,{"$nulls":4},0,{"$nulls":4},0,{"$nulls":11},"BRT",{"$nulls":4},0,{"$nulls":4},0,{"$nulls":4},0,{"$nulls":11},"BRT",{"$nulls":4},0,{"$nulls":4},0,{"$nulls":4},0]
[]
[{"$nulls":3},"Technology Split (%) - Diesel",{"$nulls":25},"PM Emission Factor (g/vkm) - Diesel",{"$nulls":26},"NOx Emission Factor (g/vkm) - Diesel",{"$nulls":26},{"$f":"CONCATENATE(\"CO2 Emission Factor - Diesel - (kg/\",F22,\")\")","v":"CO2 Emission Factor - Diesel - (kg/liter)"}]
[{"$nulls":3},"Vehicle Type",{"$f":"E29","v":"Base Year"},{"$nulls":4},{"$f":"J29","v":9},{"$nulls":4},{"$f":"O29","v":19},{"$nulls":14},"Vehicle Type",{"$f":"E44","v":"Base Year"},{"$nulls":4},{"$f":"J44","v":9},{"$nulls":4},{"$f":"O44","v":19},{"$nulls":15},"Vehicle Type",{"$f":"BF29","v":"Base Year"},{"$nulls":4},{"$f":"BK29","v":9},{"$nulls":4},{"$f":"BP29","v":19},{"$nulls":15},"Vehicle Type",{"$f":"CG29","v":"Base Year"},{"$nulls":4},{"$f":"CL29","v":9},{"$nulls":4},{"$f":"CQ29","v":19}]
[{"$nulls":4},{"$f":"E30","v":"Pre-Euro IV"},{"$f":"F30","v":"Euro IV"},"Euro V","Euro VI","sum",{"$f":"J30","v":"Pre-Euro IV"},"Euro IV","Euro V","Euro VI","sum",{"$f":"O30","v":"Pre-Euro IV"},"Euro IV","Euro V","Euro VI","sum",{"$nulls":11},{"$f":"AE30","v":"Pre-Euro IV"},{"$f":"AF30","v":"Euro IV"},"Euro V","Euro VI","Average","Pre-Euro IV","Euro IV","Euro V","Euro VI","Average","Pre-Euro IV","Euro IV","Euro V","Euro VI","Average",{"$nulls":12},{"$f":"AE45","v":"Pre-Euro IV"},{"$f":"AF45","v":"Euro IV"},{"$f":"AG45","v":"Euro V"},{"$f":"AH45","v":"Euro VI"},{"$f":"AI45","v":"Average"},{"$f":"AJ45","v":"Pre-Euro IV"},{"$f":"AK45","v":"Euro IV"},{"$f":"AL45","v":"Euro V"},{"$f":"AM45","v":"Euro VI"},{"$f":"AN45","v":"Average"},{"$f":"AO45","v":"Pre-Euro IV"},{"$f":"AP45","v":"Euro IV"},{"$f":"AQ45","v":"Euro V"},{"$f":"AR45","v":"Euro VI"},{"$f":"AS45","v":"Average"},{"$nulls":12},{"$f":"CG30","v":"Pre-Euro IV"},{"$f":"CH30","v":"Euro IV"},"Euro V","Euro VI","Average","Pre-Euro IV","Euro IV","Euro V","Euro VI","Average","Pre-Euro IV","Euro IV","Euro V","Euro VI","Average"]
[null,"No Project","Private",{"$f":"D31","v":"Car"},{"$nulls":4},{"$f":"SUM(E46:H46)","v":{"v":0,"d":"0%"}},{"$nulls":4},{"$f":"SUM(J46:M46)","v":{"v":0,"d":"0%"}},{"$nulls":4},{"$f":"SUM(O46:R46)","v":{"v":0,"d":"0%"}},{"$nulls":9},"Private",{"$f":"D46","v":"Car"},{"$nulls":4},{"$f":"(E46*AE46)+(F46*AF46)+(G46*AG46)+(H46*AH46)","v":0},{"$nulls":4},{"$f":"(J46*AJ46)+(K46*AK46)+(L46*AL46)+(M46*AM46)","v":0},{"$nulls":4},{"$f":"(O46*AO46)+(P46*AP46)+(Q46*AQ46)+(R46*AR46)","v":0},{"$nulls":10},"Private",{"$f":"AD46","v":"Car"},{"$nulls":4},{"$f":"(E46*BF46)+(F46*BG46)+(G46*BH46)+(H46*BI46)","v":0},{"$nulls":4},{"$f":"(J46*BK46)+(K46*BL46)+(L46*BM46)+(M46*BN46)","v":0},{"$nulls":4},{"$f":"(O46*BP46)+(P46*BQ46)+(Q46*BR46)+(R46*BS46)","v":0},{"$nulls":10},"Private",{"$f":"BE46","v":"Car"},{"$nulls":4},{"$f":"(E46*CG46)+(F46*CH46)+(G46*CI46)+(H46*CJ46)","v":0},{"$nulls":4},{"$f":"(J46*CL46)+(K46*CM46)+(L46*CN46)+(M46*CO46)","v":0},{"$nulls":4},{"$f":"(O46*CQ46)+(P46*CR46)+(Q46*CS46)+(R46*CT46)","v":0}]
[{"$nulls":3},{"$f":"D32","v":"2-wheeler"},{"$nulls":4},{"v":0,"d":"0%"},{"$nulls":4},{"v":0,"d":"0%"},{"$nulls":4},{"v":0,"d":"0%"},{"$nulls":10},{"$f":"D47","v":"2-wheeler"},{"$nulls":4},{"$f":"(E47*AE47)+(F47*AF47)+(G47*AG47)+(H47*AH47)","v":0},{"$nulls":4},{"$f":"(J47*AJ47)+(K47*AK47)+(L47*AL47)+(M47*AM47)","v":0},{"$nulls":4},{"$f":"(O47*AO47)+(P47*AP47)+(Q47*AQ47)+(R47*AR47)","v":0},{"$nulls":11},{"$f":"AD47","v":"2-wheeler"},{"$nulls":4},{"$f":"(E47*BF47)+(F47*BG47)+(G47*BH47)+(H47*BI47)","v":0},{"$nulls":4},{"$f":"(J47*BK47)+(K47*BL47)+(L47*BM47)+(M47*BN47)","v":0},{"$nulls":4},{"$f":"(O47*BP47)+(P47*BQ47)+(Q47*BR47)+(R47*BS47)","v":0},{"$nulls":11},{"$f":"BE47","v":"2-wheeler"},{"$nulls":4},{"$f":"(E47*CG47)+(F47*CH47)+(G47*CI47)+(H47*CJ47)","v":0},{"$nulls":4},{"$f":"(J47*CL47)+(K47*CM47)+(L47*CN47)+(M47*CO47)","v":0},{"$nulls":4},{"$f":"(O47*CQ47)+(P47*CR47)+(Q47*CS47)+(R47*CT47)","v":0}]
[{"$nulls":3},"Taxi",{"$nulls":4},{"v":0,"d":"0%"},{"$nulls":4},{"v":0,"d":"0%"},{"$nulls":4},{"v":0,"d":"0%"},{"$nulls":10},"Taxi",{"$nulls":4},0,{"$nulls":4},0,{"$nulls":4},0,{"$nulls":11},"Taxi",{"$nulls":4},0,{"$nulls":4},0,{"$nulls":4},0,{"$nulls":11},"Taxi",{"$nulls":4},0,{"$nulls":4},0,{"$nulls":4},0]
[{"$nulls":3},"",{"$nulls":4},{"v":0,"d":"0%"},{"$nulls":4},{"v":0,"d":"0%"},{"$nulls":4},{"v":0,"d":"0%"},{"$nulls":10},"",{"$nulls":4},0,{"$nulls":4},0,{"$nulls":4},0,{"$nulls":11},"",{"$nulls":4},0,{"$nulls":4},0,{"$nulls":4},0,{"$nulls":11},"",{"$nulls":4},0,{"$nulls":4},0,{"$nulls":4},0]
[{"$nulls":3},"",{"$nulls":4},{"v":0,"d":"0%"},{"$nulls":4},{"v":0,"d":"0%"},{"$nulls":4},{"v":0,"d":"0%"},{"$nulls":10},"",{"$nulls":4},0,{"$nulls":4},0,{"$nulls":4},0,{"$nulls":11},"",{"$nulls":4},0,{"$nulls":4},0,{"$nulls":4},0,{"$nulls":11},"",{"$nulls":4},0,{"$nulls":4},0,{"$nulls":4},0]
[null,null,"Public","3-wheeler",{"$nulls":4},{"v":0,"d":"0%"},{"$nulls":4},{"v":0,"d":"0%"},{"$nulls":4},{"v":0,"d":"0%"},{"$nulls":9},"Public","3-wheeler",{"$nulls":4},0,{"$nulls":4},0,{"$nulls":4},0,{"$nulls":10},"Public","3-wheeler",{"$nulls":4},0,{"$nulls":4},0,{"$nulls":4},0,{"$nulls":10},"Public","3-wheeler",{"$nulls":4},0,{"$nulls":4},0,{"$nulls":4},0]
[{"$nulls":3},"Bus",{"$nulls":4},{"v":0,"d":"0%"},{"$nulls":4},{"v":0,"d":"0%"},{"$nulls":4},{"v":0,"d":"0%"},{"$nulls":10},"Bus",{"$nulls":4},0,{"$nulls":4},0,{"$nulls":4},0,{"$nulls":11},"Bus",{"$nulls":4},0,{"$nulls":4},0,{"$nulls":4},0,{"$nulls":11},"Bus",{"$nulls":4},0,{"$nulls":4},0,{"$nulls":4},0]
[{"$nulls":3},"Mini-bus",{"$nulls":4},{"v":0,"d":"0%"},{"$nulls":4},{"v":0,"d":"0%"},{"$nulls":4},{"v":0,"d":"0%"},{"$nulls":10},"Mini-bus",{"$nulls":4},0,{"$nulls":4},0,{"$nulls":4},0,{"$nulls":11},"Mini-bus",{"$nulls":4},0,{"$nulls":4},0,{"$nulls":4},0,{"$nulls":11},"Mini-bus",{"$nulls":4},0,{"$nulls":4},0,{"$nulls":4},0]
[{"$nulls":3},"",{"$nulls":4},{"v":0,"d":"0%"},{"$nulls":4},{"v":0,"d":"0%"},{"$nulls":4},{"v":0,"d":"0%"},{"$nulls":10},"",{"$nulls":4},0,{"$nulls":4},0,{"$nulls":4},0,{"$nulls":11},"",{"$nulls":4},0,{"$nulls":4},0,{"$nulls":4},0,{"$nulls":11},"",{"$nulls":4},0,{"$nulls":4},0,{"$nulls":4},0]
[{"$nulls":3},"",{"$nulls":4},{"v":0,"d":"0%"},{"$nulls":4},{"v":0,"d":"0%"},{"$nulls":4},{"v":0,"d":"0%"},{"$nulls":10},"",{"$nulls":4},0,{"$nulls":4},0,{"$nulls":4},0,{"$nulls":11},"",{"$nulls":4},0,{"$nulls":4},0,{"$nulls":4},0,{"$nulls":11},"",{"$nulls":4},0,{"$nulls":4},0,{"$nulls":4},0]
[null,null,{"$f":"$C$19","v":"BRT"},{"$f":"C34","v":0},{"$nulls":4},{"v":0,"d":"0%"},{"$nulls":4},{"v":0,"d":"0%"},{"$nulls":4},{"v":0,"d":"0%"},{"$nulls":10},{"$f":"$D$41","v":"BRT"},{"$nulls":4},0,{"$nulls":4},0,{"$nulls":4},0,{"$nulls":11},"BRT",{"$nulls":4},0,{"$nulls":4},0,{"$nulls":4},0,{"$nulls":11},"BRT",{"$nulls":4},0,{"$nulls":4},0,{"$nulls":4},0]
[]
[{"$nulls":3},"Technology Split (%) - LPG",{"$nulls":25},"PM Emission Factor (g/vkm) - LPG",{"$nulls":26},"NOx Emission Factor (g/vkm) - LPG",{"$nulls":26},{"$f":"CONCATENATE(\"CO2 Emission Factor - LPG - (kg/\",G22,\")\")","v":"CO2 Emission Factor - LPG - (kg/liter)"}]
[{"$nulls":3},"Vehicle Type",{"$f":"E44","v":"Base Year"},{"$nulls":4},{"$f":"J44","v":9},{"$nulls":4},{"$f":"O44","v":19},{"$nulls":14},"Vehicle Type",{"$f":"E59","v":"Base Year"},{"$nulls":4},{"$f":"J59","v":9},{"$nulls":4},{"$f":"O59","v":19},{"$nulls":15},"Vehicle Type",{"$f":"BF44","v":"Base Year"},{"$nulls":4},{"$f":"BK44","v":9},{"$nulls":4},{"$f":"BP44","v":19},{"$nulls":15},"Vehicle Type",{"$f":"CG44","v":"Base Year"},{"$nulls":4},{"$f":"CL44","v":9},{"$nulls":4},{"$f":"CQ44","v":19}]
[{"$nulls":4},{"$f":"E45","v":"Pre-Euro IV"},{"$f":"F45","v":"Euro IV"},"Euro V","Euro VI","sum",{"$f":"J45","v":"Pre-Euro IV"},"Euro IV","Euro V","Euro VI","sum",{"$f":"O45","v":"Pre-Euro IV"},"Euro IV","Euro V","Euro VI","sum",{"$nulls":11},{"$f":"AE45","v":"Pre-Euro IV"},{"$f":"AF45","v":"Euro IV"},"Euro V","Euro VI","Average","Pre-Euro IV","Euro IV","Euro V","Euro VI","Average","Pre-Euro IV","Euro IV","Euro V","Euro VI","Average",{"$nulls":12},{"$f":"AE60","v":"Pre-Euro IV"},{"$f":"AF60","v":"Euro IV"},{"$f":"AG60","v":"Euro V"},{"$f":"AH60","v":"Euro VI"},{"$f":"AI60","v":"Average"},{"$f":"AJ60","v":"Pre-Euro IV"},{"$f":"AK60","v":"Euro IV"},{"$f":"AL60","v":"Euro V"},{"$f":"AM60","v":"Euro VI"},{"$f":"AN60","v":"Average"},{"$f":"AO60","v":"Pre-Euro IV"},{"$f":"AP60","v":"Euro IV"},{"$f":"AQ60","v":"Euro V"},{"$f":"AR60","v":"Euro VI"},{"$f":"AS60","v":"Average"},{"$nulls":12},{"$f":"CG45","v":"Pre-Euro IV"},{"$f":"CH45","v":"Euro IV"},"Euro V","Euro VI","Average","Pre-Euro IV","Euro IV","Euro V","Euro VI","Average","Pre-Euro IV","Euro IV","Euro V","Euro VI","Average"]
[null,"No Project","Private",{"$f":"D46","v":"Car"},{"$nulls":4},{"$f":"SUM(E61:H61)","v":{"v":0,"d":"0%"}},{"$nulls":4},{"$f":"SUM(J61:M61)","v":{"v":0,"d":"0%"}},{"$nulls":4},{"$f":"SUM(O61:R61)","v":{"v":0,"d":"0%"}},{"$nulls":9},"Private",{"$f":"D61","v":"Car"},{"$nulls":4},{"$f":"(E61*AE61)+(F61*AF61)+(G61*AG61)+(H61*AH61)","v":0},{"$nulls":4},{"$f":"(J61*AJ61)+(K61*AK61)+(L61*AL61)+(M61*AM61)","v":0},{"$nulls":4},{"$f":"(O61*AO61)+(P61*AP61)+(Q61*AQ61)+(R61*AR61)","v":0},{"$nulls":10},"Private",{"$f":"AD61","v":"Car"},{"$nulls":4},{"$f":"(E61*BF61)+(F61*BG61)+(G61*BH61)+(H61*BI61)","v":0},{"$nulls":4},{"$f":"(J61*BK61)+(K61*BL61)+(L61*BM61)+(M61*BN61)","v":0},{"$nulls":4},{"$f":"(O61*BP61)+(P61*BQ61)+(Q61*BR61)+(R61*BS61)","v":0},{"$nulls":10},"Private",{"$f":"BE61","v":"Car"},{"$nulls":4},{"$f":"(E61*CG61)+(F61*CH61)+(G61*CI61)+(H61*CJ61)","v":0},{"$nulls":4},{"$f":"(J61*CL61)+(K61*CM61)+(L61*CN61)+(M61*CO61)","v":0},{"$nulls":4},{"$f":"(O61*CQ61)+(P61*CR61)+(Q61*CS61)+(R61*CT61)","v":0}]
[{"$nulls":3},{"$f":"D47","v":"2-wheeler"},{"$nulls":4},{"v":0,"d":"0%"},{"$nulls":4},{"v":0,"d":"0%"},{"$nulls":4},{"v":0,"d":"0%"},{"$nulls":10},{"$f":"D62","v":"2-wheeler"},{"$nulls":4},{"$f":"(E62*AE62)+(F62*AF62)+(G62*AG62)+(H62*AH62)","v":0},{"$nulls":4},{"$f":"(J62*AJ62)+(K62*AK62)+(L62*AL62)+(M62*AM62)","v":0},{"$nulls":4},{"$f":"(O62*AO62)+(P62*AP62)+(Q62*AQ62)+(R62*AR62)","v":0},{"$nulls":11},{"$f":"AD62","v":"2-wheeler"},{"$nulls":4},{"$f":"(E62*BF62)+(F62*BG62)+(G62*BH62)+(H62*BI62)","v":0},{"$nulls":4},{"$f":"(J62*BK62)+(K62*BL62)+(L62*BM62)+(M62*BN62)","v":0},{"$nulls":4},{"$f":"(O62*BP62)+(P62*BQ62)+(Q62*BR62)+(R62*BS62)","v":0},{"$nulls":11},{"$f":"BE62","v":"2-wheeler"},{"$nulls":4},{"$f":"(E62*CG62)+(F62*CH62)+(G62*CI62)+(H62*CJ62)","v":0},{"$nulls":4},{"$f":"(J62*CL62)+(K62*CM62)+(L62*CN62)+(M62*CO62)","v":0},{"$nulls":4},{"$f":"(O62*CQ62)+(P62*CR62)+(Q62*CS62)+(R62*CT62)","v":0}]
[{"$nulls":3},"Taxi",{"$nulls":4},{"v":0,"d":"0%"},{"$nulls":4},{"v":0,"d":"0%"},{"$nulls":4},{"v":0,"d":"0%"},{"$nulls":10},"Taxi",{"$nulls":4},0,{"$nulls":4},0,{"$nulls":4},0,{"$nulls":11},"Taxi",{"$nulls":4},0,{"$nulls":4},0,{"$nulls":4},0,{"$nulls":11},"Taxi",{"$nulls":4},0,{"$nulls":4},0,{"$nulls":4},0]
[{"$nulls":3},"",{"$nulls":4},{"v":0,"d":"0%"},{"$nulls":4},{"v":0,"d":"0%"},{"$nulls":4},{"v":0,"d":"0%"},{"$nulls":10},"",{"$nulls":4},0,{"$nulls":4},0,{"$nulls":4},0,{"$nulls":11},"",{"$nulls":4},0,{"$nulls":4},0,{"$nulls":4},0,{"$nulls":11},"",{"$nulls":4},0,{"$nulls":4},0,{"$nulls":4},0]
[{"$nulls":3},"",{"$nulls":4},{"v":0,"d":"0%"},{"$nulls":4},{"v":0,"d":"0%"},{"$nulls":4},{"v":0,"d":"0%"},{"$nulls":10},"",{"$nulls":4},0,{"$nulls":4},0,{"$nulls":4},0,{"$nulls":11},"",{"$nulls":4},0,{"$nulls":4},0,{"$nulls":4},0,{"$nulls":11},"",{"$nulls":4},0,{"$nulls":4},0,{"$nulls":4},0]
[null,null,"Public","3-wheeler",{"$nulls":4},{"v":0,"d":"0%"},{"$nulls":4},{"v":0,"d":"0%"},{"$nulls":4},{"v":0,"d":"0%"},{"$nulls":9},"Public","3-wheeler",{"$nulls":4},0,{"$nulls":4},0,{"$nulls":4},0,{"$nulls":10},"Public","3-wheeler",{"$nulls":4},0,{"$nulls":4},0,{"$nulls":4},0,{"$nulls":10},"Public","3-wheeler",{"$nulls":4},0,{"$nulls":4},0,{"$nulls":4},0]
[{"$nulls":3},"Bus",{"$nulls":4},{"v":0,"d":"0%"},{"$nulls":4},{"v":0,"d":"0%"},{"$nulls":4},{"v":0,"d":"0%"},{"$nulls":10},"Bus",{"$nulls":4},0,{"$nulls":4},0,{"$nulls":4},0,{"$nulls":11},"Bus",{"$nulls":4},0,{"$nulls":4},0,{"$nulls":4},0,{"$nulls":11},"Bus",{"$nulls":4},0,{"$nulls":4},0,{"$nulls":4},0]
[{"$nulls":3},"Mini-bus",{"$nulls":4},{"v":0,"d":"0%"},{"$nulls":4},{"v":0,"d":"0%"},{"$nulls":4},{"v":0,"d":"0%"},{"$nulls":10},"Mini-bus",{"$nulls":4},0,{"$nulls":4},0,{"$nulls":4},0,{"$nulls":11},"Mini-bus",{"$nulls":4},0,{"$nulls":4},0,{"$nulls":4},0,{"$nulls":11},"Mini-bus",{"$nulls":4},0,{"$nulls":4},0,{"$nulls":4},0]
[{"$nulls":3},"",{"$nulls":4},{"v":0,"d":"0%"},{"$nulls":4},{"v":0,"d":"0%"},{"$nulls":4},{"v":0,"d":"0%"},{"$nulls":10},"",{"$nulls":4},0,{"$nulls":4},0,{"$nulls":4},0,{"$nulls":11},"",{"$nulls":4},0,{"$nulls":4},0,{"$nulls":4},0,{"$nulls":11},"",{"$nulls":4},0,{"$nulls":4},0,{"$nulls":4},0]
[{"$nulls":3},"",{"$nulls":4},{"v":0,"d":"0%"},{"$nulls":4},{"v":0,"d":"0%"},{"$nulls":4},{"v":0,"d":"0%"},{"$nulls":10},"",{"$nulls":4},0,{"$nulls":4},0,{"$nulls":4},0,{"$nulls":11},"",{"$nulls":4},0,{"$nulls":4},0,{"$nulls":4},0,{"$nulls":11},"",{"$nulls":4},0,{"$nulls":4},0,{"$nulls":4},0]
[null,null,{"$f":"$C$19","v":"BRT"},{"$f":"C49","v":0},{"$nulls":4},{"v":0,"d":"0%"},{"$nulls":4},{"v":0,"d":"0%"},{"$nulls":4},{"v":0,"d":"0%"},{"$nulls":10},{"$f":"$D$41","v":"BRT"},{"$nulls":4},0,{"$nulls":4},0,{"$nulls":4},0,{"$nulls":11},"BRT",{"$nulls":4},0,{"$nulls":4},0,{"$nulls":4},0,{"$nulls":11},"BRT",{"$nulls":4},0,{"$nulls":4},0,{"$nulls":4},0]
[]
[{"$nulls":3},"Technology Split (%) - CNG",{"$nulls":25},"PM Emission Factor (g/vkm) - CNG",{"$nulls":26},"NOx Emission Factor (g/vkm) - CNG",{"$nulls":26},{"$f":"CONCATENATE(\"CO2 Emission Factor - CNG - (kg/\",H22,\")\")","v":"CO2 Emission Factor - CNG - (kg/kg)"}]
[{"$nulls":3},"Vehicle Type",{"$f":"E59","v":"Base Year"},{"$nulls":4},{"$f":"J59","v":9},{"$nulls":4},{"$f":"O59","v":19},{"$nulls":14},"Vehicle Type",{"$f":"E74","v":"Base Year"},{"$nulls":4},{"$f":"J74","v":9},{"$nulls":4},{"$f":"O74","v":19},{"$nulls":15},"Vehicle Type",{"$f":"BF59","v":"Base Year"},{"$nulls":4},{"$f":"BK59","v":9},{"$nulls":4},{"$f":"BP59","v":19},{"$nulls":15},"Vehicle Type",{"$f":"CG59","v":"Base Year"},{"$nulls":4},{"$f":"CL59","v":9},{"$nulls":4},{"$f":"CQ59","v":19}]
[{"$nulls":4},{"$f":"E60","v":"Pre-Euro IV"},"Euro IV","Euro V","Euro VI","sum",{"$f":"J60","v":"Pre-Euro IV"},"Euro IV","Euro V","Euro VI","sum",{"$f":"O60","v":"Pre-Euro IV"},"Euro IV","Euro V","Euro VI","sum",{"$nulls":11},{"$f":"AE60","v":"Pre-Euro IV"},{"$f":"AF60","v":"Euro IV"},"Euro V","Euro VI","Average","Pre-Euro IV","Euro IV","Euro V","Euro VI","Average","Pre-Euro IV","Euro IV","Euro V","Euro VI","Average",{"$nulls":12},{"$f":"AE75","v":"Pre-Euro IV"},{"$f":"AF75","v":"Euro IV"},{"$f":"AG75","v":"Euro V"},{"$f":"AH75","v":"Euro VI"},{"$f":"AI75","v":"Average"},{"$f":"AJ75","v":"Pre-Euro IV"},{"$f":"AK75","v":"Euro IV"},{"$f":"AL75","v":"Euro V"},{"$f":"AM75","v":"Euro VI"},{"$f":"AN75","v":"Average"},{"$f":"AO75","v":"Pre-Euro IV"},{"$f":"AP75","v":"Euro IV"},{"$f":"AQ75","v":"Euro V"},{"$f":"AR75","v":"Euro VI"},{"$f":"AS75","v":"Average"},{"$nulls":12},{"$f":"CG60","v":"Pre-Euro IV"},{"$f":"CH60","v":"Euro IV"},"Euro V","Euro VI","Average","Pre-Euro IV","Euro IV","Euro V","Euro VI","Average","Pre-Euro IV","Euro IV","Euro V","Euro VI","Average"]
[null,"No Project","Private",{"$f":"D61","v":"Car"},{"$nulls":4},{"$f":"SUM(E76:H76)","v":{"v":0,"d":"0%"}},{"$nulls":4},{"$f":"SUM(J76:M76)","v":{"v":0,"d":"0%"}},{"$nulls":4},{"$f":"SUM(O76:R76)","v":{"v":0,"d":"0%"}},{"$nulls":9},"Private",{"$f":"D76","v":"Car"},{"$nulls":4},{"$f":"(E76*AE76)+(F76*AF76)+(G76*AG76)+(H76*AH76)","v":0},{"$nulls":4},{"$f":"(J76*AJ76)+(K76*AK76)+(L76*AL76)+(M76*AM76)","v":0},{"$nulls":4},{"$f":"(O76*AO76)+(P76*AP76)+(Q76*AQ76)+(R76*AR76)","v":0},{"$nulls":10},"Private",{"$f":"AD76","v":"Car"},{"$nulls":4},{"$f":"(E76*BF76)+(F76*BG76)+(G76*BH76)+(H76*BI76)","v":0},{"$nulls":4},{"$f":"(J76*BK76)+(K76*BL76)+(L76*BM76)+(M76*BN76)","v":0},{"$nulls":4},{"$f":"(O76*BP76)+(P76*BQ76)+(Q76*BR76)+(R76*BS76)","v":0},{"$nulls":10},"Private",{"$f":"BE76","v":"Car"},{"$nulls":4},{"$f":"(E76*CG76)+(F76*CH76)+(G76*CI76)+(H76*CJ76)","v":0},{"$nulls":4},{"$f":"(J76*CL76)+(K76*CM76)+(L76*CN76)+(M76*CO76)","v":0},{"$nulls":4},{"$f":"(O76*CQ76)+(P76*CR76)+(Q76*CS76)+(R76*CT76)","v":0}]
[{"$nulls":3},{"$f":"D62","v":"2-wheeler"},{"$nulls":4},{"v":0,"d":"0%"},{"$nulls":4},{"v":0,"d":"0%"},{"$nulls":4},{"v":0,"d":"0%"},{"$nulls":10},{"$f":"D77","v":"2-wheeler"},{"$nulls":4},{"$f":"(E77*AE77)+(F77*AF77)+(G77*AG77)+(H77*AH77)","v":0},{"$nulls":4},{"$f":"(J77*AJ77)+(K77*AK77)+(L77*AL77)+(M77*AM77)","v":0},{"$nulls":4},{"$f":"(O77*AO77)+(P77*AP77)+(Q77*AQ77)+(R77*AR77)","v":0},{"$nulls":11},{"$f":"AD77","v":"2-wheeler"},{"$nulls":4},{"$f":"(E77*BF77)+(F77*BG77)+(G77*BH77)+(H77*BI77)","v":0},{"$nulls":4},{"$f":"(J77*BK77)+(K77*BL77)+(L77*BM77)+(M77*BN77)","v":0},{"$nulls":4},{"$f":"(O77*BP77)+(P77*BQ77)+(Q77*BR77)+(R77*BS77)","v":0},{"$nulls":11},{"$f":"BE77","v":"2-wheeler"},{"$nulls":4},{"$f":"(E77*CG77)+(F77*CH77)+(G77*CI77)+(H77*CJ77)","v":0},{"$nulls":4},{"$f":"(J77*CL77)+(K77*CM77)+(L77*CN77)+(M77*CO77)","v":0},{"$nulls":4},{"$f":"(O77*CQ77)+(P77*CR77)+(Q77*CS77)+(R77*CT77)","v":0}]
[{"$nulls":3},"Taxi",{"$nulls":4},{"v":0,"d":"0%"},{"$nulls":4},{"v":0,"d":"0%"},{"$nulls":4},{"v":0,"d":"0%"},{"$nulls":10},"Taxi",{"$nulls":4},0,{"$nulls":4},0,{"$nulls":4},0,{"$nulls":11},"Taxi",{"$nulls":4},0,{"$nulls":4},0,{"$nulls":4},0,{"$nulls":11},"Taxi",{"$nulls":4},0,{"$nulls":4},0,{"$nulls":4},0]
[{"$nulls":3},"",{"$nulls":4},{"v":0,"d":"0%"},{"$nulls":4},{"v":0,"d":"0%"},{"$nulls":4},{"v":0,"d":"0%"},{"$nulls":10},"",{"$nulls":4},0,{"$nulls":4},0,{"$nulls":4},0,{"$nulls":11},"",{"$nulls":4},0,{"$nulls":4},0,{"$nulls":4},0,{"$nulls":11},"",{"$nulls":4},0,{"$nulls":4},0,{"$nulls":4},0]
[{"$nulls":3},"",{"$nulls":4},{"v":0,"d":"0%"},{"$nulls":4},{"v":0,"d":"0%"},{"$nulls":4},{"v":0,"d":"0%"},{"$nulls":10},"",{"$nulls":4},0,{"$nulls":4},0,{"$nulls":4},0,{"$nulls":11},"",{"$nulls":4},0,{"$nulls":4},0,{"$nulls":4},0,{"$nulls":11},"",{"$nulls":4},0,{"$nulls":4},0,{"$nulls":4},0]
[null,null,"Public","3-wheeler",{"$nulls":4},{"v":0,"d":"0%"},{"$nulls":4},{"v":0,"d":"0%"},{"$nulls":4},{"v":0,"d":"0%"},{"$nulls":9},"Public","3-wheeler",{"$nulls":4},0,{"$nulls":4},0,{"$nulls":4},0,{"$nulls":10},"Public","3-wheeler",{"$nulls":4},0,{"$nulls":4},0,{"$nulls":4},0,{"$nulls":10},"Public","3-wheeler",{"$nulls":4},0,{"$nulls":4},0,{"$nulls":4},0]
[{"$nulls":3},"Bus",{"$nulls":4},{"v":0,"d":"0%"},{"$nulls":4},{"v":0,"d":"0%"},{"$nulls":4},{"v":0,"d":"0%"},{"$nulls":10},"Bus",{"$nulls":4},0,{"$nulls":4},0,{"$nulls":4},0,{"$nulls":11},"Bus",{"$nulls":4},0,{"$nulls":4},0,{"$nulls":4},0,{"$nulls":11},"Bus",{"$nulls":4},0,{"$nulls":4},0,{"$nulls":4},0]
[{"$nulls":3},"Mini-bus",{"$nulls":4},{"v":0,"d":"0%"},{"$nulls":4},{"v":0,"d":"0%"},{"$nulls":4},{"v":0,"d":"0%"},{"$nulls":10},"Mini-bus",{"$nulls":4},0,{"$nulls":4},0,{"$nulls":4},0,{"$nulls":11},"Mini-bus",{"$nulls":4},0,{"$nulls":4},0,{"$nulls":4},0,{"$nulls":11},"Mini-bus",{"$nulls":4},0,{"$nulls":4},0,{"$nulls":4},0]
[{"$nulls":3},"",{"$nulls":4},{"v":0,"d":"0%"},{"$nulls":4},{"v":0,"d":"0%"},{"$nulls":4},{"v":0,"d":"0%"},{"$nulls":10},"",{"$nulls":4},0,{"$nulls":4},0,{"$nulls":4},0,{"$nulls":11},"",{"$nulls":4},0,{"$nulls":4},0,{"$nulls":4},0,{"$nulls":11},"",{"$nulls":4},0,{"$nulls":4},0,{"$nulls":4},0]
[{"$nulls":3},"",{"$nulls":4},{"v":0,"d":"0%"},{"$nulls":4},{"v":0,"d":"0%"},{"$nulls":4},{"v":0,"d":"0%"},{"$nulls":10},"",{"$nulls":4},0,{"$nulls":4},0,{"$nulls":4},0,{"$nulls":11},"",{"$nulls":4},0,{"$nulls":4},0,{"$nulls":4},0,{"$nulls":11},"",{"$nulls":4},0,{"$nulls":4},0,{"$nulls":4},0]
[null,null,{"$f":"$C$19","v":"BRT"},{"$f":"C64","v":0},{"$nulls":4},{"v":0,"d":"0%"},{"$nulls":4},{"v":0,"d":"0%"},{"$nulls":4},{"v":0,"d":"0%"},{"$nulls":10},{"$f":"$D$41","v":"BRT"},{"$nulls":4},0,{"$nulls":4},0,{"$nulls":4},0,{"$nulls":11},"BRT",{"$nulls":4},0,{"$nulls":4},0,{"$nulls":4},0,{"$nulls":11},"BRT",{"$nulls":4},0,{"$nulls":4},0,{"$nulls":4},0]
[]
[{"$nulls":3},"Technology Split (%) - Electric",{"$nulls":25},"PM Emission Factor (g/vkm) - Electric",{"$nulls":26},"NOx Emission Factor (g/vkm) - Electric",{"$nulls":26},{"$f":"CONCATENATE(\"CO2 Emission Factor - Electric - (kg/\",I22,\")\")","v":"CO2 Emission Factor - Electric - (kg/kwh)"}]
[{"$nulls":3},"Vehicle Type",{"$f":"E74","v":"Base Year"},{"$nulls":4},{"$f":"J74","v":9},{"$nulls":4},{"$f":"O74","v":19},{"$nulls":14},"Vehicle Type",{"$f":"E89","v":"Base Year"},{"$nulls":4},{"$f":"J89","v":9},{"$nulls":4},{"$f":"O89","v":19},{"$nulls":15},"Vehicle Type",{"$f":"BF74","v":"Base Year"},{"$nulls":4},{"$f":"BK74","v":9},{"$nulls":4},{"$f":"BP74","v":19},{"$nulls":15},"Vehicle Type",{"$f":"CG74","v":"Base Year"},{"$nulls":4},{"$f":"CL74","v":9},{"$nulls":4},{"$f":"CQ74","v":19}]
[{"$nulls":4},{"$f":"E75","v":"Pre-Euro IV"},"Euro IV","Euro V","Euro VI","sum",{"$f":"J75","v":"Pre-Euro IV"},"Euro IV","Euro V","Euro VI","sum",{"$f":"O75","v":"Pre-Euro IV"},"Euro IV","Euro V","Euro VI","sum",{"$nulls":11},{"$f":"AE75","v":"Pre-Euro IV"},{"$f":"AF75","v":"Euro IV"},"Euro V","Euro VI","Average","Pre-Euro IV","Euro IV","Euro V","Euro VI","Average","Pre-Euro IV","Euro IV","Euro V","Euro VI","Average",{"$nulls":12},{"$f":"AE90","v":"Pre-Euro IV"},{"$f":"AF90","v":"Euro IV"},{"$f":"AG90","v":"Euro V"},{"$f":"AH90","v":"Euro VI"},{"$f":"AI90","v":"Average"},{"$f":"AJ90","v":"Pre-Euro IV"},{"$f":"AK90","v":"Euro IV"},{"$f":"AL90","v":"Euro V"},{"$f":"AM90","v":"Euro VI"},{"$f":"AN90","v":"Average"},{"$f":"AO90","v":"Pre-Euro IV"},{"$f":"AP90","v":"Euro IV"},{"$f":"AQ90","v":"Euro V"},{"$f":"AR90","v":"Euro VI"},{"$f":"AS90","v":"Average"},{"$nulls":12},{"$f":"CG75","v":"Pre-Euro IV"},{"$f":"CH75","v":"Euro IV"},"Euro V","Euro VI","Average","Pre-Euro IV","Euro IV","Euro V","Euro VI","Average","Pre-Euro IV","Euro IV","Euro V","Euro VI","Average"]
[null,"No Project","Private",{"$f":"D76","v":"Car"},{"$nulls":4},{"$f":"SUM(E91:H91)","v":{"v":0,"d":"0%"}},{"$nulls":4},{"$f":"SUM(J91:M91)","v":{"v":0,"d":"0%"}},{"$nulls":4},{"$f":"SUM(O91:R91)","v":{"v":0,"d":"0%"}},{"$nulls":9},"Private",{"$f":"D91","v":"Car"},{"$nulls":4},{"$f":"(E91*AE91)+(F91*AF91)+(G91*AG91)+(H91*AH91)","v":0},{"$nulls":4},{"$f":"(J91*AJ91)+(K91*AK91)+(L91*AL91)+(M91*AM91)","v":0},{"$nulls":4},{"$f":"(O91*AO91)+(P91*AP91)+(Q91*AQ91)+(R91*AR91)","v":0},{"$nulls":10},"Private",{"$f":"AD91","v":"Car"},{"$nulls":4},{"$f":"(E91*BF91)+(F91*BG91)+(G91*BH91)+(H91*BI91)","v":0},{"$nulls":4},{"$f":"(J91*BK91)+(K91*BL91)+(L91*BM91)+(M91*BN91)","v":0},{"$nulls":4},{"$f":"(O91*BP91)+(P91*BQ91)+(Q91*BR91)+(R91*BS91)","v":0},{"$nulls":10},"Private",{"$f":"BE91","v":"Car"},{"$nulls":4},{"$f":"(E91*CG91)+(F91*CH91)+(G91*CI91)+(H91*CJ91)","v":0},{"$nulls":4},{"$f":"(J91*CL91)+(K91*CM91)+(L91*CN91)+(M91*CO91)","v":0},{"$nulls":4},{"$f":"(O91*CQ91)+(P91*CR91)+(Q91*CS91)+(R91*CT91)","v":0}]
[{"$nulls":3},{"$f":"D77","v":"2-wheeler"},{"$nulls":4},{"v":0,"d":"0%"},{"$nulls":4},{"v":0,"d":"0%"},{"$nulls":4},{"v":0,"d":"0%"},{"$nulls":10},{"$f":"D92","v":"2-wheeler"},{"$nulls":4},{"$f":"(E92*AE92)+(F92*AF92)+(G92*AG92)+(H92*AH92)","v":0},{"$nulls":4},{"$f":"(J92*AJ92)+(K92*AK92)+(L92*AL92)+(M92*AM92)","v":0},{"$nulls":4},{"$f":"(O92*AO92)+(P92*AP92)+(Q92*AQ92)+(R92*AR92)","v":0},{"$nulls":11},{"$f":"AD92","v":"2-wheeler"},{"$nulls":4},{"$f":"(E92*BF92)+(F92*BG92)+(G92*BH92)+(H92*BI92)","v":0},{"$nulls":4},{"$f":"(J92*BK92)+(K92*BL92)+(L92*BM92)+(M92*BN92)","v":0},{"$nulls":4},{"$f":"(O92*BP92)+(P92*BQ92)+(Q92*BR92)+(R92*BS92)","v":0},{"$nulls":11},{"$f":"BE92","v":"2-wheeler"},{"$nulls":4},{"$f":"(E92*CG92)+(F92*CH92)+(G92*CI92)+(H92*CJ92)","v":0},{"$nulls":4},{"$f":"(J92*CL92)+(K92*CM92)+(L92*CN92)+(M92*CO92)","v":0},{"$nulls":4},{"$f":"(O92*CQ92)+(P92*CR92)+(Q92*CS92)+(R92*CT92)","v":0}]
[{"$nulls":3},"Taxi",{"$nulls":4},{"v":0,"d":"0%"},{"$nulls":4},{"v":0,"d":"0%"},{"$nulls":4},{"v":0,"d":"0%"},{"$nulls":10},"Taxi",{"$nulls":4},0,{"$nulls":4},0,{"$nulls":4},0,{"$nulls":11},"Taxi",{"$nulls":4},0,{"$nulls":4},0,{"$nulls":4},0,{"$nulls":11},"Taxi",{"$nulls":4},0,{"$nulls":4},0,{"$nulls":4},0]
[{"$nulls":3},"",{"$nulls":4},{"v":0,"d":"0%"},{"$nulls":4},{"v":0,"d":"0%"},{"$nulls":4},{"v":0,"d":"0%"},{"$nulls":10},"",{"$nulls":4},0,{"$nulls":4},0,{"$nulls":4},0,{"$nulls":11},"",{"$nulls":4},0,{"$nulls":4},0,{"$nulls":4},0,{"$nulls":11},"",{"$nulls":4},0,{"$nulls":4},0,{"$nulls":4},0]
[{"$nulls":3},"",{"$nulls":4},{"v":0,"d":"0%"},{"$nulls":4},{"v":0,"d":"0%"},{"$nulls":4},{"v":0,"d":"0%"},{"$nulls":10},"",{"$nulls":4},0,{"$nulls":4},0,{"$nulls":4},0,{"$nulls":11},"",{"$nulls":4},0,{"$nulls":4},0,{"$nulls":4},0,{"$nulls":11},"",{"$nulls":4},0,{"$nulls":4},0,{"$nulls":4},0]
[null,null,"Public","3-wheeler",{"$nulls":4},{"v":0,"d":"0%"},{"$nulls":4},{"v":0,"d":"0%"},{"$nulls":4},{"v":0,"d":"0%"},{"$nulls":9},"Public","3-wheeler",{"$nulls":4},0,{"$nulls":4},0,{"$nulls":4},0,{"$nulls":10},"Public","3-wheeler",{"$nulls":4},0,{"$nulls":4},0,{"$nulls":4},0,{"$nulls":10},"Public","3-wheeler",{"$nulls":4},0,{"$nulls":4},0,{"$nulls":4},0]
[{"$nulls":3},"Bus",{"$nulls":4},{"v":0,"d":"0%"},{"$nulls":4},{"v":0,"d":"0%"},{"$nulls":4},{"v":0,"d":"0%"},{"$nulls":10},"Bus",{"$nulls":4},0,{"$nulls":4},0,{"$nulls":4},0,{"$nulls":11},"Bus",{"$nulls":4},0,{"$nulls":4},0,{"$nulls":4},0,{"$nulls":11},"Bus",{"$nulls":4},0,{"$nulls":4},0,{"$nulls":4},0]
[{"$nulls":3},"Mini-bus",{"$nulls":4},{"v":0,"d":"0%"},{"$nulls":4},{"v":0,"d":"0%"},{"$nulls":4},{"v":0,"d":"0%"},{"$nulls":10},"Mini-bus",{"$nulls":4},0,{"$nulls":4},0,{"$nulls":4},0,{"$nulls":11},"Mini-bus",{"$nulls":4},0,{"$nulls":4},0,{"$nulls":4},0,{"$nulls":11},"Mini-bus",{"$nulls":4},0,{"$nulls":4},0,{"$nulls":4},0]
[{"$nulls":3},"",{"$nulls":4},{"v":0,"d":"0%"},{"$nulls":4},{"v":0,"d":"0%"},{"$nulls":4},{"v":0,"d":"0%"},{"$nulls":10},"",{"$nulls":4},0,{"$nulls":4},0,{"$nulls":4},0,{"$nulls":11},"",{"$nulls":4},0,{"$nulls":4},0,{"$nulls":4},0,{"$nulls":11},"",{"$nulls":4},0,{"$nulls":4},0,{"$nulls":4},0]
[{"$nulls":3},"",{"$nulls":4},{"v":0,"d":"0%"},{"$nulls":4},{"v":0,"d":"0%"},{"$nulls":4},{"v":0,"d":"0%"},{"$nulls":10},"",{"$nulls":4},0,{"$nulls":4},0,{"$nulls":4},0,{"$nulls":11},"",{"$nulls":4},0,{"$nulls":4},0,{"$nulls":4},0,{"$nulls":11},"",{"$nulls":4},0,{"$nulls":4},0,{"$nulls":4},0]
[null,null,{"$f":"$C$19","v":"BRT"},{"$f":"C79","v":0},{"$nulls":4},{"v":0,"d":"0%"},{"$nulls":4},{"v":0,"d":"0%"},{"$nulls":4},{"v":0,"d":"0%"},{"$nulls":10},{"$f":"$D$41","v":"BRT"},{"$nulls":4},0,{"$nulls":4},0,{"$nulls":4},0,{"$nulls":11},"BRT",{"$nulls":4},0,{"$nulls":4},0,{"$nulls":4},0,{"$nulls":11},"BRT",{"$nulls":4},0,{"$nulls":4},0,{"$nulls":4},0]
[]
[{"$nulls":3},{"$f":"CONCATENATE(\"Technology Split (%) - \",J8)","v":"Technology Split (%) - Ethanol"},{"$nulls":25},{"$f":"CONCATENATE(\"PM Emission Factor (g/vkm) - \",J8)","v":"PM Emission Factor (g/vkm) - Ethanol"},{"$nulls":26},{"$f":"CONCATENATE(\"NOx Emission Factor (g/vkm) - \",J8)","v":"NOx Emission Factor (g/vkm) - Ethanol"},{"$nulls":26},{"$f":"CONCATENATE(\"CO2 Emission Factor -\",J8,\" - (kg/\",J22,\")\")","v":"CO2 Emission Factor -Ethanol - (kg/liter)"}]
[{"$nulls":3},"Vehicle Type",{"$f":"E89","v":"Base Year"},{"$nulls":4},{"$f":"J89","v":9},{"$nulls":4},{"$f":"O89","v":19},{"$nulls":14},"Vehicle Type",{"$f":"E104","v":"Base Year"},{"$nulls":4},{"$f":"J104","v":9},{"$nulls":4},{"$f":"O104","v":19},{"$nulls":15},"Vehicle Type",{"$f":"BF89","v":"Base Year"},{"$nulls":4},{"$f":"BK89","v":9},{"$nulls":4},{"$f":"BP89","v":19},{"$nulls":15},"Vehicle Type",{"$f":"CG89","v":"Base Year"},{"$nulls":4},{"$f":"CL89","v":9},{"$nulls":4},{"$f":"CQ89","v":19}]
[{"$nulls":4},{"$f":"E90","v":"Pre-Euro IV"},"Euro IV","Euro V","Euro VI","sum",{"$f":"J90","v":"Pre-Euro IV"},"Euro IV","Euro V","Euro VI","sum",{"$f":"O90","v":"Pre-Euro IV"},"Euro IV","Euro V","Euro VI","sum",{"$nulls":11},{"$f":"AE90","v":"Pre-Euro IV"},{"$f":"AF90","v":"Euro IV"},"Euro V","Euro VI","Average","Pre-Euro IV","Euro IV","Euro V","Euro VI","Average","Pre-Euro IV","Euro IV","Euro V","Euro VI","Average",{"$nulls":12},{"$f":"AE105","v":"Pre-Euro IV"},{"$f":"AF105","v":"Euro IV"},{"$f":"AG105","v":"Euro V"},{"$f":"AH105","v":"Euro VI"},{"$f":"AI105","v":"Average"},{"$f":"AJ105","v":"Pre-Euro IV"},{"$f":"AK105","v":"Euro IV"},{"$f":"AL105","v":"Euro V"},{"$f":"AM105","v":"Euro VI"},{"$f":"AN105","v":"Average"},{"$f":"AO105","v":"Pre-Euro IV"},{"$f":"AP105","v":"Euro IV"},{"$f":"AQ105","v":"Euro V"},{"$f":"AR105","v":"Euro VI"},{"$f":"AS105","v":"Average"},{"$nulls":12},{"$f":"CG90","v":"Pre-Euro IV"},{"$f":"CH90","v":"Euro IV"},"Euro V","Euro VI","Average","Pre-Euro IV","Euro IV","Euro V","Euro VI","Average","Pre-Euro IV","Euro IV","Euro V","Euro VI","Average"]
[null,"No Project","Private",{"$f":"D91","v":"Car"},{"$nulls":4},{"$f":"SUM(E106:H106)","v":{"v":0,"d":"0%"}},{"$nulls":4},{"$f":"SUM(J106:M106)","v":{"v":0,"d":"0%"}},{"$nulls":4},{"$f":"SUM(O106:R106)","v":{"v":0,"d":"0%"}},{"$nulls":9},"Private",{"$f":"D106","v":"Car"},{"$nulls":4},{"$f":"(E106*AE106)+(F106*AF106)+(G106*AG106)+(H106*AH106)","v":0},{"$nulls":4},{"$f":"(J106*AJ106)+(K106*AK106)+(L106*AL106)+(M106*AM106)","v":0},{"$nulls":4},{"$f":"(O106*AO106)+(P106*AP106)+(Q106*AQ106)+(R106*AR106)","v":0},{"$nulls":10},"Private",{"$f":"AD106","v":"Car"},{"$nulls":4},{"$f":"(E106*BF106)+(F106*BG106)+(G106*BH106)+(H106*BI106)","v":0},{"$nulls":4},{"$f":"(J106*BK106)+(K106*BL106)+(L106*BM106)+(M106*BN106)","v":0},{"$nulls":4},{"$f":"(O106*BP106)+(P106*BQ106)+(Q106*BR106)+(R106*BS106)","v":0},{"$nulls":10},"Private",{"$f":"BE106","v":"Car"},1.56,{"$f":"$CG$106","v":1.56},1.56,1.56,{"$f":"(E106*CG106)+(F106*CH106)+(G106*CI106)+(H106*CJ106)","v":0},{"$f":"$CG$106","v":1.56},1.56,1.56,1.56,{"$f":"(J106*CL106)+(K106*CM106)+(L106*CN106)+(M106*CO106)","v":0},{"$f":"$CG$106","v":1.56},1.56,1.56,1.56,{"$f":"(O106*CQ106)+(P106*CR106)+(Q106*CS106)+(R106*CT106)","v":0}]
[{"$nulls":3},{"$f":"D92","v":"2-wheeler"},{"$nulls":4},{"v":0,"d":"0%"},{"$nulls":4},{"v":0,"d":"0%"},{"$nulls":4},{"v":0,"d":"0%"},{"$nulls":10},{"$f":"D107","v":"2-wheeler"},{"$nulls":4},{"$f":"(E107*AE107)+(F107*AF107)+(G107*AG107)+(H107*AH107)","v":0},{"$nulls":4},{"$f":"(J107*AJ107)+(K107*AK107)+(L107*AL107)+(M107*AM107)","v":0},{"$nulls":4},{"$f":"(O107*AO107)+(P107*AP107)+(Q107*AQ107)+(R107*AR107)","v":0},{"$nulls":11},{"$f":"AD107","v":"2-wheeler"},{"$nulls":4},{"$f":"(E107*BF107)+(F107*BG107)+(G107*BH107)+(H107*BI107)","v":0},{"$nulls":4},{"$f":"(J107*BK107)+(K107*BL107)+(L107*BM107)+(M107*BN107)","v":0},{"$nulls":4},{"$f":"(O107*BP107)+(P107*BQ107)+(Q107*BR107)+(R107*BS107)","v":0},{"$nulls":11},{"$f":"BE107","v":"2-wheeler"},{"$f":"$CG$106","v":1.56},1.56,1.56,1.56,{"$f":"(E107*CG107)+(F107*CH107)+(G107*CI107)+(H107*CJ107)","v":0},1.56,1.56,1.56,1.56,{"$f":"(J107*CL107)+(K107*CM107)+(L107*CN107)+(M107*CO107)","v":0},1.56,1.56,1.56,1.56,{"$f":"(O107*CQ107)+(P107*CR107)+(Q107*CS107)+(R107*CT107)","v":0}]
[{"$nulls":3},"Taxi",{"$nulls":4},{"v":0,"d":"0%"},{"$nulls":4},{"v":0,"d":"0%"},{"$nulls":4},{"v":0,"d":"0%"},{"$nulls":10},"Taxi",{"$nulls":4},0,{"$nulls":4},0,{"$nulls":4},0,{"$nulls":11},"Taxi",{"$nulls":4},0,{"$nulls":4},0,{"$nulls":4},0,{"$nulls":11},"Taxi",1.56,1.56,1.56,1.56,0,1.56,1.56,1.56,1.56,0,1.56,1.56,1.56,1.56,0]
[{"$nulls":3},"",{"$nulls":4},{"v":0,"d":"0%"},{"$nulls":4},{"v":0,"d":"0%"},{"$nulls":4},{"v":0,"d":"0%"},{"$nulls":10},"",{"$nulls":4},0,{"$nulls":4},0,{"$nulls":4},0,{"$nulls":11},"",{"$nulls":4},0,{"$nulls":4},0,{"$nulls":4},0,{"$nulls":11},"",1.56,1.56,1.56,1.56,0,1.56,1.56,1.56,1.56,0,1.56,1.56,1.56,1.56,0]
[{"$nulls":3},"",{"$nulls":4},{"v":0,"d":"0%"},{"$nulls":4},{"v":0,"d":"0%"},{"$nulls":4},{"v":0,"d":"0%"},{"$nulls":10},"",{"$nulls":4},0,{"$nulls":4},0,{"$nulls":4},0,{"$nulls":11},"",{"$nulls":4},0,{"$nulls":4},0,{"$nulls":4},0,{"$nulls":11},"",1.56,1.56,1.56,1.56,0,1.56,1.56,1.56,1.56,0,1.56,1.56,1.56,1.56,0]
[null,null,"Public","3-wheeler",{"$nulls":4},{"v":0,"d":"0%"},{"$nulls":4},{"v":0,"d":"0%"},{"$nulls":4},{"v":0,"d":"0%"},{"$nulls":9},"Public","3-wheeler",{"$nulls":4},0,{"$nulls":4},0,{"$nulls":4},0,{"$nulls":10},"Public","3-wheeler",{"$nulls":4},0,{"$nulls":4},0,{"$nulls":4},0,{"$nulls":10},"Public","3-wheeler",1.56,1.56,1.56,1.56,0,1.56,1.56,1.56,1.56,0,1.56,1.56,1.56,1.56,0]
[{"$nulls":3},"Bus",{"$nulls":4},{"v":0,"d":"0%"},{"$nulls":4},{"v":0,"d":"0%"},{"$nulls":4},{"v":0,"d":"0%"},{"$nulls":10},"Bus",{"$nulls":4},0,{"$nulls":4},0,{"$nulls":4},0,{"$nulls":11},"Bus",{"$nulls":4},0,{"$nulls":4},0,{"$nulls":4},0,{"$nulls":11},"Bus",1.56,1.56,1.56,1.56,0,1.56,1.56,1.56,1.56,0,1.56,1.56,1.56,1.56,0]
[{"$nulls":3},"Mini-bus",{"$nulls":4},{"v":0,"d":"0%"},{"$nulls":4},{"v":0,"d":"0%"},{"$nulls":4},{"v":0,"d":"0%"},{"$nulls":10},"Mini-bus",{"$nulls":4},0,{"$nulls":4},0,{"$nulls":4},0,{"$nulls":11},"Mini-bus",{"$nulls":4},0,{"$nulls":4},0,{"$nulls":4},0,{"$nulls":11},"Mini-bus",1.56,1.56,1.56,1.56,0,1.56,1.56,1.56,1.56,0,1.56,1.56,1.56,1.56,0]
[{"$nulls":3},"",{"$nulls":4},{"v":0,"d":"0%"},{"$nulls":4},{"v":0,"d":"0%"},{"$nulls":4},{"v":0,"d":"0%"},{"$nulls":10},"",{"$nulls":4},0,{"$nulls":4},0,{"$nulls":4},0,{"$nulls":11},"",{"$nulls":4},0,{"$nulls":4},0,{"$nulls":4},0,{"$nulls":11},"",1.56,1.56,1.56,1.56,0,1.56,1.56,1.56,1.56,0,1.56,1.56,1.56,1.56,0]
[{"$nulls":3},"",{"$nulls":4},{"v":0,"d":"0%"},{"$nulls":4},{"v":0,"d":"0%"},{"$nulls":4},{"v":0,"d":"0%"},{"$nulls":10},"",{"$nulls":4},0,{"$nulls":4},0,{"$nulls":4},0,{"$nulls":11},"",{"$nulls":4},0,{"$nulls":4},0,{"$nulls":4},0,{"$nulls":11},"",1.56,1.56,1.56,1.56,0,1.56,1.56,1.56,1.56,0,1.56,1.56,1.56,1.56,0]
[null,null,{"$f":"$C$19","v":"BRT"},{"$f":"C94","v":0},{"$nulls":4},{"v":0,"d":"0%"},{"$nulls":4},{"v":0,"d":"0%"},{"$nulls":4},{"v":0,"d":"0%"},{"$nulls":10},{"$f":"$D$41","v":"BRT"},{"$nulls":4},0,{"$nulls":4},0,{"$nulls":4},0,{"$nulls":11},"BRT",{"$nulls":4},0,{"$nulls":4},0,{"$nulls":4},0,{"$nulls":11},"BRT",1.56,1.56,1.56,1.56,0,1.56,1.56,1.56,1.56,0,1.56,1.56,1.56,1.56,0]
[]
[]
[]
[{"$nulls":29},"Average PM Emission Factor (g/vkm)",{"$nulls":26},"Average NOx Emission Factor (g/vkm)",{"$nulls":26},"Average CO2 Emission Factor (kg/vkm)"]
[{"$nulls":29},"Vehicle Type",{"$f":"AE29","v":"Base Year"},{"$f":"AJ29","v":9},{"$f":"AO29","v":19},{"$nulls":23},"Vehicle Type",{"$f":"BF29","v":"Base Year"},{"$f":"BK29","v":9},{"$f":"BP29","v":19},{"$nulls":23},"Vehicle Type",{"$f":"CG29","v":"Base Year"},{"$f":"CL29","v":9},{"$f":"CQ29","v":19}]
[{"$nulls":28},"Private",{"$f":"AD106","v":"Car"},{"$f":"(AI31*$E9)+(AI46*$F9)+(AI61*$G9)+(AI76*$H9)+(AI91*$I9)+(AI106*$J9)","v":0},{"$f":"(AN31*$L9)+(AN46*$M9)+(AN61*$N9)+(AN76*$O9)+(AN91*$P9)+(AN106*$Q9)","v":0},{"$f":"(AO31*$S9)+(AO46*$T9)+(AO61*$U9)+(AO76*$V9)+(AO91*$W9)+(AO106*$X9)","v":0},{"$nulls":22},"Private",{"$f":"BE106","v":"Car"},{"$f":"(BJ31*$E9)+(BJ46*$F9)+(BJ61*$G9)+(BJ76*$H9)+(BJ91*$I9)+(BJ106*$J9)","v":0},{"$f":"(BO31*$L9)+(BO46*$M9)+(BO61*$N9)+(BO76*$O9)+(BO91*$P9)+(BO106*$Q9)","v":0},{"$f":"(BP31*$S9)+(BP46*$T9)+(BP61*$U9)+(BP76*$V9)+(BP91*$W9)+(BP106*$X9)","v":0},{"$nulls":22},"Private",{"$f":"CF106","v":"Car"},{"$f":"(CK31*$E9)+(CK46*$F9)+(CK61*$G9)+(CK76*$H9)+(CK91*$I9)+(CK106*$J9)","v":0},{"$f":"(CP31*$L9)+(CP46*$M9)+(CP61*$N9)+(CP76*$O9)+(CP91*$P9)+(CP106*$Q9)","v":0},{"$f":"(CU31*$S9)+(CU46*$T9)+(CU61*$U9)+(CU76*$V9)+(CU91*$W9)+(CU106*$X9)","v":0}]
[{"$nulls":29},{"$f":"AD107","v":"2-wheeler"},{"$f":"(AI32*$E10)+(AI47*$F10)+(AI62*$G10)+(AI77*$H10)+(AI92*$I10)+(AI107*$J10)","v":0},{"$f":"(AN32*$L10)+(AN47*$M10)+(AN62*$N10)+(AN77*$O10)+(AN92*$P10)+(AN107*$Q10)","v":0},{"$f":"(AO32*$S10)+(AO47*$T10)+(AO62*$U10)+(AO77*$V10)+(AO92*$W10)+(AO107*$X10)","v":0},{"$nulls":23},{"$f":"BE107","v":"2-wheeler"},{"$f":"(BJ32*$E10)+(BJ47*$F10)+(BJ62*$G10)+(BJ77*$H10)+(BJ92*$I10)+(BJ107*$J10)","v":0},{"$f":"(BO32*$L10)+(BO47*$M10)+(BO62*$N10)+(BO77*$O10)+(BO92*$P10)+(BO107*$Q10)","v":0},{"$f":"(BP32*$S10)+(BP47*$T10)+(BP62*$U10)+(BP77*$V10)+(BP92*$W10)+(BP107*$X10)","v":0},{"$nulls":23},{"$f":"CF107","v":"2-wheeler"},{"$f":"(CK32*$E10)+(CK47*$F10)+(CK62*$G10)+(CK77*$H10)+(CK92*$I10)+(CK107*$J10)","v":0},{"$f":"(CP32*$L10)+(CP47*$M10)+(CP62*$N10)+(CP77*$O10)+(CP92*$P10)+(CP107*$Q10)","v":0},0]
[{"$nulls":29},"Taxi",0,0,0,{"$nulls":23},"Taxi",0,0,0,{"$nulls":23},"Taxi",0,0,0]
[{"$nulls":29},"",0,0,0,{"$nulls":23},"",0,0,0,{"$nulls":23},"",0,0,0]
[{"$nulls":29},"",0,0,0,{"$nulls":23},"",0,0,0,{"$nulls":23},"",0,0,0]
[{"$nulls":28},"Public","3-wheeler",0,0,0,{"$nulls":22},"Public","3-wheeler",0,0,0,{"$nulls":22},"Public","3-wheeler",0,0,0]
[{"$nulls":29},"Bus",0,0,0,{"$nulls":23},"Bus",0,0,0,{"$nulls":23},"Bus",0,0,0]
[{"$nulls":29},"Mini-bus",0,0,0,{"$nulls":23},"Mini-bus",0,0,0,{"$nulls":23},"Mini-bus",0,0,0]
[{"$nulls":29},"",0,0,0,{"$nulls":23},"",0,0,0,{"$nulls":23},"",0,0,0]
[{"$nulls":29},"",0,0,0,{"$nulls":23},"",0,0,0,{"$nulls":23},"",0,0,0]
[{"$nulls":29},"BRT",0,0,0,{"$nulls":23},"BRT",{"$f":"(BJ41*$E19)+(BJ56*$F19)+(BJ71*$G19)+(BJ86*$H19)+(BJ101*$I19)+(BJ116*$J19)","v":0},0,0,{"$nulls":23},"BRT",{"$f":"(CK41*$E19)+(CK56*$F19)+(CK71*$G19)+(CK86*$H19)+(CK101*$I19)+(CK116*$J19)","v":0},0,0]
{"$rows_empty":59}
[{"$nulls":3},"Fuel Efficiency @ 50 kmph"]
[{"$nulls":3},"Vehicle Type",{"$f":"E7","v":"Base Year"},{"$nulls":6},{"$f":"L7","v":9},{"$nulls":6},{"$f":"S7","v":19}]
[{"$nulls":4},{"$f":"CONCATENATE(E8,\" (km/\",E22,\")\")","v":"Petrol (km/liter)"},{"$f":"CONCATENATE(F8,\" (km/\",F22,\")\")","v":"Diesel (km/liter)"},{"$f":"CONCATENATE(G8,\" (km/\",G22,\")\")","v":"LPG (km/liter)"},{"$f":"CONCATENATE(H8,\" (km/\",H22,\")\")","v":"CNG (km/kg)"},{"$f":"CONCATENATE(I8,\" (km/\",I22,\")\")","v":"Electric (km/kwh)"},{"$f":"IF(J8=\"\",\"\",CONCATENATE(J8,\" (km/\",J22,\")\"))","v":"Ethanol (km/liter)"},"Average",{"$f":"E194","v":"Petrol (km/liter)"},{"$f":"F194","v":"Diesel (km/liter)"},"LPG (km/liter)","CNG (km/kg)","Electric (km/kwh)","Ethanol (km/liter)","Average",{"$f":"L194","v":"Petrol (km/liter)"},{"$f":"M194","v":"Diesel (km/liter)"},"LPG (km/liter)","CNG (km/kg)","Electric (km/kwh)","Ethanol (km/liter)","Average"]
[null,"No Project","Private",{"$f":"D9","v":"Car"},{"$nulls":6},{"$f":"(E9*E195)+(F9*F195)+(G9*G195)+(H9*H195)+(I9*I195)+(J9*J195)","v":0},{"$nulls":6},{"$f":"(L9*L195)+(M9*M195)+(N9*N195)+(O9*O195)+(P9*P195)+(Q9*Q195)","v":0},{"$nulls":6},{"$f":"(S9*S195)+(T9*T195)+(U9*U195)+(V9*V195)+(W9*W195)+(X9*X195)","v":0}]
[{"$nulls":3},{"$f":"D10","v":"2-wheeler"},{"$nulls":6},{"$f":"(E10*E196)+(F10*F196)+(G10*G196)+(H10*H196)+(I10*I196)+(J10*J196)","v":0},{"$nulls":6},{"$f":"(L10*L196)+(M10*M196)+(N10*N196)+(O10*O196)+(P10*P196)+(Q10*Q196)","v":0},{"$nulls":6},{"$f":"(S10*S196)+(T10*T196)+(U10*U196)+(V10*V196)+(W10*W196)+(X10*X196)","v":0}]
[{"$nulls":3},"Taxi",{"$nulls":6},0,{"$nulls":6},0,{"$nulls":6},0]
[{"$nulls":3},"",{"$nulls":6},0,{"$nulls":6},0,{"$nulls":6},0]
[{"$nulls":3},"",{"$nulls":6},0,{"$nulls":6},0,{"$nulls":6},0]
[null,null,"Public","3-wheeler",{"$nulls":6},0,{"$nulls":6},0,{"$nulls":6},0]
[{"$nulls":3},"Bus",{"$nulls":6},0,{"$nulls":6},0,{"$nulls":6},0]
[{"$nulls":3},"Mini-bus",{"$nulls":6},0,{"$nulls":6},0,{"$nulls":6},0]
[{"$nulls":3},"",{"$nulls":6},0,{"$nulls":6},0,{"$nulls":6},0]
[{"$nulls":3},"",{"$nulls":6},0,{"$nulls":6},0,{"$nulls":6},0]
[null,null,{"$f":"$C$19","v":"BRT"},{"$f":"C183","v":0},{"$nulls":6},0,{"$nulls":6},0,{"$nulls":6},0]
{"$rows_empty":24}
[{"$nulls":4},"Average Speed (kilometer/hour)",null,null,"Occupancy",null,null,"Average Trip Length (km)",null,null,"Speed Impact",{"$nulls":4},"pct of Travel","Car Speed",null,null,"Bus"]
[{"$nulls":3},"Vehicle Type",{"$f":"IF(Full!F12=\"\",\"Base Year\",Full!F12)","v":"Base Year"},{"$f":"IF(Full!F13=\"\",\"Middle Year\",Full!F13)","v":9},{"$f":"IF(Full!F14=\"\",\"Horizon Year\",Full!F14)","v":19},{"$f":"E231","v":"Base Year"},9,19,"Base Year",9,19,{"$nulls":4},"Time",null,2012,2022,2032,2012,2022,2032]
[{"$nulls":17},"Rush",{"v":0.375,"d":"37.5%"},20,18,16,{"$f":"T232*0.8","v":16},14,12]
[null,"No Project","Private","Cars",{"$nulls":9},"Cars",{"$nulls":3},"Off Pk",{"v":0.625,"d":"62.5%"},60,60,60,30,30,30]
[{"$nulls":3},"2-Wheeler",{"$nulls":9},"2-wheeler",{"$nulls":3},"BLEND",null,{"$f":"T232*$S$232+T233*$S$233","v":45},{"$f":"U232*$S$232+U233*$S$233","v":44.25},{"$f":"V232*$S$232+V233*$S$233","v":43.5},{"$f":"W232*$S$232+W233*$S$233","v":24.75},{"$f":"X232*$S$232+X233*$S$233","v":24},23.25]
[{"$nulls":3},"Taxi",{"$nulls":9},"Cars"]
[{"$nulls":3},{"$f":"IF(Full!O177=0,\"\",Full!O177)","v":""}]
[{"$nulls":3},{"$f":"IF(Full!O178=0,\"\",Full!O178)","v":""}]
[null,null,"Public","3-Wheeler"]
[{"$nulls":3},"Bus",{"$nulls":9},"Bus"]
[{"$nulls":3},"Mini bus",{"$nulls":9},"Bus"]
[{"$nulls":3},{"$f":"IF(Full!O182=0,\"\",Full!O182)","v":""}]
[{"$nulls":3},{"$f":"IF(Full!O183=0,\"\",Full!O183)","v":""}]
[null,null,{"$f":"$C$19","v":"BRT"},{"$f":"C221","v":0},{"$nulls":9},"Bus"]

{"sheet":"Grid Calc","index":5,"n_rows":97,"n_cols":13,"rows_kept":97,"merged":[[0,1,1,5],[7,1,8,1],[15,1,15,2],[15,5,15,6],[17,1,18,1],[19,1,19,2],[20,1,20,2],[21,1,21,2],[22,1,22,2],[25,1,26,2],[25,5,25,6],[27,1,28,1],[29,1,29,2],[30,1,30,2],[31,1,31,2],[32,1,32,2],[35,1,36,2],[37,1,38,1],[39,1,39,2],[40,1,40,2],[43,1,44,2],[45,1,46,1],[47,1,47,2],[48,1,48,2],[72,1,73,1],[79,2,79,4],[79,5,79,7],[79,8,79,10],[96,1,99,3]]}
[null,"Electricity Grid Emission Factor Calculator"]
[]
[]
[]
[]
[null,"Use the calculator to estimate the emission factor of the electricity grid. Copy and paste (paste values) the results into the next section"]
[]
[null,"Summary","Emission Factor"]
[null,null,"kg/kwh"]
[null,"CO2",{"$f":"M23","v":{"v":0.575880041218408,"d":"0.58"}}]
[null,"NOx",{"$f":"SUM(F38:F41)/($D$33)","v":{"v":1.6227565789473683E-3,"d":"0.001623"}}]
[null,"PM10",{"$f":"SUM(H46:H49)/($D$33)","v":{"v":4.942046102975792E-5,"d":"0.000049"}}]
[]
[]
[null,"CO2"]
[null,"Item",null,"Electricity Generation","Heat Rate","Fuel Consumption Impact",null,"Carbon Emission Factor","Unadjusted Annual Carbon Emission Impact","% Efficiency of Oxidation","Actual Carbon Emission Impact","Annual Carbon Dioxide Emission Impact","CO2 Emission Factor"]
[null,null,"Unit","MWh/yr","BTU/kwh","BTU/yr","TJ/yr","tC/TJ","tC/yr","%","tC/yr"," tCO2/yr","tCO2/MWh"]
[null,"Oil-based","Diesel",{"v":2000,"d":"2,000.00"},{"v":8900,"d":"8,900"},{"$f":"D18*1000*E18","v":{"v":17800000000,"d":"17,800,000,000"}},{"$f":"F18*1055.559/10^12","v":{"v":18.7889502,"d":"19"}},{"v":20.2,"d":"20"},{"$f":"G18*H18","v":{"v":379.53679403999996,"d":"380"}},{"v":0.99,"d":"99%"},{"$f":"I18*(J18)","v":{"v":375.74142609959995,"d":"376"}},{"$f":"K18*(44/12)","v":{"v":1377.7185623651997,"d":"1,378"}},{"$f":"L18/(D18)","v":{"v":0.6888592811825999,"d":"0.69"}}]
[null,null,"Oil Thermal",{"v":3000,"d":"3,000.00"},{"v":8600,"d":"8,600"},{"$f":"D19*1000*E19","v":{"v":25800000000,"d":"25,800,000,000"}},{"v":27.2334222,"d":"27"},{"v":21.1,"d":"21"},{"v":574.62520842,"d":"575"},{"v":0.99,"d":"99%"},{"$f":"I19*(J19)","v":{"v":568.8789563358,"d":"569"}},{"v":2085.8895065645997,"d":"2,086"},{"$f":"L19/(D19)","v":{"v":0.6952965021881999,"d":"0.70"}}]
[null,"Coal",null,{"v":4000,"d":"4,000.00"},{"v":8900,"d":"8,900"},{"$f":"D20*1000*E20","v":{"v":35600000000,"d":"35,600,000,000"}},{"v":37.5779004,"d":"38"},{"v":26.8,"d":"27"},{"v":1007.08773072,"d":"1,007"},{"v":0.98,"d":"98%"},{"v":986.9459761055999,"d":"987"},{"v":3618.8019123871995,"d":"3,619"},{"$f":"L20/(D20)","v":{"v":0.9047004780967999,"d":"0.90"}}]
[null,"Natural Gas",null,{"v":10000,"d":"10,000.00"},{"v":6550,"d":"6,550"},{"$f":"D21*1000*E21","v":{"v":65500000000,"d":"65,500,000,000"}},{"v":69.1391145,"d":"69"},{"v":15.3,"d":"15"},{"v":1057.8284518500002,"d":"1,058"},{"v":0.995,"d":"100%"},{"v":1052.5393095907502,"d":"1,053"},{"v":3859.3108018327507,"d":"3,859"},{"$f":"L21/(D21)","v":{"v":0.38593108018327504,"d":"0.39"}}]
[null,"OTHER (renewables)"]
[null,"Total ",null,{"$f":"SUM(D18:D22)","v":{"v":19000,"d":"19,000"}},{"$nulls":7},{"$f":"SUM(L18:L21)","v":{"v":10941.72078314975,"d":"10,942"}},{"$f":"L23/(D23)","v":{"v":0.575880041218408,"d":"0.58"}}]
[]
[]
[null,"Unit",null,"Electricity Generation","Heat Rate","Energy Generated"]
[{"$nulls":3},"MWh","BTU/kwh","BTU","TJ"]
[null,"Oil-based","Diesel",{"$f":"D18","v":{"v":2000,"d":"2,000"}},{"$f":"E18","v":{"v":8900,"d":"8,900"}},{"$f":"D28*1000*E28","v":{"v":17800000000,"d":"17,800,000,000"}},{"$f":"F28*1055/10^12","v":{"v":18.779,"d":"19"}}]
[null,null,"Oil Thermal",{"$f":"D19","v":{"v":3000,"d":"3,000"}},{"$f":"E19","v":{"v":8600,"d":"8,600"}},{"$f":"D29*1000*E29","v":{"v":25800000000,"d":"25,800,000,000"}},{"v":27.219,"d":"27"}]
[null,"Coal",null,{"$f":"D20","v":{"v":4000,"d":"4,000"}},{"v":8900,"d":"8,900"},{"v":35600000000,"d":"35,600,000,000"},{"v":37.558,"d":"38"}]
[null,"Natural Gas",null,{"$f":"D21","v":{"v":10000,"d":"10,000"}},{"v":6550,"d":"6,550"},{"v":65500000000,"d":"65,500,000,000"},{"v":69.1025,"d":"69"}]
[null,"OTHER",null,{"$f":"D22","v":0},null,0]
[null,"Total ",null,{"$f":"SUM(D28:D32)","v":{"v":19000,"d":"19,000"}},null,0]
[{"$nulls":3}," "]
[null,"NOx"]
[null,"Unit",null,"Fuel Consumption","EF","Total Emissions"]
[{"$nulls":3},"TJ","kg/TJ","tons NOx"]
[null,"Oil-based","Diesel",{"$f":"G28","v":{"v":18.779,"d":"18.78"}},{"v":200,"d":"200.00"},{"$f":"(D38*E38)/1000","v":{"v":3.7558000000000002,"d":"3.76"}}]
[null,null,"Oil Thermal",{"$f":"G29","v":{"v":27.219,"d":"27.22"}},{"v":200,"d":"200.00"},{"$f":"(D39*E39)/1000","v":{"v":5.4438,"d":"5.44"}}]
[null,"Coal",null,{"$f":"G30","v":{"v":37.558,"d":"37.56"}},{"v":300,"d":"300.00"},{"$f":"(D40*E40)/1000","v":{"v":11.2674,"d":"11.27"}}]
[null,"Natural Gas",null,{"$f":"G31","v":{"v":69.1025,"d":"69.10"}},{"v":150,"d":"150.00"},{"$f":"(D41*E41)/1000","v":{"v":10.365375000000002,"d":"10.37"}}]
[]
[null,"PM10"]
[null,"Unit",null,"Fuel Consumption","Calorific Value",null,"PM10","Total Emissions"]
[{"$nulls":3},"TJ","TJ/kt","tons of fuel","kg/ton fuel","ton"]
[null,"Oil-based","Diesel",{"$f":"G28","v":{"v":18.779,"d":"18.78"}},{"v":43,"d":"43.00"},{"$f":"D46/E46*1000","v":{"v":436.72093023255815,"d":"436.72"}},{"v":0.333,"d":"0.33"},{"$f":"F46*G46/1000","v":{"v":0.14542806976744188,"d":"0.15"}}]
[null,null,"Oil Thermal",{"$f":"G29","v":{"v":27.219,"d":"27.22"}},{"v":43,"d":"43.00"},{"$f":"D47/E47*1000","v":{"v":633,"d":"633.00"}},{"v":0.9,"d":"0.90"},{"$f":"F47*G47/1000","v":{"v":0.5697000000000001,"d":"0.57"}}]
[null,"Coal",null,{"$f":"G30","v":{"v":37.558,"d":"37.56"}},{"v":25.8,"d":"25.80"},{"$f":"D48/E48*1000","v":{"v":1455.736434108527,"d":"1,455.74"}},{"$f":"1.23*1.85/100","v":{"v":0.022755,"d":"0.02"}},{"$f":"F48*G48/1000","v":{"v":0.033125282558139534,"d":"0.03"}}]
[null,"Natural Gas",null,{"$f":"G31","v":{"v":69.1025,"d":"69.10"}},{"v":44.2,"d":"44.20"},{"$f":"D49/E49*1000","v":{"v":1563.4049773755655,"d":"1,563.40"}},{"v":0.122,"d":"0.12"},{"$f":"F49*G49/1000","v":{"v":0.190735407239819,"d":"0.19"}}]
[]
[null,null,"Notes:"]
[null,null,"1. It is assumed that there are no emissions control technologies that are being used in the power plant because of the difficulty in gathering such data for the period of this project"]
{"$rows_empty":20}
[null,"Grid EF",{"$f":"Full!F12","v":0},{"$f":"Full!F13","v":9},{"$f":"Full!F14","v":19}]
[null,null,"kg/kwh","kg/kwh","kg/kwh"]
[null,"CO2",0.5,0.5,0.5]
[null,"NOx",{"v":1.6227565789473683E-3,"d":"0.001623"},{"v":1.6227565789473683E-3,"d":"0.001623"},{"v":1.6227565789473683E-3,"d":"0.001623"}]
[null,"PM10",{"v":4.942046102975792E-5,"d":"0.000049"},{"v":4.942046102975792E-5,"d":"0.000049"},{"v":4.942046102975792E-5,"d":"0.000049"}]
[]
[null,null,"Copy the applicable values from the table below to the emission factor input sheets"]
[null,null,{"$f":"C73","v":0},null,null,{"$f":"D73","v":9},null,null,{"$f":"E73","v":19}]
[null,null,"CO2","PM","Nox","CO2","PM","Nox","CO2","PM","Nox"]
[null,null,"kg/kwh","g/vkm","g/vkm","kg/kwh","g/vkm","g/vkm","kg/kwh","g/vkm","g/vkm"]
[null,{"$f":"'IF Factors'!D195","v":"Car"},{"$f":"$C$75","v":0.5},{"$f":"IF(ISERROR($C$77/'IF Factors'!I195),\"error!\",C$77/'IF Factors'!I195*1000)","v":"error!"},{"$f":"IF(ISERROR($C$76/'IF Factors'!I195),\"error!\",C$76/'IF Factors'!I195*1000)","v":"error!"},{"$f":"$D$75","v":0.5},{"$f":"IF(ISERROR($D$77/'IF Factors'!P195),\"error!\",D$77/'IF Factors'!P195*1000)","v":"error!"},{"$f":"IF(ISERROR($D$76/'IF Factors'!P195),\"error!\",D$76/'IF Factors'!P195*1000)","v":"error!"},{"$f":"$E$75","v":0.5},{"$f":"IF(ISERROR($E$77/'IF Factors'!W195),\"error!\",E$77/'IF Factors'!W195*1000)","v":"error!"},{"$f":"IF(ISERROR($E$76/'IF Factors'!W195),\"error!\",E$76/'IF Factors'!W195*1000)","v":"error!"}]
[null,{"$f":"'IF Factors'!D196","v":"2-wheeler"},{"$f":"$C$75","v":0.5},{"$f":"IF(ISERROR($C$77/'IF Factors'!I196),\"error!\",C$77/'IF Factors'!I196*1000)","v":"error!"},{"$f":"IF(ISERROR($C$76/'IF Factors'!I196),\"error!\",C$76/'IF Factors'!I196*1000)","v":"error!"},{"$f":"$D$75","v":0.5},{"$f":"IF(ISERROR($D$77/'IF Factors'!P196),\"error!\",D$77/'IF Factors'!P196*1000)","v":"error!"},{"$f":"IF(ISERROR($D$76/'IF Factors'!P196),\"error!\",D$76/'IF Factors'!P196*1000)","v":"error!"},{"$f":"$E$75","v":0.5},{"$f":"IF(ISERROR($E$77/'IF Factors'!W196),\"error!\",E$77/'IF Factors'!W196*1000)","v":"error!"},{"$f":"IF(ISERROR($E$76/'IF Factors'!W196),\"error!\",E$76/'IF Factors'!W196*1000)","v":"error!"}]
[null,{"$f":"'IF Factors'!D197","v":"Taxi"},0.5,{"$f":"IF(ISERROR($C$77/'IF Factors'!I197),\"error!\",C$77/'IF Factors'!I197*1000)","v":"error!"},{"$f":"IF(ISERROR($C$76/'IF Factors'!I197),\"error!\",C$76/'IF Factors'!I197*1000)","v":"error!"},0.5,{"$f":"IF(ISERROR($D$77/'IF Factors'!P197),\"error!\",D$77/'IF Factors'!P197*1000)","v":"error!"},{"$f":"IF(ISERROR($D$76/'IF Factors'!P197),\"error!\",D$76/'IF Factors'!P197*1000)","v":"error!"},0.5,{"$f":"IF(ISERROR($E$77/'IF Factors'!W197),\"error!\",E$77/'IF Factors'!W197*1000)","v":"error!"},{"$f":"IF(ISERROR($E$76/'IF Factors'!W197),\"error!\",E$76/'IF Factors'!W197*1000)","v":"error!"}]
[null,{"$f":"'IF Factors'!D198","v":""},0.5,{"$f":"IF(ISERROR($C$77/'IF Factors'!I198),\"error!\",C$77/'IF Factors'!I198*1000)","v":"error!"},{"$f":"IF(ISERROR($C$76/'IF Factors'!I198),\"error!\",C$76/'IF Factors'!I198*1000)","v":"error!"},0.5,{"$f":"IF(ISERROR($D$77/'IF Factors'!P198),\"error!\",D$77/'IF Factors'!P198*1000)","v":"error!"},{"$f":"IF(ISERROR($D$76/'IF Factors'!P198),\"error!\",D$76/'IF Factors'!P198*1000)","v":"error!"},0.5,{"$f":"IF(ISERROR($E$77/'IF Factors'!W198),\"error!\",E$77/'IF Factors'!W198*1000)","v":"error!"},{"$f":"IF(ISERROR($E$76/'IF Factors'!W198),\"error!\",E$76/'IF Factors'!W198*1000)","v":"error!"}]
[null,{"$f":"'IF Factors'!D199","v":""},0.5,{"$f":"IF(ISERROR($C$77/'IF Factors'!I199),\"error!\",C$77/'IF Factors'!I199*1000)","v":"error!"},{"$f":"IF(ISERROR($C$76/'IF Factors'!I199),\"error!\",C$76/'IF Factors'!I199*1000)","v":"error!"},0.5,{"$f":"IF(ISERROR($D$77/'IF Factors'!P199),\"error!\",D$77/'IF Factors'!P199*1000)","v":"error!"},{"$f":"IF(ISERROR($D$76/'IF Factors'!P199),\"error!\",D$76/'IF Factors'!P199*1000)","v":"error!"},0.5,{"$f":"IF(ISERROR($E$77/'IF Factors'!W199),\"error!\",E$77/'IF Factors'!W199*1000)","v":"error!"},{"$f":"IF(ISERROR($E$76/'IF Factors'!W199),\"error!\",E$76/'IF Factors'!W199*1000)","v":"error!"}]
[null,{"$f":"'IF Factors'!D200","v":"3-wheeler"},0.5,{"$f":"IF(ISERROR($C$77/'IF Factors'!I200),\"error!\",C$77/'IF Factors'!I200*1000)","v":"error!"},{"$f":"IF(ISERROR($C$76/'IF Factors'!I200),\"error!\",C$76/'IF Factors'!I200*1000)","v":"error!"},0.5,{"$f":"IF(ISERROR($D$77/'IF Factors'!P200),\"error!\",D$77/'IF Factors'!P200*1000)","v":"error!"},{"$f":"IF(ISERROR($D$76/'IF Factors'!P200),\"error!\",D$76/'IF Factors'!P200*1000)","v":"error!"},0.5,{"$f":"IF(ISERROR($E$77/'IF Factors'!W200),\"error!\",E$77/'IF Factors'!W200*1000)","v":"error!"},{"$f":"IF(ISERROR($E$76/'IF Factors'!W200),\"error!\",E$76/'IF Factors'!W200*1000)","v":"error!"}]
[null,{"$f":"'IF Factors'!D201","v":"Bus"},0.5,{"$f":"IF(ISERROR($C$77/'IF Factors'!I201),\"error!\",C$77/'IF Factors'!I201*1000)","v":"error!"},{"$f":"IF(ISERROR($C$76/'IF Factors'!I201),\"error!\",C$76/'IF Factors'!I201*1000)","v":"error!"},0.5,{"$f":"IF(ISERROR($D$77/'IF Factors'!P201),\"error!\",D$77/'IF Factors'!P201*1000)","v":"error!"},{"$f":"IF(ISERROR($D$76/'IF Factors'!P201),\"error!\",D$76/'IF Factors'!P201*1000)","v":"error!"},0.5,{"$f":"IF(ISERROR($E$77/'IF Factors'!W201),\"error!\",E$77/'IF Factors'!W201*1000)","v":"error!"},{"$f":"IF(ISERROR($E$76/'IF Factors'!W201),\"error!\",E$76/'IF Factors'!W201*1000)","v":"error!"}]
[null,{"$f":"'IF Factors'!D202","v":"Mini-bus"},0.5,{"$f":"IF(ISERROR($C$77/'IF Factors'!I202),\"error!\",C$77/'IF Factors'!I202*1000)","v":"error!"},{"$f":"IF(ISERROR($C$76/'IF Factors'!I202),\"error!\",C$76/'IF Factors'!I202*1000)","v":"error!"},0.5,{"$f":"IF(ISERROR($D$77/'IF Factors'!P202),\"error!\",D$77/'IF Factors'!P202*1000)","v":"error!"},{"$f":"IF(ISERROR($D$76/'IF Factors'!P202),\"error!\",D$76/'IF Factors'!P202*1000)","v":"error!"},0.5,{"$f":"IF(ISERROR($E$77/'IF Factors'!W202),\"error!\",E$77/'IF Factors'!W202*1000)","v":"error!"},{"$f":"IF(ISERROR($E$76/'IF Factors'!W202),\"error!\",E$76/'IF Factors'!W202*1000)","v":"error!"}]
[null,{"$f":"'IF Factors'!D203","v":""},0.5,{"$f":"IF(ISERROR($C$77/'IF Factors'!I203),\"error!\",C$77/'IF Factors'!I203*1000)","v":"error!"},{"$f":"IF(ISERROR($C$76/'IF Factors'!I203),\"error!\",C$76/'IF Factors'!I203*1000)","v":"error!"},0.5,{"$f":"IF(ISERROR($D$77/'IF Factors'!P203),\"error!\",D$77/'IF Factors'!P203*1000)","v":"error!"},{"$f":"IF(ISERROR($D$76/'IF Factors'!P203),\"error!\",D$76/'IF Factors'!P203*1000)","v":"error!"},0.5,{"$f":"IF(ISERROR($E$77/'IF Factors'!W203),\"error!\",E$77/'IF Factors'!W203*1000)","v":"error!"},{"$f":"IF(ISERROR($E$76/'IF Factors'!W203),\"error!\",E$76/'IF Factors'!W203*1000)","v":"error!"}]
[null,{"$f":"'IF Factors'!D204","v":""},0.5,{"$f":"IF(ISERROR($C$77/'IF Factors'!I204),\"error!\",C$77/'IF Factors'!I204*1000)","v":"error!"},{"$f":"IF(ISERROR($C$76/'IF Factors'!I204),\"error!\",C$76/'IF Factors'!I204*1000)","v":"error!"},0.5,{"$f":"IF(ISERROR($D$77/'IF Factors'!P204),\"error!\",D$77/'IF Factors'!P204*1000)","v":"error!"},{"$f":"IF(ISERROR($D$76/'IF Factors'!P204),\"error!\",D$76/'IF Factors'!P204*1000)","v":"error!"},0.5,{"$f":"IF(ISERROR($E$77/'IF Factors'!W204),\"error!\",E$77/'IF Factors'!W204*1000)","v":"error!"},{"$f":"IF(ISERROR($E$76/'IF Factors'!W204),\"error!\",E$76/'IF Factors'!W204*1000)","v":"error!"}]
[null,{"$f":"'IF Factors'!C205","v":"BRT"},0.5,{"$f":"IF(ISERROR($C$77/'IF Factors'!I205),\"error!\",C$77/'IF Factors'!I205*1000)","v":"error!"},{"$f":"IF(ISERROR($C$76/'IF Factors'!I205),\"error!\",C$76/'IF Factors'!I205*1000)","v":"error!"},0.5,{"$f":"IF(ISERROR($D$77/'IF Factors'!P205),\"error!\",D$77/'IF Factors'!P205*1000)","v":"error!"},{"$f":"IF(ISERROR($D$76/'IF Factors'!P205),\"error!\",D$76/'IF Factors'!P205*1000)","v":"error!"},0.5,{"$f":"IF(ISERROR($E$77/'IF Factors'!W205),\"error!\",E$77/'IF Factors'!W205*1000)","v":"error!"},{"$f":"IF(ISERROR($E$76/'IF Factors'!W205),\"error!\",E$76/'IF Factors'!W205*1000)","v":"error!"}]
[]
[null,"*If \"error!\" appears, please check the km/kwh values"]
[]
[null,"Click the boxes on the right to go to the \nemission factor sheets"]

{"sheet":"Calculations","index":6,"n_rows":2169,"n_cols":29,"rows_kept":2169,"merged":[[7,5,16,5],[23,5,32,5],[40,5,49,5],[56,5,65,5],[73,5,82,5],[89,5,98,5],[106,5,115,5],[122,5,131,5],[139,5,148,5],[155,5,164,5],[172,5,181,5],[188,5,197,5],[202,5,211,5],[219,5,228,5],[235,5,244,5],[249,5,258,5],[266,5,275,5],[282,5,291,5],[296,5,305,5],[313,5,322,5],[329,5,338,5],[343,5,352,5],[360,5,369,5],[376,5,385,5],[390,5,399,5],[407,5,416,5],[423,5,432,5],[437,5,446,5],[454,5,463,5],[470,5,479,5],[487,5,496,5],[503,5,512,5],[520,5,529,5],[536,5,545,5],[553,5,562,5],[569,5,578,5],[586,5,595,5],[602,5,611,5],[619,5,628,5],[635,5,644,5],[652,5,661,5],[668,5,677,5],[786,5,795,5],[830,5,839,5],[845,5,854,5],[860,5,869,5],[875,5,884,5],[890,5,899,5],[905,5,914,5],[922,5,931,5],[938,5,947,5],[952,5,961,5],[969,5,978,5],[985,5,994,5],[999,5,1008,5],[1016,5,1025,5],[1032,5,1041,5],[1046,5,1055,5],[1063,5,1072,5],[1079,5,1088,5],[1093,5,1102,5],[1110,5,1119,5],[1126,5,1135,5],[1140,5,1149,5],[1157,5,1166,5],[1173,5,1182,5],[1187,5,1196,5],[1204,5,1213,5],[1220,5,1229,5],[1234,5,1243,5],[1251,5,1260,5],[1267,5,1276,5],[1281,5,1290,5],[1298,5,1307,5],[1314,5,1323,5],[1328,5,1337,5],[1345,5,1354,5],[1361,5,1370,5],[1375,5,1384,5],[1392,5,1401,5],[1408,5,1417,5],[1422,5,1431,5],[1439,5,1448,5],[1455,5,1464,5],[1469,5,1478,5],[1486,5,1495,5],[1502,5,1511,5],[1533,5,1542,5],[1549,5,1558,5],[1563,5,1572,5],[1580,5,1589,5],[1596,5,1605,5],[1610,5,1619,5],[1627,5,1636,5],[1643,5,1652,5],[1674,5,1683,5],[1690,5,1699,5],[1721,5,1730,5],[1737,5,1746,5],[1751,5,1760,5],[1767,5,1776,5],[1782,5,1791,5],[1797,5,1806,5],[1812,5,1821,5],[1827,5,1836,5],[1842,5,1851,5],[1858,5,1867,5],[1873,5,1882,5],[1888,5,1897,5],[1903,5,1912,5],[1918,5,1927,5],[1933,5,1942,5],[1949,5,1958,5],[1964,5,1973,5],[1979,5,1988,5],[1994,5,2003,5],[2009,5,2018,5],[2024,5,2033,5],[2038,5,2047,5],[2052,5,2061,5],[2066,5,2075,5],[2115,5,2124,5],[2129,5,2138,5],[2143,5,2152,5],[2157,5,2166,5]]}
[]
[]
[]
[]
[]
[{"$nulls":6},"No. of Trips",{"$nulls":3},"No. of trips",{"$nulls":3},"1st",null,"2nd"]
[{"$nulls":10},{"$f":"H23","v":0},{"$f":"Q23","v":9},{"$f":"AA23","v":19},null,"intercept","slope","intercept","slope",null,{"$f":"K7","v":0},{"$f":"L7","v":9},{"$f":"M7","v":19},null,"1st","2nd"]
[{"$nulls":5},"NO BRT",{"$f":"'IF Factors'!D9","v":"Car"},{"$nulls":3},{"$f":"Full!G174","v":{"$error":"#DIV/0!"}},{"$f":"Full!H174","v":{"$error":"#DIV/0!"}},{"$f":"Full!I174","v":{"$error":"#DIV/0!"}},null,{"$f":"INTERCEPT(K8:L8,$K$7:$L$7)","v":{"$error":"#DIV/0!"}},{"$f":"SLOPE(K8:L8,$K$7:$L$7)","v":{"$error":"#DIV/0!"}},{"$f":"INTERCEPT(L8:M8,$L$7:$M$7)","v":{"$error":"#DIV/0!"}},{"$f":"SLOPE(L8:M8,$L$7:$M$7)","v":{"$error":"#DIV/0!"}},null,{"$f":"IF(K8<>0,0,1)","v":{"$error":"#DIV/0!"}},{"$f":"IF(L8<>0,0,1)","v":{"$error":"#DIV/0!"}},{"$f":"IF(M8<>0,0,1)","v":{"$error":"#DIV/0!"}},null,{"$f":"IF(T8+U8=1,1,0)","v":{"$error":"#DIV/0!"}},{"$f":"IF(U8+V8=1,1,0)","v":{"$error":"#DIV/0!"}}]
[{"$nulls":6},{"$f":"'IF Factors'!D10","v":"2-wheeler"},{"$nulls":3},{"$f":"Full!G175","v":{"$error":"#DIV/0!"}},{"$f":"Full!H175","v":{"$error":"#DIV/0!"}},{"$f":"Full!I175","v":{"$error":"#DIV/0!"}},null,{"$f":"INTERCEPT(K9:L9,$K$7:$L$7)","v":{"$error":"#DIV/0!"}},{"$f":"SLOPE(K9:L9,$K$7:$L$7)","v":{"$error":"#DIV/0!"}},{"$f":"INTERCEPT(L9:M9,$L$7:$M$7)","v":{"$error":"#DIV/0!"}},{"$f":"SLOPE(L9:M9,$L$7:$M$7)","v":{"$error":"#DIV/0!"}},null,{"$f":"IF(K9<>0,0,1)","v":{"$error":"#DIV/0!"}},{"$f":"IF(L9<>0,0,1)","v":{"$error":"#DIV/0!"}},{"$f":"IF(M9<>0,0,1)","v":{"$error":"#DIV/0!"}},null,{"$f":"IF(T9+U9=1,1,0)","v":{"$error":"#DIV/0!"}},{"$error":"#DIV/0!"}]
[{"$nulls":6},{"$f":"'IF Factors'!D11","v":"Taxi"},{"$nulls":3},{"$f":"Full!G176","v":{"$error":"#DIV/0!"}},{"$f":"Full!H176","v":{"$error":"#DIV/0!"}},{"$f":"Full!I176","v":{"$error":"#DIV/0!"}},null,{"$error":"#DIV/0!"},{"$error":"#DIV/0!"},{"$error":"#DIV/0!"},{"$error":"#DIV/0!"},null,{"$error":"#DIV/0!"},{"$error":"#DIV/0!"},{"$error":"#DIV/0!"},null,{"$error":"#DIV/0!"},{"$error":"#DIV/0!"}]
[{"$nulls":6},{"$f":"'IF Factors'!D12","v":""},{"$nulls":3},{"$f":"Full!G177","v":{"$error":"#DIV/0!"}},{"$f":"Full!H177","v":{"$error":"#DIV/0!"}},{"$f":"Full!I177","v":{"$error":"#DIV/0!"}},null,{"$error":"#DIV/0!"},{"$error":"#DIV/0!"},{"$error":"#DIV/0!"},{"$error":"#DIV/0!"},null,{"$error":"#DIV/0!"},{"$error":"#DIV/0!"},{"$error":"#DIV/0!"},null,{"$error":"#DIV/0!"},{"$error":"#DIV/0!"}]
[{"$nulls":6},{"$f":"'IF Factors'!D13","v":""},{"$nulls":3},{"$f":"Full!G178","v":{"$error":"#DIV/0!"}},{"$f":"Full!H178","v":{"$error":"#DIV/0!"}},{"$f":"Full!I178","v":{"$error":"#DIV/0!"}},null,{"$error":"#DIV/0!"},{"$error":"#DIV/0!"},{"$error":"#DIV/0!"},{"$error":"#DIV/0!"},null,{"$error":"#DIV/0!"},{"$error":"#DIV/0!"},{"$error":"#DIV/0!"},null,{"$error":"#DIV/0!"},{"$error":"#DIV/0!"}]
[{"$nulls":6},{"$f":"'IF Factors'!D14","v":"3-wheeler"},{"$nulls":3},{"$f":"Full!G179","v":{"$error":"#DIV/0!"}},{"$f":"Full!H179","v":{"$error":"#DIV/0!"}},{"$f":"Full!I179","v":{"$error":"#DIV/0!"}},null,{"$error":"#DIV/0!"},{"$error":"#DIV/0!"},{"$error":"#DIV/0!"},{"$error":"#DIV/0!"},null,{"$error":"#DIV/0!"},{"$error":"#DIV/0!"},{"$error":"#DIV/0!"},null,{"$error":"#DIV/0!"},{"$error":"#DIV/0!"}]
[{"$nulls":6},{"$f":"'IF Factors'!D15","v":"Bus"},{"$nulls":3},{"$f":"Full!G180","v":{"$error":"#DIV/0!"}},{"$f":"Full!H180","v":{"$error":"#DIV/0!"}},{"$f":"Full!I180","v":{"$error":"#DIV/0!"}},null,{"$error":"#DIV/0!"},{"$error":"#DIV/0!"},{"$error":"#DIV/0!"},{"$error":"#DIV/0!"},null,{"$error":"#DIV/0!"},{"$error":"#DIV/0!"},{"$error":"#DIV/0!"},null,{"$error":"#DIV/0!"},{"$error":"#DIV/0!"}]
[{"$nulls":6},{"$f":"'IF Factors'!D16","v":"Mini-bus"},{"$nulls":3},{"$f":"Full!G181","v":{"$error":"#DIV/0!"}},{"$f":"Full!H181","v":{"$error":"#DIV/0!"}},{"$f":"Full!I181","v":{"$error":"#DIV/0!"}},null,{"$error":"#DIV/0!"},{"$error":"#DIV/0!"},{"$error":"#DIV/0!"},{"$error":"#DIV/0!"},null,{"$error":"#DIV/0!"},{"$error":"#DIV/0!"},{"$error":"#DIV/0!"},null,{"$error":"#DIV/0!"},{"$error":"#DIV/0!"}]
[{"$nulls":6},{"$f":"'IF Factors'!D17","v":""},{"$nulls":3},{"$f":"Full!G182","v":{"$error":"#DIV/0!"}},{"$f":"Full!H182","v":{"$error":"#DIV/0!"}},{"$f":"Full!I182","v":{"$error":"#DIV/0!"}},null,{"$error":"#DIV/0!"},{"$error":"#DIV/0!"},{"$error":"#DIV/0!"},{"$error":"#DIV/0!"},null,{"$error":"#DIV/0!"},{"$error":"#DIV/0!"},{"$error":"#DIV/0!"},null,{"$error":"#DIV/0!"},{"$error":"#DIV/0!"}]
[{"$nulls":6},{"$f":"'IF Factors'!D18","v":""},{"$nulls":3},{"$f":"Full!G183","v":{"$error":"#DIV/0!"}},{"$f":"Full!H183","v":{"$error":"#DIV/0!"}},{"$f":"Full!I183","v":{"$error":"#DIV/0!"}},null,{"$error":"#DIV/0!"},{"$error":"#DIV/0!"},{"$error":"#DIV/0!"},{"$error":"#DIV/0!"},null,{"$error":"#DIV/0!"},{"$error":"#DIV/0!"},{"$error":"#DIV/0!"},null,{"$error":"#DIV/0!"},{"$error":"#DIV/0!"}]
[{"$nulls":6},"Total",{"$nulls":3},{"$f":"Full!G184","v":{"$error":"#DIV/0!"}},{"$f":"Full!H184","v":{"$error":"#DIV/0!"}},{"$f":"Full!I184","v":{"$error":"#DIV/0!"}},null,{"$error":"#DIV/0!"},{"$error":"#DIV/0!"},{"$error":"#DIV/0!"},{"$error":"#DIV/0!"},null,{"$error":"#DIV/0!"},{"$error":"#DIV/0!"},{"$error":"#DIV/0!"},null,{"$error":"#DIV/0!"},{"$error":"#DIV/0!"}]
[]
[]
[]
[]
[{"$nulls":7},{"$f":"Full!F12","v":0},{"$f":"H23+1","v":1},2,3,4,5,6,7,8,{"$f":"Full!F13","v":9},{"$f":"Q23+1","v":10},11,12,13,14,15,16,17,18,{"$f":"Full!F14","v":19}]
[{"$nulls":5},"NO BRT",{"$f":"G8","v":"Car"},{"$f":"K8","v":{"$error":"#DIV/0!"}},{"$f":"(I$23*$P8)+$O8","v":{"$error":"#DIV/0!"}},{"$f":"(J$23*$P8)+$O8","v":{"$error":"#DIV/0!"}},{"$error":"#DIV/0!"},{"$error":"#DIV/0!"},{"$error":"#DIV/0!"},{"$error":"#DIV/0!"},{"$error":"#DIV/0!"},{"$error":"#DIV/0!"},{"$f":"L8","v":{"$error":"#DIV/0!"}},{"$f":"(R$23*$R8)+$Q8","v":{"$error":"#DIV/0!"}},{"$f":"(S$23*$R8)+$Q8","v":{"$error":"#DIV/0!"}},{"$error":"#DIV/0!"},{"$error":"#DIV/0!"},{"$error":"#DIV/0!"},{"$error":"#DIV/0!"},{"$error":"#DIV/0!"},{"$error":"#DIV/0!"},{"$error":"#DIV/0!"},{"$f":"M8","v":{"$error":"#DIV/0!"}}]
[{"$nulls":6},"2-wheeler",{"$f":"K9","v":{"$error":"#DIV/0!"}},{"$f":"(I$23*$P9)+$O9","v":{"$error":"#DIV/0!"}},{"$error":"#DIV/0!"},{"$error":"#DIV/0!"},{"$error":"#DIV/0!"},{"$error":"#DIV/0!"},{"$error":"#DIV/0!"},{"$error":"#DIV/0!"},{"$error":"#DIV/0!"},{"$f":"L9","v":{"$error":"#DIV/0!"}},{"$f":"(R$23*$R9)+$Q9","v":{"$error":"#DIV/0!"}},{"$error":"#DIV/0!"},{"$error":"#DIV/0!"},{"$error":"#DIV/0!"},{"$error":"#DIV/0!"},{"$error":"#DIV/0!"},{"$error":"#DIV/0!"},{"$error":"#DIV/0!"},{"$error":"#DIV/0!"},{"$f":"M9","v":{"$error":"#DIV/0!"}}]
[{"$nulls":6},"Taxi",{"$error":"#DIV/0!"},{"$f":"(I$23*$P10)+$O10","v":{"$error":"#DIV/0!"}},{"$error":"#DIV/0!"},{"$error":"#DIV/0!"},{"$error":"#DIV/0!"},{"$error":"#DIV/0!"},{"$error":"#DIV/0!"},{"$error":"#DIV/0!"},{"$error":"#DIV/0!"},{"$error":"#DIV/0!"},{"$f":"(R$23*$R10)+$Q10","v":{"$error":"#DIV/0!"}},{"$error":"#DIV/0!"},{"$error":"#DIV/0!"},{"$error":"#DIV/0!"},{"$error":"#DIV/0!"},{"$error":"#DIV/0!"},{"$error":"#DIV/0!"},{"$error":"#DIV/0!"},{"$error":"#DIV/0!"},{"$error":"#DIV/0!"}]
[{"$nulls":6},"",{"$error":"#DIV/0!"},{"$f":"(I$23*$P11)+$O11","v":{"$error":"#DIV/0!"}},{"$error":"#DIV/0!"},{"$error":"#DIV/0!"},{"$error":"#DIV/0!"},{"$error":"#DIV/0!"},{"$error":"#DIV/0!"},{"$error":"#DIV/0!"},{"$error":"#DIV/0!"},{"$error":"#DIV/0!"},{"$f":"(R$23*$R11)+$Q11","v":{"$error":"#DIV/0!"}},{"$error":"#DIV/0!"},{"$error":"#DIV/0!"},{"$error":"#DIV/0!"},{"$error":"#DIV/0!"},{"$error":"#DIV/0!"},{"$error":"#DIV/0!"},{"$error":"#DIV/0!"},{"$error":"#DIV/0!"},{"$error":"#DIV/0!"}]
[{"$nulls":6},"",{"$error":"#DIV/0!"},{"$f":"(I$23*$P12)+$O12","v":{"$error":"#DIV/0!"}},{"$error":"#DIV/0!"},{"$error":"#DIV/0!"},{"$error":"#DIV/0!"},{"$error":"#DIV/0!"},{"$error":"#DIV/0!"},{"$error":"#DIV/0!"},{"$error":"#DIV/0!"},{"$error":"#DIV/0!"},{"$f":"(R$23*$R12)+$Q12","v":{"$error":"#DIV/0!"}},{"$error":"#DIV/0!"},{"$error":"#DIV/0!"},{"$error":"#DIV/0!"},{"$error":"#DIV/0!"},{"$error":"#DIV/0!"},{"$error":"#DIV/0!"},{"$error":"#DIV/0!"},{"$error":"#DIV/0!"},{"$error":"#DIV/0!"}]
[{"$nulls":6},"3-wheeler",{"$error":"#DIV/0!"},{"$f":"(I$23*$P13)+$O13","v":{"$error":"#DIV/0!"}},{"$error":"#DIV/0!"},{"$error":"#DIV/0!"},{"$error":"#DIV/0!"},{"$error":"#DIV/0!"},{"$error":"#DIV/0!"},{"$error":"#DIV/0!"},{"$error":"#DIV/0!"},{"$error":"#DIV/0!"},{"$f":"(R$23*$R13)+$Q13","v":{"$error":"#DIV/0!"}},{"$error":"#DIV/0!"},{"$error":"#DIV/0!"},{"$error":"#DIV/0!"},{"$error":"#DIV/0!"},{"$error":"#DIV/0!"},{"$error":"#DIV/0!"},{"$error":"#DIV/0!"},{"$error":"#DIV/0!"},{"$error":"#DIV/0!"}]
[{"$nulls":6},"Bus",{"$error":"#DIV/0!"},{"$f":"(I$23*$P14)+$O14","v":{"$error":"#DIV/0!"}},{"$error":"#DIV/0!"},{"$error":"#DIV/0!"},{"$error":"#DIV/0!"},{"$error":"#DIV/0!"},{"$error":"#DIV/0!"},{"$error":"#DIV/0!"},{"$error":"#DIV/0!"},{"$error":"#DIV/0!"},{"$f":"(R$23*$R14)+$Q14","v":{"$error":"#DIV/0!"}},{"$error":"#DIV/0!"},{"$error":"#DIV/0!"},{"$error":"#DIV/0!"},{"$error":"#DIV/0!"},{"$error":"#DIV/0!"},{"$error":"#DIV/0!"},{"$error":"#DIV/0!"},{"$error":"#DIV/0!"},{"$error":"#DIV/0!"}]
[{"$nulls":6},"Mini-bus",{"$error":"#DIV/0!"},{"$f":"(I$23*$P15)+$O15","v":{"$error":"#DIV/0!"}},{"$error":"#DIV/0!"},{"$error":"#DIV/0!"},{"$error":"#DIV/0!"},{"$error":"#DIV/0!"},{"$error":"#DIV/0!"},{"$error":"#DIV/0!"},{"$error":"#DIV/0!"},{"$error":"#DIV/0!"},{"$f":"(R$23*$R15)+$Q15","v":{"$error":"#DIV/0!"}},{"$error":"#DIV/0!"},{"$error":"#DIV/0!"},{"$error":"#DIV/0!"},{"$error":"#DIV/0!"},{"$error":"#DIV/0!"},{"$error":"#DIV/0!"},{"$error":"#DIV/0!"},{"$error":"#DIV/0!"},{"$error":"#DIV/0!"}]
[{"$nulls":6},"",{"$error":"#DIV/0!"},{"$f":"(I$23*$P16)+$O16","v":{"$error":"#DIV/0!"}},{"$error":"#DIV/0!"},{"$error":"#DIV/0!"},{"$error":"#DIV/0!"},{"$error":"#DIV/0!"},{"$error":"#DIV/0!"},{"$error":"#DIV/0!"},{"$error":"#DIV/0!"},{"$error":"#DIV/0!"},{"$f":"(R$23*$R16)+$Q16","v":{"$error":"#DIV/0!"}},{"$error":"#DIV/0!"},{"$error":"#DIV/0!"},{"$error":"#DIV/0!"},{"$error":"#DIV/0!"},{"$error":"#DIV/0!"},{"$error":"#DIV/0!"},{"$error":"#DIV/0!"},{"$error":"#DIV/0!"},{"$error":"#DIV/0!"}]
[{"$nulls":6},"",{"$error":"#DIV/0!"},{"$f":"(I$23*$P17)+$O17","v":{"$error":"#DIV/0!"}},{"$error":"#DIV/0!"},{"$error":"#DIV/0!"},{"$error":"#DIV/0!"},{"$error":"#DIV/0!"},{"$error":"#DIV/0!"},{"$error":"#DIV/0!"},{"$error":"#DIV/0!"},{"$error":"#DIV/0!"},{"$f":"(R$23*$R17)+$Q17","v":{"$error":"#DIV/0!"}},{"$error":"#DIV/0!"},{"$error":"#DIV/0!"},{"$error":"#DIV/0!"},{"$error":"#DIV/0!"},{"$error":"#DIV/0!"},{"$error":"#DIV/0!"},{"$error":"#DIV/0!"},{"$error":"#DIV/0!"},{"$error":"#DIV/0!"}]
[{"$nulls":6},{"$f":"G18","v":"Total"},{"$error":"#DIV/0!"},{"$f":"(I$23*$P18)+$O18","v":{"$error":"#DIV/0!"}},{"$error":"#DIV/0!"},{"$error":"#DIV/0!"},{"$error":"#DIV/0!"},{"$error":"#DIV/0!"},{"$error":"#DIV/0!"},{"$error":"#DIV/0!"},{"$error":"#DIV/0!"},{"$error":"#DIV/0!"},{"$f":"(R$23*$R18)+$Q18","v":{"$error":"#DIV/0!"}},{"$error":"#DIV/0!"},{"$error":"#DIV/0!"},{"$error":"#DIV/0!"},{"$error":"#DIV/0!"},{"$error":"#DIV/0!"},{"$error":"#DIV/0!"},{"$error":"#DIV/0!"},{"$error":"#DIV/0!"},{"$error":"#DIV/0!"}]
[]
[]
[]
[]
[{"$nulls":6},"Average Trip Length",{"$nulls":3},"No. of trips",{"$nulls":3},"1st",null,"2nd"]
[{"$nulls":10},{"$f":"H56","v":0},{"$f":"Q56","v":9},{"$f":"AA56","v":19},null,"intercept","slope","intercept","slope",null,{"$f":"K40","v":0},{"$f":"L40","v":9},{"$f":"M40","v":19},null,"1st","2nd"]
[{"$nulls":5},"NO BRT",{"$f":"G8","v":"Car"},{"$nulls":3},{"$f":"'IF Factors'!K233","v":0},{"$f":"'IF Factors'!L233","v":0},{"$f":"'IF Factors'!M233","v":0},null,{"$f":"INTERCEPT(K41:L41,$K$7:$L$7)","v":0},{"$f":"SLOPE(K41:L41,$K$7:$L$7)","v":0},{"$f":"INTERCEPT(L41:M41,$L$7:$M$7)","v":0},{"$f":"SLOPE(L41:M41,$L$7:$M$7)","v":0},null,{"$f":"IF(K41<>0,0,1)","v":1},{"$f":"IF(L41<>0,0,1)","v":1},{"$f":"IF(M41<>0,0,1)","v":1},null,{"$f":"IF(T41+U41=1,1,0)","v":0},{"$f":"IF(U41+V41=1,1,0)","v":0}]
[{"$nulls":6},"2-wheeler",{"$nulls":3},{"$f":"'IF Factors'!K234","v":0},{"$f":"'IF Factors'!L234","v":0},{"$f":"'IF Factors'!M234","v":0},null,{"$f":"INTERCEPT(K42:L42,$K$7:$L$7)","v":0},{"$f":"SLOPE(K42:L42,$K$7:$L$7)","v":0},{"$f":"INTERCEPT(L42:M42,$L$7:$M$7)","v":0},{"$f":"SLOPE(L42:M42,$L$7:$M$7)","v":0},null,{"$f":"IF(K42<>0,0,1)","v":1},{"$f":"IF(L42<>0,0,1)","v":1},{"$f":"IF(M42<>0,0,1)","v":1},null,{"$f":"IF(T42+U42=1,1,0)","v":0},0]
[{"$nulls":6},"Taxi",{"$nulls":3},{"$f":"'IF Factors'!K235","v":0},{"$f":"'IF Factors'!L235","v":0},{"$f":"'IF Factors'!M235","v":0},null,0,0,0,0,null,1,1,1,null,0,0]
[{"$nulls":6},"",{"$nulls":3},{"$f":"'IF Factors'!K236","v":0},{"$f":"'IF Factors'!L236","v":0},{"$f":"'IF Factors'!M236","v":0},null,0,0,0,0,null,1,1,1,null,0,0]
[{"$nulls":6},"",{"$nulls":3},{"$f":"'IF Factors'!K237","v":0},{"$f":"'IF Factors'!L237","v":0},{"$f":"'IF Factors'!M237","v":0},null,0,0,0,0,null,1,1,1,null,0,0]
[{"$nulls":6},"3-wheeler",{"$nulls":3},{"$f":"'IF Factors'!K238","v":0},{"$f":"'IF Factors'!L238","v":0},{"$f":"'IF Factors'!M238","v":0},null,0,0,0,0,null,1,1,1,null,0,0]
[{"$nulls":6},"Bus",{"$nulls":3},{"$f":"'IF Factors'!K239","v":0},{"$f":"'IF Factors'!L239","v":0},{"$f":"'IF Factors'!M239","v":0},null,0,0,0,0,null,1,1,1,null,0,0]
[{"$nulls":6},"Mini-bus",{"$nulls":3},{"$f":"'IF Factors'!K240","v":0},{"$f":"'IF Factors'!L240","v":0},{"$f":"'IF Factors'!M240","v":0},null,0,0,0,0,null,1,1,1,null,0,0]
[{"$nulls":6},"",{"$nulls":3},{"$f":"'IF Factors'!K241","v":0},{"$f":"'IF Factors'!L241","v":0},{"$f":"'IF Factors'!M241","v":0},null,0,0,0,0,null,1,1,1,null,0,0]
[{"$nulls":6},"",{"$nulls":3},{"$f":"'IF Factors'!K242","v":0},{"$f":"'IF Factors'!L242","v":0},{"$f":"'IF Factors'!M242","v":0},null,0,0,0,0,null,1,1,1,null,0,0]
[{"$nulls":6},"BRT",{"$nulls":3},{"$f":"'IF Factors'!K243","v":0},{"$f":"'IF Factors'!L243","v":0},{"$f":"'IF Factors'!M243","v":0},null,0,0,0,0,null,1,1,1,null,0,0]
[]
[]
[]
[]
[{"$nulls":7},{"$f":"H23","v":0},{"$f":"I23","v":1},2,3,4,5,6,7,8,9,10,11,12,13,14,15,16,17,18,19]
[{"$nulls":5},"NO BRT",{"$f":"'IF Factors'!D233","v":"Cars"},{"$f":"K41","v":0},{"$f":"(I$23*$P41)+$O41","v":0},{"$f":"(J$23*$P41)+$O41","v":0},0,0,0,0,0,0,{"$f":"L41","v":0},{"$f":"(R$23*$R41)+$Q41","v":0},{"$f":"(S$23*$R41)+$Q41","v":0},0,0,0,0,0,0,0,{"$f":"M41","v":0}]
[{"$nulls":6},{"$f":"Full!F187","v":"2-wheeler"},{"$f":"K42","v":0},{"$f":"(I$23*$P42)+$O42","v":0},0,0,0,0,0,0,0,{"$f":"L42","v":0},{"$f":"(R$23*$R42)+$Q42","v":0},0,0,0,0,0,0,0,0,{"$f":"M42","v":0}]
[{"$nulls":6},{"$f":"Full!F188","v":"Taxi"},0,{"$f":"(I$23*$P43)+$O43","v":0},0,0,0,0,0,0,0,0,{"$f":"(R$23*$R43)+$Q43","v":0},0,0,0,0,0,0,0,0,0]
[{"$nulls":6},{"$f":"Full!F189","v":""},0,{"$f":"(I$23*$P44)+$O44","v":0},0,0,0,0,0,0,0,0,{"$f":"(R$23*$R44)+$Q44","v":0},0,0,0,0,0,0,0,0,0]
[{"$nulls":6},{"$f":"Full!F190","v":""},0,{"$f":"(I$23*$P45)+$O45","v":0},0,0,0,0,0,0,0,0,{"$f":"(R$23*$R45)+$Q45","v":0},0,0,0,0,0,0,0,0,0]
[{"$nulls":6},{"$f":"Full!F191","v":"3-wheeler"},0,{"$f":"(I$23*$P46)+$O46","v":0},0,0,0,0,0,0,0,0,{"$f":"(R$23*$R46)+$Q46","v":0},0,0,0,0,0,0,0,0,0]
[{"$nulls":6},{"$f":"Full!F192","v":"Bus"},0,{"$f":"(I$23*$P47)+$O47","v":0},0,0,0,0,0,0,0,0,{"$f":"(R$23*$R47)+$Q47","v":0},0,0,0,0,0,0,0,0,0]
[{"$nulls":6},{"$f":"Full!F193","v":"Mini-bus"},0,{"$f":"(I$23*$P48)+$O48","v":0},0,0,0,0,0,0,0,0,{"$f":"(R$23*$R48)+$Q48","v":0},0,0,0,0,0,0,0,0,0]
[{"$nulls":6},{"$f":"Full!F194","v":""},0,{"$f":"(I$23*$P49)+$O49","v":0},0,0,0,0,0,0,0,0,{"$f":"(R$23*$R49)+$Q49","v":0},0,0,0,0,0,0,0,0,0]
[{"$nulls":6},{"$f":"Full!F195","v":""},0,{"$f":"(I$23*$P50)+$O50","v":0},0,0,0,0,0,0,0,0,{"$f":"(R$23*$R50)+$Q50","v":0},0,0,0,0,0,0,0,0,0]
[{"$nulls":6},"BRT",0,{"$f":"(I$23*$P51)+$O51","v":0},0,0,0,0,0,0,0,0,{"$f":"(R$23*$R51)+$Q51","v":0},0,0,0,0,0,0,0,0,0]
[]
[]
[]
[]
[{"$nulls":6},"Average Occupancy",{"$nulls":7},"1st",null,"2nd"]
[{"$nulls":10},{"$f":"H89","v":0},{"$f":"Q89","v":9},{"$f":"AA89","v":19},null,"intercept","slope","intercept","slope",null,{"$f":"K73","v":0},{"$f":"L73","v":9},{"$f":"M73","v":19},null,"1st","2nd"]
[{"$nulls":5},"NO BRT",{"$f":"G41","v":"Car"},{"$nulls":3},{"$f":"'IF Factors'!H233","v":0},{"$f":"'IF Factors'!I233","v":0},{"$f":"'IF Factors'!J233","v":0},null,{"$f":"INTERCEPT(K74:L74,$K$7:$L$7)","v":0},{"$f":"SLOPE(K74:L74,$K$7:$L$7)","v":0},{"$f":"INTERCEPT(L74:M74,$L$7:$M$7)","v":0},{"$f":"SLOPE(L74:M74,$L$7:$M$7)","v":0},null,{"$f":"IF(K74<>0,0,1)","v":1},{"$f":"IF(L74<>0,0,1)","v":1},{"$f":"IF(M74<>0,0,1)","v":1},null,{"$f":"IF(T74+U74=1,1,0)","v":0},{"$f":"IF(U74+V74=1,1,0)","v":0}]
[{"$nulls":6},{"$f":"G42","v":"2-wheeler"},{"$nulls":3},{"$f":"'IF Factors'!H234","v":0},{"$f":"'IF Factors'!I234","v":0},{"$f":"'IF Factors'!J234","v":0},null,{"$f":"INTERCEPT(K75:L75,$K$7:$L$7)","v":0},{"$f":"SLOPE(K75:L75,$K$7:$L$7)","v":0},{"$f":"INTERCEPT(L75:M75,$L$7:$M$7)","v":0},{"$f":"SLOPE(L75:M75,$L$7:$M$7)","v":0},null,{"$f":"IF(K75<>0,0,1)","v":1},{"$f":"IF(L75<>0,0,1)","v":1},{"$f":"IF(M75<>0,0,1)","v":1},null,{"$f":"IF(T75+U75=1,1,0)","v":0},0]
[{"$nulls":6},"Taxi",{"$nulls":3},{"$f":"'IF Factors'!H235","v":0},{"$f":"'IF Factors'!I235","v":0},{"$f":"'IF Factors'!J235","v":0},null,0,0,0,0,null,1,1,1,null,0,0]
[{"$nulls":6},"",{"$nulls":3},{"$f":"'IF Factors'!H236","v":0},{"$f":"'IF Factors'!I236","v":0},{"$f":"'IF Factors'!J236","v":0},null,0,0,0,0,null,1,1,1,null,0,0]
[{"$nulls":6},"",{"$nulls":3},{"$f":"'IF Factors'!H237","v":0},{"$f":"'IF Factors'!I237","v":0},{"$f":"'IF Factors'!J237","v":0},null,0,0,0,0,null,1,1,1,null,0,0]
[{"$nulls":6},"3-wheeler",{"$nulls":3},{"$f":"'IF Factors'!H238","v":0},{"$f":"'IF Factors'!I238","v":0},{"$f":"'IF Factors'!J238","v":0},null,0,0,0,0,null,1,1,1,null,0,0]
[{"$nulls":6},"Bus",{"$nulls":3},{"$f":"'IF Factors'!H239","v":0},{"$f":"'IF Factors'!I239","v":0},{"$f":"'IF Factors'!J239","v":0},null,0,0,0,0,null,1,1,1,null,0,0]
[{"$nulls":6},"Mini-bus",{"$nulls":3},{"$f":"'IF Factors'!H240","v":0},{"$f":"'IF Factors'!I240","v":0},{"$f":"'IF Factors'!J240","v":0},null,0,0,0,0,null,1,1,1,null,0,0]
[{"$nulls":6},"",{"$nulls":3},{"$f":"'IF Factors'!H241","v":0},{"$f":"'IF Factors'!I241","v":0},{"$f":"'IF Factors'!J241","v":0},null,0,0,0,0,null,1,1,1,null,0,0]
[{"$nulls":6},"",{"$nulls":3},{"$f":"'IF Factors'!H242","v":0},{"$f":"'IF Factors'!I242","v":0},{"$f":"'IF Factors'!J242","v":0},null,0,0,0,0,null,1,1,1,null,0,0]
[{"$nulls":6},"BRT",{"$nulls":3},{"$f":"'IF Factors'!H243","v":0},{"$f":"'IF Factors'!I243","v":0},{"$f":"'IF Factors'!J243","v":0},null,0,0,0,0,null,1,1,1,null,0,0]
[]
[]
[]
[]
[{"$nulls":7},{"$f":"H56","v":0},{"$f":"I56","v":1},2,3,4,5,6,7,8,9,10,11,12,13,14,15,16,17,18,19]
[{"$nulls":5},"NO BRT",{"$f":"G57","v":"Cars"},{"$f":"K74","v":0},{"$f":"(I$23*$P74)+$O74","v":0},{"$f":"(J$23*$P74)+$O74","v":0},0,0,0,0,0,0,{"$f":"L74","v":0},{"$f":"(R$23*$R74)+$Q74","v":0},{"$f":"(S$23*$R74)+$Q74","v":0},0,0,0,0,0,0,0,{"$f":"M74","v":0}]
[{"$nulls":6},{"$f":"G58","v":"2-wheeler"},{"$f":"K75","v":0},{"$f":"(I$23*$P75)+$O75","v":0},0,0,0,0,0,0,0,{"$f":"L75","v":0},{"$f":"(R$23*$R75)+$Q75","v":0},0,0,0,0,0,0,0,0,{"$f":"M75","v":0}]
[{"$nulls":6},"Taxi",0,{"$f":"(I$23*$P76)+$O76","v":0},0,0,0,0,0,0,0,0,{"$f":"(R$23*$R76)+$Q76","v":0},0,0,0,0,0,0,0,0,0]
[{"$nulls":6},"",0,{"$f":"(I$23*$P77)+$O77","v":0},0,0,0,0,0,0,0,0,{"$f":"(R$23*$R77)+$Q77","v":0},0,0,0,0,0,0,0,0,0]
[{"$nulls":6},"",0,{"$f":"(I$23*$P78)+$O78","v":0},0,0,0,0,0,0,0,0,{"$f":"(R$23*$R78)+$Q78","v":0},0,0,0,0,0,0,0,0,0]
[{"$nulls":6},"3-wheeler",0,{"$f":"(I$23*$P79)+$O79","v":0},0,0,0,0,0,0,0,0,{"$f":"(R$23*$R79)+$Q79","v":0},0,0,0,0,0,0,0,0,0]
[{"$nulls":6},"Bus",0,{"$f":"(I$23*$P80)+$O80","v":0},0,0,0,0,0,0,0,0,{"$f":"(R$23*$R80)+$Q80","v":0},0,0,0,0,0,0,0,0,0]
[{"$nulls":6},"Mini-bus",0,{"$f":"(I$23*$P81)+$O81","v":0},0,0,0,0,0,0,0,0,{"$f":"(R$23*$R81)+$Q81","v":0},0,0,0,0,0,0,0,0,0]
[{"$nulls":6},"",0,{"$f":"(I$23*$P82)+$O82","v":0},0,0,0,0,0,0,0,0,{"$f":"(R$23*$R82)+$Q82","v":0},0,0,0,0,0,0,0,0,0]
[{"$nulls":6},"",0,{"$f":"(I$23*$P83)+$O83","v":0},0,0,0,0,0,0,0,0,{"$f":"(R$23*$R83)+$Q83","v":0},0,0,0,0,0,0,0,0,0]
[{"$nulls":6},"BRT",0,{"$f":"(I$23*$P84)+$O84","v":0},0,0,0,0,0,0,0,0,{"$f":"(R$23*$R84)+$Q84","v":0},0,0,0,0,0,0,0,0,0]
[]
[]
[]
[]
[{"$nulls":6},"VKT/Day"]
[]
[{"$nulls":5},"NO BRT",{"$f":"G74","v":"Car"}]
[{"$nulls":6},{"$f":"G75","v":"2-wheeler"}]
[{"$nulls":6},"Taxi"]
[{"$nulls":6},""]
[{"$nulls":6},""]
[{"$nulls":6},"3-wheeler"]
[{"$nulls":6},"Bus"]
[{"$nulls":6},"Mini-bus"]
[{"$nulls":6},""]
[{"$nulls":6},""]
[{"$nulls":6},"BRT"]
[]
[]
[]
[]
[{"$nulls":7},{"$f":"H89","v":0},{"$f":"I89","v":1},2,3,4,5,6,7,8,9,10,11,12,13,14,15,16,17,18,19]
[{"$nulls":5},"NO BRT",{"$f":"G90","v":"Cars"},{"$f":"IF(ISERROR(H24*H57/H90),0,(H24*H57/H90))","v":0},{"$f":"IF(ISERROR(I24*I57/I90),0,(I24*I57/I90))","v":0},0,0,0,0,0,0,0,0,0,0,0,0,0,0,0,0,0,0]
[{"$nulls":6},{"$f":"G91","v":"2-wheeler"},{"$f":"IF(ISERROR(H25*H58/H91),0,(H25*H58/H91))","v":0},0,0,0,0,0,0,0,0,0,0,0,0,0,0,0,0,0,0,0]
[{"$nulls":6},"Taxi",{"$f":"IF(ISERROR(H26*H59/H92),0,(H26*H59/H92))","v":0},0,0,0,0,0,0,0,0,0,0,0,0,0,0,0,0,0,0,0]
[{"$nulls":6},"",{"$f":"IF(ISERROR(H27*H60/H93),0,(H27*H60/H93))","v":0},0,0,0,0,0,0,0,0,0,0,0,0,0,0,0,0,0,0,0]
[{"$nulls":6},"",{"$f":"IF(ISERROR(H28*H61/H94),0,(H28*H61/H94))","v":0},0,0,0,0,0,0,0,0,0,0,0,0,0,0,0,0,0,0,0]
[{"$nulls":6},"3-wheeler",{"$f":"IF(ISERROR(H29*H62/H95),0,(H29*H62/H95))","v":0},0,0,0,0,0,0,0,0,0,0,0,0,0,0,0,0,0,0,0]
[{"$nulls":6},"Bus",{"$f":"IF(ISERROR(H30*H63/H96),0,(H30*H63/H96))","v":0},0,0,0,0,0,0,0,0,0,0,0,0,0,0,0,0,0,0,0]
[{"$nulls":6},"Mini-bus",{"$f":"IF(ISERROR(H31*H64/H97),0,(H31*H64/H97))","v":0},0,0,0,0,0,0,0,0,0,0,0,0,0,0,0,0,0,0,0]
[{"$nulls":6},"",{"$f":"IF(ISERROR(H32*H65/H98),0,(H32*H65/H98))","v":0},0,0,0,0,0,0,0,0,0,0,0,0,0,0,0,0,0,0,0]
[{"$nulls":6},"",{"$f":"IF(ISERROR(H33*H66/H99),0,(H33*H66/H99))","v":0},0,0,0,0,0,0,0,0,0,0,0,0,0,0,0,0,0,0,0]
[{"$nulls":6},"BRT",{"$f":"IF(ISERROR(H34*H67/H100),0,(H34*H67/H100))","v":0},{"$f":"IF(ISERROR(I34*I67/I100),0,(I34*I67/I100))","v":0},0,0,0,0,0,0,0,0,0,0,0,0,0,0,0,0,0,0]
[]
[]
[]
[]
[{"$nulls":6},"PKT/Day"]
[]
[{"$nulls":5},"NO BRT",{"$f":"G107","v":"Car"}]
[{"$nulls":6},{"$f":"G108","v":"2-wheeler"}]
[{"$nulls":6},"Taxi"]
[{"$nulls":6},""]
[{"$nulls":6},""]
[{"$nulls":6},"3-wheeler"]
[{"$nulls":6},"Bus"]
[{"$nulls":6},"Mini-bus"]
[{"$nulls":6},""]
[{"$nulls":6},""]
[{"$nulls":6},"BRT"]
[]
[]
[]
[]
[{"$nulls":7},{"$f":"H122","v":0},{"$f":"I122","v":1},2,3,4,5,6,7,8,9,10,11,12,13,14,15,16,17,18,19]
[{"$nulls":5},"NO BRT",{"$f":"G123","v":"Cars"},{"$f":"H123*H90","v":0},{"$f":"I123*I90","v":0},0,0,0,0,0,0,0,0,0,0,0,0,0,0,0,0,0,0]
[{"$nulls":6},{"$f":"G124","v":"2-wheeler"},{"$f":"H124*H91","v":0},0,0,0,0,0,0,0,0,0,0,0,0,0,0,0,0,0,0,0]
[{"$nulls":6},"Taxi",0,0,0,0,0,0,0,0,0,0,0,0,0,0,0,0,0,0,0,0]
[{"$nulls":6},"",0,0,0,0,0,0,0,0,0,0,0,0,0,0,0,0,0,0,0,0]
[{"$nulls":6},"",0,0,0,0,0,0,0,0,0,0,0,0,0,0,0,0,0,0,0,0]
[{"$nulls":6},"3-wheeler",0,0,0,0,0,0,0,0,0,0,0,0,0,0,0,0,0,0,0,0]
[{"$nulls":6},"Bus",0,0,0,0,0,0,0,0,0,0,0,0,0,0,0,0,0,0,0,0]
[{"$nulls":6},"Mini-bus",0,0,0,0,0,0,0,0,0,0,0,0,0,0,0,0,0,0,0,0]
[{"$nulls":6},"",0,0,0,0,0,0,0,0,0,0,0,0,0,0,0,0,0,0,0,0]
[{"$nulls":6},"",0,0,0,0,0,0,0,0,0,0,0,0,0,0,0,0,0,0,0,0]
[{"$nulls":6},"BRT",{"$f":"H133*H100","v":0},0,0,0,0,0,0,0,0,0,0,0,0,0,0,0,0,0,0,0]
[]
[]
[{"$nulls":6},"Gasoline VKT"]
[{"$nulls":10},"Fuel Split"]
[{"$nulls":10},"Column",7,14,null,"1st",null,"2nd"]
[{"$nulls":10},{"$f":"H188","v":0},{"$f":"Q188","v":9},{"$f":"AA188","v":19},null,"intercept","slope","intercept","slope",null,{"$f":"K172","v":0},{"$f":"L172","v":9},{"$f":"M172","v":19},null,"1st","2nd"]
[{"$nulls":5},"NO BRT",{"$f":"G140","v":"Car"},{"$nulls":3},{"$f":"'IF Factors'!E9","v":{"v":0,"d":"0%"}},{"$f":"OFFSET('IF Factors'!E9,0,$L$171)","v":{"v":0,"d":"0%"}},{"$f":"OFFSET('IF Factors'!E9,0,$M$171)","v":{"v":0,"d":"0%"}},null,{"$f":"INTERCEPT(K173:L173,$K$7:$L$7)","v":0},{"$f":"SLOPE(K173:L173,$K$7:$L$7)","v":0},{"$f":"INTERCEPT(L173:M173,$L$7:$M$7)","v":0},{"$f":"SLOPE(L173:M173,$L$7:$M$7)","v":0},null,{"$f":"IF(K173<>0,0,1)","v":1},{"$f":"IF(L173<>0,0,1)","v":1},{"$f":"IF(M173<>0,0,1)","v":1},null,{"$f":"IF(T173+U173=1,1,0)","v":0},{"$f":"IF(U173+V173=1,1,0)","v":0}]
[{"$nulls":6},{"$f":"G141","v":"2-wheeler"},{"$nulls":3},{"$f":"'IF Factors'!E10","v":{"v":0,"d":"0%"}},{"$f":"OFFSET('IF Factors'!E10,0,$L$171)","v":{"v":0,"d":"0%"}},{"$f":"OFFSET('IF Factors'!E10,0,$M$171)","v":{"v":0,"d":"0%"}},null,{"$f":"INTERCEPT(K174:L174,$K$7:$L$7)","v":0},{"$f":"SLOPE(K174:L174,$K$7:$L$7)","v":0},{"$f":"INTERCEPT(L174:M174,$L$7:$M$7)","v":0},{"$f":"SLOPE(L174:M174,$L$7:$M$7)","v":0},null,{"$f":"IF(K174<>0,0,1)","v":1},{"$f":"IF(L174<>0,0,1)","v":1},{"$f":"IF(M174<>0,0,1)","v":1},null,{"$f":"IF(T174+U174=1,1,0)","v":0},0]
[{"$nulls":6},"Taxi",{"$nulls":3},{"$f":"'IF Factors'!E11","v":{"v":0,"d":"0%"}},{"$f":"OFFSET('IF Factors'!E11,0,$L$171)","v":{"v":0,"d":"0%"}},{"$f":"OFFSET('IF Factors'!E11,0,$M$171)","v":{"v":0,"d":"0%"}},null,0,0,0,0,null,1,1,1,null,0,0]
[{"$nulls":6},"",{"$nulls":3},{"$f":"'IF Factors'!E12","v":{"v":0,"d":"0%"}},{"$f":"OFFSET('IF Factors'!E12,0,$L$171)","v":{"v":0,"d":"0%"}},{"$f":"OFFSET('IF Factors'!E12,0,$M$171)","v":{"v":0,"d":"0%"}},null,0,0,0,0,null,1,1,1,null,0,0]
[{"$nulls":6},"",{"$nulls":3},{"$f":"'IF Factors'!E13","v":{"v":0,"d":"0%"}},{"$f":"OFFSET('IF Factors'!E13,0,$L$171)","v":{"v":0,"d":"0%"}},{"$f":"OFFSET('IF Factors'!E13,0,$M$171)","v":{"v":0,"d":"0%"}},null,0,0,0,0,null,1,1,1,null,0,0]
[{"$nulls":6},"3-wheeler",{"$nulls":3},{"$f":"'IF Factors'!E14","v":{"v":0,"d":"0%"}},{"$f":"OFFSET('IF Factors'!E14,0,$L$171)","v":{"v":0,"d":"0%"}},{"$f":"OFFSET('IF Factors'!E14,0,$M$171)","v":{"v":0,"d":"0%"}},null,0,0,0,0,null,1,1,1,null,0,0]
[{"$nulls":6},"Bus",{"$nulls":3},{"$f":"'IF Factors'!E15","v":{"v":0,"d":"0%"}},{"$f":"OFFSET('IF Factors'!E15,0,$L$171)","v":{"v":0,"d":"0%"}},{"$f":"OFFSET('IF Factors'!E15,0,$M$171)","v":{"v":0,"d":"0%"}},null,0,0,0,0,null,1,1,1,null,0,0]
[{"$nulls":6},"Mini-bus",{"$nulls":3},{"$f":"'IF Factors'!E16","v":{"v":0,"d":"0%"}},{"$f":"OFFSET('IF Factors'!E16,0,$L$171)","v":{"v":0,"d":"0%"}},{"$f":"OFFSET('IF Factors'!E16,0,$M$171)","v":{"v":0,"d":"0%"}},null,0,0,0,0,null,1,1,1,null,0,0]
[{"$nulls":6},"",{"$nulls":3},{"$f":"'IF Factors'!E17","v":{"v":0,"d":"0%"}},{"$f":"OFFSET('IF Factors'!E17,0,$L$171)","v":{"v":0,"d":"0%"}},{"$f":"OFFSET('IF Factors'!E17,0,$M$171)","v":{"v":0,"d":"0%"}},null,0,0,0,0,null,1,1,1,null,0,0]
[{"$nulls":6},"",{"$nulls":3},{"$f":"'IF Factors'!E18","v":{"v":0,"d":"0%"}},{"$f":"OFFSET('IF Factors'!E18,0,$L$171)","v":{"v":0,"d":"0%"}},{"$f":"OFFSET('IF Factors'!E18,0,$M$171)","v":{"v":0,"d":"0%"}},null,0,0,0,0,null,1,1,1,null,0,0]
[{"$nulls":6},"BRT",{"$nulls":3},{"$f":"'IF Factors'!E19","v":{"v":0,"d":"0%"}},{"$f":"OFFSET('IF Factors'!E19,0,$L$171)","v":{"v":0,"d":"0%"}},{"$f":"OFFSET('IF Factors'!E19,0,$M$171)","v":{"v":0,"d":"0%"}},null,0,0,0,0,null,1,1,1,null,0,0]
[]
[]
[]
[{"$nulls":6},"%"]
[{"$nulls":7},{"$f":"H155","v":0},{"$f":"I155","v":1},2,3,4,5,6,7,8,9,10,11,12,13,14,15,16,17,18,19]
[{"$nulls":5},"NO BRT",{"$f":"G156","v":"Cars"},{"$f":"K173","v":{"v":0,"d":"0%"}},{"$f":"(I$23*$P173)+$O173","v":{"v":0,"d":"0%"}},{"$f":"(J$23*$P173)+$O173","v":{"v":0,"d":"0%"}},{"v":0,"d":"0%"},{"v":0,"d":"0%"},{"v":0,"d":"0%"},{"v":0,"d":"0%"},{"v":0,"d":"0%"},{"v":0,"d":"0%"},{"$f":"L173","v":{"v":0,"d":"0%"}},{"$f":"(R$23*$R173)+$Q173","v":{"v":0,"d":"0%"}},{"$f":"(S$23*$R173)+$Q173","v":{"v":0,"d":"0%"}},{"v":0,"d":"0%"},{"v":0,"d":"0%"},{"v":0,"d":"0%"},{"v":0,"d":"0%"},{"v":0,"d":"0%"},{"v":0,"d":"0%"},{"v":0,"d":"0%"},{"$f":"M173","v":{"v":0,"d":"0%"}}]
[{"$nulls":6},{"$f":"G157","v":"2-wheeler"},{"$f":"K174","v":{"v":0,"d":"0%"}},{"$f":"(I$23*$P174)+$O174","v":{"v":0,"d":"0%"}},{"v":0,"d":"0%"},{"v":0,"d":"0%"},{"v":0,"d":"0%"},{"v":0,"d":"0%"},{"v":0,"d":"0%"},{"v":0,"d":"0%"},{"v":0,"d":"0%"},{"$f":"L174","v":{"v":0,"d":"0%"}},{"$f":"(R$23*$R174)+$Q174","v":{"v":0,"d":"0%"}},{"v":0,"d":"0%"},{"v":0,"d":"0%"},{"v":0,"d":"0%"},{"v":0,"d":"0%"},{"v":0,"d":"0%"},{"v":0,"d":"0%"},{"v":0,"d":"0%"},{"v":0,"d":"0%"},{"$f":"M174","v":{"v":0,"d":"0%"}}]
[{"$nulls":6},"Taxi",{"v":0,"d":"0%"},{"$f":"(I$23*$P175)+$O175","v":{"v":0,"d":"0%"}},{"v":0,"d":"0%"},{"v":0,"d":"0%"},{"v":0,"d":"0%"},{"v":0,"d":"0%"},{"v":0,"d":"0%"},{"v":0,"d":"0%"},{"v":0,"d":"0%"},{"v":0,"d":"0%"},{"$f":"(R$23*$R175)+$Q175","v":{"v":0,"d":"0%"}},{"v":0,"d":"0%"},{"v":0,"d":"0%"},{"v":0,"d":"0%"},{"v":0,"d":"0%"},{"v":0,"d":"0%"},{"v":0,"d":"0%"},{"v":0,"d":"0%"},{"v":0,"d":"0%"},{"v":0,"d":"0%"}]
[{"$nulls":6},"",{"v":0,"d":"0%"},{"$f":"(I$23*$P176)+$O176","v":{"v":0,"d":"0%"}},{"v":0,"d":"0%"},{"v":0,"d":"0%"},{"v":0,"d":"0%"},{"v":0,"d":"0%"},{"v":0,"d":"0%"},{"v":0,"d":"0%"},{"v":0,"d":"0%"},{"v":0,"d":"0%"},{"$f":"(R$23*$R176)+$Q176","v":{"v":0,"d":"0%"}},{"v":0,"d":"0%"},{"v":0,"d":"0%"},{"v":0,"d":"0%"},{"v":0,"d":"0%"},{"v":0,"d":"0%"},{"v":0,"d":"0%"},{"v":0,"d":"0%"},{"v":0,"d":"0%"},{"v":0,"d":"0%"}]
[{"$nulls":6},"",{"v":0,"d":"0%"},{"$f":"(I$23*$P177)+$O177","v":{"v":0,"d":"0%"}},{"v":0,"d":"0%"},{"v":0,"d":"0%"},{"v":0,"d":"0%"},{"v":0,"d":"0%"},{"v":0,"d":"0%"},{"v":0,"d":"0%"},{"v":0,"d":"0%"},{"v":0,"d":"0%"},{"$f":"(R$23*$R177)+$Q177","v":{"v":0,"d":"0%"}},{"v":0,"d":"0%"},{"v":0,"d":"0%"},{"v":0,"d":"0%"},{"v":0,"d":"0%"},{"v":0,"d":"0%"},{"v":0,"d":"0%"},{"v":0,"d":"0%"},{"v":0,"d":"0%"},{"v":0,"d":"0%"}]
[{"$nulls":6},"3-wheeler",{"v":0,"d":"0%"},{"$f":"(I$23*$P178)+$O178","v":{"v":0,"d":"0%"}},{"v":0,"d":"0%"},{"v":0,"d":"0%"},{"v":0,"d":"0%"},{"v":0,"d":"0%"},{"v":0,"d":"0%"},{"v":0,"d":"0%"},{"v":0,"d":"0%"},{"v":0,"d":"0%"},{"$f":"(R$23*$R178)+$Q178","v":{"v":0,"d":"0%"}},{"v":0,"d":"0%"},{"v":0,"d":"0%"},{"v":0,"d":"0%"},{"v":0,"d":"0%"},{"v":0,"d":"0%"},{"v":0,"d":"0%"},{"v":0,"d":"0%"},{"v":0,"d":"0%"},{"v":0,"d":"0%"}]
[{"$nulls":6},"Bus",{"v":0,"d":"0%"},{"$f":"(I$23*$P179)+$O179","v":{"v":0,"d":"0%"}},{"v":0,"d":"0%"},{"v":0,"d":"0%"},{"v":0,"d":"0%"},{"v":0,"d":"0%"},{"v":0,"d":"0%"},{"v":0,"d":"0%"},{"v":0,"d":"0%"},{"v":0,"d":"0%"},{"$f":"(R$23*$R179)+$Q179","v":{"v":0,"d":"0%"}},{"v":0,"d":"0%"},{"v":0,"d":"0%"},{"v":0,"d":"0%"},{"v":0,"d":"0%"},{"v":0,"d":"0%"},{"v":0,"d":"0%"},{"v":0,"d":"0%"},{"v":0,"d":"0%"},{"v":0,"d":"0%"}]
[{"$nulls":6},"Mini-bus",{"v":0,"d":"0%"},{"$f":"(I$23*$P180)+$O180","v":{"v":0,"d":"0%"}},{"v":0,"d":"0%"},{"v":0,"d":"0%"},{"v":0,"d":"0%"},{"v":0,"d":"0%"},{"v":0,"d":"0%"},{"v":0,"d":"0%"},{"v":0,"d":"0%"},{"v":0,"d":"0%"},{"$f":"(R$23*$R180)+$Q180","v":{"v":0,"d":"0%"}},{"v":0,"d":"0%"},{"v":0,"d":"0%"},{"v":0,"d":"0%"},{"v":0,"d":"0%"},{"v":0,"d":"0%"},{"v":0,"d":"0%"},{"v":0,"d":"0%"},{"v":0,"d":"0%"},{"v":0,"d":"0%"}]
[{"$nulls":6},"",{"v":0,"d":"0%"},{"$f":"(I$23*$P181)+$O181","v":{"v":0,"d":"0%"}},{"v":0,"d":"0%"},{"v":0,"d":"0%"},{"v":0,"d":"0%"},{"v":0,"d":"0%"},{"v":0,"d":"0%"},{"v":0,"d":"0%"},{"v":0,"d":"0%"},{"v":0,"d":"0%"},{"$f":"(R$23*$R181)+$Q181","v":{"v":0,"d":"0%"}},{"v":0,"d":"0%"},{"v":0,"d":"0%"},{"v":0,"d":"0%"},{"v":0,"d":"0%"},{"v":0,"d":"0%"},{"v":0,"d":"0%"},{"v":0,"d":"0%"},{"v":0,"d":"0%"},{"v":0,"d":"0%"}]
[{"$nulls":6},"",{"v":0,"d":"0%"},{"$f":"(I$23*$P182)+$O182","v":{"v":0,"d":"0%"}},{"v":0,"d":"0%"},{"v":0,"d":"0%"},{"v":0,"d":"0%"},{"v":0,"d":"0%"},{"v":0,"d":"0%"},{"v":0,"d":"0%"},{"v":0,"d":"0%"},{"v":0,"d":"0%"},{"$f":"(R$23*$R182)+$Q182","v":{"v":0,"d":"0%"}},{"v":0,"d":"0%"},{"v":0,"d":"0%"},{"v":0,"d":"0%"},{"v":0,"d":"0%"},{"v":0,"d":"0%"},{"v":0,"d":"0%"},{"v":0,"d":"0%"},{"v":0,"d":"0%"},{"v":0,"d":"0%"}]
[{"$nulls":6},"BRT",{"v":0,"d":"0%"},{"$f":"(I$23*$P183)+$O183","v":{"v":0,"d":"0%"}},{"v":0,"d":"0%"},{"v":0,"d":"0%"},{"v":0,"d":"0%"},{"v":0,"d":"0%"},{"v":0,"d":"0%"},{"v":0,"d":"0%"},{"v":0,"d":"0%"},{"v":0,"d":"0%"},{"$f":"(R$23*$R183)+$Q183","v":{"v":0,"d":"0%"}},{"v":0,"d":"0%"},{"v":0,"d":"0%"},{"v":0,"d":"0%"},{"v":0,"d":"0%"},{"v":0,"d":"0%"},{"v":0,"d":"0%"},{"v":0,"d":"0%"},{"v":0,"d":"0%"},{"v":0,"d":"0%"}]
[]
[{"$nulls":6},"Gasoline VKT"]
[{"$nulls":7},{"$f":"H188","v":0},{"$f":"I188","v":1},2,3,4,5,6,7,8,9,10,11,12,13,14,15,16,17,18,19]
[{"$nulls":5},"NO BRT",{"$f":"G189","v":"Cars"},{"$f":"H123*H189","v":0},{"$f":"I123*I189","v":0},0,0,0,0,0,0,0,0,0,0,0,0,0,0,0,0,0,0]
[{"$nulls":6},{"$f":"G190","v":"2-wheeler"},{"$f":"H124*H190","v":0},0,0,0,0,0,0,0,0,0,0,0,0,0,0,0,0,0,0,0]
[{"$nulls":6},"Taxi",0,0,0,0,0,0,0,0,0,0,0,0,0,0,0,0,0,0,0,0]
[{"$nulls":6},"",0,0,0,0,0,0,0,0,0,0,0,0,0,0,0,0,0,0,0,0]
[{"$nulls":6},"",0,0,0,0,0,0,0,0,0,0,0,0,0,0,0,0,0,0,0,0]
[{"$nulls":6},"3-wheeler",0,0,0,0,0,0,0,0,0,0,0,0,0,0,0,0,0,0,0,0]
[{"$nulls":6},"Bus",0,0,0,0,0,0,0,0,0,0,0,0,0,0,0,0,0,0,0,0]
[{"$nulls":6},"Mini-bus",0,0,0,0,0,0,0,0,0,0,0,0,0,0,0,0,0,0,0,0]
[{"$nulls":6},"",0,0,0,0,0,0,0,0,0,0,0,0,0,0,0,0,0,0,0,0]
[{"$nulls":6},"",0,0,0,0,0,0,0,0,0,0,0,0,0,0,0,0,0,0,0,0]
[{"$nulls":6},"BRT",0,0,0,0,0,0,0,0,0,0,0,0,0,0,0,0,0,0,0,0]
[]
[]
[{"$nulls":6},"Diesel VKT"]
[{"$nulls":10},"Fuel Split"]
[{"$nulls":10},"Column",7,14,null,"1st",null,"2nd"]
[{"$nulls":10},{"$f":"H235","v":0},{"$f":"Q235","v":9},{"$f":"AA235","v":19},null,"intercept","slope","intercept","slope",null,{"$f":"K219","v":0},{"$f":"L219","v":9},{"$f":"M219","v":19},null,"1st","2nd"]
[{"$nulls":5},"NO BRT",{"$f":"G173","v":"Car"},{"$nulls":3},{"$f":"'IF Factors'!F9","v":{"v":0,"d":"0%"}},{"$f":"OFFSET('IF Factors'!F9,0,$L$171)","v":{"v":0,"d":"0%"}},{"$f":"OFFSET('IF Factors'!F9,0,$M$171)","v":{"v":0,"d":"0%"}},null,{"$f":"INTERCEPT(K220:L220,$K$7:$L$7)","v":0},{"$f":"SLOPE(K220:L220,$K$7:$L$7)","v":0},{"$f":"INTERCEPT(L220:M220,$L$7:$M$7)","v":0},{"$f":"SLOPE(L220:M220,$L$7:$M$7)","v":0},null,{"$f":"IF(K220<>0,0,1)","v":1},{"$f":"IF(L220<>0,0,1)","v":1},{"$f":"IF(M220<>0,0,1)","v":1},null,{"$f":"IF(T220+U220=1,1,0)","v":0},{"$f":"IF(U220+V220=1,1,0)","v":0}]
[{"$nulls":6},{"$f":"G174","v":"2-wheeler"},{"$nulls":3},{"$f":"'IF Factors'!F10","v":{"v":0,"d":"0%"}},{"$f":"OFFSET('IF Factors'!F10,0,$L$171)","v":{"v":0,"d":"0%"}},{"$f":"OFFSET('IF Factors'!F10,0,$M$171)","v":{"v":0,"d":"0%"}},null,{"$f":"INTERCEPT(K221:L221,$K$7:$L$7)","v":0},{"$f":"SLOPE(K221:L221,$K$7:$L$7)","v":0},{"$f":"INTERCEPT(L221:M221,$L$7:$M$7)","v":0},{"$f":"SLOPE(L221:M221,$L$7:$M$7)","v":0},null,{"$f":"IF(K221<>0,0,1)","v":1},{"$f":"IF(L221<>0,0,1)","v":1},{"$f":"IF(M221<>0,0,1)","v":1},null,{"$f":"IF(T221+U221=1,1,0)","v":0},0]
[{"$nulls":6},"Taxi",{"$nulls":3},{"$f":"'IF Factors'!F11","v":{"v":0,"d":"0%"}},{"$f":"OFFSET('IF Factors'!F11,0,$L$171)","v":{"v":0,"d":"0%"}},{"$f":"OFFSET('IF Factors'!F11,0,$M$171)","v":{"v":0,"d":"0%"}},null,0,0,0,0,null,1,1,1,null,0,0]
[{"$nulls":6},"",{"$nulls":3},{"$f":"'IF Factors'!F12","v":{"v":0,"d":"0%"}},{"$f":"OFFSET('IF Factors'!F12,0,$L$171)","v":{"v":0,"d":"0%"}},{"$f":"OFFSET('IF Factors'!F12,0,$M$171)","v":{"v":0,"d":"0%"}},null,0,0,0,0,null,1,1,1,null,0,0]
[{"$nulls":6},"",{"$nulls":3},{"$f":"'IF Factors'!F13","v":{"v":0,"d":"0%"}},{"$f":"OFFSET('IF Factors'!F13,0,$L$171)","v":{"v":0,"d":"0%"}},{"$f":"OFFSET('IF Factors'!F13,0,$M$171)","v":{"v":0,"d":"0%"}},null,0,0,0,0,null,1,1,1,null,0,0]
[{"$nulls":6},"3-wheeler",{"$nulls":3},{"$f":"'IF Factors'!F14","v":{"v":0,"d":"0%"}},{"$f":"OFFSET('IF Factors'!F14,0,$L$171)","v":{"v":0,"d":"0%"}},{"$f":"OFFSET('IF Factors'!F14,0,$M$171)","v":{"v":0,"d":"0%"}},null,0,0,0,0,null,1,1,1,null,0,0]
[{"$nulls":6},"Bus",{"$nulls":3},{"$f":"'IF Factors'!F15","v":{"v":0,"d":"0%"}},{"$f":"OFFSET('IF Factors'!F15,0,$L$171)","v":{"v":0,"d":"0%"}},{"$f":"OFFSET('IF Factors'!F15,0,$M$171)","v":{"v":0,"d":"0%"}},null,0,0,0,0,null,1,1,1,null,0,0]
[{"$nulls":6},"Mini-bus",{"$nulls":3},{"$f":"'IF Factors'!F16","v":{"v":0,"d":"0%"}},{"$f":"OFFSET('IF Factors'!F16,0,$L$171)","v":{"v":0,"d":"0%"}},{"$f":"OFFSET('IF Factors'!F16,0,$M$171)","v":{"v":0,"d":"0%"}},null,0,0,0,0,null,1,1,1,null,0,0]
[{"$nulls":6},"",{"$nulls":3},{"$f":"'IF Factors'!F17","v":{"v":0,"d":"0%"}},{"$f":"OFFSET('IF Factors'!F17,0,$L$171)","v":{"v":0,"d":"0%"}},{"$f":"OFFSET('IF Factors'!F17,0,$M$171)","v":{"v":0,"d":"0%"}},null,0,0,0,0,null,1,1,1,null,0,0]
[{"$nulls":6},"",{"$nulls":3},{"$f":"'IF Factors'!F18","v":{"v":0,"d":"0%"}},{"$f":"OFFSET('IF Factors'!F18,0,$L$171)","v":{"v":0,"d":"0%"}},{"$f":"OFFSET('IF Factors'!F18,0,$M$171)","v":{"v":0,"d":"0%"}},null,0,0,0,0,null,1,1,1,null,0,0]
[{"$nulls":6},"BRT",{"$nulls":3},{"$f":"'IF Factors'!F19","v":{"v":0,"d":"0%"}},{"$f":"OFFSET('IF Factors'!F19,0,$L$171)","v":{"v":0,"d":"0%"}},{"$f":"OFFSET('IF Factors'!F19,0,$M$171)","v":{"v":0,"d":"0%"}},null,0,0,0,0,null,1,1,1,null,0,0]
[]
[]
[]
[{"$nulls":6},"%"]
[{"$nulls":7},{"$f":"H202","v":0},{"$f":"I202","v":1},2,3,4,5,6,7,8,9,10,11,12,13,14,15,16,17,18,19]
[{"$nulls":5},"NO BRT",{"$f":"G203","v":"Cars"},{"$f":"K220","v":{"v":0,"d":"0%"}},{"$f":"(I$23*$P220)+$O220","v":{"v":0,"d":"0%"}},{"$f":"(J$23*$P220)+$O220","v":{"v":0,"d":"0%"}},{"v":0,"d":"0%"},{"v":0,"d":"0%"},{"v":0,"d":"0%"},{"v":0,"d":"0%"},{"v":0,"d":"0%"},{"v":0,"d":"0%"},{"$f":"L220","v":{"v":0,"d":"0%"}},{"$f":"(R$23*$R220)+$Q220","v":{"v":0,"d":"0%"}},{"$f":"(S$23*$R220)+$Q220","v":{"v":0,"d":"0%"}},{"v":0,"d":"0%"},{"v":0,"d":"0%"},{"v":0,"d":"0%"},{"v":0,"d":"0%"},{"v":0,"d":"0%"},{"v":0,"d":"0%"},{"v":0,"d":"0%"},{"$f":"M220","v":{"v":0,"d":"0%"}}]
[{"$nulls":6},{"$f":"G204","v":"2-wheeler"},{"$f":"K221","v":{"v":0,"d":"0%"}},{"$f":"(I$23*$P221)+$O221","v":{"v":0,"d":"0%"}},{"v":0,"d":"0%"},{"v":0,"d":"0%"},{"v":0,"d":"0%"},{"v":0,"d":"0%"},{"v":0,"d":"0%"},{"v":0,"d":"0%"},{"v":0,"d":"0%"},{"$f":"L221","v":{"v":0,"d":"0%"}},{"$f":"(R$23*$R221)+$Q221","v":{"v":0,"d":"0%"}},{"v":0,"d":"0%"},{"v":0,"d":"0%"},{"v":0,"d":"0%"},{"v":0,"d":"0%"},{"v":0,"d":"0%"},{"v":0,"d":"0%"},{"v":0,"d":"0%"},{"v":0,"d":"0%"},{"$f":"M221","v":{"v":0,"d":"0%"}}]
[{"$nulls":6},"Taxi",{"v":0,"d":"0%"},{"$f":"(I$23*$P222)+$O222","v":{"v":0,"d":"0%"}},{"v":0,"d":"0%"},{"v":0,"d":"0%"},{"v":0,"d":"0%"},{"v":0,"d":"0%"},{"v":0,"d":"0%"},{"v":0,"d":"0%"},{"v":0,"d":"0%"},{"v":0,"d":"0%"},{"$f":"(R$23*$R222)+$Q222","v":{"v":0,"d":"0%"}},{"v":0,"d":"0%"},{"v":0,"d":"0%"},{"v":0,"d":"0%"},{"v":0,"d":"0%"},{"v":0,"d":"0%"},{"v":0,"d":"0%"},{"v":0,"d":"0%"},{"v":0,"d":"0%"},{"v":0,"d":"0%"}]
[{"$nulls":6},"",{"v":0,"d":"0%"},{"$f":"(I$23*$P223)+$O223","v":{"v":0,"d":"0%"}},{"v":0,"d":"0%"},{"v":0,"d":"0%"},{"v":0,"d":"0%"},{"v":0,"d":"0%"},{"v":0,"d":"0%"},{"v":0,"d":"0%"},{"v":0,"d":"0%"},{"v":0,"d":"0%"},{"$f":"(R$23*$R223)+$Q223","v":{"v":0,"d":"0%"}},{"v":0,"d":"0%"},{"v":0,"d":"0%"},{"v":0,"d":"0%"},{"v":0,"d":"0%"},{"v":0,"d":"0%"},{"v":0,"d":"0%"},{"v":0,"d":"0%"},{"v":0,"d":"0%"},{"v":0,"d":"0%"}]
[{"$nulls":6},"",{"v":0,"d":"0%"},{"$f":"(I$23*$P224)+$O224","v":{"v":0,"d":"0%"}},{"v":0,"d":"0%"},{"v":0,"d":"0%"},{"v":0,"d":"0%"},{"v":0,"d":"0%"},{"v":0,"d":"0%"},{"v":0,"d":"0%"},{"v":0,"d":"0%"},{"v":0,"d":"0%"},{"$f":"(R$23*$R224)+$Q224","v":{"v":0,"d":"0%"}},{"v":0,"d":"0%"},{"v":0,"d":"0%"},{"v":0,"d":"0%"},{"v":0,"d":"0%"},{"v":0,"d":"0%"},{"v":0,"d":"0%"},{"v":0,"d":"0%"},{"v":0,"d":"0%"},{"v":0,"d":"0%"}]
[{"$nulls":6},"3-wheeler",{"v":0,"d":"0%"},{"$f":"(I$23*$P225)+$O225","v":{"v":0,"d":"0%"}},{"v":0,"d":"0%"},{"v":0,"d":"0%"},{"v":0,"d":"0%"},{"v":0,"d":"0%"},{"v":0,"d":"0%"},{"v":0,"d":"0%"},{"v":0,"d":"0%"},{"v":0,"d":"0%"},{"$f":"(R$23*$R225)+$Q225","v":{"v":0,"d":"0%"}},{"v":0,"d":"0%"},{"v":0,"d":"0%"},{"v":0,"d":"0%"},{"v":0,"d":"0%"},{"v":0,"d":"0%"},{"v":0,"d":"0%"},{"v":0,"d":"0%"},{"v":0,"d":"0%"},{"v":0,"d":"0%"}]
[{"$nulls":6},"Bus",{"v":0,"d":"0%"},{"$f":"(I$23*$P226)+$O226","v":{"v":0,"d":"0%"}},{"v":0,"d":"0%"},{"v":0,"d":"0%"},{"v":0,"d":"0%"},{"v":0,"d":"0%"},{"v":0,"d":"0%"},{"v":0,"d":"0%"},{"v":0,"d":"0%"},{"v":0,"d":"0%"},{"$f":"(R$23*$R226)+$Q226","v":{"v":0,"d":"0%"}},{"v":0,"d":"0%"},{"v":0,"d":"0%"},{"v":0,"d":"0%"},{"v":0,"d":"0%"},{"v":0,"d":"0%"},{"v":0,"d":"0%"},{"v":0,"d":"0%"},{"v":0,"d":"0%"},{"v":0,"d":"0%"}]
[{"$nulls":6},"Mini-bus",{"v":0,"d":"0%"},{"$f":"(I$23*$P227)+$O227","v":{"v":0,"d":"0%"}},{"v":0,"d":"0%"},{"v":0,"d":"0%"},{"v":0,"d":"0%"},{"v":0,"d":"0%"},{"v":0,"d":"0%"},{"v":0,"d":"0%"},{"v":0,"d":"0%"},{"v":0,"d":"0%"},{"$f":"(R$23*$R227)+$Q227","v":{"v":0,"d":"0%"}},{"v":0,"d":"0%"},{"v":0,"d":"0%"},{"v":0,"d":"0%"},{"v":0,"d":"0%"},{"v":0,"d":"0%"},{"v":0,"d":"0%"},{"v":0,"d":"0%"},{"v":0,"d":"0%"},{"v":0,"d":"0%"}]
[{"$nulls":6},"",{"v":0,"d":"0%"},{"$f":"(I$23*$P228)+$O228","v":{"v":0,"d":"0%"}},{"v":0,"d":"0%"},{"v":0,"d":"0%"},{"v":0,"d":"0%"},{"v":0,"d":"0%"},{"v":0,"d":"0%"},{"v":0,"d":"0%"},{"v":0,"d":"0%"},{"v":0,"d":"0%"},{"$f":"(R$23*$R228)+$Q228","v":{"v":0,"d":"0%"}},{"v":0,"d":"0%"},{"v":0,"d":"0%"},{"v":0,"d":"0%"},{"v":0,"d":"0%"},{"v":0,"d":"0%"},{"v":0,"d":"0%"},{"v":0,"d":"0%"},{"v":0,"d":"0%"},{"v":0,"d":"0%"}]
[{"$nulls":6},"",{"v":0,"d":"0%"},{"$f":"(I$23*$P229)+$O229","v":{"v":0,"d":"0%"}},{"v":0,"d":"0%"},{"v":0,"d":"0%"},{"v":0,"d":"0%"},{"v":0,"d":"0%"},{"v":0,"d":"0%"},{"v":0,"d":"0%"},{"v":0,"d":"0%"},{"v":0,"d":"0%"},{"$f":"(R$23*$R229)+$Q229","v":{"v":0,"d":"0%"}},{"v":0,"d":"0%"},{"v":0,"d":"0%"},{"v":0,"d":"0%"},{"v":0,"d":"0%"},{"v":0,"d":"0%"},{"v":0,"d":"0%"},{"v":0,"d":"0%"},{"v":0,"d":"0%"},{"v":0,"d":"0%"}]
[{"$nulls":6},"BRT",{"v":0,"d":"0%"},{"$f":"(I$23*$P230)+$O230","v":{"v":0,"d":"0%"}},{"v":0,"d":"0%"},{"v":0,"d":"0%"},{"v":0,"d":"0%"},{"v":0,"d":"0%"},{"v":0,"d":"0%"},{"v":0,"d":"0%"},{"v":0,"d":"0%"},{"v":0,"d":"0%"},{"$f":"(R$23*$R230)+$Q230","v":{"v":0,"d":"0%"}},{"v":0,"d":"0%"},{"v":0,"d":"0%"},{"v":0,"d":"0%"},{"v":0,"d":"0%"},{"v":0,"d":"0%"},{"v":0,"d":"0%"},{"v":0,"d":"0%"},{"v":0,"d":"0%"},{"v":0,"d":"0%"}]
[]
[{"$nulls":6},"Diesel VKT"]
[{"$nulls":7},{"$f":"H235","v":0},{"$f":"I235","v":1},2,3,4,5,6,7,8,9,10,11,12,13,14,15,16,17,18,19]
[{"$nulls":5},"NO BRT",{"$f":"G236","v":"Cars"},{"$f":"H123*H236","v":0},{"$f":"I123*I236","v":0},0,0,0,0,0,0,0,0,0,0,0,0,0,0,0,0,0,0]
[{"$nulls":6},{"$f":"G237","v":"2-wheeler"},{"$f":"H124*H237","v":0},0,0,0,0,0,0,0,0,0,0,0,0,0,0,0,0,0,0,0]
[{"$nulls":6},"Taxi",0,0,0,0,0,0,0,0,0,0,0,0,0,0,0,0,0,0,0,0]
[{"$nulls":6},"",0,0,0,0,0,0,0,0,0,0,0,0,0,0,0,0,0,0,0,0]
[{"$nulls":6},"",0,0,0,0,0,0,0,0,0,0,0,0,0,0,0,0,0,0,0,0]
[{"$nulls":6},"3-wheeler",0,0,0,0,0,0,0,0,0,0,0,0,0,0,0,0,0,0,0,0]
[{"$nulls":6},"Bus",0,0,0,0,0,0,0,0,0,0,0,0,0,0,0,0,0,0,0,0]
[{"$nulls":6},"Mini-bus",0,0,0,0,0,0,0,0,0,0,0,0,0,0,0,0,0,0,0,0]
[{"$nulls":6},"",0,0,0,0,0,0,0,0,0,0,0,0,0,0,0,0,0,0,0,0]
[{"$nulls":6},"",0,0,0,0,0,0,0,0,0,0,0,0,0,0,0,0,0,0,0,0]
[{"$nulls":6},"BRT",0,0,0,0,0,0,0,0,0,0,0,0,0,0,0,0,0,0,0,0]
[]
[]
[{"$nulls":6},"LPG VKT"]
[{"$nulls":10},"Fuel Split"]
[{"$nulls":10},"Column",7,14,null,"1st",null,"2nd"]
[{"$nulls":10},{"$f":"H282","v":0},{"$f":"Q282","v":9},{"$f":"AA282","v":19},null,"intercept","slope","intercept","slope",null,{"$f":"K266","v":0},{"$f":"L266","v":9},{"$f":"M266","v":19},null,"1st","2nd"]
[{"$nulls":5},"NO BRT",{"$f":"G220","v":"Car"},{"$nulls":3},{"$f":"'IF Factors'!G9","v":{"v":0,"d":"0%"}},{"$f":"OFFSET('IF Factors'!G9,0,$L$171)","v":{"v":0,"d":"0%"}},{"$f":"OFFSET('IF Factors'!G9,0,$M$171)","v":{"v":0,"d":"0%"}},null,{"$f":"INTERCEPT(K267:L267,$K$7:$L$7)","v":0},{"$f":"SLOPE(K267:L267,$K$7:$L$7)","v":0},{"$f":"INTERCEPT(L267:M267,$L$7:$M$7)","v":0},{"$f":"SLOPE(L267:M267,$L$7:$M$7)","v":0},null,{"$f":"IF(K267<>0,0,1)","v":1},{"$f":"IF(L267<>0,0,1)","v":1},{"$f":"IF(M267<>0,0,1)","v":1},null,{"$f":"IF(T267+U267=1,1,0)","v":0},{"$f":"IF(U267+V267=1,1,0)","v":0}]
[{"$nulls":6},{"$f":"G221","v":"2-wheeler"},{"$nulls":3},{"$f":"'IF Factors'!G10","v":{"v":0,"d":"0%"}},{"$f":"OFFSET('IF Factors'!G10,0,$L$171)","v":{"v":0,"d":"0%"}},{"$f":"OFFSET('IF Factors'!G10,0,$M$171)","v":{"v":0,"d":"0%"}},null,{"$f":"INTERCEPT(K268:L268,$K$7:$L$7)","v":0},{"$f":"SLOPE(K268:L268,$K$7:$L$7)","v":0},{"$f":"INTERCEPT(L268:M268,$L$7:$M$7)","v":0},{"$f":"SLOPE(L268:M268,$L$7:$M$7)","v":0},null,{"$f":"IF(K268<>0,0,1)","v":1},{"$f":"IF(L268<>0,0,1)","v":1},{"$f":"IF(M268<>0,0,1)","v":1},null,{"$f":"IF(T268+U268=1,1,0)","v":0},0]
[{"$nulls":6},"Taxi",{"$nulls":3},{"$f":"'IF Factors'!G11","v":{"v":0,"d":"0%"}},{"$f":"OFFSET('IF Factors'!G11,0,$L$171)","v":{"v":0,"d":"0%"}},{"$f":"OFFSET('IF Factors'!G11,0,$M$171)","v":{"v":0,"d":"0%"}},null,0,0,0,0,null,1,1,1,null,0,0]
[{"$nulls":6},"",{"$nulls":3},{"$f":"'IF Factors'!G12","v":{"v":0,"d":"0%"}},{"$f":"OFFSET('IF Factors'!G12,0,$L$171)","v":{"v":0,"d":"0%"}},{"$f":"OFFSET('IF Factors'!G12,0,$M$171)","v":{"v":0,"d":"0%"}},null,0,0,0,0,null,1,1,1,null,0,0]
[{"$nulls":6},"",{"$nulls":3},{"$f":"'IF Factors'!G13","v":{"v":0,"d":"0%"}},{"$f":"OFFSET('IF Factors'!G13,0,$L$171)","v":{"v":0,"d":"0%"}},{"$f":"OFFSET('IF Factors'!G13,0,$M$171)","v":{"v":0,"d":"0%"}},null,0,0,0,0,null,1,1,1,null,0,0]
[{"$nulls":6},"3-wheeler",{"$nulls":3},{"$f":"'IF Factors'!G14","v":{"v":0,"d":"0%"}},{"$f":"OFFSET('IF Factors'!G14,0,$L$171)","v":{"v":0,"d":"0%"}},{"$f":"OFFSET('IF Factors'!G14,0,$M$171)","v":{"v":0,"d":"0%"}},null,0,0,0,0,null,1,1,1,null,0,0]
[{"$nulls":6},"Bus",{"$nulls":3},{"$f":"'IF Factors'!G15","v":{"v":0,"d":"0%"}},{"$f":"OFFSET('IF Factors'!G15,0,$L$171)","v":{"v":0,"d":"0%"}},{"$f":"OFFSET('IF Factors'!G15,0,$M$171)","v":{"v":0,"d":"0%"}},null,0,0,0,0,null,1,1,1,null,0,0]
[{"$nulls":6},"Mini-bus",{"$nulls":3},{"$f":"'IF Factors'!G16","v":{"v":0,"d":"0%"}},{"$f":"OFFSET('IF Factors'!G16,0,$L$171)","v":{"v":0,"d":"0%"}},{"$f":"OFFSET('IF Factors'!G16,0,$M$171)","v":{"v":0,"d":"0%"}},null,0,0,0,0,null,1,1,1,null,0,0]
[{"$nulls":6},"",{"$nulls":3},{"$f":"'IF Factors'!G17","v":{"v":0,"d":"0%"}},{"$f":"OFFSET('IF Factors'!G17,0,$L$171)","v":{"v":0,"d":"0%"}},{"$f":"OFFSET('IF Factors'!G17,0,$M$171)","v":{"v":0,"d":"0%"}},null,0,0,0,0,null,1,1,1,null,0,0]
[{"$nulls":6},"",{"$nulls":3},{"$f":"'IF Factors'!G18","v":{"v":0,"d":"0%"}},{"$f":"OFFSET('IF Factors'!G18,0,$L$171)","v":{"v":0,"d":"0%"}},{"$f":"OFFSET('IF Factors'!G18,0,$M$171)","v":{"v":0,"d":"0%"}},null,0,0,0,0,null,1,1,1,null,0,0]
[{"$nulls":6},"BRT",{"$nulls":3},{"$f":"'IF Factors'!G19","v":{"v":0,"d":"0%"}},{"$f":"OFFSET('IF Factors'!G19,0,$L$171)","v":{"v":0,"d":"0%"}},{"$f":"OFFSET('IF Factors'!G19,0,$M$171)","v":{"v":0,"d":"0%"}},null,0,0,0,0,null,1,1,1,null,0,0]
[]
[]
[]
[{"$nulls":6},"%"]
[{"$nulls":7},{"$f":"H249","v":0},{"$f":"I249","v":1},2,3,4,5,6,7,8,9,10,11,12,13,14,15,16,17,18,19]
[{"$nulls":5},"NO BRT",{"$f":"G250","v":"Cars"},{"$f":"K267","v":{"v":0,"d":"0%"}},{"$f":"(I$23*$P267)+$O267","v":{"v":0,"d":"0%"}},{"$f":"(J$23*$P267)+$O267","v":{"v":0,"d":"0%"}},{"v":0,"d":"0%"},{"v":0,"d":"0%"},{"v":0,"d":"0%"},{"v":0,"d":"0%"},{"v":0,"d":"0%"},{"v":0,"d":"0%"},{"$f":"L267","v":{"v":0,"d":"0%"}},{"$f":"(R$23*$R267)+$Q267","v":{"v":0,"d":"0%"}},{"$f":"(S$23*$R267)+$Q267","v":{"v":0,"d":"0%"}},{"v":0,"d":"0%"},{"v":0,"d":"0%"},{"v":0,"d":"0%"},{"v":0,"d":"0%"},{"v":0,"d":"0%"},{"v":0,"d":"0%"},{"v":0,"d":"0%"},{"$f":"M267","v":{"v":0,"d":"0%"}}]
[{"$nulls":6},{"$f":"G251","v":"2-wheeler"},{"$f":"K268","v":{"v":0,"d":"0%"}},{"$f":"(I$23*$P268)+$O268","v":{"v":0,"d":"0%"}},{"v":0,"d":"0%"},{"v":0,"d":"0%"},{"v":0,"d":"0%"},{"v":0,"d":"0%"},{"v":0,"d":"0%"},{"v":0,"d":"0%"},{"v":0,"d":"0%"},{"$f":"L268","v":{"v":0,"d":"0%"}},{"$f":"(R$23*$R268)+$Q268","v":{"v":0,"d":"0%"}},{"v":0,"d":"0%"},{"v":0,"d":"0%"},{"v":0,"d":"0%"},{"v":0,"d":"0%"},{"v":0,"d":"0%"},{"v":0,"d":"0%"},{"v":0,"d":"0%"},{"v":0,"d":"0%"},{"$f":"M268","v":{"v":0,"d":"0%"}}]
[{"$nulls":6},"Taxi",{"v":0,"d":"0%"},{"$f":"(I$23*$P269)+$O269","v":{"v":0,"d":"0%"}},{"v":0,"d":"0%"},{"v":0,"d":"0%"},{"v":0,"d":"0%"},{"v":0,"d":"0%"},{"v":0,"d":"0%"},{"v":0,"d":"0%"},{"v":0,"d":"0%"},{"v":0,"d":"0%"},{"$f":"(R$23*$R269)+$Q269","v":{"v":0,"d":"0%"}},{"v":0,"d":"0%"},{"v":0,"d":"0%"},{"v":0,"d":"0%"},{"v":0,"d":"0%"},{"v":0,"d":"0%"},{"v":0,"d":"0%"},{"v":0,"d":"0%"},{"v":0,"d":"0%"},{"v":0,"d":"0%"}]
[{"$nulls":6},"",{"v":0,"d":"0%"},{"$f":"(I$23*$P270)+$O270","v":{"v":0,"d":"0%"}},{"v":0,"d":"0%"},{"v":0,"d":"0%"},{"v":0,"d":"0%"},{"v":0,"d":"0%"},{"v":0,"d":"0%"},{"v":0,"d":"0%"},{"v":0,"d":"0%"},{"v":0,"d":"0%"},{"$f":"(R$23*$R270)+$Q270","v":{"v":0,"d":"0%"}},{"v":0,"d":"0%"},{"v":0,"d":"0%"},{"v":0,"d":"0%"},{"v":0,"d":"0%"},{"v":0,"d":"0%"},{"v":0,"d":"0%"},{"v":0,"d":"0%"},{"v":0,"d":"0%"},{"v":0,"d":"0%"}]
[{"$nulls":6},"",{"v":0,"d":"0%"},{"$f":"(I$23*$P271)+$O271","v":{"v":0,"d":"0%"}},{"v":0,"d":"0%"},{"v":0,"d":"0%"},{"v":0,"d":"0%"},{"v":0,"d":"0%"},{"v":0,"d":"0%"},{"v":0,"d":"0%"},{"v":0,"d":"0%"},{"v":0,"d":"0%"},{"$f":"(R$23*$R271)+$Q271","v":{"v":0,"d":"0%"}},{"v":0,"d":"0%"},{"v":0,"d":"0%"},{"v":0,"d":"0%"},{"v":0,"d":"0%"},{"v":0,"d":"0%"},{"v":0,"d":"0%"},{"v":0,"d":"0%"},{"v":0,"d":"0%"},{"v":0,"d":"0%"}]
[{"$nulls":6},"3-wheeler",{"v":0,"d":"0%"},{"$f":"(I$23*$P272)+$O272","v":{"v":0,"d":"0%"}},{"v":0,"d":"0%"},{"v":0,"d":"0%"},{"v":0,"d":"0%"},{"v":0,"d":"0%"},{"v":0,"d":"0%"},{"v":0,"d":"0%"},{"v":0,"d":"0%"},{"v":0,"d":"0%"},{"$f":"(R$23*$R272)+$Q272","v":{"v":0,"d":"0%"}},{"v":0,"d":"0%"},{"v":0,"d":"0%"},{"v":0,"d":"0%"},{"v":0,"d":"0%"},{"v":0,"d":"0%"},{"v":0,"d":"0%"},{"v":0,"d":"0%"},{"v":0,"d":"0%"},{"v":0,"d":"0%"}]
[{"$nulls":6},"Bus",{"v":0,"d":"0%"},{"$f":"(I$23*$P273)+$O273","v":{"v":0,"d":"0%"}},{"v":0,"d":"0%"},{"v":0,"d":"0%"},{"v":0,"d":"0%"},{"v":0,"d":"0%"},{"v":0,"d":"0%"},{"v":0,"d":"0%"},{"v":0,"d":"0%"},{"v":0,"d":"0%"},{"$f":"(R$23*$R273)+$Q273","v":{"v":0,"d":"0%"}},{"v":0,"d":"0%"},{"v":0,"d":"0%"},{"v":0,"d":"0%"},{"v":0,"d":"0%"},{"v":0,"d":"0%"},{"v":0,"d":"0%"},{"v":0,"d":"0%"},{"v":0,"d":"0%"},{"v":0,"d":"0%"}]
[{"$nulls":6},"Mini-bus",{"v":0,"d":"0%"},{"$f":"(I$23*$P274)+$O274","v":{"v":0,"d":"0%"}},{"v":0,"d":"0%"},{"v":0,"d":"0%"},{"v":0,"d":"0%"},{"v":0,"d":"0%"},{"v":0,"d":"0%"},{"v":0,"d":"0%"},{"v":0,"d":"0%"},{"v":0,"d":"0%"},{"$f":"(R$23*$R274)+$Q274","v":{"v":0,"d":"0%"}},{"v":0,"d":"0%"},{"v":0,"d":"0%"},{"v":0,"d":"0%"},{"v":0,"d":"0%"},{"v":0,"d":"0%"},{"v":0,"d":"0%"},{"v":0,"d":"0%"},{"v":0,"d":"0%"},{"v":0,"d":"0%"}]
[{"$nulls":6},"",{"v":0,"d":"0%"},{"$f":"(I$23*$P275)+$O275","v":{"v":0,"d":"0%"}},{"v":0,"d":"0%"},{"v":0,"d":"0%"},{"v":0,"d":"0%"},{"v":0,"d":"0%"},{"v":0,"d":"0%"},{"v":0,"d":"0%"},{"v":0,"d":"0%"},{"v":0,"d":"0%"},{"$f":"(R$23*$R275)+$Q275","v":{"v":0,"d":"0%"}},{"v":0,"d":"0%"},{"v":0,"d":"0%"},{"v":0,"d":"0%"},{"v":0,"d":"0%"},{"v":0,"d":"0%"},{"v":0,"d":"0%"},{"v":0,"d":"0%"},{"v":0,"d":"0%"},{"v":0,"d":"0%"}]
[{"$nulls":6},"",{"v":0,"d":"0%"},{"$f":"(I$23*$P276)+$O276","v":{"v":0,"d":"0%"}},{"v":0,"d":"0%"},{"v":0,"d":"0%"},{"v":0,"d":"0%"},{"v":0,"d":"0%"},{"v":0,"d":"0%"},{"v":0,"d":"0%"},{"v":0,"d":"0%"},{"v":0,"d":"0%"},{"$f":"(R$23*$R276)+$Q276","v":{"v":0,"d":"0%"}},{"v":0,"d":"0%"},{"v":0,"d":"0%"},{"v":0,"d":"0%"},{"v":0,"d":"0%"},{"v":0,"d":"0%"},{"v":0,"d":"0%"},{"v":0,"d":"0%"},{"v":0,"d":"0%"},{"v":0,"d":"0%"}]
[{"$nulls":6},"BRT",{"v":0,"d":"0%"},{"$f":"(I$23*$P277)+$O277","v":{"v":0,"d":"0%"}},{"v":0,"d":"0%"},{"v":0,"d":"0%"},{"v":0,"d":"0%"},{"v":0,"d":"0%"},{"v":0,"d":"0%"},{"v":0,"d":"0%"},{"v":0,"d":"0%"},{"v":0,"d":"0%"},{"$f":"(R$23*$R277)+$Q277","v":{"v":0,"d":"0%"}},{"v":0,"d":"0%"},{"v":0,"d":"0%"},{"v":0,"d":"0%"},{"v":0,"d":"0%"},{"v":0,"d":"0%"},{"v":0,"d":"0%"},{"v":0,"d":"0%"},{"v":0,"d":"0%"},{"v":0,"d":"0%"}]
[]
[{"$nulls":6},"LPG VKT"]
[{"$nulls":7},{"$f":"H282","v":0},{"$f":"I282","v":1},2,3,4,5,6,7,8,9,10,11,12,13,14,15,16,17,18,19]
[{"$nulls":5},"NO BRT",{"$f":"G283","v":"Cars"},{"$f":"H123*H283","v":0},{"$f":"I123*I283","v":0},0,0,0,0,0,0,0,0,0,0,0,0,0,0,0,0,0,0]
[{"$nulls":6},{"$f":"G284","v":"2-wheeler"},{"$f":"H124*H284","v":0},0,0,0,0,0,0,0,0,0,0,0,0,0,0,0,0,0,0,0]
[{"$nulls":6},"Taxi",0,0,0,0,0,0,0,0,0,0,0,0,0,0,0,0,0,0,0,0]
[{"$nulls":6},"",0,0,0,0,0,0,0,0,0,0,0,0,0,0,0,0,0,0,0,0]
[{"$nulls":6},"",0,0,0,0,0,0,0,0,0,0,0,0,0,0,0,0,0,0,0,0]
[{"$nulls":6},"3-wheeler",0,0,0,0,0,0,0,0,0,0,0,0,0,0,0,0,0,0,0,0]
[{"$nulls":6},"Bus",0,0,0,0,0,0,0,0,0,0,0,0,0,0,0,0,0,0,0,0]
[{"$nulls":6},"Mini-bus",0,0,0,0,0,0,0,0,0,0,0,0,0,0,0,0,0,0,0,0]
[{"$nulls":6},"",0,0,0,0,0,0,0,0,0,0,0,0,0,0,0,0,0,0,0,0]
[{"$nulls":6},"",0,0,0,0,0,0,0,0,0,0,0,0,0,0,0,0,0,0,0,0]
[{"$nulls":6},"BRT",0,0,0,0,0,0,0,0,0,0,0,0,0,0,0,0,0,0,0,0]
[]
[]
[{"$nulls":6},"CNG VKT"]
[{"$nulls":10},"Fuel Split"]
[{"$nulls":10},"Column",7,14,null,"1st",null,"2nd"]
[{"$nulls":10},{"$f":"H329","v":0},{"$f":"Q329","v":9},{"$f":"AA329","v":19},null,"intercept","slope","intercept","slope",null,{"$f":"K313","v":0},{"$f":"L313","v":9},{"$f":"M313","v":19},null,"1st","2nd"]
[{"$nulls":5},"NO BRT",{"$f":"G267","v":"Car"},{"$nulls":3},{"$f":"'IF Factors'!H9","v":{"v":0,"d":"0%"}},{"$f":"OFFSET('IF Factors'!H9,0,$L$171)","v":{"v":0,"d":"0%"}},{"$f":"OFFSET('IF Factors'!H9,0,$M$171)","v":{"v":0,"d":"0%"}},null,{"$f":"INTERCEPT(K314:L314,$K$7:$L$7)","v":0},{"$f":"SLOPE(K314:L314,$K$7:$L$7)","v":0},{"$f":"INTERCEPT(L314:M314,$L$7:$M$7)","v":0},{"$f":"SLOPE(L314:M314,$L$7:$M$7)","v":0},null,{"$f":"IF(K314<>0,0,1)","v":1},{"$f":"IF(L314<>0,0,1)","v":1},{"$f":"IF(M314<>0,0,1)","v":1},null,{"$f":"IF(T314+U314=1,1,0)","v":0},{"$f":"IF(U314+V314=1,1,0)","v":0}]
[{"$nulls":6},{"$f":"G268","v":"2-wheeler"},{"$nulls":3},{"$f":"'IF Factors'!H10","v":{"v":0,"d":"0%"}},{"$f":"OFFSET('IF Factors'!H10,0,$L$171)","v":{"v":0,"d":"0%"}},{"$f":"OFFSET('IF Factors'!H10,0,$M$171)","v":{"v":0,"d":"0%"}},null,{"$f":"INTERCEPT(K315:L315,$K$7:$L$7)","v":0},{"$f":"SLOPE(K315:L315,$K$7:$L$7)","v":0},{"$f":"INTERCEPT(L315:M315,$L$7:$M$7)","v":0},{"$f":"SLOPE(L315:M315,$L$7:$M$7)","v":0},null,{"$f":"IF(K315<>0,0,1)","v":1},{"$f":"IF(L315<>0,0,1)","v":1},{"$f":"IF(M315<>0,0,1)","v":1},null,{"$f":"IF(T315+U315=1,1,0)","v":0},0]
[{"$nulls":6},"Taxi",{"$nulls":3},{"$f":"'IF Factors'!H11","v":{"v":0,"d":"0%"}},{"$f":"OFFSET('IF Factors'!H11,0,$L$171)","v":{"v":0,"d":"0%"}},{"$f":"OFFSET('IF Factors'!H11,0,$M$171)","v":{"v":0,"d":"0%"}},null,0,0,0,0,null,1,1,1,null,0,0]
[{"$nulls":6},"",{"$nulls":3},{"$f":"'IF Factors'!H12","v":{"v":0,"d":"0%"}},{"$f":"OFFSET('IF Factors'!H12,0,$L$171)","v":{"v":0,"d":"0%"}},{"$f":"OFFSET('IF Factors'!H12,0,$M$171)","v":{"v":0,"d":"0%"}},null,0,0,0,0,null,1,1,1,null,0,0]
[{"$nulls":6},"",{"$nulls":3},{"$f":"'IF Factors'!H13","v":{"v":0,"d":"0%"}},{"$f":"OFFSET('IF Factors'!H13,0,$L$171)","v":{"v":0,"d":"0%"}},{"$f":"OFFSET('IF Factors'!H13,0,$M$171)","v":{"v":0,"d":"0%"}},null,0,0,0,0,null,1,1,1,null,0,0]
[{"$nulls":6},"3-wheeler",{"$nulls":3},{"$f":"'IF Factors'!H14","v":{"v":0,"d":"0%"}},{"$f":"OFFSET('IF Factors'!H14,0,$L$171)","v":{"v":0,"d":"0%"}},{"$f":"OFFSET('IF Factors'!H14,0,$M$171)","v":{"v":0,"d":"0%"}},null,0,0,0,0,null,1,1,1,null,0,0]
[{"$nulls":6},"Bus",{"$nulls":3},{"$f":"'IF Factors'!H15","v":{"v":0,"d":"0%"}},{"$f":"OFFSET('IF Factors'!H15,0,$L$171)","v":{"v":0,"d":"0%"}},{"$f":"OFFSET('IF Factors'!H15,0,$M$171)","v":{"v":0,"d":"0%"}},null,0,0,0,0,null,1,1,1,null,0,0]
[{"$nulls":6},"Mini-bus",{"$nulls":3},{"$f":"'IF Factors'!H16","v":{"v":0,"d":"0%"}},{"$f":"OFFSET('IF Factors'!H16,0,$L$171)","v":{"v":0,"d":"0%"}},{"$f":"OFFSET('IF Factors'!H16,0,$M$171)","v":{"v":0,"d":"0%"}},null,0,0,0,0,null,1,1,1,null,0,0]
[{"$nulls":6},"",{"$nulls":3},{"$f":"'IF Factors'!H17","v":{"v":0,"d":"0%"}},{"$f":"OFFSET('IF Factors'!H17,0,$L$171)","v":{"v":0,"d":"0%"}},{"$f":"OFFSET('IF Factors'!H17,0,$M$171)","v":{"v":0,"d":"0%"}},null,0,0,0,0,null,1,1,1,null,0,0]
[{"$nulls":6},"",{"$nulls":3},{"$f":"'IF Factors'!H18","v":{"v":0,"d":"0%"}},{"$f":"OFFSET('IF Factors'!H18,0,$L$171)","v":{"v":0,"d":"0%"}},{"$f":"OFFSET('IF Factors'!H18,0,$M$171)","v":{"v":0,"d":"0%"}},null,0,0,0,0,null,1,1,1,null,0,0]
[{"$nulls":6},"BRT",{"$nulls":3},{"$f":"'IF Factors'!H19","v":{"v":0,"d":"0%"}},{"$f":"OFFSET('IF Factors'!H19,0,$L$171)","v":{"v":0,"d":"0%"}},{"$f":"OFFSET('IF Factors'!H19,0,$M$171)","v":{"v":0,"d":"0%"}},null,0,0,0,0,null,1,1,1,null,0,0]
[]
[]
[]
[{"$nulls":6},"%"]
[{"$nulls":7},{"$f":"H296","v":0},{"$f":"I296","v":1},2,3,4,5,6,7,8,9,10,11,12,13,14,15,16,17,18,19]
[{"$nulls":5},"NO BRT",{"$f":"G297","v":"Cars"},{"$f":"K314","v":{"v":0,"d":"0%"}},{"$f":"(I$23*$P314)+$O314","v":{"v":0,"d":"0%"}},{"$f":"(J$23*$P314)+$O314","v":{"v":0,"d":"0%"}},{"v":0,"d":"0%"},{"v":0,"d":"0%"},{"v":0,"d":"0%"},{"v":0,"d":"0%"},{"v":0,"d":"0%"},{"v":0,"d":"0%"},{"$f":"L314","v":{"v":0,"d":"0%"}},{"$f":"(R$23*$R314)+$Q314","v":{"v":0,"d":"0%"}},{"$f":"(S$23*$R314)+$Q314","v":{"v":0,"d":"0%"}},{"v":0,"d":"0%"},{"v":0,"d":"0%"},{"v":0,"d":"0%"},{"v":0,"d":"0%"},{"v":0,"d":"0%"},{"v":0,"d":"0%"},{"v":0,"d":"0%"},{"$f":"M314","v":{"v":0,"d":"0%"}}]
[{"$nulls":6},{"$f":"G298","v":"2-wheeler"},{"$f":"K315","v":{"v":0,"d":"0%"}},{"$f":"(I$23*$P315)+$O315","v":{"v":0,"d":"0%"}},{"v":0,"d":"0%"},{"v":0,"d":"0%"},{"v":0,"d":"0%"},{"v":0,"d":"0%"},{"v":0,"d":"0%"},{"v":0,"d":"0%"},{"v":0,"d":"0%"},{"$f":"L315","v":{"v":0,"d":"0%"}},{"$f":"(R$23*$R315)+$Q315","v":{"v":0,"d":"0%"}},{"v":0,"d":"0%"},{"v":0,"d":"0%"},{"v":0,"d":"0%"},{"v":0,"d":"0%"},{"v":0,"d":"0%"},{"v":0,"d":"0%"},{"v":0,"d":"0%"},{"v":0,"d":"0%"},{"$f":"M315","v":{"v":0,"d":"0%"}}]
[{"$nulls":6},"Taxi",{"v":0,"d":"0%"},{"$f":"(I$23*$P316)+$O316","v":{"v":0,"d":"0%"}},{"v":0,"d":"0%"},{"v":0,"d":"0%"},{"v":0,"d":"0%"},{"v":0,"d":"0%"},{"v":0,"d":"0%"},{"v":0,"d":"0%"},{"v":0,"d":"0%"},{"v":0,"d":"0%"},{"$f":"(R$23*$R316)+$Q316","v":{"v":0,"d":"0%"}},{"v":0,"d":"0%"},{"v":0,"d":"0%"},{"v":0,"d":"0%"},{"v":0,"d":"0%"},{"v":0,"d":"0%"},{"v":0,"d":"0%"},{"v":0,"d":"0%"},{"v":0,"d":"0%"},{"v":0,"d":"0%"}]
[{"$nulls":6},"",{"v":0,"d":"0%"},{"$f":"(I$23*$P317)+$O317","v":{"v":0,"d":"0%"}},{"v":0,"d":"0%"},{"v":0,"d":"0%"},{"v":0,"d":"0%"},{"v":0,"d":"0%"},{"v":0,"d":"0%"},{"v":0,"d":"0%"},{"v":0,"d":"0%"},{"v":0,"d":"0%"},{"$f":"(R$23*$R317)+$Q317","v":{"v":0,"d":"0%"}},{"v":0,"d":"0%"},{"v":0,"d":"0%"},{"v":0,"d":"0%"},{"v":0,"d":"0%"},{"v":0,"d":"0%"},{"v":0,"d":"0%"},{"v":0,"d":"0%"},{"v":0,"d":"0%"},{"v":0,"d":"0%"}]
[{"$nulls":6},"",{"v":0,"d":"0%"},{"$f":"(I$23*$P318)+$O318","v":{"v":0,"d":"0%"}},{"v":0,"d":"0%"},{"v":0,"d":"0%"},{"v":0,"d":"0%"},{"v":0,"d":"0%"},{"v":0,"d":"0%"},{"v":0,"d":"0%"},{"v":0,"d":"0%"},{"v":0,"d":"0%"},{"$f":"(R$23*$R318)+$Q318","v":{"v":0,"d":"0%"}},{"v":0,"d":"0%"},{"v":0,"d":"0%"},{"v":0,"d":"0%"},{"v":0,"d":"0%"},{"v":0,"d":"0%"},{"v":0,"d":"0%"},{"v":0,"d":"0%"},{"v":0,"d":"0%"},{"v":0,"d":"0%"}]
[{"$nulls":6},"3-wheeler",{"v":0,"d":"0%"},{"$f":"(I$23*$P319)+$O319","v":{"v":0,"d":"0%"}},{"v":0,"d":"0%"},{"v":0,"d":"0%"},{"v":0,"d":"0%"},{"v":0,"d":"0%"},{"v":0,"d":"0%"},{"v":0,"d":"0%"},{"v":0,"d":"0%"},{"v":0,"d":"0%"},{"$f":"(R$23*$R319)+$Q319","v":{"v":0,"d":"0%"}},{"v":0,"d":"0%"},{"v":0,"d":"0%"},{"v":0,"d":"0%"},{"v":0,"d":"0%"},{"v":0,"d":"0%"},{"v":0,"d":"0%"},{"v":0,"d":"0%"},{"v":0,"d":"0%"},{"v":0,"d":"0%"}]
[{"$nulls":6},"Bus",{"v":0,"d":"0%"},{"$f":"(I$23*$P320)+$O320","v":{"v":0,"d":"0%"}},{"v":0,"d":"0%"},{"v":0,"d":"0%"},{"v":0,"d":"0%"},{"v":0,"d":"0%"},{"v":0,"d":"0%"},{"v":0,"d":"0%"},{"v":0,"d":"0%"},{"v":0,"d":"0%"},{"$f":"(R$23*$R320)+$Q320","v":{"v":0,"d":"0%"}},{"v":0,"d":"0%"},{"v":0,"d":"0%"},{"v":0,"d":"0%"},{"v":0,"d":"0%"},{"v":0,"d":"0%"},{"v":0,"d":"0%"},{"v":0,"d":"0%"},{"v":0,"d":"0%"},{"v":0,"d":"0%"}]
[{"$nulls":6},"Mini-bus",{"v":0,"d":"0%"},{"$f":"(I$23*$P321)+$O321","v":{"v":0,"d":"0%"}},{"v":0,"d":"0%"},{"v":0,"d":"0%"},{"v":0,"d":"0%"},{"v":0,"d":"0%"},{"v":0,"d":"0%"},{"v":0,"d":"0%"},{"v":0,"d":"0%"},{"v":0,"d":"0%"},{"$f":"(R$23*$R321)+$Q321","v":{"v":0,"d":"0%"}},{"v":0,"d":"0%"},{"v":0,"d":"0%"},{"v":0,"d":"0%"},{"v":0,"d":"0%"},{"v":0,"d":"0%"},{"v":0,"d":"0%"},{"v":0,"d":"0%"},{"v":0,"d":"0%"},{"v":0,"d":"0%"}]
[{"$nulls":6},"",{"v":0,"d":"0%"},{"$f":"(I$23*$P322)+$O322","v":{"v":0,"d":"0%"}},{"v":0,"d":"0%"},{"v":0,"d":"0%"},{"v":0,"d":"0%"},{"v":0,"d":"0%"},{"v":0,"d":"0%"},{"v":0,"d":"0%"},{"v":0,"d":"0%"},{"v":0,"d":"0%"},{"$f":"(R$23*$R322)+$Q322","v":{"v":0,"d":"0%"}},{"v":0,"d":"0%"},{"v":0,"d":"0%"},{"v":0,"d":"0%"},{"v":0,"d":"0%"},{"v":0,"d":"0%"},{"v":0,"d":"0%"},{"v":0,"d":"0%"},{"v":0,"d":"0%"},{"v":0,"d":"0%"}]
[{"$nulls":6},"",{"v":0,"d":"0%"},{"$f":"(I$23*$P323)+$O323","v":{"v":0,"d":"0%"}},{"v":0,"d":"0%"},{"v":0,"d":"0%"},{"v":0,"d":"0%"},{"v":0,"d":"0%"},{"v":0,"d":"0%"},{"v":0,"d":"0%"},{"v":0,"d":"0%"},{"v":0,"d":"0%"},{"$f":"(R$23*$R323)+$Q323","v":{"v":0,"d":"0%"}},{"v":0,"d":"0%"},{"v":0,"d":"0%"},{"v":0,"d":"0%"},{"v":0,"d":"0%"},{"v":0,"d":"0%"},{"v":0,"d":"0%"},{"v":0,"d":"0%"},{"v":0,"d":"0%"},{"v":0,"d":"0%"}]
[{"$nulls":6},"BRT",{"v":0,"d":"0%"},{"$f":"(I$23*$P324)+$O324","v":{"v":0,"d":"0%"}},{"v":0,"d":"0%"},{"v":0,"d":"0%"},{"v":0,"d":"0%"},{"v":0,"d":"0%"},{"v":0,"d":"0%"},{"v":0,"d":"0%"},{"v":0,"d":"0%"},{"v":0,"d":"0%"},{"$f":"(R$23*$R324)+$Q324","v":{"v":0,"d":"0%"}},{"v":0,"d":"0%"},{"v":0,"d":"0%"},{"v":0,"d":"0%"},{"v":0,"d":"0%"},{"v":0,"d":"0%"},{"v":0,"d":"0%"},{"v":0,"d":"0%"},{"v":0,"d":"0%"},{"v":0,"d":"0%"}]
[]
[{"$nulls":6},"CNG VKT"]
[{"$nulls":7},{"$f":"H329","v":0},{"$f":"I329","v":1},2,3,4,5,6,7,8,9,10,11,12,13,14,15,16,17,18,19]
[{"$nulls":5},"NO BRT",{"$f":"G330","v":"Cars"},{"$f":"H123*H330","v":0},{"$f":"I123*I330","v":0},0,0,0,0,0,0,0,0,0,0,0,0,0,0,0,0,0,0]
[{"$nulls":6},{"$f":"G331","v":"2-wheeler"},{"$f":"H124*H331","v":0},0,0,0,0,0,0,0,0,0,0,0,0,0,0,0,0,0,0,0]
[{"$nulls":6},"Taxi",0,0,0,0,0,0,0,0,0,0,0,0,0,0,0,0,0,0,0,0]
[{"$nulls":6},"",0,0,0,0,0,0,0,0,0,0,0,0,0,0,0,0,0,0,0,0]
[{"$nulls":6},"",0,0,0,0,0,0,0,0,0,0,0,0,0,0,0,0,0,0,0,0]
[{"$nulls":6},"3-wheeler",0,0,0,0,0,0,0,0,0,0,0,0,0,0,0,0,0,0,0,0]
[{"$nulls":6},"Bus",0,0,0,0,0,0,0,0,0,0,0,0,0,0,0,0,0,0,0,0]
[{"$nulls":6},"Mini-bus",0,0,0,0,0,0,0,0,0,0,0,0,0,0,0,0,0,0,0,0]
[{"$nulls":6},"",0,0,0,0,0,0,0,0,0,0,0,0,0,0,0,0,0,0,0,0]
[{"$nulls":6},"",0,0,0,0,0,0,0,0,0,0,0,0,0,0,0,0,0,0,0,0]
[{"$nulls":6},"BRT",0,0,0,0,0,0,0,0,0,0,0,0,0,0,0,0,0,0,0,0]
[]
[]
[{"$nulls":6},"Electric VKT"]
[{"$nulls":10},"Fuel Split"]
[{"$nulls":10},"Column",7,14,null,"1st",null,"2nd"]
[{"$nulls":10},{"$f":"H376","v":0},{"$f":"Q376","v":9},{"$f":"AA376","v":19},null,"intercept","slope","intercept","slope",null,{"$f":"K360","v":0},{"$f":"L360","v":9},{"$f":"M360","v":19},null,"1st","2nd"]
[{"$nulls":5},"NO BRT",{"$f":"G314","v":"Car"},{"$nulls":3},{"$f":"'IF Factors'!I9","v":{"v":0,"d":"0%"}},{"$f":"OFFSET('IF Factors'!I9,0,$L$171)","v":{"v":0,"d":"0%"}},{"$f":"OFFSET('IF Factors'!I9,0,$M$171)","v":{"v":0,"d":"0%"}},null,{"$f":"INTERCEPT(K361:L361,$K$7:$L$7)","v":0},{"$f":"SLOPE(K361:L361,$K$7:$L$7)","v":0},{"$f":"INTERCEPT(L361:M361,$L$7:$M$7)","v":0},{"$f":"SLOPE(L361:M361,$L$7:$M$7)","v":0},null,{"$f":"IF(K361<>0,0,1)","v":1},{"$f":"IF(L361<>0,0,1)","v":1},{"$f":"IF(M361<>0,0,1)","v":1},null,{"$f":"IF(T361+U361=1,1,0)","v":0},{"$f":"IF(U361+V361=1,1,0)","v":0}]
[{"$nulls":6},{"$f":"G315","v":"2-wheeler"},{"$nulls":3},{"$f":"'IF Factors'!I10","v":{"v":0,"d":"0%"}},{"$f":"OFFSET('IF Factors'!I10,0,$L$171)","v":{"v":0,"d":"0%"}},{"$f":"OFFSET('IF Factors'!I10,0,$M$171)","v":{"v":0,"d":"0%"}},null,{"$f":"INTERCEPT(K362:L362,$K$7:$L$7)","v":0},{"$f":"SLOPE(K362:L362,$K$7:$L$7)","v":0},{"$f":"INTERCEPT(L362:M362,$L$7:$M$7)","v":0},{"$f":"SLOPE(L362:M362,$L$7:$M$7)","v":0},null,{"$f":"IF(K362<>0,0,1)","v":1},{"$f":"IF(L362<>0,0,1)","v":1},{"$f":"IF(M362<>0,0,1)","v":1},null,{"$f":"IF(T362+U362=1,1,0)","v":0},0]
[{"$nulls":6},"Taxi",{"$nulls":3},{"$f":"'IF Factors'!I11","v":{"v":0,"d":"0%"}},{"$f":"OFFSET('IF Factors'!I11,0,$L$171)","v":{"v":0,"d":"0%"}},{"$f":"OFFSET('IF Factors'!I11,0,$M$171)","v":{"v":0,"d":"0%"}},null,0,0,0,0,null,1,1,1,null,0,0]
[{"$nulls":6},"",{"$nulls":3},{"$f":"'IF Factors'!I12","v":{"v":0,"d":"0%"}},{"$f":"OFFSET('IF Factors'!I12,0,$L$171)","v":{"v":0,"d":"0%"}},{"$f":"OFFSET('IF Factors'!I12,0,$M$171)","v":{"v":0,"d":"0%"}},null,0,0,0,0,null,1,1,1,null,0,0]
[{"$nulls":6},"",{"$nulls":3},{"$f":"'IF Factors'!I13","v":{"v":0,"d":"0%"}},{"$f":"OFFSET('IF Factors'!I13,0,$L$171)","v":{"v":0,"d":"0%"}},{"$f":"OFFSET('IF Factors'!I13,0,$M$171)","v":{"v":0,"d":"0%"}},null,0,0,0,0,null,1,1,1,null,0,0]
[{"$nulls":6},"3-wheeler",{"$nulls":3},{"$f":"'IF Factors'!I14","v":{"v":0,"d":"0%"}},{"$f":"OFFSET('IF Factors'!I14,0,$L$171)","v":{"v":0,"d":"0%"}},{"$f":"OFFSET('IF Factors'!I14,0,$M$171)","v":{"v":0,"d":"0%"}},null,0,0,0,0,null,1,1,1,null,0,0]
[{"$nulls":6},"Bus",{"$nulls":3},{"$f":"'IF Factors'!I15","v":{"v":0,"d":"0%"}},{"$f":"OFFSET('IF Factors'!I15,0,$L$171)","v":{"v":0,"d":"0%"}},{"$f":"OFFSET('IF Factors'!I15,0,$M$171)","v":{"v":0,"d":"0%"}},null,0,0,0,0,null,1,1,1,null,0,0]
[{"$nulls":6},"Mini-bus",{"$nulls":3},{"$f":"'IF Factors'!I16","v":{"v":0,"d":"0%"}},{"$f":"OFFSET('IF Factors'!I16,0,$L$171)","v":{"v":0,"d":"0%"}},{"$f":"OFFSET('IF Factors'!I16,0,$M$171)","v":{"v":0,"d":"0%"}},null,0,0,0,0,null,1,1,1,null,0,0]
[{"$nulls":6},"",{"$nulls":3},{"$f":"'IF Factors'!I17","v":{"v":0,"d":"0%"}},{"$f":"OFFSET('IF Factors'!I17,0,$L$171)","v":{"v":0,"d":"0%"}},{"$f":"OFFSET('IF Factors'!I17,0,$M$171)","v":{"v":0,"d":"0%"}},null,0,0,0,0,null,1,1,1,null,0,0]
[{"$nulls":6},"",{"$nulls":3},{"$f":"'IF Factors'!I18","v":{"v":0,"d":"0%"}},{"$f":"OFFSET('IF Factors'!I18,0,$L$171)","v":{"v":0,"d":"0%"}},{"$f":"OFFSET('IF Factors'!I18,0,$M$171)","v":{"v":0,"d":"0%"}},null,0,0,0,0,null,1,1,1,null,0,0]
[{"$nulls":6},"BRT",{"$nulls":3},{"$f":"'IF Factors'!I19","v":{"v":0,"d":"0%"}},{"$f":"OFFSET('IF Factors'!I19,0,$L$171)","v":{"v":0,"d":"0%"}},{"$f":"OFFSET('IF Factors'!I19,0,$M$171)","v":{"v":0,"d":"0%"}},null,0,0,0,0,null,1,1,1,null,0,0]
[]
[]
[]
[{"$nulls":6},"%"]
[{"$nulls":7},{"$f":"H343","v":0},{"$f":"I343","v":1},2,3,4,5,6,7,8,9,10,11,12,13,14,15,16,17,18,19]
[{"$nulls":5},"NO BRT",{"$f":"G344","v":"Cars"},{"$f":"K361","v":{"v":0,"d":"0%"}},{"$f":"(I$23*$P361)+$O361","v":{"v":0,"d":"0%"}},{"$f":"(J$23*$P361)+$O361","v":{"v":0,"d":"0%"}},{"v":0,"d":"0%"},{"v":0,"d":"0%"},{"v":0,"d":"0%"},{"v":0,"d":"0%"},{"v":0,"d":"0%"},{"v":0,"d":"0%"},{"$f":"L361","v":{"v":0,"d":"0%"}},{"$f":"(R$23*$R361)+$Q361","v":{"v":0,"d":"0%"}},{"$f":"(S$23*$R361)+$Q361","v":{"v":0,"d":"0%"}},{"v":0,"d":"0%"},{"v":0,"d":"0%"},{"v":0,"d":"0%"},{"v":0,"d":"0%"},{"v":0,"d":"0%"},{"v":0,"d":"0%"},{"v":0,"d":"0%"},{"$f":"M361","v":{"v":0,"d":"0%"}}]
[{"$nulls":6},{"$f":"G345","v":"2-wheeler"},{"$f":"K362","v":{"v":0,"d":"0%"}},{"$f":"(I$23*$P362)+$O362","v":{"v":0,"d":"0%"}},{"v":0,"d":"0%"},{"v":0,"d":"0%"},{"v":0,"d":"0%"},{"v":0,"d":"0%"},{"v":0,"d":"0%"},{"v":0,"d":"0%"},{"v":0,"d":"0%"},{"$f":"L362","v":{"v":0,"d":"0%"}},{"$f":"(R$23*$R362)+$Q362","v":{"v":0,"d":"0%"}},{"v":0,"d":"0%"},{"v":0,"d":"0%"},{"v":0,"d":"0%"},{"v":0,"d":"0%"},{"v":0,"d":"0%"},{"v":0,"d":"0%"},{"v":0,"d":"0%"},{"v":0,"d":"0%"},{"$f":"M362","v":{"v":0,"d":"0%"}}]
[{"$nulls":6},"Taxi",{"v":0,"d":"0%"},{"$f":"(I$23*$P363)+$O363","v":{"v":0,"d":"0%"}},{"v":0,"d":"0%"},{"v":0,"d":"0%"},{"v":0,"d":"0%"},{"v":0,"d":"0%"},{"v":0,"d":"0%"},{"v":0,"d":"0%"},{"v":0,"d":"0%"},{"v":0,"d":"0%"},{"$f":"(R$23*$R363)+$Q363","v":{"v":0,"d":"0%"}},{"v":0,"d":"0%"},{"v":0,"d":"0%"},{"v":0,"d":"0%"},{"v":0,"d":"0%"},{"v":0,"d":"0%"},{"v":0,"d":"0%"},{"v":0,"d":"0%"},{"v":0,"d":"0%"},{"v":0,"d":"0%"}]
[{"$nulls":6},"",{"v":0,"d":"0%"},{"$f":"(I$23*$P364)+$O364","v":{"v":0,"d":"0%"}},{"v":0,"d":"0%"},{"v":0,"d":"0%"},{"v":0,"d":"0%"},{"v":0,"d":"0%"},{"v":0,"d":"0%"},{"v":0,"d":"0%"},{"v":0,"d":"0%"},{"v":0,"d":"0%"},{"$f":"(R$23*$R364)+$Q364","v":{"v":0,"d":"0%"}},{"v":0,"d":"0%"},{"v":0,"d":"0%"},{"v":0,"d":"0%"},{"v":0,"d":"0%"},{"v":0,"d":"0%"},{"v":0,"d":"0%"},{"v":0,"d":"0%"},{"v":0,"d":"0%"},{"v":0,"d":"0%"}]
[{"$nulls":6},"",{"v":0,"d":"0%"},{"$f":"(I$23*$P365)+$O365","v":{"v":0,"d":"0%"}},{"v":0,"d":"0%"},{"v":0,"d":"0%"},{"v":0,"d":"0%"},{"v":0,"d":"0%"},{"v":0,"d":"0%"},{"v":0,"d":"0%"},{"v":0,"d":"0%"},{"v":0,"d":"0%"},{"$f":"(R$23*$R365)+$Q365","v":{"v":0,"d":"0%"}},{"v":0,"d":"0%"},{"v":0,"d":"0%"},{"v":0,"d":"0%"},{"v":0,"d":"0%"},{"v":0,"d":"0%"},{"v":0,"d":"0%"},{"v":0,"d":"0%"},{"v":0,"d":"0%"},{"v":0,"d":"0%"}]
[{"$nulls":6},"3-wheeler",{"v":0,"d":"0%"},{"$f":"(I$23*$P366)+$O366","v":{"v":0,"d":"0%"}},{"v":0,"d":"0%"},{"v":0,"d":"0%"},{"v":0,"d":"0%"},{"v":0,"d":"0%"},{"v":0,"d":"0%"},{"v":0,"d":"0%"},{"v":0,"d":"0%"},{"v":0,"d":"0%"},{"$f":"(R$23*$R366)+$Q366","v":{"v":0,"d":"0%"}},{"v":0,"d":"0%"},{"v":0,"d":"0%"},{"v":0,"d":"0%"},{"v":0,"d":"0%"},{"v":0,"d":"0%"},{"v":0,"d":"0%"},{"v":0,"d":"0%"},{"v":0,"d":"0%"},{"v":0,"d":"0%"}]
[{"$nulls":6},"Bus",{"v":0,"d":"0%"},{"$f":"(I$23*$P367)+$O367","v":{"v":0,"d":"0%"}},{"v":0,"d":"0%"},{"v":0,"d":"0%"},{"v":0,"d":"0%"},{"v":0,"d":"0%"},{"v":0,"d":"0%"},{"v":0,"d":"0%"},{"v":0,"d":"0%"},{"v":0,"d":"0%"},{"$f":"(R$23*$R367)+$Q367","v":{"v":0,"d":"0%"}},{"v":0,"d":"0%"},{"v":0,"d":"0%"},{"v":0,"d":"0%"},{"v":0,"d":"0%"},{"v":0,"d":"0%"},{"v":0,"d":"0%"},{"v":0,"d":"0%"},{"v":0,"d":"0%"},{"v":0,"d":"0%"}]
[{"$nulls":6},"Mini-bus",{"v":0,"d":"0%"},{"$f":"(I$23*$P368)+$O368","v":{"v":0,"d":"0%"}},{"v":0,"d":"0%"},{"v":0,"d":"0%"},{"v":0,"d":"0%"},{"v":0,"d":"0%"},{"v":0,"d":"0%"},{"v":0,"d":"0%"},{"v":0,"d":"0%"},{"v":0,"d":"0%"},{"$f":"(R$23*$R368)+$Q368","v":{"v":0,"d":"0%"}},{"v":0,"d":"0%"},{"v":0,"d":"0%"},{"v":0,"d":"0%"},{"v":0,"d":"0%"},{"v":0,"d":"0%"},{"v":0,"d":"0%"},{"v":0,"d":"0%"},{"v":0,"d":"0%"},{"v":0,"d":"0%"}]
[{"$nulls":6},"",{"v":0,"d":"0%"},{"$f":"(I$23*$P369)+$O369","v":{"v":0,"d":"0%"}},{"v":0,"d":"0%"},{"v":0,"d":"0%"},{"v":0,"d":"0%"},{"v":0,"d":"0%"},{"v":0,"d":"0%"},{"v":0,"d":"0%"},{"v":0,"d":"0%"},{"v":0,"d":"0%"},{"$f":"(R$23*$R369)+$Q369","v":{"v":0,"d":"0%"}},{"v":0,"d":"0%"},{"v":0,"d":"0%"},{"v":0,"d":"0%"},{"v":0,"d":"0%"},{"v":0,"d":"0%"},{"v":0,"d":"0%"},{"v":0,"d":"0%"},{"v":0,"d":"0%"},{"v":0,"d":"0%"}]
[{"$nulls":6},"",{"v":0,"d":"0%"},{"$f":"(I$23*$P370)+$O370","v":{"v":0,"d":"0%"}},{"v":0,"d":"0%"},{"v":0,"d":"0%"},{"v":0,"d":"0%"},{"v":0,"d":"0%"},{"v":0,"d":"0%"},{"v":0,"d":"0%"},{"v":0,"d":"0%"},{"v":0,"d":"0%"},{"$f":"(R$23*$R370)+$Q370","v":{"v":0,"d":"0%"}},{"v":0,"d":"0%"},{"v":0,"d":"0%"},{"v":0,"d":"0%"},{"v":0,"d":"0%"},{"v":0,"d":"0%"},{"v":0,"d":"0%"},{"v":0,"d":"0%"},{"v":0,"d":"0%"},{"v":0,"d":"0%"}]
[{"$nulls":6},"BRT",{"v":0,"d":"0%"},{"$f":"(I$23*$P371)+$O371","v":{"v":0,"d":"0%"}},{"v":0,"d":"0%"},{"v":0,"d":"0%"},{"v":0,"d":"0%"},{"v":0,"d":"0%"},{"v":0,"d":"0%"},{"v":0,"d":"0%"},{"v":0,"d":"0%"},{"v":0,"d":"0%"},{"$f":"(R$23*$R371)+$Q371","v":{"v":0,"d":"0%"}},{"v":0,"d":"0%"},{"v":0,"d":"0%"},{"v":0,"d":"0%"},{"v":0,"d":"0%"},{"v":0,"d":"0%"},{"v":0,"d":"0%"},{"v":0,"d":"0%"},{"v":0,"d":"0%"},{"v":0,"d":"0%"}]
[]
[{"$nulls":6},"Electric VKT"]
[{"$nulls":7},{"$f":"H376","v":0},{"$f":"I376","v":1},2,3,4,5,6,7,8,9,10,11,12,13,14,15,16,17,18,19]
[{"$nulls":5},"NO BRT",{"$f":"G377","v":"Cars"},{"$f":"H123*H377","v":0},{"$f":"I123*I377","v":0},0,0,0,0,0,0,0,0,0,0,0,0,0,0,0,0,0,0]
[{"$nulls":6},{"$f":"G378","v":"2-wheeler"},{"$f":"H124*H378","v":0},0,0,0,0,0,0,0,0,0,0,0,0,0,0,0,0,0,0,0]
[{"$nulls":6},"Taxi",0,0,0,0,0,0,0,0,0,0,0,0,0,0,0,0,0,0,0,0]
[{"$nulls":6},"",0,0,0,0,0,0,0,0,0,0,0,0,0,0,0,0,0,0,0,0]
[{"$nulls":6},"",0,0,0,0,0,0,0,0,0,0,0,0,0,0,0,0,0,0,0,0]
[{"$nulls":6},"3-wheeler",0,0,0,0,0,0,0,0,0,0,0,0,0,0,0,0,0,0,0,0]
[{"$nulls":6},"Bus",0,0,0,0,0,0,0,0,0,0,0,0,0,0,0,0,0,0,0,0]
[{"$nulls":6},"Mini-bus",0,0,0,0,0,0,0,0,0,0,0,0,0,0,0,0,0,0,0,0]
[{"$nulls":6},"",0,0,0,0,0,0,0,0,0,0,0,0,0,0,0,0,0,0,0,0]
[{"$nulls":6},"",0,0,0,0,0,0,0,0,0,0,0,0,0,0,0,0,0,0,0,0]
[{"$nulls":6},"BRT",0,0,0,0,0,0,0,0,0,0,0,0,0,0,0,0,0,0,0,0]
[]
[]
[{"$nulls":6},{"$f":"IF('IF Factors'!J8=\"\",\"not included\",CONCATENATE('IF Factors'!J8,\"VKT\"))","v":"EthanolVKT"}]
[{"$nulls":10},"Fuel Split"]
[{"$nulls":10},"Column",7,14,null,"1st",null,"2nd"]
[{"$nulls":10},{"$f":"H423","v":0},{"$f":"Q423","v":9},{"$f":"AA423","v":19},null,"intercept","slope","intercept","slope",null,{"$f":"K407","v":0},{"$f":"L407","v":9},{"$f":"M407","v":19},null,"1st","2nd"]
[{"$nulls":5},"NO BRT",{"$f":"G361","v":"Car"},{"$nulls":3},{"$f":"'IF Factors'!J9","v":{"v":0,"d":"0%"}},{"$f":"OFFSET('IF Factors'!J9,0,$L$171)","v":{"v":0,"d":"0%"}},{"$f":"OFFSET('IF Factors'!J9,0,$M$171)","v":{"v":0,"d":"0%"}},null,{"$f":"INTERCEPT(K408:L408,$K$7:$L$7)","v":0},{"$f":"SLOPE(K408:L408,$K$7:$L$7)","v":0},{"$f":"INTERCEPT(L408:M408,$L$7:$M$7)","v":0},{"$f":"SLOPE(L408:M408,$L$7:$M$7)","v":0},null,{"$f":"IF(K408<>0,0,1)","v":1},{"$f":"IF(L408<>0,0,1)","v":1},{"$f":"IF(M408<>0,0,1)","v":1},null,{"$f":"IF(T408+U408=1,1,0)","v":0},{"$f":"IF(U408+V408=1,1,0)","v":0}]
[{"$nulls":6},{"$f":"G362","v":"2-wheeler"},{"$nulls":3},{"$f":"'IF Factors'!J10","v":{"v":0,"d":"0%"}},{"$f":"OFFSET('IF Factors'!J10,0,$L$171)","v":{"v":0,"d":"0%"}},{"$f":"OFFSET('IF Factors'!J10,0,$M$171)","v":{"v":0,"d":"0%"}},null,{"$f":"INTERCEPT(K409:L409,$K$7:$L$7)","v":0},{"$f":"SLOPE(K409:L409,$K$7:$L$7)","v":0},{"$f":"INTERCEPT(L409:M409,$L$7:$M$7)","v":0},{"$f":"SLOPE(L409:M409,$L$7:$M$7)","v":0},null,{"$f":"IF(K409<>0,0,1)","v":1},{"$f":"IF(L409<>0,0,1)","v":1},{"$f":"IF(M409<>0,0,1)","v":1},null,{"$f":"IF(T409+U409=1,1,0)","v":0},0]
[{"$nulls":6},"Taxi",{"$nulls":3},{"$f":"'IF Factors'!J11","v":{"v":0,"d":"0%"}},{"$f":"OFFSET('IF Factors'!J11,0,$L$171)","v":{"v":0,"d":"0%"}},{"$f":"OFFSET('IF Factors'!J11,0,$M$171)","v":{"v":0,"d":"0%"}},null,0,0,0,0,null,1,1,1,null,0,0]
[{"$nulls":6},"",{"$nulls":3},{"$f":"'IF Factors'!J12","v":{"v":0,"d":"0%"}},{"$f":"OFFSET('IF Factors'!J12,0,$L$171)","v":{"v":0,"d":"0%"}},{"$f":"OFFSET('IF Factors'!J12,0,$M$171)","v":{"v":0,"d":"0%"}},null,0,0,0,0,null,1,1,1,null,0,0]
[{"$nulls":6},"",{"$nulls":3},{"$f":"'IF Factors'!J13","v":{"v":0,"d":"0%"}},{"$f":"OFFSET('IF Factors'!J13,0,$L$171)","v":{"v":0,"d":"0%"}},{"$f":"OFFSET('IF Factors'!J13,0,$M$171)","v":{"v":0,"d":"0%"}},null,0,0,0,0,null,1,1,1,null,0,0]
[{"$nulls":6},"3-wheeler",{"$nulls":3},{"$f":"'IF Factors'!J14","v":{"v":0,"d":"0%"}},{"$f":"OFFSET('IF Factors'!J14,0,$L$171)","v":{"v":0,"d":"0%"}},{"$f":"OFFSET('IF Factors'!J14,0,$M$171)","v":{"v":0,"d":"0%"}},null,0,0,0,0,null,1,1,1,null,0,0]
[{"$nulls":6},"Bus",{"$nulls":3},{"$f":"'IF Factors'!J15","v":{"v":0,"d":"0%"}},{"$f":"OFFSET('IF Factors'!J15,0,$L$171)","v":{"v":0,"d":"0%"}},{"$f":"OFFSET('IF Factors'!J15,0,$M$171)","v":{"v":0,"d":"0%"}},null,0,0,0,0,null,1,1,1,null,0,0]
[{"$nulls":6},"Mini-bus",{"$nulls":3},{"$f":"'IF Factors'!J16","v":{"v":0,"d":"0%"}},{"$f":"OFFSET('IF Factors'!J16,0,$L$171)","v":{"v":0,"d":"0%"}},{"$f":"OFFSET('IF Factors'!J16,0,$M$171)","v":{"v":0,"d":"0%"}},null,0,0,0,0,null,1,1,1,null,0,0]
[{"$nulls":6},"",{"$nulls":3},{"$f":"'IF Factors'!J17","v":{"v":0,"d":"0%"}},{"$f":"OFFSET('IF Factors'!J17,0,$L$171)","v":{"v":0,"d":"0%"}},{"$f":"OFFSET('IF Factors'!J17,0,$M$171)","v":{"v":0,"d":"0%"}},null,0,0,0,0,null,1,1,1,null,0,0]
[{"$nulls":6},"",{"$nulls":3},{"$f":"'IF Factors'!J18","v":{"v":0,"d":"0%"}},{"$f":"OFFSET('IF Factors'!J18,0,$L$171)","v":{"v":0,"d":"0%"}},{"$f":"OFFSET('IF Factors'!J18,0,$M$171)","v":{"v":0,"d":"0%"}},null,0,0,0,0,null,1,1,1,null,0,0]
[{"$nulls":6},"BRT",{"$nulls":3},{"$f":"'IF Factors'!J19","v":{"v":0,"d":"0%"}},{"$f":"OFFSET('IF Factors'!J19,0,$L$171)","v":{"v":0,"d":"0%"}},{"$f":"OFFSET('IF Factors'!J19,0,$M$171)","v":{"v":0,"d":"0%"}},null,0,0,0,0,null,1,1,1,null,0,0]
[]
[]
[]
[{"$nulls":6},"%"]
[{"$nulls":7},{"$f":"H390","v":0},{"$f":"I390","v":1},2,3,4,5,6,7,8,9,10,11,12,13,14,15,16,17,18,19]
[{"$nulls":5},"NO BRT",{"$f":"G391","v":"Cars"},{"$f":"K408","v":{"v":0,"d":"0%"}},{"$f":"(I$23*$P408)+$O408","v":{"v":0,"d":"0%"}},{"$f":"(J$23*$P408)+$O408","v":{"v":0,"d":"0%"}},{"v":0,"d":"0%"},{"v":0,"d":"0%"},{"v":0,"d":"0%"},{"v":0,"d":"0%"},{"v":0,"d":"0%"},{"v":0,"d":"0%"},{"$f":"L408","v":{"v":0,"d":"0%"}},{"$f":"(R$23*$R408)+$Q408","v":{"v":0,"d":"0%"}},{"$f":"(S$23*$R408)+$Q408","v":{"v":0,"d":"0%"}},{"v":0,"d":"0%"},{"v":0,"d":"0%"},{"v":0,"d":"0%"},{"v":0,"d":"0%"},{"v":0,"d":"0%"},{"v":0,"d":"0%"},{"v":0,"d":"0%"},{"$f":"M408","v":{"v":0,"d":"0%"}}]
[{"$nulls":6},{"$f":"G392","v":"2-wheeler"},{"$f":"K409","v":{"v":0,"d":"0%"}},{"$f":"(I$23*$P409)+$O409","v":{"v":0,"d":"0%"}},{"v":0,"d":"0%"},{"v":0,"d":"0%"},{"v":0,"d":"0%"},{"v":0,"d":"0%"},{"v":0,"d":"0%"},{"v":0,"d":"0%"},{"v":0,"d":"0%"},{"$f":"L409","v":{"v":0,"d":"0%"}},{"$f":"(R$23*$R409)+$Q409","v":{"v":0,"d":"0%"}},{"v":0,"d":"0%"},{"v":0,"d":"0%"},{"v":0,"d":"0%"},{"v":0,"d":"0%"},{"v":0,"d":"0%"},{"v":0,"d":"0%"},{"v":0,"d":"0%"},{"v":0,"d":"0%"},{"$f":"M409","v":{"v":0,"d":"0%"}}]
[{"$nulls":6},"Taxi",{"v":0,"d":"0%"},{"$f":"(I$23*$P410)+$O410","v":{"v":0,"d":"0%"}},{"v":0,"d":"0%"},{"v":0,"d":"0%"},{"v":0,"d":"0%"},{"v":0,"d":"0%"},{"v":0,"d":"0%"},{"v":0,"d":"0%"},{"v":0,"d":"0%"},{"v":0,"d":"0%"},{"$f":"(R$23*$R410)+$Q410","v":{"v":0,"d":"0%"}},{"v":0,"d":"0%"},{"v":0,"d":"0%"},{"v":0,"d":"0%"},{"v":0,"d":"0%"},{"v":0,"d":"0%"},{"v":0,"d":"0%"},{"v":0,"d":"0%"},{"v":0,"d":"0%"},{"v":0,"d":"0%"}]
[{"$nulls":6},"",{"v":0,"d":"0%"},{"$f":"(I$23*$P411)+$O411","v":{"v":0,"d":"0%"}},{"v":0,"d":"0%"},{"v":0,"d":"0%"},{"v":0,"d":"0%"},{"v":0,"d":"0%"},{"v":0,"d":"0%"},{"v":0,"d":"0%"},{"v":0,"d":"0%"},{"v":0,"d":"0%"},{"$f":"(R$23*$R411)+$Q411","v":{"v":0,"d":"0%"}},{"v":0,"d":"0%"},{"v":0,"d":"0%"},{"v":0,"d":"0%"},{"v":0,"d":"0%"},{"v":0,"d":"0%"},{"v":0,"d":"0%"},{"v":0,"d":"0%"},{"v":0,"d":"0%"},{"v":0,"d":"0%"}]
[{"$nulls":6},"",{"v":0,"d":"0%"},{"$f":"(I$23*$P412)+$O412","v":{"v":0,"d":"0%"}},{"v":0,"d":"0%"},{"v":0,"d":"0%"},{"v":0,"d":"0%"},{"v":0,"d":"0%"},{"v":0,"d":"0%"},{"v":0,"d":"0%"},{"v":0,"d":"0%"},{"v":0,"d":"0%"},{"$f":"(R$23*$R412)+$Q412","v":{"v":0,"d":"0%"}},{"v":0,"d":"0%"},{"v":0,"d":"0%"},{"v":0,"d":"0%"},{"v":0,"d":"0%"},{"v":0,"d":"0%"},{"v":0,"d":"0%"},{"v":0,"d":"0%"},{"v":0,"d":"0%"},{"v":0,"d":"0%"}]
[{"$nulls":6},"3-wheeler",{"v":0,"d":"0%"},{"$f":"(I$23*$P413)+$O413","v":{"v":0,"d":"0%"}},{"v":0,"d":"0%"},{"v":0,"d":"0%"},{"v":0,"d":"0%"},{"v":0,"d":"0%"},{"v":0,"d":"0%"},{"v":0,"d":"0%"},{"v":0,"d":"0%"},{"v":0,"d":"0%"},{"$f":"(R$23*$R413)+$Q413","v":{"v":0,"d":"0%"}},{"v":0,"d":"0%"},{"v":0,"d":"0%"},{"v":0,"d":"0%"},{"v":0,"d":"0%"},{"v":0,"d":"0%"},{"v":0,"d":"0%"},{"v":0,"d":"0%"},{"v":0,"d":"0%"},{"v":0,"d":"0%"}]
[{"$nulls":6},"Bus",{"v":0,"d":"0%"},{"$f":"(I$23*$P414)+$O414","v":{"v":0,"d":"0%"}},{"v":0,"d":"0%"},{"v":0,"d":"0%"},{"v":0,"d":"0%"},{"v":0,"d":"0%"},{"v":0,"d":"0%"},{"v":0,"d":"0%"},{"v":0,"d":"0%"},{"v":0,"d":"0%"},{"$f":"(R$23*$R414)+$Q414","v":{"v":0,"d":"0%"}},{"v":0,"d":"0%"},{"v":0,"d":"0%"},{"v":0,"d":"0%"},{"v":0,"d":"0%"},{"v":0,"d":"0%"},{"v":0,"d":"0%"},{"v":0,"d":"0%"},{"v":0,"d":"0%"},{"v":0,"d":"0%"}]
[{"$nulls":6},"Mini-bus",{"v":0,"d":"0%"},{"$f":"(I$23*$P415)+$O415","v":{"v":0,"d":"0%"}},{"v":0,"d":"0%"},{"v":0,"d":"0%"},{"v":0,"d":"0%"},{"v":0,"d":"0%"},{"v":0,"d":"0%"},{"v":0,"d":"0%"},{"v":0,"d":"0%"},{"v":0,"d":"0%"},{"$f":"(R$23*$R415)+$Q415","v":{"v":0,"d":"0%"}},{"v":0,"d":"0%"},{"v":0,"d":"0%"},{"v":0,"d":"0%"},{"v":0,"d":"0%"},{"v":0,"d":"0%"},{"v":0,"d":"0%"},{"v":0,"d":"0%"},{"v":0,"d":"0%"},{"v":0,"d":"0%"}]
[{"$nulls":6},"",{"v":0,"d":"0%"},{"$f":"(I$23*$P416)+$O416","v":{"v":0,"d":"0%"}},{"v":0,"d":"0%"},{"v":0,"d":"0%"},{"v":0,"d":"0%"},{"v":0,"d":"0%"},{"v":0,"d":"0%"},{"v":0,"d":"0%"},{"v":0,"d":"0%"},{"v":0,"d":"0%"},{"$f":"(R$23*$R416)+$Q416","v":{"v":0,"d":"0%"}},{"v":0,"d":"0%"},{"v":0,"d":"0%"},{"v":0,"d":"0%"},{"v":0,"d":"0%"},{"v":0,"d":"0%"},{"v":0,"d":"0%"},{"v":0,"d":"0%"},{"v":0,"d":"0%"},{"v":0,"d":"0%"}]
[{"$nulls":6},"",{"v":0,"d":"0%"},{"$f":"(I$23*$P417)+$O417","v":{"v":0,"d":"0%"}},{"v":0,"d":"0%"},{"v":0,"d":"0%"},{"v":0,"d":"0%"},{"v":0,"d":"0%"},{"v":0,"d":"0%"},{"v":0,"d":"0%"},{"v":0,"d":"0%"},{"v":0,"d":"0%"},{"$f":"(R$23*$R417)+$Q417","v":{"v":0,"d":"0%"}},{"v":0,"d":"0%"},{"v":0,"d":"0%"},{"v":0,"d":"0%"},{"v":0,"d":"0%"},{"v":0,"d":"0%"},{"v":0,"d":"0%"},{"v":0,"d":"0%"},{"v":0,"d":"0%"},{"v":0,"d":"0%"}]
[{"$nulls":6},"BRT",{"v":0,"d":"0%"},{"$f":"(I$23*$P418)+$O418","v":{"v":0,"d":"0%"}},{"v":0,"d":"0%"},{"v":0,"d":"0%"},{"v":0,"d":"0%"},{"v":0,"d":"0%"},{"v":0,"d":"0%"},{"v":0,"d":"0%"},{"v":0,"d":"0%"},{"v":0,"d":"0%"},{"$f":"(R$23*$R418)+$Q418","v":{"v":0,"d":"0%"}},{"v":0,"d":"0%"},{"v":0,"d":"0%"},{"v":0,"d":"0%"},{"v":0,"d":"0%"},{"v":0,"d":"0%"},{"v":0,"d":"0%"},{"v":0,"d":"0%"},{"v":0,"d":"0%"},{"v":0,"d":"0%"}]
[]
[{"$nulls":6},{"$f":"IF('IF Factors'!J8=\"\",\"not included\",CONCATENATE('IF Factors'!J8,\"VKT\"))","v":"EthanolVKT"}]
[{"$nulls":7},{"$f":"H423","v":0},{"$f":"I423","v":1},2,3,4,5,6,7,8,9,10,11,12,13,14,15,16,17,18,19]
[{"$nulls":5},"NO BRT",{"$f":"G424","v":"Cars"},{"$f":"H123*H424","v":0},{"$f":"I123*I424","v":0},0,0,0,0,0,0,0,0,0,0,0,0,0,0,0,0,0,0]
[{"$nulls":6},{"$f":"G425","v":"2-wheeler"},{"$f":"H124*H425","v":0},0,0,0,0,0,0,0,0,0,0,0,0,0,0,0,0,0,0,0]
[{"$nulls":6},"Taxi",0,0,0,0,0,0,0,0,0,0,0,0,0,0,0,0,0,0,0,0]
[{"$nulls":6},"",0,0,0,0,0,0,0,0,0,0,0,0,0,0,0,0,0,0,0,0]
[{"$nulls":6},"",0,0,0,0,0,0,0,0,0,0,0,0,0,0,0,0,0,0,0,0]
[{"$nulls":6},"3-wheeler",0,0,0,0,0,0,0,0,0,0,0,0,0,0,0,0,0,0,0,0]
[{"$nulls":6},"Bus",0,0,0,0,0,0,0,0,0,0,0,0,0,0,0,0,0,0,0,0]
[{"$nulls":6},"Mini-bus",0,0,0,0,0,0,0,0,0,0,0,0,0,0,0,0,0,0,0,0]
[{"$nulls":6},"",0,0,0,0,0,0,0,0,0,0,0,0,0,0,0,0,0,0,0,0]
[{"$nulls":6},"",0,0,0,0,0,0,0,0,0,0,0,0,0,0,0,0,0,0,0,0]
[{"$nulls":6},"BRT",0,0,0,0,0,0,0,0,0,0,0,0,0,0,0,0,0,0,0,0]
[]
[]
[{"$nulls":6},"Gasoline Fuel Efficiency "]
[{"$nulls":10},"Fuel Efficiency (km/unit of consumption)"]
[{"$nulls":10},"Column",7,14,null,"1st",null,"2nd"]
[{"$nulls":10},{"$f":"H470","v":0},{"$f":"Q470","v":9},{"$f":"AA470","v":19},null,"intercept","slope","intercept","slope",null,{"$f":"K454","v":0},{"$f":"L454","v":9},{"$f":"M454","v":19},null,"1st","2nd"]
[{"$nulls":5},"NO BRT",{"$f":"G438","v":"Cars"},{"$nulls":3},{"$f":"'IF Factors'!E195","v":0},{"$f":"OFFSET('IF Factors'!E195,0,$L$171)","v":0},{"$f":"OFFSET('IF Factors'!E195,0,$M$171)","v":0},null,{"$f":"INTERCEPT(K455:L455,$K$7:$L$7)","v":0},{"$f":"SLOPE(K455:L455,$K$7:$L$7)","v":0},{"$f":"INTERCEPT(L455:M455,$L$7:$M$7)","v":0},{"$f":"SLOPE(L455:M455,$L$7:$M$7)","v":0},null,{"$f":"IF(K455<>0,0,1)","v":1},{"$f":"IF(L455<>0,0,1)","v":1},{"$f":"IF(M455<>0,0,1)","v":1},null,{"$f":"IF(T455+U455=1,1,0)","v":0},{"$f":"IF(U455+V455=1,1,0)","v":0}]
[{"$nulls":6},{"$f":"G439","v":"2-wheeler"},{"$nulls":3},{"$f":"'IF Factors'!E196","v":0},{"$f":"OFFSET('IF Factors'!E196,0,$L$171)","v":0},{"$f":"OFFSET('IF Factors'!E196,0,$M$171)","v":0},null,{"$f":"INTERCEPT(K456:L456,$K$7:$L$7)","v":0},{"$f":"SLOPE(K456:L456,$K$7:$L$7)","v":0},{"$f":"INTERCEPT(L456:M456,$L$7:$M$7)","v":0},{"$f":"SLOPE(L456:M456,$L$7:$M$7)","v":0},null,{"$f":"IF(K456<>0,0,1)","v":1},{"$f":"IF(L456<>0,0,1)","v":1},{"$f":"IF(M456<>0,0,1)","v":1},null,{"$f":"IF(T456+U456=1,1,0)","v":0},0]
[{"$nulls":6},"Taxi",{"$nulls":3},{"$f":"'IF Factors'!E197","v":0},{"$f":"OFFSET('IF Factors'!E197,0,$L$171)","v":0},{"$f":"OFFSET('IF Factors'!E197,0,$M$171)","v":0},null,0,0,0,0,null,1,1,1,null,0,0]
[{"$nulls":6},"",{"$nulls":3},{"$f":"'IF Factors'!E198","v":0},{"$f":"OFFSET('IF Factors'!E198,0,$L$171)","v":0},{"$f":"OFFSET('IF Factors'!E198,0,$M$171)","v":0},null,0,0,0,0,null,1,1,1,null,0,0]
[{"$nulls":6},"",{"$nulls":3},{"$f":"'IF Factors'!E199","v":0},{"$f":"OFFSET('IF Factors'!E199,0,$L$171)","v":0},{"$f":"OFFSET('IF Factors'!E199,0,$M$171)","v":0},null,0,0,0,0,null,1,1,1,null,0,0]
[{"$nulls":6},"3-wheeler",{"$nulls":3},{"$f":"'IF Factors'!E200","v":0},{"$f":"OFFSET('IF Factors'!E200,0,$L$171)","v":0},{"$f":"OFFSET('IF Factors'!E200,0,$M$171)","v":0},null,0,0,0,0,null,1,1,1,null,0,0]
[{"$nulls":6},"Bus",{"$nulls":3},{"$f":"'IF Factors'!E201","v":0},{"$f":"OFFSET('IF Factors'!E201,0,$L$171)","v":0},{"$f":"OFFSET('IF Factors'!E201,0,$M$171)","v":0},null,0,0,0,0,null,1,1,1,null,0,0]
[{"$nulls":6},"Mini-bus",{"$nulls":3},{"$f":"'IF Factors'!E202","v":0},{"$f":"OFFSET('IF Factors'!E202,0,$L$171)","v":0},{"$f":"OFFSET('IF Factors'!E202,0,$M$171)","v":0},null,0,0,0,0,null,1,1,1,null,0,0]
[{"$nulls":6},"",{"$nulls":3},{"$f":"'IF Factors'!E203","v":0},{"$f":"OFFSET('IF Factors'!E203,0,$L$171)","v":0},{"$f":"OFFSET('IF Factors'!E203,0,$M$171)","v":0},null,0,0,0,0,null,1,1,1,null,0,0]
[{"$nulls":6},"",{"$nulls":3},{"$f":"'IF Factors'!E204","v":0},{"$f":"OFFSET('IF Factors'!E204,0,$L$171)","v":0},{"$f":"OFFSET('IF Factors'!E204,0,$M$171)","v":0},null,0,0,0,0,null,1,1,1,null,0,0]
[{"$nulls":6},"BRT",{"$nulls":3},{"$f":"'IF Factors'!E205","v":0},{"$f":"OFFSET('IF Factors'!E205,0,$L$171)","v":0},{"$f":"OFFSET('IF Factors'!E205,0,$M$171)","v":0},null,0,0,0,0,null,1,1,1,null,0,0]
[]
[]
[]
[{"$nulls":6},"Gasoline Fuel Efficiency"]
[{"$nulls":7},{"$f":"H437","v":0},{"$f":"I437","v":1},2,3,4,5,6,7,8,9,10,11,12,13,14,15,16,17,18,19]
[{"$nulls":5},"NO BRT",{"$f":"G438","v":"Cars"},{"$f":"K455","v":{"v":0,"d":"0.00"}},{"$f":"(I$23*$P455)+$O455","v":{"v":0,"d":"0.00"}},{"$f":"(J$23*$P455)+$O455","v":{"v":0,"d":"0.00"}},{"v":0,"d":"0.00"},{"v":0,"d":"0.00"},{"v":0,"d":"0.00"},{"v":0,"d":"0.00"},{"v":0,"d":"0.00"},{"v":0,"d":"0.00"},{"$f":"L455","v":{"v":0,"d":"0.00"}},{"$f":"(R$23*$R455)+$Q455","v":{"v":0,"d":"0.00"}},{"$f":"(S$23*$R455)+$Q455","v":{"v":0,"d":"0.00"}},{"v":0,"d":"0.00"},{"v":0,"d":"0.00"},{"v":0,"d":"0.00"},{"v":0,"d":"0.00"},{"v":0,"d":"0.00"},{"v":0,"d":"0.00"},{"v":0,"d":"0.00"},{"$f":"M455","v":{"v":0,"d":"0.00"}}]
[{"$nulls":6},{"$f":"G439","v":"2-wheeler"},{"$f":"K456","v":{"v":0,"d":"0.00"}},{"$f":"(I$23*$P456)+$O456","v":{"v":0,"d":"0.00"}},{"v":0,"d":"0.00"},{"v":0,"d":"0.00"},{"v":0,"d":"0.00"},{"v":0,"d":"0.00"},{"v":0,"d":"0.00"},{"v":0,"d":"0.00"},{"v":0,"d":"0.00"},{"$f":"L456","v":{"v":0,"d":"0.00"}},{"$f":"(R$23*$R456)+$Q456","v":{"v":0,"d":"0.00"}},{"v":0,"d":"0.00"},{"v":0,"d":"0.00"},{"v":0,"d":"0.00"},{"v":0,"d":"0.00"},{"v":0,"d":"0.00"},{"v":0,"d":"0.00"},{"v":0,"d":"0.00"},{"v":0,"d":"0.00"},{"$f":"M456","v":{"v":0,"d":"0.00"}}]
[{"$nulls":6},"Taxi",{"v":0,"d":"0.00"},{"$f":"(I$23*$P457)+$O457","v":{"v":0,"d":"0.00"}},{"v":0,"d":"0.00"},{"v":0,"d":"0.00"},{"v":0,"d":"0.00"},{"v":0,"d":"0.00"},{"v":0,"d":"0.00"},{"v":0,"d":"0.00"},{"v":0,"d":"0.00"},{"v":0,"d":"0.00"},{"$f":"(R$23*$R457)+$Q457","v":{"v":0,"d":"0.00"}},{"v":0,"d":"0.00"},{"v":0,"d":"0.00"},{"v":0,"d":"0.00"},{"v":0,"d":"0.00"},{"v":0,"d":"0.00"},{"v":0,"d":"0.00"},{"v":0,"d":"0.00"},{"v":0,"d":"0.00"},{"v":0,"d":"0.00"}]
[{"$nulls":6},"",{"v":0,"d":"0.00"},{"$f":"(I$23*$P458)+$O458","v":{"v":0,"d":"0.00"}},{"v":0,"d":"0.00"},{"v":0,"d":"0.00"},{"v":0,"d":"0.00"},{"v":0,"d":"0.00"},{"v":0,"d":"0.00"},{"v":0,"d":"0.00"},{"v":0,"d":"0.00"},{"v":0,"d":"0.00"},{"$f":"(R$23*$R458)+$Q458","v":{"v":0,"d":"0.00"}},{"v":0,"d":"0.00"},{"v":0,"d":"0.00"},{"v":0,"d":"0.00"},{"v":0,"d":"0.00"},{"v":0,"d":"0.00"},{"v":0,"d":"0.00"},{"v":0,"d":"0.00"},{"v":0,"d":"0.00"},{"v":0,"d":"0.00"}]
[{"$nulls":6},"",{"v":0,"d":"0.00"},{"$f":"(I$23*$P459)+$O459","v":{"v":0,"d":"0.00"}},{"v":0,"d":"0.00"},{"v":0,"d":"0.00"},{"v":0,"d":"0.00"},{"v":0,"d":"0.00"},{"v":0,"d":"0.00"},{"v":0,"d":"0.00"},{"v":0,"d":"0.00"},{"v":0,"d":"0.00"},{"$f":"(R$23*$R459)+$Q459","v":{"v":0,"d":"0.00"}},{"v":0,"d":"0.00"},{"v":0,"d":"0.00"},{"v":0,"d":"0.00"},{"v":0,"d":"0.00"},{"v":0,"d":"0.00"},{"v":0,"d":"0.00"},{"v":0,"d":"0.00"},{"v":0,"d":"0.00"},{"v":0,"d":"0.00"}]
[{"$nulls":6},"3-wheeler",{"v":0,"d":"0.00"},{"$f":"(I$23*$P460)+$O460","v":{"v":0,"d":"0.00"}},{"v":0,"d":"0.00"},{"v":0,"d":"0.00"},{"v":0,"d":"0.00"},{"v":0,"d":"0.00"},{"v":0,"d":"0.00"},{"v":0,"d":"0.00"},{"v":0,"d":"0.00"},{"v":0,"d":"0.00"},{"$f":"(R$23*$R460)+$Q460","v":{"v":0,"d":"0.00"}},{"v":0,"d":"0.00"},{"v":0,"d":"0.00"},{"v":0,"d":"0.00"},{"v":0,"d":"0.00"},{"v":0,"d":"0.00"},{"v":0,"d":"0.00"},{"v":0,"d":"0.00"},{"v":0,"d":"0.00"},{"v":0,"d":"0.00"}]
[{"$nulls":6},"Bus",{"v":0,"d":"0.00"},{"$f":"(I$23*$P461)+$O461","v":{"v":0,"d":"0.00"}},{"v":0,"d":"0.00"},{"v":0,"d":"0.00"},{"v":0,"d":"0.00"},{"v":0,"d":"0.00"},{"v":0,"d":"0.00"},{"v":0,"d":"0.00"},{"v":0,"d":"0.00"},{"v":0,"d":"0.00"},{"$f":"(R$23*$R461)+$Q461","v":{"v":0,"d":"0.00"}},{"v":0,"d":"0.00"},{"v":0,"d":"0.00"},{"v":0,"d":"0.00"},{"v":0,"d":"0.00"},{"v":0,"d":"0.00"},{"v":0,"d":"0.00"},{"v":0,"d":"0.00"},{"v":0,"d":"0.00"},{"v":0,"d":"0.00"}]
[{"$nulls":6},"Mini-bus",{"v":0,"d":"0.00"},{"$f":"(I$23*$P462)+$O462","v":{"v":0,"d":"0.00"}},{"v":0,"d":"0.00"},{"v":0,"d":"0.00"},{"v":0,"d":"0.00"},{"v":0,"d":"0.00"},{"v":0,"d":"0.00"},{"v":0,"d":"0.00"},{"v":0,"d":"0.00"},{"v":0,"d":"0.00"},{"$f":"(R$23*$R462)+$Q462","v":{"v":0,"d":"0.00"}},{"v":0,"d":"0.00"},{"v":0,"d":"0.00"},{"v":0,"d":"0.00"},{"v":0,"d":"0.00"},{"v":0,"d":"0.00"},{"v":0,"d":"0.00"},{"v":0,"d":"0.00"},{"v":0,"d":"0.00"},{"v":0,"d":"0.00"}]
[{"$nulls":6},"",{"v":0,"d":"0.00"},{"$f":"(I$23*$P463)+$O463","v":{"v":0,"d":"0.00"}},{"v":0,"d":"0.00"},{"v":0,"d":"0.00"},{"v":0,"d":"0.00"},{"v":0,"d":"0.00"},{"v":0,"d":"0.00"},{"v":0,"d":"0.00"},{"v":0,"d":"0.00"},{"v":0,"d":"0.00"},{"$f":"(R$23*$R463)+$Q463","v":{"v":0,"d":"0.00"}},{"v":0,"d":"0.00"},{"v":0,"d":"0.00"},{"v":0,"d":"0.00"},{"v":0,"d":"0.00"},{"v":0,"d":"0.00"},{"v":0,"d":"0.00"},{"v":0,"d":"0.00"},{"v":0,"d":"0.00"},{"v":0,"d":"0.00"}]
[{"$nulls":6},"",{"v":0,"d":"0.00"},{"$f":"(I$23*$P464)+$O464","v":{"v":0,"d":"0.00"}},{"v":0,"d":"0.00"},{"v":0,"d":"0.00"},{"v":0,"d":"0.00"},{"v":0,"d":"0.00"},{"v":0,"d":"0.00"},{"v":0,"d":"0.00"},{"v":0,"d":"0.00"},{"v":0,"d":"0.00"},{"$f":"(R$23*$R464)+$Q464","v":{"v":0,"d":"0.00"}},{"v":0,"d":"0.00"},{"v":0,"d":"0.00"},{"v":0,"d":"0.00"},{"v":0,"d":"0.00"},{"v":0,"d":"0.00"},{"v":0,"d":"0.00"},{"v":0,"d":"0.00"},{"v":0,"d":"0.00"},{"v":0,"d":"0.00"}]
[{"$nulls":6},"BRT",{"v":0,"d":"0.00"},{"$f":"(I$23*$P465)+$O465","v":{"v":0,"d":"0.00"}},{"v":0,"d":"0.00"},{"v":0,"d":"0.00"},{"v":0,"d":"0.00"},{"v":0,"d":"0.00"},{"v":0,"d":"0.00"},{"v":0,"d":"0.00"},{"v":0,"d":"0.00"},{"v":0,"d":"0.00"},{"$f":"(R$23*$R465)+$Q465","v":{"v":0,"d":"0.00"}},{"v":0,"d":"0.00"},{"v":0,"d":"0.00"},{"v":0,"d":"0.00"},{"v":0,"d":"0.00"},{"v":0,"d":"0.00"},{"v":0,"d":"0.00"},{"v":0,"d":"0.00"},{"v":0,"d":"0.00"},{"v":0,"d":"0.00"}]
[]
[]
[{"$nulls":6},"Diesel fuel efficiency"]
[{"$nulls":10},"Fuel Efficiency (km/unit of consumption)"]
[{"$nulls":10},"Column",7,14,null,"1st",null,"2nd"]
[{"$nulls":10},{"$f":"H503","v":0},{"$f":"Q503","v":9},{"$f":"AA503","v":19},null,"intercept","slope","intercept","slope",null,{"$f":"K487","v":0},{"$f":"L487","v":9},{"$f":"M487","v":19},null,"1st","2nd"]
[{"$nulls":5},"NO BRT",{"$f":"G455","v":"Cars"},{"$nulls":3},{"$f":"'IF Factors'!F195","v":0},{"$f":"OFFSET('IF Factors'!F195,0,$L$171)","v":0},{"$f":"OFFSET('IF Factors'!F195,0,$M$171)","v":0},null,{"$f":"INTERCEPT(K488:L488,$K$7:$L$7)","v":0},{"$f":"SLOPE(K488:L488,$K$7:$L$7)","v":0},{"$f":"INTERCEPT(L488:M488,$L$7:$M$7)","v":0},{"$f":"SLOPE(L488:M488,$L$7:$M$7)","v":0},null,{"$f":"IF(K488<>0,0,1)","v":1},{"$f":"IF(L488<>0,0,1)","v":1},{"$f":"IF(M488<>0,0,1)","v":1},null,{"$f":"IF(T488+U488=1,1,0)","v":0},{"$f":"IF(U488+V488=1,1,0)","v":0}]
[{"$nulls":6},{"$f":"G456","v":"2-wheeler"},{"$nulls":3},{"$f":"'IF Factors'!F196","v":0},{"$f":"OFFSET('IF Factors'!F196,0,$L$171)","v":0},{"$f":"OFFSET('IF Factors'!F196,0,$M$171)","v":0},null,{"$f":"INTERCEPT(K489:L489,$K$7:$L$7)","v":0},{"$f":"SLOPE(K489:L489,$K$7:$L$7)","v":0},{"$f":"INTERCEPT(L489:M489,$L$7:$M$7)","v":0},{"$f":"SLOPE(L489:M489,$L$7:$M$7)","v":0},null,{"$f":"IF(K489<>0,0,1)","v":1},{"$f":"IF(L489<>0,0,1)","v":1},{"$f":"IF(M489<>0,0,1)","v":1},null,{"$f":"IF(T489+U489=1,1,0)","v":0},0]
[{"$nulls":6},"Taxi",{"$nulls":3},{"$f":"'IF Factors'!F197","v":0},{"$f":"OFFSET('IF Factors'!F197,0,$L$171)","v":0},{"$f":"OFFSET('IF Factors'!F197,0,$M$171)","v":0},null,0,0,0,0,null,1,1,1,null,0,0]
[{"$nulls":6},"",{"$nulls":3},{"$f":"'IF Factors'!F198","v":0},{"$f":"OFFSET('IF Factors'!F198,0,$L$171)","v":0},{"$f":"OFFSET('IF Factors'!F198,0,$M$171)","v":0},null,0,0,0,0,null,1,1,1,null,0,0]
[{"$nulls":6},"",{"$nulls":3},{"$f":"'IF Factors'!F199","v":0},{"$f":"OFFSET('IF Factors'!F199,0,$L$171)","v":0},{"$f":"OFFSET('IF Factors'!F199,0,$M$171)","v":0},null,0,0,0,0,null,1,1,1,null,0,0]
[{"$nulls":6},"3-wheeler",{"$nulls":3},{"$f":"'IF Factors'!F200","v":0},{"$f":"OFFSET('IF Factors'!F200,0,$L$171)","v":0},{"$f":"OFFSET('IF Factors'!F200,0,$M$171)","v":0},null,0,0,0,0,null,1,1,1,null,0,0]
[{"$nulls":6},"Bus",{"$nulls":3},{"$f":"'IF Factors'!F201","v":0},{"$f":"OFFSET('IF Factors'!F201,0,$L$171)","v":0},{"$f":"OFFSET('IF Factors'!F201,0,$M$171)","v":0},null,0,0,0,0,null,1,1,1,null,0,0]
[{"$nulls":6},"Mini-bus",{"$nulls":3},{"$f":"'IF Factors'!F202","v":0},{"$f":"OFFSET('IF Factors'!F202,0,$L$171)","v":0},{"$f":"OFFSET('IF Factors'!F202,0,$M$171)","v":0},null,0,0,0,0,null,1,1,1,null,0,0]
[{"$nulls":6},"",{"$nulls":3},{"$f":"'IF Factors'!F203","v":0},{"$f":"OFFSET('IF Factors'!F203,0,$L$171)","v":0},{"$f":"OFFSET('IF Factors'!F203,0,$M$171)","v":0},null,0,0,0,0,null,1,1,1,null,0,0]
[{"$nulls":6},"",{"$nulls":3},{"$f":"'IF Factors'!F204","v":0},{"$f":"OFFSET('IF Factors'!F204,0,$L$171)","v":0},{"$f":"OFFSET('IF Factors'!F204,0,$M$171)","v":0},null,0,0,0,0,null,1,1,1,null,0,0]
[{"$nulls":6},"BRT",{"$nulls":3},{"$f":"'IF Factors'!F205","v":0},{"$f":"OFFSET('IF Factors'!F205,0,$L$171)","v":0},{"$f":"OFFSET('IF Factors'!F205,0,$M$171)","v":0},null,0,0,0,0,null,1,1,1,null,0,0]
[]
[]
[]
[{"$nulls":6},"Diesel fuel efficiency"]
[{"$nulls":7},{"$f":"H470","v":0},{"$f":"I470","v":1},2,3,4,5,6,7,8,9,10,11,12,13,14,15,16,17,18,19]
[{"$nulls":5},"NO BRT",{"$f":"G471","v":"Cars"},{"$f":"K488","v":{"v":0,"d":"0.00"}},{"$f":"(I$23*$P488)+$O488","v":{"v":0,"d":"0.00"}},{"$f":"(J$23*$P488)+$O488","v":{"v":0,"d":"0.00"}},{"v":0,"d":"0.00"},{"v":0,"d":"0.00"},{"v":0,"d":"0.00"},{"v":0,"d":"0.00"},{"v":0,"d":"0.00"},{"v":0,"d":"0.00"},{"$f":"L488","v":{"v":0,"d":"0.00"}},{"$f":"(R$23*$R488)+$Q488","v":{"v":0,"d":"0.00"}},{"$f":"(S$23*$R488)+$Q488","v":{"v":0,"d":"0.00"}},{"v":0,"d":"0.00"},{"v":0,"d":"0.00"},{"v":0,"d":"0.00"},{"v":0,"d":"0.00"},{"v":0,"d":"0.00"},{"v":0,"d":"0.00"},{"v":0,"d":"0.00"},{"$f":"M488","v":{"v":0,"d":"0.00"}}]
[{"$nulls":6},{"$f":"G472","v":"2-wheeler"},{"$f":"K489","v":{"v":0,"d":"0.00"}},{"$f":"(I$23*$P489)+$O489","v":{"v":0,"d":"0.00"}},{"v":0,"d":"0.00"},{"v":0,"d":"0.00"},{"v":0,"d":"0.00"},{"v":0,"d":"0.00"},{"v":0,"d":"0.00"},{"v":0,"d":"0.00"},{"v":0,"d":"0.00"},{"$f":"L489","v":{"v":0,"d":"0.00"}},{"$f":"(R$23*$R489)+$Q489","v":{"v":0,"d":"0.00"}},{"v":0,"d":"0.00"},{"v":0,"d":"0.00"},{"v":0,"d":"0.00"},{"v":0,"d":"0.00"},{"v":0,"d":"0.00"},{"v":0,"d":"0.00"},{"v":0,"d":"0.00"},{"v":0,"d":"0.00"},{"$f":"M489","v":{"v":0,"d":"0.00"}}]
[{"$nulls":6},"Taxi",{"v":0,"d":"0.00"},{"$f":"(I$23*$P490)+$O490","v":{"v":0,"d":"0.00"}},{"v":0,"d":"0.00"},{"v":0,"d":"0.00"},{"v":0,"d":"0.00"},{"v":0,"d":"0.00"},{"v":0,"d":"0.00"},{"v":0,"d":"0.00"},{"v":0,"d":"0.00"},{"v":0,"d":"0.00"},{"$f":"(R$23*$R490)+$Q490","v":{"v":0,"d":"0.00"}},{"v":0,"d":"0.00"},{"v":0,"d":"0.00"},{"v":0,"d":"0.00"},{"v":0,"d":"0.00"},{"v":0,"d":"0.00"},{"v":0,"d":"0.00"},{"v":0,"d":"0.00"},{"v":0,"d":"0.00"},{"v":0,"d":"0.00"}]
[{"$nulls":6},"",{"v":0,"d":"0.00"},{"$f":"(I$23*$P491)+$O491","v":{"v":0,"d":"0.00"}},{"v":0,"d":"0.00"},{"v":0,"d":"0.00"},{"v":0,"d":"0.00"},{"v":0,"d":"0.00"},{"v":0,"d":"0.00"},{"v":0,"d":"0.00"},{"v":0,"d":"0.00"},{"v":0,"d":"0.00"},{"$f":"(R$23*$R491)+$Q491","v":{"v":0,"d":"0.00"}},{"v":0,"d":"0.00"},{"v":0,"d":"0.00"},{"v":0,"d":"0.00"},{"v":0,"d":"0.00"},{"v":0,"d":"0.00"},{"v":0,"d":"0.00"},{"v":0,"d":"0.00"},{"v":0,"d":"0.00"},{"v":0,"d":"0.00"}]
[{"$nulls":6},"",{"v":0,"d":"0.00"},{"$f":"(I$23*$P492)+$O492","v":{"v":0,"d":"0.00"}},{"v":0,"d":"0.00"},{"v":0,"d":"0.00"},{"v":0,"d":"0.00"},{"v":0,"d":"0.00"},{"v":0,"d":"0.00"},{"v":0,"d":"0.00"},{"v":0,"d":"0.00"},{"v":0,"d":"0.00"},{"$f":"(R$23*$R492)+$Q492","v":{"v":0,"d":"0.00"}},{"v":0,"d":"0.00"},{"v":0,"d":"0.00"},{"v":0,"d":"0.00"},{"v":0,"d":"0.00"},{"v":0,"d":"0.00"},{"v":0,"d":"0.00"},{"v":0,"d":"0.00"},{"v":0,"d":"0.00"},{"v":0,"d":"0.00"}]
[{"$nulls":6},"3-wheeler",{"v":0,"d":"0.00"},{"$f":"(I$23*$P493)+$O493","v":{"v":0,"d":"0.00"}},{"v":0,"d":"0.00"},{"v":0,"d":"0.00"},{"v":0,"d":"0.00"},{"v":0,"d":"0.00"},{"v":0,"d":"0.00"},{"v":0,"d":"0.00"},{"v":0,"d":"0.00"},{"v":0,"d":"0.00"},{"$f":"(R$23*$R493)+$Q493","v":{"v":0,"d":"0.00"}},{"v":0,"d":"0.00"},{"v":0,"d":"0.00"},{"v":0,"d":"0.00"},{"v":0,"d":"0.00"},{"v":0,"d":"0.00"},{"v":0,"d":"0.00"},{"v":0,"d":"0.00"},{"v":0,"d":"0.00"},{"v":0,"d":"0.00"}]
[{"$nulls":6},"Bus",{"v":0,"d":"0.00"},{"$f":"(I$23*$P494)+$O494","v":{"v":0,"d":"0.00"}},{"v":0,"d":"0.00"},{"v":0,"d":"0.00"},{"v":0,"d":"0.00"},{"v":0,"d":"0.00"},{"v":0,"d":"0.00"},{"v":0,"d":"0.00"},{"v":0,"d":"0.00"},{"v":0,"d":"0.00"},{"$f":"(R$23*$R494)+$Q494","v":{"v":0,"d":"0.00"}},{"v":0,"d":"0.00"},{"v":0,"d":"0.00"},{"v":0,"d":"0.00"},{"v":0,"d":"0.00"},{"v":0,"d":"0.00"},{"v":0,"d":"0.00"},{"v":0,"d":"0.00"},{"v":0,"d":"0.00"},{"v":0,"d":"0.00"}]
[{"$nulls":6},"Mini-bus",{"v":0,"d":"0.00"},{"$f":"(I$23*$P495)+$O495","v":{"v":0,"d":"0.00"}},{"v":0,"d":"0.00"},{"v":0,"d":"0.00"},{"v":0,"d":"0.00"},{"v":0,"d":"0.00"},{"v":0,"d":"0.00"},{"v":0,"d":"0.00"},{"v":0,"d":"0.00"},{"v":0,"d":"0.00"},{"$f":"(R$23*$R495)+$Q495","v":{"v":0,"d":"0.00"}},{"v":0,"d":"0.00"},{"v":0,"d":"0.00"},{"v":0,"d":"0.00"},{"v":0,"d":"0.00"},{"v":0,"d":"0.00"},{"v":0,"d":"0.00"},{"v":0,"d":"0.00"},{"v":0,"d":"0.00"},{"v":0,"d":"0.00"}]
[{"$nulls":6},"",{"v":0,"d":"0.00"},{"$f":"(I$23*$P496)+$O496","v":{"v":0,"d":"0.00"}},{"v":0,"d":"0.00"},{"v":0,"d":"0.00"},{"v":0,"d":"0.00"},{"v":0,"d":"0.00"},{"v":0,"d":"0.00"},{"v":0,"d":"0.00"},{"v":0,"d":"0.00"},{"v":0,"d":"0.00"},{"$f":"(R$23*$R496)+$Q496","v":{"v":0,"d":"0.00"}},{"v":0,"d":"0.00"},{"v":0,"d":"0.00"},{"v":0,"d":"0.00"},{"v":0,"d":"0.00"},{"v":0,"d":"0.00"},{"v":0,"d":"0.00"},{"v":0,"d":"0.00"},{"v":0,"d":"0.00"},{"v":0,"d":"0.00"}]
[{"$nulls":6},"",{"v":0,"d":"0.00"},{"$f":"(I$23*$P497)+$O497","v":{"v":0,"d":"0.00"}},{"v":0,"d":"0.00"},{"v":0,"d":"0.00"},{"v":0,"d":"0.00"},{"v":0,"d":"0.00"},{"v":0,"d":"0.00"},{"v":0,"d":"0.00"},{"v":0,"d":"0.00"},{"v":0,"d":"0.00"},{"$f":"(R$23*$R497)+$Q497","v":{"v":0,"d":"0.00"}},{"v":0,"d":"0.00"},{"v":0,"d":"0.00"},{"v":0,"d":"0.00"},{"v":0,"d":"0.00"},{"v":0,"d":"0.00"},{"v":0,"d":"0.00"},{"v":0,"d":"0.00"},{"v":0,"d":"0.00"},{"v":0,"d":"0.00"}]
[{"$nulls":6},"BRT",{"v":0,"d":"0.00"},{"$f":"(I$23*$P498)+$O498","v":{"v":0,"d":"0.00"}},{"v":0,"d":"0.00"},{"v":0,"d":"0.00"},{"v":0,"d":"0.00"},{"v":0,"d":"0.00"},{"v":0,"d":"0.00"},{"v":0,"d":"0.00"},{"v":0,"d":"0.00"},{"v":0,"d":"0.00"},{"$f":"(R$23*$R498)+$Q498","v":{"v":0,"d":"0.00"}},{"v":0,"d":"0.00"},{"v":0,"d":"0.00"},{"v":0,"d":"0.00"},{"v":0,"d":"0.00"},{"v":0,"d":"0.00"},{"v":0,"d":"0.00"},{"v":0,"d":"0.00"},{"v":0,"d":"0.00"},{"v":0,"d":"0.00"}]
[]
[]
[{"$nulls":6},"LPG fuel efficiency"]
[{"$nulls":10},"Fuel Efficiency (km/unit of consumption)"]
[{"$nulls":10},"Column",7,14,null,"1st",null,"2nd"]
[{"$nulls":10},{"$f":"H536","v":0},{"$f":"Q536","v":9},{"$f":"AA536","v":19},null,"intercept","slope","intercept","slope",null,{"$f":"K520","v":0},{"$f":"L520","v":9},{"$f":"M520","v":19},null,"1st","2nd"]
[{"$nulls":5},"NO BRT",{"$f":"G488","v":"Cars"},{"$nulls":3},{"$f":"'IF Factors'!G195","v":0},{"$f":"OFFSET('IF Factors'!G195,0,$L$171)","v":0},{"$f":"OFFSET('IF Factors'!G195,0,$M$171)","v":0},null,{"$f":"INTERCEPT(K521:L521,$K$7:$L$7)","v":0},{"$f":"SLOPE(K521:L521,$K$7:$L$7)","v":0},{"$f":"INTERCEPT(L521:M521,$L$7:$M$7)","v":0},{"$f":"SLOPE(L521:M521,$L$7:$M$7)","v":0},null,{"$f":"IF(K521<>0,0,1)","v":1},{"$f":"IF(L521<>0,0,1)","v":1},{"$f":"IF(M521<>0,0,1)","v":1},null,{"$f":"IF(T521+U521=1,1,0)","v":0},{"$f":"IF(U521+V521=1,1,0)","v":0}]
[{"$nulls":6},{"$f":"G489","v":"2-wheeler"},{"$nulls":3},{"$f":"'IF Factors'!G196","v":0},{"$f":"OFFSET('IF Factors'!G196,0,$L$171)","v":0},{"$f":"OFFSET('IF Factors'!G196,0,$M$171)","v":0},null,{"$f":"INTERCEPT(K522:L522,$K$7:$L$7)","v":0},{"$f":"SLOPE(K522:L522,$K$7:$L$7)","v":0},{"$f":"INTERCEPT(L522:M522,$L$7:$M$7)","v":0},{"$f":"SLOPE(L522:M522,$L$7:$M$7)","v":0},null,{"$f":"IF(K522<>0,0,1)","v":1},{"$f":"IF(L522<>0,0,1)","v":1},{"$f":"IF(M522<>0,0,1)","v":1},null,{"$f":"IF(T522+U522=1,1,0)","v":0},0]
[{"$nulls":6},"Taxi",{"$nulls":3},{"$f":"'IF Factors'!G197","v":0},{"$f":"OFFSET('IF Factors'!G197,0,$L$171)","v":0},{"$f":"OFFSET('IF Factors'!G197,0,$M$171)","v":0},null,0,0,0,0,null,1,1,1,null,0,0]
[{"$nulls":6},"",{"$nulls":3},{"$f":"'IF Factors'!G198","v":0},{"$f":"OFFSET('IF Factors'!G198,0,$L$171)","v":0},{"$f":"OFFSET('IF Factors'!G198,0,$M$171)","v":0},null,0,0,0,0,null,1,1,1,null,0,0]
[{"$nulls":6},"",{"$nulls":3},{"$f":"'IF Factors'!G199","v":0},{"$f":"OFFSET('IF Factors'!G199,0,$L$171)","v":0},{"$f":"OFFSET('IF Factors'!G199,0,$M$171)","v":0},null,0,0,0,0,null,1,1,1,null,0,0]
[{"$nulls":6},"3-wheeler",{"$nulls":3},{"$f":"'IF Factors'!G200","v":0},{"$f":"OFFSET('IF Factors'!G200,0,$L$171)","v":0},{"$f":"OFFSET('IF Factors'!G200,0,$M$171)","v":0},null,0,0,0,0,null,1,1,1,null,0,0]
[{"$nulls":6},"Bus",{"$nulls":3},{"$f":"'IF Factors'!G201","v":0},{"$f":"OFFSET('IF Factors'!G201,0,$L$171)","v":0},{"$f":"OFFSET('IF Factors'!G201,0,$M$171)","v":0},null,0,0,0,0,null,1,1,1,null,0,0]
[{"$nulls":6},"Mini-bus",{"$nulls":3},{"$f":"'IF Factors'!G202","v":0},{"$f":"OFFSET('IF Factors'!G202,0,$L$171)","v":0},{"$f":"OFFSET('IF Factors'!G202,0,$M$171)","v":0},null,0,0,0,0,null,1,1,1,null,0,0]
[{"$nulls":6},"",{"$nulls":3},{"$f":"'IF Factors'!G203","v":0},{"$f":"OFFSET('IF Factors'!G203,0,$L$171)","v":0},{"$f":"OFFSET('IF Factors'!G203,0,$M$171)","v":0},null,0,0,0,0,null,1,1,1,null,0,0]
[{"$nulls":6},"",{"$nulls":3},{"$f":"'IF Factors'!G204","v":0},{"$f":"OFFSET('IF Factors'!G204,0,$L$171)","v":0},{"$f":"OFFSET('IF Factors'!G204,0,$M$171)","v":0},null,0,0,0,0,null,1,1,1,null,0,0]
[{"$nulls":6},"BRT",{"$nulls":3},{"$f":"'IF Factors'!G205","v":0},{"$f":"OFFSET('IF Factors'!G205,0,$L$171)","v":0},{"$f":"OFFSET('IF Factors'!G205,0,$M$171)","v":0},null,0,0,0,0,null,1,1,1,null,0,0]
[]
[]
[]
[{"$nulls":6},"LPG fuel efficiency"]
[{"$nulls":7},{"$f":"H503","v":0},{"$f":"I503","v":1},2,3,4,5,6,7,8,9,10,11,12,13,14,15,16,17,18,19]
[{"$nulls":5},"NO BRT",{"$f":"G504","v":"Cars"},{"$f":"K521","v":{"v":0,"d":"0.00"}},{"$f":"(I$23*$P521)+$O521","v":{"v":0,"d":"0.00"}},{"$f":"(J$23*$P521)+$O521","v":{"v":0,"d":"0.00"}},{"v":0,"d":"0.00"},{"v":0,"d":"0.00"},{"v":0,"d":"0.00"},{"v":0,"d":"0.00"},{"v":0,"d":"0.00"},{"v":0,"d":"0.00"},{"$f":"L521","v":{"v":0,"d":"0.00"}},{"$f":"(R$23*$R521)+$Q521","v":{"v":0,"d":"0.00"}},{"$f":"(S$23*$R521)+$Q521","v":{"v":0,"d":"0.00"}},{"v":0,"d":"0.00"},{"v":0,"d":"0.00"},{"v":0,"d":"0.00"},{"v":0,"d":"0.00"},{"v":0,"d":"0.00"},{"v":0,"d":"0.00"},{"v":0,"d":"0.00"},{"$f":"M521","v":{"v":0,"d":"0.00"}}]
[{"$nulls":6},{"$f":"G505","v":"2-wheeler"},{"$f":"K522","v":{"v":0,"d":"0.00"}},{"$f":"(I$23*$P522)+$O522","v":{"v":0,"d":"0.00"}},{"v":0,"d":"0.00"},{"v":0,"d":"0.00"},{"v":0,"d":"0.00"},{"v":0,"d":"0.00"},{"v":0,"d":"0.00"},{"v":0,"d":"0.00"},{"v":0,"d":"0.00"},{"$f":"L522","v":{"v":0,"d":"0.00"}},{"$f":"(R$23*$R522)+$Q522","v":{"v":0,"d":"0.00"}},{"v":0,"d":"0.00"},{"v":0,"d":"0.00"},{"v":0,"d":"0.00"},{"v":0,"d":"0.00"},{"v":0,"d":"0.00"},{"v":0,"d":"0.00"},{"v":0,"d":"0.00"},{"v":0,"d":"0.00"},{"$f":"M522","v":{"v":0,"d":"0.00"}}]
[{"$nulls":6},"Taxi",{"v":0,"d":"0.00"},{"$f":"(I$23*$P523)+$O523","v":{"v":0,"d":"0.00"}},{"v":0,"d":"0.00"},{"v":0,"d":"0.00"},{"v":0,"d":"0.00"},{"v":0,"d":"0.00"},{"v":0,"d":"0.00"},{"v":0,"d":"0.00"},{"v":0,"d":"0.00"},{"v":0,"d":"0.00"},{"$f":"(R$23*$R523)+$Q523","v":{"v":0,"d":"0.00"}},{"v":0,"d":"0.00"},{"v":0,"d":"0.00"},{"v":0,"d":"0.00"},{"v":0,"d":"0.00"},{"v":0,"d":"0.00"},{"v":0,"d":"0.00"},{"v":0,"d":"0.00"},{"v":0,"d":"0.00"},{"v":0,"d":"0.00"}]
[{"$nulls":6},"",{"v":0,"d":"0.00"},{"$f":"(I$23*$P524)+$O524","v":{"v":0,"d":"0.00"}},{"v":0,"d":"0.00"},{"v":0,"d":"0.00"},{"v":0,"d":"0.00"},{"v":0,"d":"0.00"},{"v":0,"d":"0.00"},{"v":0,"d":"0.00"},{"v":0,"d":"0.00"},{"v":0,"d":"0.00"},{"$f":"(R$23*$R524)+$Q524","v":{"v":0,"d":"0.00"}},{"v":0,"d":"0.00"},{"v":0,"d":"0.00"},{"v":0,"d":"0.00"},{"v":0,"d":"0.00"},{"v":0,"d":"0.00"},{"v":0,"d":"0.00"},{"v":0,"d":"0.00"},{"v":0,"d":"0.00"},{"v":0,"d":"0.00"}]
[{"$nulls":6},"",{"v":0,"d":"0.00"},{"$f":"(I$23*$P525)+$O525","v":{"v":0,"d":"0.00"}},{"v":0,"d":"0.00"},{"v":0,"d":"0.00"},{"v":0,"d":"0.00"},{"v":0,"d":"0.00"},{"v":0,"d":"0.00"},{"v":0,"d":"0.00"},{"v":0,"d":"0.00"},{"v":0,"d":"0.00"},{"$f":"(R$23*$R525)+$Q525","v":{"v":0,"d":"0.00"}},{"v":0,"d":"0.00"},{"v":0,"d":"0.00"},{"v":0,"d":"0.00"},{"v":0,"d":"0.00"},{"v":0,"d":"0.00"},{"v":0,"d":"0.00"},{"v":0,"d":"0.00"},{"v":0,"d":"0.00"},{"v":0,"d":"0.00"}]
[{"$nulls":6},"3-wheeler",{"v":0,"d":"0.00"},{"$f":"(I$23*$P526)+$O526","v":{"v":0,"d":"0.00"}},{"v":0,"d":"0.00"},{"v":0,"d":"0.00"},{"v":0,"d":"0.00"},{"v":0,"d":"0.00"},{"v":0,"d":"0.00"},{"v":0,"d":"0.00"},{"v":0,"d":"0.00"},{"v":0,"d":"0.00"},{"$f":"(R$23*$R526)+$Q526","v":{"v":0,"d":"0.00"}},{"v":0,"d":"0.00"},{"v":0,"d":"0.00"},{"v":0,"d":"0.00"},{"v":0,"d":"0.00"},{"v":0,"d":"0.00"},{"v":0,"d":"0.00"},{"v":0,"d":"0.00"},{"v":0,"d":"0.00"},{"v":0,"d":"0.00"}]
[{"$nulls":6},"Bus",{"v":0,"d":"0.00"},{"$f":"(I$23*$P527)+$O527","v":{"v":0,"d":"0.00"}},{"v":0,"d":"0.00"},{"v":0,"d":"0.00"},{"v":0,"d":"0.00"},{"v":0,"d":"0.00"},{"v":0,"d":"0.00"},{"v":0,"d":"0.00"},{"v":0,"d":"0.00"},{"v":0,"d":"0.00"},{"$f":"(R$23*$R527)+$Q527","v":{"v":0,"d":"0.00"}},{"v":0,"d":"0.00"},{"v":0,"d":"0.00"},{"v":0,"d":"0.00"},{"v":0,"d":"0.00"},{"v":0,"d":"0.00"},{"v":0,"d":"0.00"},{"v":0,"d":"0.00"},{"v":0,"d":"0.00"},{"v":0,"d":"0.00"}]
[{"$nulls":6},"Mini-bus",{"v":0,"d":"0.00"},{"$f":"(I$23*$P528)+$O528","v":{"v":0,"d":"0.00"}},{"v":0,"d":"0.00"},{"v":0,"d":"0.00"},{"v":0,"d":"0.00"},{"v":0,"d":"0.00"},{"v":0,"d":"0.00"},{"v":0,"d":"0.00"},{"v":0,"d":"0.00"},{"v":0,"d":"0.00"},{"$f":"(R$23*$R528)+$Q528","v":{"v":0,"d":"0.00"}},{"v":0,"d":"0.00"},{"v":0,"d":"0.00"},{"v":0,"d":"0.00"},{"v":0,"d":"0.00"},{"v":0,"d":"0.00"},{"v":0,"d":"0.00"},{"v":0,"d":"0.00"},{"v":0,"d":"0.00"},{"v":0,"d":"0.00"}]
[{"$nulls":6},"",{"v":0,"d":"0.00"},{"$f":"(I$23*$P529)+$O529","v":{"v":0,"d":"0.00"}},{"v":0,"d":"0.00"},{"v":0,"d":"0.00"},{"v":0,"d":"0.00"},{"v":0,"d":"0.00"},{"v":0,"d":"0.00"},{"v":0,"d":"0.00"},{"v":0,"d":"0.00"},{"v":0,"d":"0.00"},{"$f":"(R$23*$R529)+$Q529","v":{"v":0,"d":"0.00"}},{"v":0,"d":"0.00"},{"v":0,"d":"0.00"},{"v":0,"d":"0.00"},{"v":0,"d":"0.00"},{"v":0,"d":"0.00"},{"v":0,"d":"0.00"},{"v":0,"d":"0.00"},{"v":0,"d":"0.00"},{"v":0,"d":"0.00"}]
[{"$nulls":6},"",{"v":0,"d":"0.00"},{"$f":"(I$23*$P530)+$O530","v":{"v":0,"d":"0.00"}},{"v":0,"d":"0.00"},{"v":0,"d":"0.00"},{"v":0,"d":"0.00"},{"v":0,"d":"0.00"},{"v":0,"d":"0.00"},{"v":0,"d":"0.00"},{"v":0,"d":"0.00"},{"v":0,"d":"0.00"},{"$f":"(R$23*$R530)+$Q530","v":{"v":0,"d":"0.00"}},{"v":0,"d":"0.00"},{"v":0,"d":"0.00"},{"v":0,"d":"0.00"},{"v":0,"d":"0.00"},{"v":0,"d":"0.00"},{"v":0,"d":"0.00"},{"v":0,"d":"0.00"},{"v":0,"d":"0.00"},{"v":0,"d":"0.00"}]
[{"$nulls":6},"BRT",{"v":0,"d":"0.00"},{"$f":"(I$23*$P531)+$O531","v":{"v":0,"d":"0.00"}},{"v":0,"d":"0.00"},{"v":0,"d":"0.00"},{"v":0,"d":"0.00"},{"v":0,"d":"0.00"},{"v":0,"d":"0.00"},{"v":0,"d":"0.00"},{"v":0,"d":"0.00"},{"v":0,"d":"0.00"},{"$f":"(R$23*$R531)+$Q531","v":{"v":0,"d":"0.00"}},{"v":0,"d":"0.00"},{"v":0,"d":"0.00"},{"v":0,"d":"0.00"},{"v":0,"d":"0.00"},{"v":0,"d":"0.00"},{"v":0,"d":"0.00"},{"v":0,"d":"0.00"},{"v":0,"d":"0.00"},{"v":0,"d":"0.00"}]
[]
[]
[{"$nulls":6},"CNG fuel efficiency"]
[{"$nulls":10},"Fuel Efficiency (km/unit of consumption)"]
[{"$nulls":10},"Column",7,14,null,"1st",null,"2nd"]
[{"$nulls":10},{"$f":"H569","v":0},{"$f":"Q569","v":9},{"$f":"AA569","v":19},null,"intercept","slope","intercept","slope",null,{"$f":"K553","v":0},{"$f":"L553","v":9},{"$f":"M553","v":19},null,"1st","2nd"]
[{"$nulls":5},"NO BRT",{"$f":"G521","v":"Cars"},{"$nulls":3},{"$f":"'IF Factors'!H195","v":0},{"$f":"OFFSET('IF Factors'!H195,0,$L$171)","v":0},{"$f":"OFFSET('IF Factors'!H195,0,$M$171)","v":0},null,{"$f":"INTERCEPT(K554:L554,$K$7:$L$7)","v":0},{"$f":"SLOPE(K554:L554,$K$7:$L$7)","v":0},{"$f":"INTERCEPT(L554:M554,$L$7:$M$7)","v":0},{"$f":"SLOPE(L554:M554,$L$7:$M$7)","v":0},null,{"$f":"IF(K554<>0,0,1)","v":1},{"$f":"IF(L554<>0,0,1)","v":1},{"$f":"IF(M554<>0,0,1)","v":1},null,{"$f":"IF(T554+U554=1,1,0)","v":0},{"$f":"IF(U554+V554=1,1,0)","v":0}]
[{"$nulls":6},{"$f":"G522","v":"2-wheeler"},{"$nulls":3},{"$f":"'IF Factors'!H196","v":0},{"$f":"OFFSET('IF Factors'!H196,0,$L$171)","v":0},{"$f":"OFFSET('IF Factors'!H196,0,$M$171)","v":0},null,{"$f":"INTERCEPT(K555:L555,$K$7:$L$7)","v":0},{"$f":"SLOPE(K555:L555,$K$7:$L$7)","v":0},{"$f":"INTERCEPT(L555:M555,$L$7:$M$7)","v":0},{"$f":"SLOPE(L555:M555,$L$7:$M$7)","v":0},null,{"$f":"IF(K555<>0,0,1)","v":1},{"$f":"IF(L555<>0,0,1)","v":1},{"$f":"IF(M555<>0,0,1)","v":1},null,{"$f":"IF(T555+U555=1,1,0)","v":0},0]
[{"$nulls":6},"Taxi",{"$nulls":3},{"$f":"'IF Factors'!H197","v":0},{"$f":"OFFSET('IF Factors'!H197,0,$L$171)","v":0},{"$f":"OFFSET('IF Factors'!H197,0,$M$171)","v":0},null,0,0,0,0,null,1,1,1,null,0,0]
[{"$nulls":6},"",{"$nulls":3},{"$f":"'IF Factors'!H198","v":0},{"$f":"OFFSET('IF Factors'!H198,0,$L$171)","v":0},{"$f":"OFFSET('IF Factors'!H198,0,$M$171)","v":0},null,0,0,0,0,null,1,1,1,null,0,0]
[{"$nulls":6},"",{"$nulls":3},{"$f":"'IF Factors'!H199","v":0},{"$f":"OFFSET('IF Factors'!H199,0,$L$171)","v":0},{"$f":"OFFSET('IF Factors'!H199,0,$M$171)","v":0},null,0,0,0,0,null,1,1,1,null,0,0]
[{"$nulls":6},"3-wheeler",{"$nulls":3},{"$f":"'IF Factors'!H200","v":0},{"$f":"OFFSET('IF Factors'!H200,0,$L$171)","v":0},{"$f":"OFFSET('IF Factors'!H200,0,$M$171)","v":0},null,0,0,0,0,null,1,1,1,null,0,0]
[{"$nulls":6},"Bus",{"$nulls":3},{"$f":"'IF Factors'!H201","v":0},{"$f":"OFFSET('IF Factors'!H201,0,$L$171)","v":0},{"$f":"OFFSET('IF Factors'!H201,0,$M$171)","v":0},null,0,0,0,0,null,1,1,1,null,0,0]
[{"$nulls":6},"Mini-bus",{"$nulls":3},{"$f":"'IF Factors'!H202","v":0},{"$f":"OFFSET('IF Factors'!H202,0,$L$171)","v":0},{"$f":"OFFSET('IF Factors'!H202,0,$M$171)","v":0},null,0,0,0,0,null,1,1,1,null,0,0]
[{"$nulls":6},"",{"$nulls":3},{"$f":"'IF Factors'!H203","v":0},{"$f":"OFFSET('IF Factors'!H203,0,$L$171)","v":0},{"$f":"OFFSET('IF Factors'!H203,0,$M$171)","v":0},null,0,0,0,0,null,1,1,1,null,0,0]
[{"$nulls":6},"",{"$nulls":3},{"$f":"'IF Factors'!H204","v":0},{"$f":"OFFSET('IF Factors'!H204,0,$L$171)","v":0},{"$f":"OFFSET('IF Factors'!H204,0,$M$171)","v":0},null,0,0,0,0,null,1,1,1,null,0,0]
[{"$nulls":6},"BRT",{"$nulls":3},{"$f":"'IF Factors'!H205","v":0},{"$f":"OFFSET('IF Factors'!H205,0,$L$171)","v":0},{"$f":"OFFSET('IF Factors'!H205,0,$M$171)","v":0},null,0,0,0,0,null,1,1,1,null,0,0]
[]
[]
[]
[{"$nulls":6},"CNG fuel efficiency"]
[{"$nulls":7},{"$f":"H536","v":0},{"$f":"I536","v":1},2,3,4,5,6,7,8,9,10,11,12,13,14,15,16,17,18,19]
[{"$nulls":5},"NO BRT",{"$f":"G537","v":"Cars"},{"$f":"K554","v":{"v":0,"d":"0.00"}},{"$f":"(I$23*$P554)+$O554","v":{"v":0,"d":"0.00"}},{"$f":"(J$23*$P554)+$O554","v":{"v":0,"d":"0.00"}},{"v":0,"d":"0.00"},{"v":0,"d":"0.00"},{"v":0,"d":"0.00"},{"v":0,"d":"0.00"},{"v":0,"d":"0.00"},{"v":0,"d":"0.00"},{"$f":"L554","v":{"v":0,"d":"0.00"}},{"$f":"(R$23*$R554)+$Q554","v":{"v":0,"d":"0.00"}},{"$f":"(S$23*$R554)+$Q554","v":{"v":0,"d":"0.00"}},{"v":0,"d":"0.00"},{"v":0,"d":"0.00"},{"v":0,"d":"0.00"},{"v":0,"d":"0.00"},{"v":0,"d":"0.00"},{"v":0,"d":"0.00"},{"v":0,"d":"0.00"},{"$f":"M554","v":{"v":0,"d":"0.00"}}]
[{"$nulls":6},{"$f":"G538","v":"2-wheeler"},{"$f":"K555","v":{"v":0,"d":"0.00"}},{"$f":"(I$23*$P555)+$O555","v":{"v":0,"d":"0.00"}},{"v":0,"d":"0.00"},{"v":0,"d":"0.00"},{"v":0,"d":"0.00"},{"v":0,"d":"0.00"},{"v":0,"d":"0.00"},{"v":0,"d":"0.00"},{"v":0,"d":"0.00"},{"$f":"L555","v":{"v":0,"d":"0.00"}},{"$f":"(R$23*$R555)+$Q555","v":{"v":0,"d":"0.00"}},{"v":0,"d":"0.00"},{"v":0,"d":"0.00"},{"v":0,"d":"0.00"},{"v":0,"d":"0.00"},{"v":0,"d":"0.00"},{"v":0,"d":"0.00"},{"v":0,"d":"0.00"},{"v":0,"d":"0.00"},{"$f":"M555","v":{"v":0,"d":"0.00"}}]
[{"$nulls":6},"Taxi",{"v":0,"d":"0.00"},{"$f":"(I$23*$P556)+$O556","v":{"v":0,"d":"0.00"}},{"v":0,"d":"0.00"},{"v":0,"d":"0.00"},{"v":0,"d":"0.00"},{"v":0,"d":"0.00"},{"v":0,"d":"0.00"},{"v":0,"d":"0.00"},{"v":0,"d":"0.00"},{"v":0,"d":"0.00"},{"$f":"(R$23*$R556)+$Q556","v":{"v":0,"d":"0.00"}},{"v":0,"d":"0.00"},{"v":0,"d":"0.00"},{"v":0,"d":"0.00"},{"v":0,"d":"0.00"},{"v":0,"d":"0.00"},{"v":0,"d":"0.00"},{"v":0,"d":"0.00"},{"v":0,"d":"0.00"},{"v":0,"d":"0.00"}]
[{"$nulls":6},"",{"v":0,"d":"0.00"},{"$f":"(I$23*$P557)+$O557","v":{"v":0,"d":"0.00"}},{"v":0,"d":"0.00"},{"v":0,"d":"0.00"},{"v":0,"d":"0.00"},{"v":0,"d":"0.00"},{"v":0,"d":"0.00"},{"v":0,"d":"0.00"},{"v":0,"d":"0.00"},{"v":0,"d":"0.00"},{"$f":"(R$23*$R557)+$Q557","v":{"v":0,"d":"0.00"}},{"v":0,"d":"0.00"},{"v":0,"d":"0.00"},{"v":0,"d":"0.00"},{"v":0,"d":"0.00"},{"v":0,"d":"0.00"},{"v":0,"d":"0.00"},{"v":0,"d":"0.00"},{"v":0,"d":"0.00"},{"v":0,"d":"0.00"}]
[{"$nulls":6},"",{"v":0,"d":"0.00"},{"$f":"(I$23*$P558)+$O558","v":{"v":0,"d":"0.00"}},{"v":0,"d":"0.00"},{"v":0,"d":"0.00"},{"v":0,"d":"0.00"},{"v":0,"d":"0.00"},{"v":0,"d":"0.00"},{"v":0,"d":"0.00"},{"v":0,"d":"0.00"},{"v":0,"d":"0.00"},{"$f":"(R$23*$R558)+$Q558","v":{"v":0,"d":"0.00"}},{"v":0,"d":"0.00"},{"v":0,"d":"0.00"},{"v":0,"d":"0.00"},{"v":0,"d":"0.00"},{"v":0,"d":"0.00"},{"v":0,"d":"0.00"},{"v":0,"d":"0.00"},{"v":0,"d":"0.00"},{"v":0,"d":"0.00"}]
[{"$nulls":6},"3-wheeler",{"v":0,"d":"0.00"},{"$f":"(I$23*$P559)+$O559","v":{"v":0,"d":"0.00"}},{"v":0,"d":"0.00"},{"v":0,"d":"0.00"},{"v":0,"d":"0.00"},{"v":0,"d":"0.00"},{"v":0,"d":"0.00"},{"v":0,"d":"0.00"},{"v":0,"d":"0.00"},{"v":0,"d":"0.00"},{"$f":"(R$23*$R559)+$Q559","v":{"v":0,"d":"0.00"}},{"v":0,"d":"0.00"},{"v":0,"d":"0.00"},{"v":0,"d":"0.00"},{"v":0,"d":"0.00"},{"v":0,"d":"0.00"},{"v":0,"d":"0.00"},{"v":0,"d":"0.00"},{"v":0,"d":"0.00"},{"v":0,"d":"0.00"}]
[{"$nulls":6},"Bus",{"v":0,"d":"0.00"},{"$f":"(I$23*$P560)+$O560","v":{"v":0,"d":"0.00"}},{"v":0,"d":"0.00"},{"v":0,"d":"0.00"},{"v":0,"d":"0.00"},{"v":0,"d":"0.00"},{"v":0,"d":"0.00"},{"v":0,"d":"0.00"},{"v":0,"d":"0.00"},{"v":0,"d":"0.00"},{"$f":"(R$23*$R560)+$Q560","v":{"v":0,"d":"0.00"}},{"v":0,"d":"0.00"},{"v":0,"d":"0.00"},{"v":0,"d":"0.00"},{"v":0,"d":"0.00"},{"v":0,"d":"0.00"},{"v":0,"d":"0.00"},{"v":0,"d":"0.00"},{"v":0,"d":"0.00"},{"v":0,"d":"0.00"}]
[{"$nulls":6},"Mini-bus",{"v":0,"d":"0.00"},{"$f":"(I$23*$P561)+$O561","v":{"v":0,"d":"0.00"}},{"v":0,"d":"0.00"},{"v":0,"d":"0.00"},{"v":0,"d":"0.00"},{"v":0,"d":"0.00"},{"v":0,"d":"0.00"},{"v":0,"d":"0.00"},{"v":0,"d":"0.00"},{"v":0,"d":"0.00"},{"$f":"(R$23*$R561)+$Q561","v":{"v":0,"d":"0.00"}},{"v":0,"d":"0.00"},{"v":0,"d":"0.00"},{"v":0,"d":"0.00"},{"v":0,"d":"0.00"},{"v":0,"d":"0.00"},{"v":0,"d":"0.00"},{"v":0,"d":"0.00"},{"v":0,"d":"0.00"},{"v":0,"d":"0.00"}]
[{"$nulls":6},"",{"v":0,"d":"0.00"},{"$f":"(I$23*$P562)+$O562","v":{"v":0,"d":"0.00"}},{"v":0,"d":"0.00"},{"v":0,"d":"0.00"},{"v":0,"d":"0.00"},{"v":0,"d":"0.00"},{"v":0,"d":"0.00"},{"v":0,"d":"0.00"},{"v":0,"d":"0.00"},{"v":0,"d":"0.00"},{"$f":"(R$23*$R562)+$Q562","v":{"v":0,"d":"0.00"}},{"v":0,"d":"0.00"},{"v":0,"d":"0.00"},{"v":0,"d":"0.00"},{"v":0,"d":"0.00"},{"v":0,"d":"0.00"},{"v":0,"d":"0.00"},{"v":0,"d":"0.00"},{"v":0,"d":"0.00"},{"v":0,"d":"0.00"}]
[{"$nulls":6},"",{"v":0,"d":"0.00"},{"$f":"(I$23*$P563)+$O563","v":{"v":0,"d":"0.00"}},{"v":0,"d":"0.00"},{"v":0,"d":"0.00"},{"v":0,"d":"0.00"},{"v":0,"d":"0.00"},{"v":0,"d":"0.00"},{"v":0,"d":"0.00"},{"v":0,"d":"0.00"},{"v":0,"d":"0.00"},{"$f":"(R$23*$R563)+$Q563","v":{"v":0,"d":"0.00"}},{"v":0,"d":"0.00"},{"v":0,"d":"0.00"},{"v":0,"d":"0.00"},{"v":0,"d":"0.00"},{"v":0,"d":"0.00"},{"v":0,"d":"0.00"},{"v":0,"d":"0.00"},{"v":0,"d":"0.00"},{"v":0,"d":"0.00"}]
[{"$nulls":6},"BRT",{"v":0,"d":"0.00"},{"$f":"(I$23*$P564)+$O564","v":{"v":0,"d":"0.00"}},{"v":0,"d":"0.00"},{"v":0,"d":"0.00"},{"v":0,"d":"0.00"},{"v":0,"d":"0.00"},{"v":0,"d":"0.00"},{"v":0,"d":"0.00"},{"v":0,"d":"0.00"},{"v":0,"d":"0.00"},{"$f":"(R$23*$R564)+$Q564","v":{"v":0,"d":"0.00"}},{"v":0,"d":"0.00"},{"v":0,"d":"0.00"},{"v":0,"d":"0.00"},{"v":0,"d":"0.00"},{"v":0,"d":"0.00"},{"v":0,"d":"0.00"},{"v":0,"d":"0.00"},{"v":0,"d":"0.00"},{"v":0,"d":"0.00"}]
[]
[]
[{"$nulls":6},"Electric fuel efficiency"]
[{"$nulls":10},"Fuel Efficiency (km/unit of consumption)"]
[{"$nulls":10},"Column",7,14,null,"1st",null,"2nd"]
[{"$nulls":10},{"$f":"H602","v":0},{"$f":"Q602","v":9},{"$f":"AA602","v":19},null,"intercept","slope","intercept","slope",null,{"$f":"K586","v":0},{"$f":"L586","v":9},{"$f":"M586","v":19},null,"1st","2nd"]
[{"$nulls":5},"NO BRT",{"$f":"G554","v":"Cars"},{"$nulls":3},{"$f":"'IF Factors'!I195","v":0},{"$f":"OFFSET('IF Factors'!I195,0,$L$171)","v":0},{"$f":"OFFSET('IF Factors'!I195,0,$M$171)","v":0},null,{"$f":"INTERCEPT(K587:L587,$K$7:$L$7)","v":0},{"$f":"SLOPE(K587:L587,$K$7:$L$7)","v":0},{"$f":"INTERCEPT(L587:M587,$L$7:$M$7)","v":0},{"$f":"SLOPE(L587:M587,$L$7:$M$7)","v":0},null,{"$f":"IF(K587<>0,0,1)","v":1},{"$f":"IF(L587<>0,0,1)","v":1},{"$f":"IF(M587<>0,0,1)","v":1},null,{"$f":"IF(T587+U587=1,1,0)","v":0},{"$f":"IF(U587+V587=1,1,0)","v":0}]
[{"$nulls":6},{"$f":"G555","v":"2-wheeler"},{"$nulls":3},{"$f":"'IF Factors'!I196","v":0},{"$f":"OFFSET('IF Factors'!I196,0,$L$171)","v":0},{"$f":"OFFSET('IF Factors'!I196,0,$M$171)","v":0},null,{"$f":"INTERCEPT(K588:L588,$K$7:$L$7)","v":0},{"$f":"SLOPE(K588:L588,$K$7:$L$7)","v":0},{"$f":"INTERCEPT(L588:M588,$L$7:$M$7)","v":0},{"$f":"SLOPE(L588:M588,$L$7:$M$7)","v":0},null,{"$f":"IF(K588<>0,0,1)","v":1},{"$f":"IF(L588<>0,0,1)","v":1},{"$f":"IF(M588<>0,0,1)","v":1},null,{"$f":"IF(T588+U588=1,1,0)","v":0},0]
[{"$nulls":6},"Taxi",{"$nulls":3},{"$f":"'IF Factors'!I197","v":0},{"$f":"OFFSET('IF Factors'!I197,0,$L$171)","v":0},{"$f":"OFFSET('IF Factors'!I197,0,$M$171)","v":0},null,0,0,0,0,null,1,1,1,null,0,0]
[{"$nulls":6},"",{"$nulls":3},{"$f":"'IF Factors'!I198","v":0},{"$f":"OFFSET('IF Factors'!I198,0,$L$171)","v":0},{"$f":"OFFSET('IF Factors'!I198,0,$M$171)","v":0},null,0,0,0,0,null,1,1,1,null,0,0]
[{"$nulls":6},"",{"$nulls":3},{"$f":"'IF Factors'!I199","v":0},{"$f":"OFFSET('IF Factors'!I199,0,$L$171)","v":0},{"$f":"OFFSET('IF Factors'!I199,0,$M$171)","v":0},null,0,0,0,0,null,1,1,1,null,0,0]
[{"$nulls":6},"3-wheeler",{"$nulls":3},{"$f":"'IF Factors'!I200","v":0},{"$f":"OFFSET('IF Factors'!I200,0,$L$171)","v":0},{"$f":"OFFSET('IF Factors'!I200,0,$M$171)","v":0},null,0,0,0,0,null,1,1,1,null,0,0]
[{"$nulls":6},"Bus",{"$nulls":3},{"$f":"'IF Factors'!I201","v":0},{"$f":"OFFSET('IF Factors'!I201,0,$L$171)","v":0},{"$f":"OFFSET('IF Factors'!I201,0,$M$171)","v":0},null,0,0,0,0,null,1,1,1,null,0,0]
[{"$nulls":6},"Mini-bus",{"$nulls":3},{"$f":"'IF Factors'!I202","v":0},{"$f":"OFFSET('IF Factors'!I202,0,$L$171)","v":0},{"$f":"OFFSET('IF Factors'!I202,0,$M$171)","v":0},null,0,0,0,0,null,1,1,1,null,0,0]
[{"$nulls":6},"",{"$nulls":3},{"$f":"'IF Factors'!I203","v":0},{"$f":"OFFSET('IF Factors'!I203,0,$L$171)","v":0},{"$f":"OFFSET('IF Factors'!I203,0,$M$171)","v":0},null,0,0,0,0,null,1,1,1,null,0,0]
[{"$nulls":6},"",{"$nulls":3},{"$f":"'IF Factors'!I204","v":0},{"$f":"OFFSET('IF Factors'!I204,0,$L$171)","v":0},{"$f":"OFFSET('IF Factors'!I204,0,$M$171)","v":0},null,0,0,0,0,null,1,1,1,null,0,0]
[{"$nulls":6},"BRT",{"$nulls":3},{"$f":"'IF Factors'!I205","v":0},{"$f":"OFFSET('IF Factors'!I205,0,$L$171)","v":0},{"$f":"OFFSET('IF Factors'!I205,0,$M$171)","v":0},null,0,0,0,0,null,1,1,1,null,0,0]
[]
[]
[]
[{"$nulls":6},"Electric fuel efficiency"]
[{"$nulls":7},{"$f":"H569","v":0},{"$f":"I569","v":1},2,3,4,5,6,7,8,9,10,11,12,13,14,15,16,17,18,19]
[{"$nulls":5},"NO BRT",{"$f":"G570","v":"Cars"},{"$f":"K587","v":{"v":0,"d":"0.00"}},{"$f":"(I$23*$P587)+$O587","v":{"v":0,"d":"0.00"}},{"$f":"(J$23*$P587)+$O587","v":{"v":0,"d":"0.00"}},{"v":0,"d":"0.00"},{"v":0,"d":"0.00"},{"v":0,"d":"0.00"},{"v":0,"d":"0.00"},{"v":0,"d":"0.00"},{"v":0,"d":"0.00"},{"$f":"L587","v":{"v":0,"d":"0.00"}},{"$f":"(R$23*$R587)+$Q587","v":{"v":0,"d":"0.00"}},{"$f":"(S$23*$R587)+$Q587","v":{"v":0,"d":"0.00"}},{"v":0,"d":"0.00"},{"v":0,"d":"0.00"},{"v":0,"d":"0.00"},{"v":0,"d":"0.00"},{"v":0,"d":"0.00"},{"v":0,"d":"0.00"},{"v":0,"d":"0.00"},{"$f":"M587","v":{"v":0,"d":"0.00"}}]
[{"$nulls":6},{"$f":"G571","v":"2-wheeler"},{"$f":"K588","v":{"v":0,"d":"0.00"}},{"$f":"(I$23*$P588)+$O588","v":{"v":0,"d":"0.00"}},{"v":0,"d":"0.00"},{"v":0,"d":"0.00"},{"v":0,"d":"0.00"},{"v":0,"d":"0.00"},{"v":0,"d":"0.00"},{"v":0,"d":"0.00"},{"v":0,"d":"0.00"},{"$f":"L588","v":{"v":0,"d":"0.00"}},{"$f":"(R$23*$R588)+$Q588","v":{"v":0,"d":"0.00"}},{"v":0,"d":"0.00"},{"v":0,"d":"0.00"},{"v":0,"d":"0.00"},{"v":0,"d":"0.00"},{"v":0,"d":"0.00"},{"v":0,"d":"0.00"},{"v":0,"d":"0.00"},{"v":0,"d":"0.00"},{"$f":"M588","v":{"v":0,"d":"0.00"}}]
[{"$nulls":6},"Taxi",{"v":0,"d":"0.00"},{"$f":"(I$23*$P589)+$O589","v":{"v":0,"d":"0.00"}},{"v":0,"d":"0.00"},{"v":0,"d":"0.00"},{"v":0,"d":"0.00"},{"v":0,"d":"0.00"},{"v":0,"d":"0.00"},{"v":0,"d":"0.00"},{"v":0,"d":"0.00"},{"v":0,"d":"0.00"},{"$f":"(R$23*$R589)+$Q589","v":{"v":0,"d":"0.00"}},{"v":0,"d":"0.00"},{"v":0,"d":"0.00"},{"v":0,"d":"0.00"},{"v":0,"d":"0.00"},{"v":0,"d":"0.00"},{"v":0,"d":"0.00"},{"v":0,"d":"0.00"},{"v":0,"d":"0.00"},{"v":0,"d":"0.00"}]
[{"$nulls":6},"",{"v":0,"d":"0.00"},{"$f":"(I$23*$P590)+$O590","v":{"v":0,"d":"0.00"}},{"v":0,"d":"0.00"},{"v":0,"d":"0.00"},{"v":0,"d":"0.00"},{"v":0,"d":"0.00"},{"v":0,"d":"0.00"},{"v":0,"d":"0.00"},{"v":0,"d":"0.00"},{"v":0,"d":"0.00"},{"$f":"(R$23*$R590)+$Q590","v":{"v":0,"d":"0.00"}},{"v":0,"d":"0.00"},{"v":0,"d":"0.00"},{"v":0,"d":"0.00"},{"v":0,"d":"0.00"},{"v":0,"d":"0.00"},{"v":0,"d":"0.00"},{"v":0,"d":"0.00"},{"v":0,"d":"0.00"},{"v":0,"d":"0.00"}]
[{"$nulls":6},"",{"v":0,"d":"0.00"},{"$f":"(I$23*$P591)+$O591","v":{"v":0,"d":"0.00"}},{"v":0,"d":"0.00"},{"v":0,"d":"0.00"},{"v":0,"d":"0.00"},{"v":0,"d":"0.00"},{"v":0,"d":"0.00"},{"v":0,"d":"0.00"},{"v":0,"d":"0.00"},{"v":0,"d":"0.00"},{"$f":"(R$23*$R591)+$Q591","v":{"v":0,"d":"0.00"}},{"v":0,"d":"0.00"},{"v":0,"d":"0.00"},{"v":0,"d":"0.00"},{"v":0,"d":"0.00"},{"v":0,"d":"0.00"},{"v":0,"d":"0.00"},{"v":0,"d":"0.00"},{"v":0,"d":"0.00"},{"v":0,"d":"0.00"}]
[{"$nulls":6},"3-wheeler",{"v":0,"d":"0.00"},{"$f":"(I$23*$P592)+$O592","v":{"v":0,"d":"0.00"}},{"v":0,"d":"0.00"},{"v":0,"d":"0.00"},{"v":0,"d":"0.00"},{"v":0,"d":"0.00"},{"v":0,"d":"0.00"},{"v":0,"d":"0.00"},{"v":0,"d":"0.00"},{"v":0,"d":"0.00"},{"$f":"(R$23*$R592)+$Q592","v":{"v":0,"d":"0.00"}},{"v":0,"d":"0.00"},{"v":0,"d":"0.00"},{"v":0,"d":"0.00"},{"v":0,"d":"0.00"},{"v":0,"d":"0.00"},{"v":0,"d":"0.00"},{"v":0,"d":"0.00"},{"v":0,"d":"0.00"},{"v":0,"d":"0.00"}]
[{"$nulls":6},"Bus",{"v":0,"d":"0.00"},{"$f":"(I$23*$P593)+$O593","v":{"v":0,"d":"0.00"}},{"v":0,"d":"0.00"},{"v":0,"d":"0.00"},{"v":0,"d":"0.00"},{"v":0,"d":"0.00"},{"v":0,"d":"0.00"},{"v":0,"d":"0.00"},{"v":0,"d":"0.00"},{"v":0,"d":"0.00"},{"$f":"(R$23*$R593)+$Q593","v":{"v":0,"d":"0.00"}},{"v":0,"d":"0.00"},{"v":0,"d":"0.00"},{"v":0,"d":"0.00"},{"v":0,"d":"0.00"},{"v":0,"d":"0.00"},{"v":0,"d":"0.00"},{"v":0,"d":"0.00"},{"v":0,"d":"0.00"},{"v":0,"d":"0.00"}]
[{"$nulls":6},"Mini-bus",{"v":0,"d":"0.00"},{"$f":"(I$23*$P594)+$O594","v":{"v":0,"d":"0.00"}},{"v":0,"d":"0.00"},{"v":0,"d":"0.00"},{"v":0,"d":"0.00"},{"v":0,"d":"0.00"},{"v":0,"d":"0.00"},{"v":0,"d":"0.00"},{"v":0,"d":"0.00"},{"v":0,"d":"0.00"},{"$f":"(R$23*$R594)+$Q594","v":{"v":0,"d":"0.00"}},{"v":0,"d":"0.00"},{"v":0,"d":"0.00"},{"v":0,"d":"0.00"},{"v":0,"d":"0.00"},{"v":0,"d":"0.00"},{"v":0,"d":"0.00"},{"v":0,"d":"0.00"},{"v":0,"d":"0.00"},{"v":0,"d":"0.00"}]
[{"$nulls":6},"",{"v":0,"d":"0.00"},{"$f":"(I$23*$P595)+$O595","v":{"v":0,"d":"0.00"}},{"v":0,"d":"0.00"},{"v":0,"d":"0.00"},{"v":0,"d":"0.00"},{"v":0,"d":"0.00"},{"v":0,"d":"0.00"},{"v":0,"d":"0.00"},{"v":0,"d":"0.00"},{"v":0,"d":"0.00"},{"$f":"(R$23*$R595)+$Q595","v":{"v":0,"d":"0.00"}},{"v":0,"d":"0.00"},{"v":0,"d":"0.00"},{"v":0,"d":"0.00"},{"v":0,"d":"0.00"},{"v":0,"d":"0.00"},{"v":0,"d":"0.00"},{"v":0,"d":"0.00"},{"v":0,"d":"0.00"},{"v":0,"d":"0.00"}]
[{"$nulls":6},"",{"v":0,"d":"0.00"},{"$f":"(I$23*$P596)+$O596","v":{"v":0,"d":"0.00"}},{"v":0,"d":"0.00"},{"v":0,"d":"0.00"},{"v":0,"d":"0.00"},{"v":0,"d":"0.00"},{"v":0,"d":"0.00"},{"v":0,"d":"0.00"},{"v":0,"d":"0.00"},{"v":0,"d":"0.00"},{"$f":"(R$23*$R596)+$Q596","v":{"v":0,"d":"0.00"}},{"v":0,"d":"0.00"},{"v":0,"d":"0.00"},{"v":0,"d":"0.00"},{"v":0,"d":"0.00"},{"v":0,"d":"0.00"},{"v":0,"d":"0.00"},{"v":0,"d":"0.00"},{"v":0,"d":"0.00"},{"v":0,"d":"0.00"}]
[{"$nulls":6},"BRT",{"v":0,"d":"0.00"},{"$f":"(I$23*$P597)+$O597","v":{"v":0,"d":"0.00"}},{"v":0,"d":"0.00"},{"v":0,"d":"0.00"},{"v":0,"d":"0.00"},{"v":0,"d":"0.00"},{"v":0,"d":"0.00"},{"v":0,"d":"0.00"},{"v":0,"d":"0.00"},{"v":0,"d":"0.00"},{"$f":"(R$23*$R597)+$Q597","v":{"v":0,"d":"0.00"}},{"v":0,"d":"0.00"},{"v":0,"d":"0.00"},{"v":0,"d":"0.00"},{"v":0,"d":"0.00"},{"v":0,"d":"0.00"},{"v":0,"d":"0.00"},{"v":0,"d":"0.00"},{"v":0,"d":"0.00"},{"v":0,"d":"0.00"}]
[]
[]
[{"$nulls":6},{"$f":"IF('IF Factors'!J8=\"\",\"not included\",CONCATENATE('IF Factors'!J8,\"Fuel efficiency\"))","v":"EthanolFuel efficiency"}]
[{"$nulls":10},"Fuel Efficiency (km/unit of consumption)"]
[{"$nulls":10},"Column",7,14,null,"1st",null,"2nd"]
[{"$nulls":10},{"$f":"H635","v":0},{"$f":"Q635","v":9},{"$f":"AA635","v":19},null,"intercept","slope","intercept","slope",null,{"$f":"K619","v":0},{"$f":"L619","v":9},{"$f":"M619","v":19},null,"1st","2nd"]
[{"$nulls":5},"NO BRT",{"$f":"G587","v":"Cars"},{"$nulls":3},{"$f":"'IF Factors'!J195","v":0},{"$f":"OFFSET('IF Factors'!J195,0,$L$171)","v":0},{"$f":"OFFSET('IF Factors'!J195,0,$M$171)","v":0},null,{"$f":"INTERCEPT(K620:L620,$K$7:$L$7)","v":0},{"$f":"SLOPE(K620:L620,$K$7:$L$7)","v":0},{"$f":"INTERCEPT(L620:M620,$L$7:$M$7)","v":0},{"$f":"SLOPE(L620:M620,$L$7:$M$7)","v":0},null,{"$f":"IF(K620<>0,0,1)","v":1},{"$f":"IF(L620<>0,0,1)","v":1},{"$f":"IF(M620<>0,0,1)","v":1},null,{"$f":"IF(T620+U620=1,1,0)","v":0},{"$f":"IF(U620+V620=1,1,0)","v":0}]
[{"$nulls":6},{"$f":"G588","v":"2-wheeler"},{"$nulls":3},{"$f":"'IF Factors'!J196","v":0},{"$f":"OFFSET('IF Factors'!J196,0,$L$171)","v":0},{"$f":"OFFSET('IF Factors'!J196,0,$M$171)","v":0},null,{"$f":"INTERCEPT(K621:L621,$K$7:$L$7)","v":0},{"$f":"SLOPE(K621:L621,$K$7:$L$7)","v":0},{"$f":"INTERCEPT(L621:M621,$L$7:$M$7)","v":0},{"$f":"SLOPE(L621:M621,$L$7:$M$7)","v":0},null,{"$f":"IF(K621<>0,0,1)","v":1},{"$f":"IF(L621<>0,0,1)","v":1},{"$f":"IF(M621<>0,0,1)","v":1},null,{"$f":"IF(T621+U621=1,1,0)","v":0},0]
[{"$nulls":6},"Taxi",{"$nulls":3},{"$f":"'IF Factors'!J197","v":0},{"$f":"OFFSET('IF Factors'!J197,0,$L$171)","v":0},{"$f":"OFFSET('IF Factors'!J197,0,$M$171)","v":0},null,0,0,0,0,null,1,1,1,null,0,0]
[{"$nulls":6},"",{"$nulls":3},{"$f":"'IF Factors'!J198","v":0},{"$f":"OFFSET('IF Factors'!J198,0,$L$171)","v":0},{"$f":"OFFSET('IF Factors'!J198,0,$M$171)","v":0},null,0,0,0,0,null,1,1,1,null,0,0]
[{"$nulls":6},"",{"$nulls":3},{"$f":"'IF Factors'!J199","v":0},{"$f":"OFFSET('IF Factors'!J199,0,$L$171)","v":0},{"$f":"OFFSET('IF Factors'!J199,0,$M$171)","v":0},null,0,0,0,0,null,1,1,1,null,0,0]
[{"$nulls":6},"3-wheeler",{"$nulls":3},{"$f":"'IF Factors'!J200","v":0},{"$f":"OFFSET('IF Factors'!J200,0,$L$171)","v":0},{"$f":"OFFSET('IF Factors'!J200,0,$M$171)","v":0},null,0,0,0,0,null,1,1,1,null,0,0]
[{"$nulls":6},"Bus",{"$nulls":3},{"$f":"'IF Factors'!J201","v":0},{"$f":"OFFSET('IF Factors'!J201,0,$L$171)","v":0},{"$f":"OFFSET('IF Factors'!J201,0,$M$171)","v":0},null,0,0,0,0,null,1,1,1,null,0,0]
[{"$nulls":6},"Mini-bus",{"$nulls":3},{"$f":"'IF Factors'!J202","v":0},{"$f":"OFFSET('IF Factors'!J202,0,$L$171)","v":0},{"$f":"OFFSET('IF Factors'!J202,0,$M$171)","v":0},null,0,0,0,0,null,1,1,1,null,0,0]
[{"$nulls":6},"",{"$nulls":3},{"$f":"'IF Factors'!J203","v":0},{"$f":"OFFSET('IF Factors'!J203,0,$L$171)","v":0},{"$f":"OFFSET('IF Factors'!J203,0,$M$171)","v":0},null,0,0,0,0,null,1,1,1,null,0,0]
[{"$nulls":6},"",{"$nulls":3},{"$f":"'IF Factors'!J204","v":0},{"$f":"OFFSET('IF Factors'!J204,0,$L$171)","v":0},{"$f":"OFFSET('IF Factors'!J204,0,$M$171)","v":0},null,0,0,0,0,null,1,1,1,null,0,0]
[{"$nulls":6},"BRT",{"$nulls":3},{"$f":"'IF Factors'!J205","v":0},{"$f":"OFFSET('IF Factors'!J205,0,$L$171)","v":0},{"$f":"OFFSET('IF Factors'!J205,0,$M$171)","v":0},null,0,0,0,0,null,1,1,1,null,0,0]
[]
[]
[]
[{"$nulls":6},{"$f":"IF('IF Factors'!J8=\"\",\"not included\",CONCATENATE('IF Factors'!J8,\"Fuel efficiency\"))","v":"EthanolFuel efficiency"}]
[{"$nulls":7},{"$f":"H602","v":0},{"$f":"I602","v":1},2,3,4,5,6,7,8,9,10,11,12,13,14,15,16,17,18,19]
[{"$nulls":5},"NO BRT",{"$f":"G603","v":"Cars"},{"$f":"K620","v":{"v":0,"d":"0.00"}},{"$f":"(I$23*$P620)+$O620","v":{"v":0,"d":"0.00"}},{"$f":"(J$23*$P620)+$O620","v":{"v":0,"d":"0.00"}},{"v":0,"d":"0.00"},{"v":0,"d":"0.00"},{"v":0,"d":"0.00"},{"v":0,"d":"0.00"},{"v":0,"d":"0.00"},{"v":0,"d":"0.00"},{"$f":"L620","v":{"v":0,"d":"0.00"}},{"$f":"(R$23*$R620)+$Q620","v":{"v":0,"d":"0.00"}},{"$f":"(S$23*$R620)+$Q620","v":{"v":0,"d":"0.00"}},{"v":0,"d":"0.00"},{"v":0,"d":"0.00"},{"v":0,"d":"0.00"},{"v":0,"d":"0.00"},{"v":0,"d":"0.00"},{"v":0,"d":"0.00"},{"v":0,"d":"0.00"},{"$f":"M620","v":{"v":0,"d":"0.00"}}]
[{"$nulls":6},{"$f":"G604","v":"2-wheeler"},{"$f":"K621","v":{"v":0,"d":"0.00"}},{"$f":"(I$23*$P621)+$O621","v":{"v":0,"d":"0.00"}},{"v":0,"d":"0.00"},{"v":0,"d":"0.00"},{"v":0,"d":"0.00"},{"v":0,"d":"0.00"},{"v":0,"d":"0.00"},{"v":0,"d":"0.00"},{"v":0,"d":"0.00"},{"$f":"L621","v":{"v":0,"d":"0.00"}},{"$f":"(R$23*$R621)+$Q621","v":{"v":0,"d":"0.00"}},{"v":0,"d":"0.00"},{"v":0,"d":"0.00"},{"v":0,"d":"0.00"},{"v":0,"d":"0.00"},{"v":0,"d":"0.00"},{"v":0,"d":"0.00"},{"v":0,"d":"0.00"},{"v":0,"d":"0.00"},{"$f":"M621","v":{"v":0,"d":"0.00"}}]
[{"$nulls":6},"Taxi",{"v":0,"d":"0.00"},{"$f":"(I$23*$P622)+$O622","v":{"v":0,"d":"0.00"}},{"v":0,"d":"0.00"},{"v":0,"d":"0.00"},{"v":0,"d":"0.00"},{"v":0,"d":"0.00"},{"v":0,"d":"0.00"},{"v":0,"d":"0.00"},{"v":0,"d":"0.00"},{"v":0,"d":"0.00"},{"$f":"(R$23*$R622)+$Q622","v":{"v":0,"d":"0.00"}},{"v":0,"d":"0.00"},{"v":0,"d":"0.00"},{"v":0,"d":"0.00"},{"v":0,"d":"0.00"},{"v":0,"d":"0.00"},{"v":0,"d":"0.00"},{"v":0,"d":"0.00"},{"v":0,"d":"0.00"},{"v":0,"d":"0.00"}]
[{"$nulls":6},"",{"v":0,"d":"0.00"},{"$f":"(I$23*$P623)+$O623","v":{"v":0,"d":"0.00"}},{"v":0,"d":"0.00"},{"v":0,"d":"0.00"},{"v":0,"d":"0.00"},{"v":0,"d":"0.00"},{"v":0,"d":"0.00"},{"v":0,"d":"0.00"},{"v":0,"d":"0.00"},{"v":0,"d":"0.00"},{"$f":"(R$23*$R623)+$Q623","v":{"v":0,"d":"0.00"}},{"v":0,"d":"0.00"},{"v":0,"d":"0.00"},{"v":0,"d":"0.00"},{"v":0,"d":"0.00"},{"v":0,"d":"0.00"},{"v":0,"d":"0.00"},{"v":0,"d":"0.00"},{"v":0,"d":"0.00"},{"v":0,"d":"0.00"}]
[{"$nulls":6},"",{"v":0,"d":"0.00"},{"$f":"(I$23*$P624)+$O624","v":{"v":0,"d":"0.00"}},{"v":0,"d":"0.00"},{"v":0,"d":"0.00"},{"v":0,"d":"0.00"},{"v":0,"d":"0.00"},{"v":0,"d":"0.00"},{"v":0,"d":"0.00"},{"v":0,"d":"0.00"},{"v":0,"d":"0.00"},{"$f":"(R$23*$R624)+$Q624","v":{"v":0,"d":"0.00"}},{"v":0,"d":"0.00"},{"v":0,"d":"0.00"},{"v":0,"d":"0.00"},{"v":0,"d":"0.00"},{"v":0,"d":"0.00"},{"v":0,"d":"0.00"},{"v":0,"d":"0.00"},{"v":0,"d":"0.00"},{"v":0,"d":"0.00"}]
[{"$nulls":6},"3-wheeler",{"v":0,"d":"0.00"},{"$f":"(I$23*$P625)+$O625","v":{"v":0,"d":"0.00"}},{"v":0,"d":"0.00"},{"v":0,"d":"0.00"},{"v":0,"d":"0.00"},{"v":0,"d":"0.00"},{"v":0,"d":"0.00"},{"v":0,"d":"0.00"},{"v":0,"d":"0.00"},{"v":0,"d":"0.00"},{"$f":"(R$23*$R625)+$Q625","v":{"v":0,"d":"0.00"}},{"v":0,"d":"0.00"},{"v":0,"d":"0.00"},{"v":0,"d":"0.00"},{"v":0,"d":"0.00"},{"v":0,"d":"0.00"},{"v":0,"d":"0.00"},{"v":0,"d":"0.00"},{"v":0,"d":"0.00"},{"v":0,"d":"0.00"}]
[{"$nulls":6},"Bus",{"v":0,"d":"0.00"},{"$f":"(I$23*$P626)+$O626","v":{"v":0,"d":"0.00"}},{"v":0,"d":"0.00"},{"v":0,"d":"0.00"},{"v":0,"d":"0.00"},{"v":0,"d":"0.00"},{"v":0,"d":"0.00"},{"v":0,"d":"0.00"},{"v":0,"d":"0.00"},{"v":0,"d":"0.00"},{"$f":"(R$23*$R626)+$Q626","v":{"v":0,"d":"0.00"}},{"v":0,"d":"0.00"},{"v":0,"d":"0.00"},{"v":0,"d":"0.00"},{"v":0,"d":"0.00"},{"v":0,"d":"0.00"},{"v":0,"d":"0.00"},{"v":0,"d":"0.00"},{"v":0,"d":"0.00"},{"v":0,"d":"0.00"}]
[{"$nulls":6},"Mini-bus",{"v":0,"d":"0.00"},{"$f":"(I$23*$P627)+$O627","v":{"v":0,"d":"0.00"}},{"v":0,"d":"0.00"},{"v":0,"d":"0.00"},{"v":0,"d":"0.00"},{"v":0,"d":"0.00"},{"v":0,"d":"0.00"},{"v":0,"d":"0.00"},{"v":0,"d":"0.00"},{"v":0,"d":"0.00"},{"$f":"(R$23*$R627)+$Q627","v":{"v":0,"d":"0.00"}},{"v":0,"d":"0.00"},{"v":0,"d":"0.00"},{"v":0,"d":"0.00"},{"v":0,"d":"0.00"},{"v":0,"d":"0.00"},{"v":0,"d":"0.00"},{"v":0,"d":"0.00"},{"v":0,"d":"0.00"},{"v":0,"d":"0.00"}]
[{"$nulls":6},"",{"v":0,"d":"0.00"},{"$f":"(I$23*$P628)+$O628","v":{"v":0,"d":"0.00"}},{"v":0,"d":"0.00"},{"v":0,"d":"0.00"},{"v":0,"d":"0.00"},{"v":0,"d":"0.00"},{"v":0,"d":"0.00"},{"v":0,"d":"0.00"},{"v":0,"d":"0.00"},{"v":0,"d":"0.00"},{"$f":"(R$23*$R628)+$Q628","v":{"v":0,"d":"0.00"}},{"v":0,"d":"0.00"},{"v":0,"d":"0.00"},{"v":0,"d":"0.00"},{"v":0,"d":"0.00"},{"v":0,"d":"0.00"},{"v":0,"d":"0.00"},{"v":0,"d":"0.00"},{"v":0,"d":"0.00"},{"v":0,"d":"0.00"}]
[{"$nulls":6},"",{"v":0,"d":"0.00"},{"$f":"(I$23*$P629)+$O629","v":{"v":0,"d":"0.00"}},{"v":0,"d":"0.00"},{"v":0,"d":"0.00"},{"v":0,"d":"0.00"},{"v":0,"d":"0.00"},{"v":0,"d":"0.00"},{"v":0,"d":"0.00"},{"v":0,"d":"0.00"},{"v":0,"d":"0.00"},{"$f":"(R$23*$R629)+$Q629","v":{"v":0,"d":"0.00"}},{"v":0,"d":"0.00"},{"v":0,"d":"0.00"},{"v":0,"d":"0.00"},{"v":0,"d":"0.00"},{"v":0,"d":"0.00"},{"v":0,"d":"0.00"},{"v":0,"d":"0.00"},{"v":0,"d":"0.00"},{"v":0,"d":"0.00"}]
[{"$nulls":6},"BRT",{"v":0,"d":"0.00"},{"$f":"(I$23*$P630)+$O630","v":{"v":0,"d":"0.00"}},{"v":0,"d":"0.00"},{"v":0,"d":"0.00"},{"v":0,"d":"0.00"},{"v":0,"d":"0.00"},{"v":0,"d":"0.00"},{"v":0,"d":"0.00"},{"v":0,"d":"0.00"},{"v":0,"d":"0.00"},{"$f":"(R$23*$R630)+$Q630","v":{"v":0,"d":"0.00"}},{"v":0,"d":"0.00"},{"v":0,"d":"0.00"},{"v":0,"d":"0.00"},{"v":0,"d":"0.00"},{"v":0,"d":"0.00"},{"v":0,"d":"0.00"},{"v":0,"d":"0.00"},{"v":0,"d":"0.00"},{"v":0,"d":"0.00"}]
[]
[]
[{"$nulls":6},"Speed"]
[]
[{"$nulls":10},"km/h",{"$nulls":3},"1st",null,"2nd"]
[{"$nulls":7},"Impact as",null,null,{"$f":"H668","v":0},{"$f":"Q668","v":9},{"$f":"AA668","v":19},null,"intercept","slope","intercept","slope",null,{"$f":"K652","v":0},{"$f":"L652","v":9},{"$f":"M652","v":19},null,"1st","2nd"]
[{"$nulls":5},"NO BRT",{"$f":"G636","v":"Cars"},{"$f":"'IF Factors'!N233","v":"Cars"},null,null,{"$f":"'IF Factors'!E233","v":0},{"$f":"'IF Factors'!F233","v":0},{"$f":"'IF Factors'!G233","v":0},null,{"$f":"INTERCEPT(K653:L653,$K$7:$L$7)","v":0},{"$f":"SLOPE(K653:L653,$K$7:$L$7)","v":0},{"$f":"INTERCEPT(L653:M653,$L$7:$M$7)","v":0},{"$f":"SLOPE(L653:M653,$L$7:$M$7)","v":0},null,{"$f":"IF(K653<>0,0,1)","v":1},{"$f":"IF(L653<>0,0,1)","v":1},{"$f":"IF(M653<>0,0,1)","v":1},null,{"$f":"IF(T653+U653=1,1,0)","v":0},{"$f":"IF(U653+V653=1,1,0)","v":0}]
[{"$nulls":6},{"$f":"G637","v":"2-wheeler"},{"$f":"'IF Factors'!N234","v":"2-wheeler"},null,null,{"$f":"'IF Factors'!E234","v":0},{"$f":"'IF Factors'!F234","v":0},{"$f":"'IF Factors'!G234","v":0},null,{"$f":"INTERCEPT(K654:L654,$K$7:$L$7)","v":0},{"$f":"SLOPE(K654:L654,$K$7:$L$7)","v":0},{"$f":"INTERCEPT(L654:M654,$L$7:$M$7)","v":0},{"$f":"SLOPE(L654:M654,$L$7:$M$7)","v":0},null,{"$f":"IF(K654<>0,0,1)","v":1},{"$f":"IF(L654<>0,0,1)","v":1},{"$f":"IF(M654<>0,0,1)","v":1},null,{"$f":"IF(T654+U654=1,1,0)","v":0},0]
[{"$nulls":6},"Taxi",{"$f":"'IF Factors'!N235","v":"Cars"},null,null,{"$f":"'IF Factors'!E235","v":0},{"$f":"'IF Factors'!F235","v":0},{"$f":"'IF Factors'!G235","v":0},null,0,0,0,0,null,1,1,1,null,0,0]
[{"$nulls":6},"",{"$f":"'IF Factors'!N236","v":0},null,null,{"$f":"'IF Factors'!E236","v":0},{"$f":"'IF Factors'!F236","v":0},{"$f":"'IF Factors'!G236","v":0},null,0,0,0,0,null,1,1,1,null,0,0]
[{"$nulls":6},"",{"$f":"'IF Factors'!N237","v":0},null,null,{"$f":"'IF Factors'!E237","v":0},{"$f":"'IF Factors'!F237","v":0},{"$f":"'IF Factors'!G237","v":0},null,0,0,0,0,null,1,1,1,null,0,0]
[{"$nulls":6},"3-wheeler",{"$f":"'IF Factors'!N238","v":0},null,null,{"$f":"'IF Factors'!E238","v":0},{"$f":"'IF Factors'!F238","v":0},{"$f":"'IF Factors'!G238","v":0},null,0,0,0,0,null,1,1,1,null,0,0]
[{"$nulls":6},"Bus",{"$f":"'IF Factors'!N239","v":"Bus"},null,null,{"$f":"'IF Factors'!E239","v":0},{"$f":"'IF Factors'!F239","v":0},{"$f":"'IF Factors'!G239","v":0},null,0,0,0,0,null,1,1,1,null,0,0]
[{"$nulls":6},"Mini-bus",{"$f":"'IF Factors'!N240","v":"Bus"},null,null,{"$f":"'IF Factors'!E240","v":0},{"$f":"'IF Factors'!F240","v":0},{"$f":"'IF Factors'!G240","v":0},null,0,0,0,0,null,1,1,1,null,0,0]
[{"$nulls":6},"",{"$f":"'IF Factors'!N241","v":0},null,null,{"$f":"'IF Factors'!E241","v":0},{"$f":"'IF Factors'!F241","v":0},{"$f":"'IF Factors'!G241","v":0},null,0,0,0,0,null,1,1,1,null,0,0]
[{"$nulls":6},"",{"$f":"'IF Factors'!N242","v":0},null,null,{"$f":"'IF Factors'!E242","v":0},{"$f":"'IF Factors'!F242","v":0},{"$f":"'IF Factors'!G242","v":0},null,0,0,0,0,null,1,1,1,null,0,0]
[{"$nulls":6},"BRT",{"$f":"'IF Factors'!N243","v":"Bus"},null,null,{"$f":"'IF Factors'!E243","v":0},{"$f":"'IF Factors'!F243","v":0},{"$f":"'IF Factors'!G243","v":0},null,0,0,0,0,null,1,1,1,null,0,0]
[]
[]
[]
[{"$nulls":6},"Speed"]
[{"$nulls":7},{"$f":"H635","v":0},{"$f":"I635","v":1},2,3,4,5,6,7,8,9,10,11,12,13,14,15,16,17,18,19]
[{"$nulls":5},"NO BRT",{"$f":"G636","v":"Cars"},{"$f":"K653","v":{"v":0,"d":"0.00"}},{"$f":"(I$23*$P653)+$O653","v":{"v":0,"d":"0.00"}},{"$f":"(J$23*$P653)+$O653","v":{"v":0,"d":"0.00"}},{"v":0,"d":"0.00"},{"v":0,"d":"0.00"},{"v":0,"d":"0.00"},{"v":0,"d":"0.00"},{"v":0,"d":"0.00"},{"v":0,"d":"0.00"},{"$f":"L653","v":{"v":0,"d":"0.00"}},{"$f":"(R$23*$R653)+$Q653","v":{"v":0,"d":"0.00"}},{"$f":"(S$23*$R653)+$Q653","v":{"v":0,"d":"0.00"}},{"v":0,"d":"0.00"},{"v":0,"d":"0.00"},{"v":0,"d":"0.00"},{"v":0,"d":"0.00"},{"v":0,"d":"0.00"},{"v":0,"d":"0.00"},{"v":0,"d":"0.00"},{"$f":"M653","v":{"v":0,"d":"0.00"}}]
[{"$nulls":6},{"$f":"G637","v":"2-wheeler"},{"$f":"K654","v":{"v":0,"d":"0.00"}},{"$f":"(I$23*$P654)+$O654","v":{"v":0,"d":"0.00"}},{"v":0,"d":"0.00"},{"v":0,"d":"0.00"},{"v":0,"d":"0.00"},{"v":0,"d":"0.00"},{"v":0,"d":"0.00"},{"v":0,"d":"0.00"},{"v":0,"d":"0.00"},{"$f":"L654","v":{"v":0,"d":"0.00"}},{"$f":"(R$23*$R654)+$Q654","v":{"v":0,"d":"0.00"}},{"v":0,"d":"0.00"},{"v":0,"d":"0.00"},{"v":0,"d":"0.00"},{"v":0,"d":"0.00"},{"v":0,"d":"0.00"},{"v":0,"d":"0.00"},{"v":0,"d":"0.00"},{"v":0,"d":"0.00"},{"$f":"M654","v":{"v":0,"d":"0.00"}}]
[{"$nulls":6},"Taxi",{"v":0,"d":"0.00"},{"$f":"(I$23*$P655)+$O655","v":{"v":0,"d":"0.00"}},{"v":0,"d":"0.00"},{"v":0,"d":"0.00"},{"v":0,"d":"0.00"},{"v":0,"d":"0.00"},{"v":0,"d":"0.00"},{"v":0,"d":"0.00"},{"v":0,"d":"0.00"},{"v":0,"d":"0.00"},{"$f":"(R$23*$R655)+$Q655","v":{"v":0,"d":"0.00"}},{"v":0,"d":"0.00"},{"v":0,"d":"0.00"},{"v":0,"d":"0.00"},{"v":0,"d":"0.00"},{"v":0,"d":"0.00"},{"v":0,"d":"0.00"},{"v":0,"d":"0.00"},{"v":0,"d":"0.00"},{"v":0,"d":"0.00"}]
[{"$nulls":6},"",{"v":0,"d":"0.00"},{"$f":"(I$23*$P656)+$O656","v":{"v":0,"d":"0.00"}},{"v":0,"d":"0.00"},{"v":0,"d":"0.00"},{"v":0,"d":"0.00"},{"v":0,"d":"0.00"},{"v":0,"d":"0.00"},{"v":0,"d":"0.00"},{"v":0,"d":"0.00"},{"v":0,"d":"0.00"},{"$f":"(R$23*$R656)+$Q656","v":{"v":0,"d":"0.00"}},{"v":0,"d":"0.00"},{"v":0,"d":"0.00"},{"v":0,"d":"0.00"},{"v":0,"d":"0.00"},{"v":0,"d":"0.00"},{"v":0,"d":"0.00"},{"v":0,"d":"0.00"},{"v":0,"d":"0.00"},{"v":0,"d":"0.00"}]
[{"$nulls":6},"",{"v":0,"d":"0.00"},{"$f":"(I$23*$P657)+$O657","v":{"v":0,"d":"0.00"}},{"v":0,"d":"0.00"},{"v":0,"d":"0.00"},{"v":0,"d":"0.00"},{"v":0,"d":"0.00"},{"v":0,"d":"0.00"},{"v":0,"d":"0.00"},{"v":0,"d":"0.00"},{"v":0,"d":"0.00"},{"$f":"(R$23*$R657)+$Q657","v":{"v":0,"d":"0.00"}},{"v":0,"d":"0.00"},{"v":0,"d":"0.00"},{"v":0,"d":"0.00"},{"v":0,"d":"0.00"},{"v":0,"d":"0.00"},{"v":0,"d":"0.00"},{"v":0,"d":"0.00"},{"v":0,"d":"0.00"},{"v":0,"d":"0.00"}]
[{"$nulls":6},"3-wheeler",{"v":0,"d":"0.00"},{"$f":"(I$23*$P658)+$O658","v":{"v":0,"d":"0.00"}},{"v":0,"d":"0.00"},{"v":0,"d":"0.00"},{"v":0,"d":"0.00"},{"v":0,"d":"0.00"},{"v":0,"d":"0.00"},{"v":0,"d":"0.00"},{"v":0,"d":"0.00"},{"v":0,"d":"0.00"},{"$f":"(R$23*$R658)+$Q658","v":{"v":0,"d":"0.00"}},{"v":0,"d":"0.00"},{"v":0,"d":"0.00"},{"v":0,"d":"0.00"},{"v":0,"d":"0.00"},{"v":0,"d":"0.00"},{"v":0,"d":"0.00"},{"v":0,"d":"0.00"},{"v":0,"d":"0.00"},{"v":0,"d":"0.00"}]
[{"$nulls":6},"Bus",{"v":0,"d":"0.00"},{"$f":"(I$23*$P659)+$O659","v":{"v":0,"d":"0.00"}},{"v":0,"d":"0.00"},{"v":0,"d":"0.00"},{"v":0,"d":"0.00"},{"v":0,"d":"0.00"},{"v":0,"d":"0.00"},{"v":0,"d":"0.00"},{"v":0,"d":"0.00"},{"v":0,"d":"0.00"},{"$f":"(R$23*$R659)+$Q659","v":{"v":0,"d":"0.00"}},{"v":0,"d":"0.00"},{"v":0,"d":"0.00"},{"v":0,"d":"0.00"},{"v":0,"d":"0.00"},{"v":0,"d":"0.00"},{"v":0,"d":"0.00"},{"v":0,"d":"0.00"},{"v":0,"d":"0.00"},{"v":0,"d":"0.00"}]
[{"$nulls":6},"Mini-bus",{"v":0,"d":"0.00"},{"$f":"(I$23*$P660)+$O660","v":{"v":0,"d":"0.00"}},{"v":0,"d":"0.00"},{"v":0,"d":"0.00"},{"v":0,"d":"0.00"},{"v":0,"d":"0.00"},{"v":0,"d":"0.00"},{"v":0,"d":"0.00"},{"v":0,"d":"0.00"},{"v":0,"d":"0.00"},{"$f":"(R$23*$R660)+$Q660","v":{"v":0,"d":"0.00"}},{"v":0,"d":"0.00"},{"v":0,"d":"0.00"},{"v":0,"d":"0.00"},{"v":0,"d":"0.00"},{"v":0,"d":"0.00"},{"v":0,"d":"0.00"},{"v":0,"d":"0.00"},{"v":0,"d":"0.00"},{"v":0,"d":"0.00"}]
[{"$nulls":6},"",{"v":0,"d":"0.00"},{"$f":"(I$23*$P661)+$O661","v":{"v":0,"d":"0.00"}},{"v":0,"d":"0.00"},{"v":0,"d":"0.00"},{"v":0,"d":"0.00"},{"v":0,"d":"0.00"},{"v":0,"d":"0.00"},{"v":0,"d":"0.00"},{"v":0,"d":"0.00"},{"v":0,"d":"0.00"},{"$f":"(R$23*$R661)+$Q661","v":{"v":0,"d":"0.00"}},{"v":0,"d":"0.00"},{"v":0,"d":"0.00"},{"v":0,"d":"0.00"},{"v":0,"d":"0.00"},{"v":0,"d":"0.00"},{"v":0,"d":"0.00"},{"v":0,"d":"0.00"},{"v":0,"d":"0.00"},{"v":0,"d":"0.00"}]
[{"$nulls":6},"",{"v":0,"d":"0.00"},{"$f":"(I$23*$P662)+$O662","v":{"v":0,"d":"0.00"}},{"v":0,"d":"0.00"},{"v":0,"d":"0.00"},{"v":0,"d":"0.00"},{"v":0,"d":"0.00"},{"v":0,"d":"0.00"},{"v":0,"d":"0.00"},{"v":0,"d":"0.00"},{"v":0,"d":"0.00"},{"$f":"(R$23*$R662)+$Q662","v":{"v":0,"d":"0.00"}},{"v":0,"d":"0.00"},{"v":0,"d":"0.00"},{"v":0,"d":"0.00"},{"v":0,"d":"0.00"},{"v":0,"d":"0.00"},{"v":0,"d":"0.00"},{"v":0,"d":"0.00"},{"v":0,"d":"0.00"},{"v":0,"d":"0.00"}]
[{"$nulls":6},"BRT",{"v":0,"d":"0.00"},{"$f":"(I$23*$P663)+$O663","v":{"v":0,"d":"0.00"}},{"v":0,"d":"0.00"},{"v":0,"d":"0.00"},{"v":0,"d":"0.00"},{"v":0,"d":"0.00"},{"v":0,"d":"0.00"},{"v":0,"d":"0.00"},{"v":0,"d":"0.00"},{"v":0,"d":"0.00"},{"$f":"(R$23*$R663)+$Q663","v":{"v":0,"d":"0.00"}},{"v":0,"d":"0.00"},{"v":0,"d":"0.00"},{"v":0,"d":"0.00"},{"v":0,"d":"0.00"},{"v":0,"d":"0.00"},{"v":0,"d":"0.00"},{"v":0,"d":"0.00"},{"v":0,"d":"0.00"},{"v":0,"d":"0.00"}]
[{"$nulls":6},"Average of Modes other than BRT",{"$f":"SUM(H669:H678)/COUNTIF(H669:H678,\">0\")","v":{"$error":"#DIV/0!"}},{"$f":"SUM(I669:I678)/COUNTIF(I669:I678,\">0\")","v":{"$error":"#DIV/0!"}},{"$error":"#DIV/0!"},{"$error":"#DIV/0!"},{"$error":"#DIV/0!"},{"$error":"#DIV/0!"},{"$error":"#DIV/0!"},{"$error":"#DIV/0!"},{"$error":"#DIV/0!"},{"$error":"#DIV/0!"},{"$error":"#DIV/0!"},{"$error":"#DIV/0!"},{"$error":"#DIV/0!"},{"$error":"#DIV/0!"},{"$error":"#DIV/0!"},{"$error":"#DIV/0!"},{"$error":"#DIV/0!"},{"$error":"#DIV/0!"},{"$error":"#DIV/0!"},{"$error":"#DIV/0!"}]
[]
[{"$nulls":7},"Fuel Efficiency","Fuel Efficiency","Fuel Efficiency","Fuel Efficiency","Fuel Efficiency","Fuel Efficiency",null,null,"PM","PM","PM","PM","PM","PM",null,null,"NOx","NOx","NOx","NOx","NOx","NOx"]
[{"$nulls":7},{"$f":"G675","v":"Bus"},{"$f":"G674","v":"3-wheeler"},{"$f":"G669","v":"Cars"},{"$f":"G670","v":"2-wheeler"},"Light-duty truck","Heavy-duty truck",null,null,{"$f":"H683","v":"Bus"},{"$f":"I683","v":"3-wheeler"},"Cars","2-wheeler","Light-duty truck","Heavy-duty truck",null,null,{"$f":"P683","v":"Bus"},{"$f":"Q683","v":"3-wheeler"},"Cars","2-wheeler","Light-duty truck","Heavy-duty truck"]
[{"$nulls":6},1,{"$f":"H685","v":{"v":94.0783275196055,"d":"94.08"}},{"v":69.5216631341671,"d":"69.52"},{"v":61.1908830789803,"d":"61.19"},{"v":69.5216631341671,"d":"69.52"},{"v":68.7369593943206,"d":"68.74"},{"v":94.0783275196055,"d":"94.08"},null,1,{"v":0.254,"d":"0.25"},{"v":0.762631665147954,"d":"0.76"},{"v":0.762631665147954,"d":"0.76"},{"v":0.762631665147954,"d":"0.76"},{"v":0.254,"d":"0.25"},{"v":0.832844274214362,"d":"0.83"},null,1,{"v":0.790560044330695,"d":"0.79"},{"v":0.80101690219997,"d":"0.80"},{"v":0.80101690219997,"d":"0.80"},{"v":0.80101690219997,"d":"0.80"},{"v":0.7265267199915211,"d":"0.73"},{"v":0.681416699629778,"d":"0.68"}]
[{"$nulls":6},5,{"v":94.0783275196055,"d":"94.08"},{"v":69.5216631341671,"d":"69.52"},{"v":61.1908830789803,"d":"61.19"},{"v":69.5216631341671,"d":"69.52"},{"v":68.7369593943206,"d":"68.74"},{"v":94.0783275196055,"d":"94.08"},null,5,{"v":0.254,"d":"0.25"},{"v":0.762631665147954,"d":"0.76"},{"v":0.762631665147954,"d":"0.76"},{"v":0.762631665147954,"d":"0.76"},{"v":0.254,"d":"0.25"},{"v":0.832844274214362,"d":"0.83"},null,5,{"v":0.790560044330695,"d":"0.79"},{"v":0.80101690219997,"d":"0.80"},{"v":0.80101690219997,"d":"0.80"},{"v":0.80101690219997,"d":"0.80"},{"v":0.7265267199915211,"d":"0.73"},{"v":0.681416699629778,"d":"0.68"}]
[{"$nulls":6},6,{"v":94.0783275196055,"d":"94.08"},{"v":69.5216631341671,"d":"69.52"},{"v":61.1908830789803,"d":"61.19"},{"v":69.5216631341671,"d":"69.52"},{"v":68.7369593943206,"d":"68.74"},{"v":94.0783275196055,"d":"94.08"},null,6,{"v":0.2540590447063056,"d":"0.25"},{"v":0.7130151451095554,"d":"0.71"},{"v":0.7130151451095554,"d":"0.71"},{"v":0.7130151451095554,"d":"0.71"},{"v":0.2540590447063056,"d":"0.25"},{"v":0.8038532432491361,"d":"0.80"},null,6,{"v":0.7647507498273101,"d":"0.76"},{"v":0.75292148245812,"d":"0.75"},{"v":0.75292148245812,"d":"0.75"},{"v":0.75292148245812,"d":"0.75"},{"v":0.6824519906257563,"d":"0.68"},{"v":0.655216824625997,"d":"0.66"}]
[{"$nulls":6},7,{"v":94.0783275196055,"d":"94.08"},{"v":69.5216631341671,"d":"69.52"},{"v":61.1908830789803,"d":"61.19"},{"v":69.5216631341671,"d":"69.52"},{"v":68.7369593943206,"d":"68.74"},{"v":94.0783275196055,"d":"94.08"},null,7,{"v":0.2541180894126112,"d":"0.25"},{"v":0.6633986250711569,"d":"0.66"},{"v":0.6633986250711569,"d":"0.66"},{"v":0.6633986250711569,"d":"0.66"},{"v":0.2541180894126112,"d":"0.25"},{"v":0.7748622122839102,"d":"0.77"},null,7,{"v":0.738941455323925,"d":"0.74"},{"v":0.70482606271627,"d":"0.70"},{"v":0.70482606271627,"d":"0.70"},{"v":0.70482606271627,"d":"0.70"},{"v":0.6383772612599917,"d":"0.64"},{"v":0.629016949622216,"d":"0.63"}]
[{"$nulls":6},8,{"v":94.0783275196055,"d":"94.08"},{"v":69.5216631341671,"d":"69.52"},{"v":61.1908830789803,"d":"61.19"},{"v":69.5216631341671,"d":"69.52"},{"v":68.7369593943206,"d":"68.74"},{"v":94.0783275196055,"d":"94.08"},null,8,{"v":0.25417713411891685,"d":"0.25"},{"v":0.6137821050327582,"d":"0.61"},{"v":0.6137821050327582,"d":"0.61"},{"v":0.6137821050327582,"d":"0.61"},{"v":0.25417713411891685,"d":"0.25"},{"v":0.7458711813186842,"d":"0.75"},null,8,{"v":0.71313216082054,"d":"0.71"},{"v":0.6567306429744201,"d":"0.66"},{"v":0.6567306429744201,"d":"0.66"},{"v":0.6567306429744201,"d":"0.66"},{"v":0.5943025318942271,"d":"0.59"},{"v":0.6028170746184349,"d":"0.60"}]
[{"$nulls":6},9,{"v":94.0783275196055,"d":"94.08"},{"v":69.5216631341671,"d":"69.52"},{"v":61.1908830789803,"d":"61.19"},{"v":69.5216631341671,"d":"69.52"},{"v":68.7369593943206,"d":"68.74"},{"v":94.0783275196055,"d":"94.08"},null,9,{"v":0.2542361788252224,"d":"0.25"},{"v":0.5641655849943596,"d":"0.56"},{"v":0.5641655849943596,"d":"0.56"},{"v":0.5641655849943596,"d":"0.56"},{"v":0.2542361788252224,"d":"0.25"},{"v":0.7168801503534583,"d":"0.72"},null,9,{"v":0.687322866317155,"d":"0.69"},{"v":0.6086352232325701,"d":"0.61"},{"v":0.6086352232325701,"d":"0.61"},{"v":0.6086352232325701,"d":"0.61"},{"v":0.5502278025284625,"d":"0.55"},{"v":0.576617199614654,"d":"0.58"}]
[{"$nulls":6},10,{"v":94.0783275196055,"d":"94.08"},{"v":69.5216631341671,"d":"69.52"},{"v":61.1908830789803,"d":"61.19"},{"v":69.5216631341671,"d":"69.52"},{"v":68.7369593943206,"d":"68.74"},{"v":94.0783275196055,"d":"94.08"},null,10,{"v":0.254295223531528,"d":"0.25"},{"v":0.514549064955961,"d":"0.51"},{"v":0.514549064955961,"d":"0.51"},{"v":0.514549064955961,"d":"0.51"},{"v":0.254295223531528,"d":"0.25"},{"v":0.687889119388232,"d":"0.69"},null,10,{"v":0.6615135718137699,"d":"0.66"},{"v":0.56053980349072,"d":"0.56"},{"v":0.56053980349072,"d":"0.56"},{"v":0.56053980349072,"d":"0.56"},{"v":0.506153073162698,"d":"0.51"},{"v":0.550417324610873,"d":"0.55"}]
[{"$nulls":6},11,{"v":94.0783275196055,"d":"94.08"},{"v":69.5216631341671,"d":"69.52"},{"v":61.1908830789803,"d":"61.19"},{"v":69.5216631341671,"d":"69.52"},{"v":68.7369593943206,"d":"68.74"},{"v":94.0783275196055,"d":"94.08"},null,11,{"v":0.24505627721563183,"d":"0.25"},{"v":0.4969070571702008,"d":"0.50"},{"v":0.4969070571702008,"d":"0.50"},{"v":0.4969070571702008,"d":"0.50"},{"v":0.24505627721563183,"d":"0.25"},{"v":0.6709464151246869,"d":"0.67"},null,11,{"v":0.6412063331253465,"d":"0.64"},{"v":0.5337167059326446,"d":"0.53"},{"v":0.5337167059326446,"d":"0.53"},{"v":0.5337167059326446,"d":"0.53"},{"v":0.4751212822258296,"d":"0.48"},{"v":0.5292146157170275,"d":"0.53"}]
[{"$nulls":6},12,{"v":94.0783275196055,"d":"94.08"},{"v":69.5216631341671,"d":"69.52"},{"v":61.1908830789803,"d":"61.19"},{"v":69.5216631341671,"d":"69.52"},{"v":68.7369593943206,"d":"68.74"},{"v":94.0783275196055,"d":"94.08"},null,12,{"v":0.23581733089973564,"d":"0.24"},{"v":0.4792650493844406,"d":"0.48"},{"v":0.4792650493844406,"d":"0.48"},{"v":0.4792650493844406,"d":"0.48"},{"v":0.23581733089973564,"d":"0.24"},{"v":0.6540037108611416,"d":"0.65"},null,12,{"v":0.6208990944369231,"d":"0.62"},{"v":0.5068936083745692,"d":"0.51"},{"v":0.5068936083745692,"d":"0.51"},{"v":0.5068936083745692,"d":"0.51"},{"v":0.4440894912889612,"d":"0.44"},{"v":0.5080119068231821,"d":"0.51"}]
[{"$nulls":6},13,{"v":94.0783275196055,"d":"94.08"},{"v":69.5216631341671,"d":"69.52"},{"v":61.1908830789803,"d":"61.19"},{"v":69.5216631341671,"d":"69.52"},{"v":68.7369593943206,"d":"68.74"},{"v":94.0783275196055,"d":"94.08"},null,13,{"v":0.22657838458383947,"d":"0.23"},{"v":0.46162304159868045,"d":"0.46"},{"v":0.46162304159868045,"d":"0.46"},{"v":0.46162304159868045,"d":"0.46"},{"v":0.22657838458383947,"d":"0.23"},{"v":0.6370610065975965,"d":"0.64"},null,13,{"v":0.6005918557484997,"d":"0.60"},{"v":0.4800705108164939,"d":"0.48"},{"v":0.4800705108164939,"d":"0.48"},{"v":0.4800705108164939,"d":"0.48"},{"v":0.41305770035209277,"d":"0.41"},{"v":0.48680919792933675,"d":"0.49"}]
[{"$nulls":6},14,{"$f":"H695","v":{"v":94.0783275196055,"d":"94.08"}},{"v":69.5216631341671,"d":"69.52"},{"v":61.1908830789803,"d":"61.19"},{"v":69.5216631341671,"d":"69.52"},{"v":68.7369593943206,"d":"68.74"},{"v":94.0783275196055,"d":"94.08"},null,14,{"v":0.21733943826794327,"d":"0.22"},{"v":0.44398103381292026,"d":"0.44"},{"v":0.44398103381292026,"d":"0.44"},{"v":0.44398103381292026,"d":"0.44"},{"v":0.21733943826794327,"d":"0.22"},{"v":0.6201183023340512,"d":"0.62"},null,14,{"v":0.5802846170600764,"d":"0.58"},{"v":0.4532474132584185,"d":"0.45"},{"v":0.4532474132584185,"d":"0.45"},{"v":0.4532474132584185,"d":"0.45"},{"v":0.38202590941522435,"d":"0.38"},{"v":0.4656064890354913,"d":"0.47"}]
[{"$nulls":6},15,{"v":94.0783275196055,"d":"94.08"},{"v":69.5216631341671,"d":"69.52"},{"v":61.1908830789803,"d":"61.19"},{"v":69.5216631341671,"d":"69.52"},{"v":68.7369593943206,"d":"68.74"},{"v":94.0783275196055,"d":"94.08"},null,15,{"v":0.20810049195204702,"d":"0.21"},{"v":0.42633902602716,"d":"0.43"},{"v":0.42633902602716,"d":"0.43"},{"v":0.42633902602716,"d":"0.43"},{"v":0.20810049195204702,"d":"0.21"},{"v":0.603175598070506,"d":"0.60"},null,15,{"v":0.5599773783716531,"d":"0.56"},{"v":0.42642431570034295,"d":"0.43"},{"v":0.42642431570034295,"d":"0.43"},{"v":0.42642431570034295,"d":"0.43"},{"v":0.350994118478356,"d":"0.35"},{"v":0.444403780141646,"d":"0.44"}]
[{"$nulls":6},16,{"v":85.46026738642144,"d":"85.46"},{"v":64.23237186505389,"d":"64.23"},{"v":55.82801844072686,"d":"55.83"},{"v":64.23237186505389,"d":"64.23"},{"v":62.570766729216764,"d":"62.57"},{"v":85.46026738642144,"d":"85.46"},null,16,{"v":0.1976412896919838,"d":"0.20"},{"v":0.3935266734304764,"d":"0.39"},{"v":0.3935266734304764,"d":"0.39"},{"v":0.3935266734304764,"d":"0.39"},{"v":0.1976412896919838,"d":"0.20"},{"v":0.5919278557046355,"d":"0.59"},null,16,{"v":0.5396701396832299,"d":"0.54"},{"v":0.4048387034961256,"d":"0.40"},{"v":0.4048387034961256,"d":"0.40"},{"v":0.4048387034961256,"d":"0.40"},{"v":0.3270755999678532,"d":"0.33"},{"v":0.4283778885471286,"d":"0.43"}]
[{"$nulls":6},17,{"v":76.84220725323738,"d":"76.84"},{"v":58.94308059594069,"d":"58.94"},{"v":50.46515380247342,"d":"50.47"},{"v":58.94308059594069,"d":"58.94"},{"v":56.40457406411292,"d":"56.40"},{"v":76.84220725323738,"d":"76.84"},null,17,{"v":0.1871820874319206,"d":"0.19"},{"v":0.36071432083379285,"d":"0.36"},{"v":0.36071432083379285,"d":"0.36"},{"v":0.36071432083379285,"d":"0.36"},{"v":0.1871820874319206,"d":"0.19"},{"v":0.5806801133387648,"d":"0.58"},null,17,{"v":0.5193629009948065,"d":"0.52"},{"v":0.3832530912919082,"d":"0.38"},{"v":0.3832530912919082,"d":"0.38"},{"v":0.3832530912919082,"d":"0.38"},{"v":0.30315708145735043,"d":"0.30"},{"v":0.4123519969526112,"d":"0.41"}]
[{"$nulls":6},18,{"v":68.22414712005332,"d":"68.22"},{"v":53.65378932682749,"d":"53.65"},{"v":45.102289164219975,"d":"45.10"},{"v":53.65378932682749,"d":"53.65"},{"v":50.23838139900908,"d":"50.24"},{"v":68.22414712005332,"d":"68.22"},null,18,{"v":0.1767228851718574,"d":"0.18"},{"v":0.32790196823710926,"d":"0.33"},{"v":0.32790196823710926,"d":"0.33"},{"v":0.32790196823710926,"d":"0.33"},{"v":0.1767228851718574,"d":"0.18"},{"v":0.5694323709728942,"d":"0.57"},null,18,{"v":0.4990556623063834,"d":"0.50"},{"v":0.3616674790876908,"d":"0.36"},{"v":0.3616674790876908,"d":"0.36"},{"v":0.3616674790876908,"d":"0.36"},{"v":0.2792385629468476,"d":"0.28"},{"v":0.3963261053580938,"d":"0.40"}]
[{"$nulls":6},19,{"v":59.60608698686926,"d":"59.61"},{"v":48.36449805771429,"d":"48.36"},{"v":39.739424525966534,"d":"39.74"},{"v":48.36449805771429,"d":"48.36"},{"v":44.072188733905236,"d":"44.07"},{"v":59.60608698686926,"d":"59.61"},null,19,{"v":0.16626368291179422,"d":"0.17"},{"v":0.2950896156404257,"d":"0.30"},{"v":0.2950896156404257,"d":"0.30"},{"v":0.2950896156404257,"d":"0.30"},{"v":0.16626368291179422,"d":"0.17"},{"v":0.5581846286070237,"d":"0.56"},null,19,{"v":0.4787484236179601,"d":"0.48"},{"v":0.3400818668834734,"d":"0.34"},{"v":0.3400818668834734,"d":"0.34"},{"v":0.3400818668834734,"d":"0.34"},{"v":0.2553200444363448,"d":"0.26"},{"v":0.3803002137635765,"d":"0.38"}]
[{"$nulls":6},20,{"v":50.9880268536852,"d":"50.99"},{"v":43.0752067886011,"d":"43.08"},{"v":34.3765598877131,"d":"34.38"},{"v":43.0752067886011,"d":"43.08"},{"v":37.9059960688014,"d":"37.91"},{"v":50.9880268536852,"d":"50.99"},null,20,{"v":0.155804480651731,"d":"0.16"},{"v":0.262277263043742,"d":"0.26"},{"v":0.262277263043742,"d":"0.26"},{"v":0.262277263043742,"d":"0.26"},{"v":0.155804480651731,"d":"0.16"},{"v":0.546936886241153,"d":"0.55"},null,20,{"v":0.45844118492953695,"d":"0.46"},{"v":0.31849625467925596,"d":"0.32"},{"v":0.31849625467925596,"d":"0.32"},{"v":0.31849625467925596,"d":"0.32"},{"v":0.231401525925842,"d":"0.23"},{"v":0.364274322169059,"d":"0.36"}]
[{"$nulls":6},21,{"v":48.66536061936414,"d":"48.67"},{"v":39.68849778056886,"d":"39.69"},{"v":31.50585451434484,"d":"31.51"},{"v":39.68849778056886,"d":"39.69"},{"v":34.7991589774105,"d":"34.80"},{"v":48.66536061936414,"d":"48.67"},null,21,{"v":0.14947189936554758,"d":"0.15"},{"v":0.24512348926189043,"d":"0.25"},{"v":0.24512348926189043,"d":"0.25"},{"v":0.24512348926189043,"d":"0.25"},{"v":0.14947189936554758,"d":"0.15"},{"v":0.5268912994265068,"d":"0.53"},null,21,{"v":0.44148679453325995,"d":"0.44"},{"v":0.3008060617886076,"d":"0.30"},{"v":0.3008060617886076,"d":"0.30"},{"v":0.3008060617886076,"d":"0.30"},{"v":0.2133128619507742,"d":"0.21"},{"v":0.34792004314492897,"d":"0.35"}]
[{"$nulls":6},22,{"v":46.342694385043075,"d":"46.34"},{"v":36.30178877253662,"d":"36.30"},{"v":28.63514914097658,"d":"28.64"},{"v":36.30178877253662,"d":"36.30"},{"v":31.6923218860196,"d":"31.69"},{"v":46.342694385043075,"d":"46.34"},null,22,{"v":0.1431393180793642,"d":"0.14"},{"v":0.2279697154800388,"d":"0.23"},{"v":0.2279697154800388,"d":"0.23"},{"v":0.2279697154800388,"d":"0.23"},{"v":0.1431393180793642,"d":"0.14"},{"v":0.5068457126118606,"d":"0.51"},null,22,{"v":0.42453240413698295,"d":"0.42"},{"v":0.2831158688979592,"d":"0.28"},{"v":0.2831158688979592,"d":"0.28"},{"v":0.2831158688979592,"d":"0.28"},{"v":0.19522419797570642,"d":"0.20"},{"v":0.331565764120799,"d":"0.33"}]
[{"$nulls":6},23,{"v":44.02002815072201,"d":"44.02"},{"v":32.91507976450438,"d":"32.92"},{"v":25.76444376760832,"d":"25.76"},{"v":32.91507976450438,"d":"32.92"},{"v":28.585484794628698,"d":"28.59"},{"v":44.02002815072201,"d":"44.02"},null,23,{"v":0.13680673679318078,"d":"0.14"},{"v":0.2108159416981872,"d":"0.21"},{"v":0.2108159416981872,"d":"0.21"},{"v":0.2108159416981872,"d":"0.21"},{"v":0.13680673679318078,"d":"0.14"},{"v":0.4868001257972143,"d":"0.49"},null,23,{"v":0.40757801374070596,"d":"0.41"},{"v":0.2654256760073108,"d":"0.27"},{"v":0.2654256760073108,"d":"0.27"},{"v":0.2654256760073108,"d":"0.27"},{"v":0.1771355340006386,"d":"0.18"},{"v":0.315211485096669,"d":"0.32"}]
[{"$nulls":6},24,{"v":41.69736191640095,"d":"41.70"},{"v":29.528370756472135,"d":"29.53"},{"v":22.89373839424006,"d":"22.89"},{"v":29.528370756472135,"d":"29.53"},{"v":25.478647703237797,"d":"25.48"},{"v":41.69736191640095,"d":"41.70"},null,24,{"v":0.13047415550699737,"d":"0.13"},{"v":0.19366216791633561,"d":"0.19"},{"v":0.19366216791633561,"d":"0.19"},{"v":0.19366216791633561,"d":"0.19"},{"v":0.13047415550699737,"d":"0.13"},{"v":0.46675453898256813,"d":"0.47"},null,24,{"v":0.39062362334442896,"d":"0.39"},{"v":0.24773548311666238,"d":"0.25"},{"v":0.24773548311666238,"d":"0.25"},{"v":0.24773548311666238,"d":"0.25"},{"v":0.15904687002557083,"d":"0.16"},{"v":0.298857206072539,"d":"0.30"}]
[{"$nulls":6},25,{"v":39.3746956820799,"d":"39.37"},{"v":26.1416617484399,"d":"26.14"},{"v":20.0230330208718,"d":"20.02"},{"v":26.1416617484399,"d":"26.14"},{"v":22.3718106118469,"d":"22.37"},{"v":39.3746956820799,"d":"39.37"},null,25,{"v":0.12414157422081401,"d":"0.12"},{"v":0.176508394134484,"d":"0.18"},{"v":0.176508394134484,"d":"0.18"},{"v":0.176508394134484,"d":"0.18"},{"v":0.12414157422081401,"d":"0.12"},{"v":0.44670895216792206,"d":"0.45"},null,25,{"v":0.373669232948152,"d":"0.37"},{"v":0.230045290226014,"d":"0.23"},{"v":0.230045290226014,"d":"0.23"},{"v":0.230045290226014,"d":"0.23"},{"v":0.140958206050503,"d":"0.14"},{"v":0.28250292704840896,"d":"0.28"}]
[{"$nulls":6},26,{"v":36.18167158940762,"d":"36.18"},{"v":25.098417013498082,"d":"25.10"},{"v":18.50476647888008,"d":"18.50"},{"v":25.098417013498082,"d":"25.10"},{"v":21.46635526729356,"d":"21.47"},{"v":36.18167158940762,"d":"36.18"},null,26,{"v":0.11731545476633289,"d":"0.12"},{"v":0.16352308549187058,"d":"0.16"},{"v":0.16352308549187058,"d":"0.16"},{"v":0.16352308549187058,"d":"0.16"},{"v":0.11731545476633289,"d":"0.12"},{"v":0.4268447059354934,"d":"0.43"},null,26,{"v":0.356714842551875,"d":"0.36"},{"v":0.2155664468726658,"d":"0.22"},{"v":0.2155664468726658,"d":"0.22"},{"v":0.2155664468726658,"d":"0.22"},{"v":0.12784161485243323,"d":"0.13"},{"v":0.270602731502275,"d":"0.27"}]
[{"$nulls":6},27,{"v":32.98864749673534,"d":"32.99"},{"v":24.055172278556263,"d":"24.06"},{"v":16.986499936888357,"d":"16.99"},{"v":24.055172278556263,"d":"24.06"},{"v":20.560899922740223,"d":"20.56"},{"v":32.98864749673534,"d":"32.99"},null,27,{"v":0.11048933531185176,"d":"0.11"},{"v":0.15053777684925718,"d":"0.15"},{"v":0.15053777684925718,"d":"0.15"},{"v":0.15053777684925718,"d":"0.15"},{"v":0.11048933531185176,"d":"0.11"},{"v":0.4069804597030648,"d":"0.41"},null,27,{"v":0.339760452155598,"d":"0.34"},{"v":0.2010876035193176,"d":"0.20"},{"v":0.2010876035193176,"d":"0.20"},{"v":0.2010876035193176,"d":"0.20"},{"v":0.11472502365436345,"d":"0.11"},{"v":0.258702535956141,"d":"0.26"}]
[{"$nulls":6},28,{"v":29.795623404063058,"d":"29.80"},{"v":23.011927543614444,"d":"23.01"},{"v":15.468233394896638,"d":"15.47"},{"v":23.011927543614444,"d":"23.01"},{"v":19.655444578186884,"d":"19.66"},{"v":29.795623404063058,"d":"29.80"},null,28,{"v":0.10366321585737064,"d":"0.10"},{"v":0.1375524682066438,"d":"0.14"},{"v":0.1375524682066438,"d":"0.14"},{"v":0.1375524682066438,"d":"0.14"},{"v":0.10366321585737064,"d":"0.10"},{"v":0.3871162134706362,"d":"0.39"},null,28,{"v":0.322806061759321,"d":"0.32"},{"v":0.18660876016596942,"d":"0.19"},{"v":0.18660876016596942,"d":"0.19"},{"v":0.18660876016596942,"d":"0.19"},{"v":0.10160843245629367,"d":"0.10"},{"v":0.24680234041000698,"d":"0.25"}]
[{"$nulls":6},29,{"v":26.602599311390776,"d":"26.60"},{"v":21.968682808672625,"d":"21.97"},{"v":13.949966852904918,"d":"13.95"},{"v":21.968682808672625,"d":"21.97"},{"v":18.749989233633546,"d":"18.75"},{"v":26.602599311390776,"d":"26.60"},null,29,{"v":0.09683709640288951,"d":"0.10"},{"v":0.12456715956403039,"d":"0.12"},{"v":0.12456715956403039,"d":"0.12"},{"v":0.12456715956403039,"d":"0.12"},{"v":0.09683709640288951,"d":"0.10"},{"v":0.3672519672382076,"d":"0.37"},null,29,{"v":0.305851671363044,"d":"0.31"},{"v":0.17212991681262121,"d":"0.17"},{"v":0.17212991681262121,"d":"0.17"},{"v":0.17212991681262121,"d":"0.17"},{"v":0.0884918412582239,"d":"0.09"},{"v":0.23490214486387298,"d":"0.23"}]
[{"$nulls":6},30,{"v":23.4095752187185,"d":"23.41"},{"v":20.9254380737308,"d":"20.93"},{"v":12.4317003109132,"d":"12.43"},{"v":20.9254380737308,"d":"20.93"},{"v":17.8445338890802,"d":"17.84"},{"v":23.4095752187185,"d":"23.41"},null,30,{"v":0.0900109769484084,"d":"0.09"},{"v":0.111581850921417,"d":"0.11"},{"v":0.111581850921417,"d":"0.11"},{"v":0.111581850921417,"d":"0.11"},{"v":0.0900109769484084,"d":"0.09"},{"v":0.34738772100577897,"d":"0.35"},null,30,{"v":0.288897280966767,"d":"0.29"},{"v":0.15765107345927298,"d":"0.16"},{"v":0.15765107345927298,"d":"0.16"},{"v":0.15765107345927298,"d":"0.16"},{"v":0.0753752500601541,"d":"0.08"},{"v":0.22300194931773898,"d":"0.22"}]
[{"$nulls":6},31,{"v":21.821545682515442,"d":"21.82"},{"v":18.178992211286616,"d":"18.18"},{"v":10.998570743844882,"d":"11.00"},{"v":18.178992211286616,"d":"18.18"},{"v":15.391798232004954,"d":"15.39"},{"v":21.821545682515442,"d":"21.82"},null,31,{"v":0.08519188015027603,"d":"0.09"},{"v":0.10202101536536151,"d":"0.10"},{"v":0.10202101536536151,"d":"0.10"},{"v":0.10202101536536151,"d":"0.10"},{"v":0.08519188015027603,"d":"0.09"},{"v":0.3279385530736342,"d":"0.33"},null,31,{"v":0.27382906316757316,"d":"0.27"},{"v":0.14601449821626683,"d":"0.15"},{"v":0.14601449821626683,"d":"0.15"},{"v":0.14601449821626683,"d":"0.15"},{"v":0.0665569132086246,"d":"0.07"},{"v":0.20874850770256898,"d":"0.21"}]
[{"$nulls":6},32,{"v":20.233516146312382,"d":"20.23"},{"v":15.432546348842433,"d":"15.43"},{"v":9.565441176776563,"d":"9.57"},{"v":15.432546348842433,"d":"15.43"},{"v":12.939062574929707,"d":"12.94"},{"v":20.233516146312382,"d":"20.23"},null,32,{"v":0.08037278335214364,"d":"0.08"},{"v":0.09246017980930603,"d":"0.09"},{"v":0.09246017980930603,"d":"0.09"},{"v":0.09246017980930603,"d":"0.09"},{"v":0.08037278335214364,"d":"0.08"},{"v":0.3084893851414894,"d":"0.31"},null,32,{"v":0.25876084536837934,"d":"0.26"},{"v":0.13437792297326065,"d":"0.13"},{"v":0.13437792297326065,"d":"0.13"},{"v":0.13437792297326065,"d":"0.13"},{"v":0.0577385763570951,"d":"0.06"},{"v":0.194495066087399,"d":"0.19"}]
[{"$nulls":6},33,{"v":18.645486610109323,"d":"18.65"},{"v":12.68610048639825,"d":"12.69"},{"v":8.132311609708244,"d":"8.13"},{"v":12.68610048639825,"d":"12.69"},{"v":10.486326917854461,"d":"10.49"},{"v":18.645486610109323,"d":"18.65"},null,33,{"v":0.07555368655401125,"d":"0.08"},{"v":0.08289934425325055,"d":"0.08"},{"v":0.08289934425325055,"d":"0.08"},{"v":0.08289934425325055,"d":"0.08"},{"v":0.07555368655401125,"d":"0.08"},{"v":0.2890402172093446,"d":"0.29"},null,33,{"v":0.24369262756918555,"d":"0.24"},{"v":0.12274134773025447,"d":"0.12"},{"v":0.12274134773025447,"d":"0.12"},{"v":0.12274134773025447,"d":"0.12"},{"v":0.04892023950556561,"d":"0.05"},{"v":0.180241624472229,"d":"0.18"}]
[{"$nulls":6},34,{"v":17.057457073906264,"d":"17.06"},{"v":9.939654623954066,"d":"9.94"},{"v":6.699182042639926,"d":"6.70"},{"v":9.939654623954066,"d":"9.94"},{"v":8.033591260779215,"d":"8.03"},{"v":17.057457073906264,"d":"17.06"},null,34,{"v":0.07073458975587886,"d":"0.07"},{"v":0.07333850869719506,"d":"0.07"},{"v":0.07333850869719506,"d":"0.07"},{"v":0.07333850869719506,"d":"0.07"},{"v":0.07073458975587886,"d":"0.07"},{"v":0.2695910492771998,"d":"0.27"},null,34,{"v":0.22862440976999174,"d":"0.23"},{"v":0.11110477248724829,"d":"0.11"},{"v":0.11110477248724829,"d":"0.11"},{"v":0.11110477248724829,"d":"0.11"},{"v":0.040101902654036105,"d":"0.04"},{"v":0.165988182857059,"d":"0.17"}]
[{"$nulls":6},35,{"v":15.4694275377032,"d":"15.47"},{"v":7.19320876150988,"d":"7.19"},{"v":5.26605247557161,"d":"5.27"},{"v":7.19320876150988,"d":"7.19"},{"v":5.58085560370397,"d":"5.58"},{"v":15.4694275377032,"d":"15.47"},null,35,{"v":0.0659154929577465,"d":"0.07"},{"v":0.06377767314113961,"d":"0.06"},{"v":0.06377767314113961,"d":"0.06"},{"v":0.06377767314113961,"d":"0.06"},{"v":0.0659154929577465,"d":"0.07"},{"v":0.250141881345055,"d":"0.25"},null,35,{"v":0.213556191970798,"d":"0.21"},{"v":0.0994681972442421,"d":"0.10"},{"v":0.0994681972442421,"d":"0.10"},{"v":0.0994681972442421,"d":"0.10"},{"v":0.0312835658025066,"d":"0.03"},{"v":0.151734741241889,"d":"0.15"}]
[{"$nulls":6},36,{"v":14.10583100799165,"d":"14.11"},{"v":7.188534200010694,"d":"7.19"},{"v":4.856000273142148,"d":"4.86"},{"v":7.188534200010694,"d":"7.19"},{"v":5.800825283618864,"d":"5.80"},{"v":14.10583100799165,"d":"14.11"},null,36,{"v":0.06083424621804906,"d":"0.06"},{"v":0.057107505002886666,"d":"0.06"},{"v":0.057107505002886666,"d":"0.06"},{"v":0.057107505002886666,"d":"0.06"},{"v":0.06083424621804906,"d":"0.06"},{"v":0.23159898802729018,"d":"0.23"},null,36,{"v":0.1984879741716042,"d":"0.20"},{"v":0.0904522694500564,"d":"0.09"},{"v":0.0904522694500564,"d":"0.09"},{"v":0.0904522694500564,"d":"0.09"},{"v":0.02617959985683651,"d":"0.03"},{"v":0.14224172557778078,"d":"0.14"}]
[{"$nulls":6},37,{"v":12.7422344782801,"d":"12.74"},{"v":7.183859638511508,"d":"7.18"},{"v":4.445948070712686,"d":"4.45"},{"v":7.183859638511508,"d":"7.18"},{"v":6.020794963533758,"d":"6.02"},{"v":12.7422344782801,"d":"12.74"},null,37,{"v":0.05575299947835163,"d":"0.06"},{"v":0.050437336864633725,"d":"0.05"},{"v":0.050437336864633725,"d":"0.05"},{"v":0.050437336864633725,"d":"0.05"},{"v":0.05575299947835163,"d":"0.06"},{"v":0.21305609470952538,"d":"0.21"},null,37,{"v":0.18341975637241037,"d":"0.18"},{"v":0.0814363416558707,"d":"0.08"},{"v":0.0814363416558707,"d":"0.08"},{"v":0.0814363416558707,"d":"0.08"},{"v":0.02107563391116642,"d":"0.02"},{"v":0.13274870991367257,"d":"0.13"}]
[{"$nulls":6},38,{"v":11.37863794856855,"d":"11.38"},{"v":7.179185077012321,"d":"7.18"},{"v":4.035895868283224,"d":"4.04"},{"v":7.179185077012321,"d":"7.18"},{"v":6.240764643448652,"d":"6.24"},{"v":11.37863794856855,"d":"11.38"},null,38,{"v":0.05067175273865419,"d":"0.05"},{"v":0.04376716872638079,"d":"0.04"},{"v":0.04376716872638079,"d":"0.04"},{"v":0.04376716872638079,"d":"0.04"},{"v":0.05067175273865419,"d":"0.05"},{"v":0.19451320139176062,"d":"0.19"},null,38,{"v":0.16835153857321658,"d":"0.17"},{"v":0.072420413861685,"d":"0.07"},{"v":0.072420413861685,"d":"0.07"},{"v":0.072420413861685,"d":"0.07"},{"v":0.01597166796549633,"d":"0.02"},{"v":0.12325569424956438,"d":"0.12"}]
[{"$nulls":6},39,{"v":10.015041418856999,"d":"10.02"},{"v":7.174510515513135,"d":"7.17"},{"v":3.625843665853762,"d":"3.63"},{"v":7.174510515513135,"d":"7.17"},{"v":6.460734323363546,"d":"6.46"},{"v":10.015041418856999,"d":"10.02"},null,39,{"v":0.045590505998956754,"d":"0.05"},{"v":0.03709700058812785,"d":"0.04"},{"v":0.03709700058812785,"d":"0.04"},{"v":0.03709700058812785,"d":"0.04"},{"v":0.045590505998956754,"d":"0.05"},{"v":0.17597030807399583,"d":"0.18"},null,39,{"v":0.1532833207740228,"d":"0.15"},{"v":0.06340448606749931,"d":"0.06"},{"v":0.06340448606749931,"d":"0.06"},{"v":0.06340448606749931,"d":"0.06"},{"v":0.01086770201982624,"d":"0.01"},{"v":0.11376267858545618,"d":"0.11"}]
[{"$nulls":6},40,{"v":8.65144488914545,"d":"8.65"},{"v":7.16983595401395,"d":"7.17"},{"v":3.2157914634243,"d":"3.22"},{"v":7.16983595401395,"d":"7.17"},{"v":6.68070400327844,"d":"6.68"},{"v":8.65144488914545,"d":"8.65"},null,40,{"v":0.0405092592592593,"d":"0.04"},{"v":0.030426832449874902,"d":"0.03"},{"v":0.030426832449874902,"d":"0.03"},{"v":0.030426832449874902,"d":"0.03"},{"v":0.0405092592592593,"d":"0.04"},{"v":0.157427414756231,"d":"0.16"},null,40,{"v":0.138215102974829,"d":"0.14"},{"v":0.0543885582733136,"d":"0.05"},{"v":0.0543885582733136,"d":"0.05"},{"v":0.0543885582733136,"d":"0.05"},{"v":0.00576373607415615,"d":"0.01"},{"v":0.104269662921348,"d":"0.10"}]
[{"$nulls":6},41,{"v":7.58914414326017,"d":"7.59"},{"v":5.874004818578313,"d":"5.87"},{"v":2.659631890958754,"d":"2.66"},{"v":5.874004818578313,"d":"5.87"},{"v":5.372573085952926,"d":"5.37"},{"v":7.58914414326017,"d":"7.59"},null,41,{"v":0.03654207958697036,"d":"0.04"},{"v":0.026265553279191972,"d":"0.03"},{"v":0.026265553279191972,"d":"0.03"},{"v":0.026265553279191972,"d":"0.03"},{"v":0.03654207958697036,"d":"0.04"},{"v":0.14049240786959177,"d":"0.14"},null,41,{"v":0.12439359267734605,"d":"0.12"},{"v":0.047817946330836865,"d":"0.05"},{"v":0.047817946330836865,"d":"0.05"},{"v":0.047817946330836865,"d":"0.05"},{"v":0.005379639814517061,"d":"0.01"},{"v":0.09126632409211767,"d":"0.09"}]
[{"$nulls":6},42,{"v":6.52684339737489,"d":"6.53"},{"v":4.578173683142676,"d":"4.58"},{"v":2.103472318493208,"d":"2.10"},{"v":4.578173683142676,"d":"4.58"},{"v":4.06444216862741,"d":"4.06"},{"v":6.52684339737489,"d":"6.53"},null,42,{"v":0.03257489991468142,"d":"0.03"},{"v":0.022104274108509046,"d":"0.02"},{"v":0.022104274108509046,"d":"0.02"},{"v":0.022104274108509046,"d":"0.02"},{"v":0.03257489991468142,"d":"0.03"},{"v":0.12355740098295255,"d":"0.12"},null,42,{"v":0.1105720823798631,"d":"0.11"},{"v":0.041247334388360125,"d":"0.04"},{"v":0.041247334388360125,"d":"0.04"},{"v":0.041247334388360125,"d":"0.04"},{"v":4.9955435548779716E-3,"d":"0.00"},{"v":0.07826298526288736,"d":"0.08"}]
[{"$nulls":6},43,{"v":5.46454265148961,"d":"5.46"},{"v":3.2823425477070396,"d":"3.28"},{"v":1.5473127460276614,"d":"1.55"},{"v":3.2823425477070396,"d":"3.28"},{"v":2.7563112513018955,"d":"2.76"},{"v":5.46454265148961,"d":"5.46"},null,43,{"v":0.028607720242392477,"d":"0.03"},{"v":0.01794299493782612,"d":"0.02"},{"v":0.01794299493782612,"d":"0.02"},{"v":0.01794299493782612,"d":"0.02"},{"v":0.028607720242392477,"d":"0.03"},{"v":0.10662239409631333,"d":"0.11"},null,43,{"v":0.09675057208238017,"d":"0.10"},{"v":0.034676722445883386,"d":"0.03"},{"v":0.034676722445883386,"d":"0.03"},{"v":0.034676722445883386,"d":"0.03"},{"v":0.004611447295238883,"d":"0.00"},{"v":0.06525964643365705,"d":"0.07"}]
[{"$nulls":6},44,{"v":4.402241905604329,"d":"4.40"},{"v":1.986511412271403,"d":"1.99"},{"v":0.9911531735621151,"d":"0.99"},{"v":1.986511412271403,"d":"1.99"},{"v":1.4481803339763806,"d":"1.45"},{"v":4.402241905604329,"d":"4.40"},null,44,{"v":0.024640540570103536,"d":"0.02"},{"v":0.01378171576714319,"d":"0.01"},{"v":0.01378171576714319,"d":"0.01"},{"v":0.01378171576714319,"d":"0.01"},{"v":0.024640540570103536,"d":"0.02"},{"v":0.0896873872096741,"d":"0.09"},null,44,{"v":0.08292906178489722,"d":"0.08"},{"v":0.028106110503406646,"d":"0.03"},{"v":0.028106110503406646,"d":"0.03"},{"v":0.028106110503406646,"d":"0.03"},{"v":0.004227351035599794,"d":"0.00"},{"v":0.05225630760442672,"d":"0.05"}]
[{"$nulls":6},45,{"v":3.33994115971905,"d":"3.34"},{"v":0.690680276835766,"d":"0.69"},{"v":0.434993601096568,"d":"0.43"},{"v":0.690680276835766,"d":"0.69"},{"v":0.140049416650866,"d":"0.14"},{"v":3.33994115971905,"d":"3.34"},null,45,{"v":0.020673360897814602,"d":"0.02"},{"v":0.00962043659646026,"d":"0.01"},{"v":0.00962043659646026,"d":"0.01"},{"v":0.00962043659646026,"d":"0.01"},{"v":0.020673360897814602,"d":"0.02"},{"v":0.07275238032303491,"d":"0.07"},null,45,{"v":0.06910755148741429,"d":"0.07"},{"v":0.021535498560929903,"d":"0.02"},{"v":0.021535498560929903,"d":"0.02"},{"v":0.021535498560929903,"d":"0.02"},{"v":0.003843254775960705,"d":"0.00"},{"v":0.0392529687751964,"d":"0.04"}]
[{"$nulls":6},46,{"v":2.67195292777524,"d":"2.67"},{"v":0.5525442214686128,"d":"0.55"},{"v":0.3479948808772544,"d":"0.35"},{"v":0.5525442214686128,"d":"0.55"},{"v":0.1120395333206928,"d":"0.11"},{"v":2.67195292777524,"d":"2.67"},null,46,{"v":0.016538688718251683,"d":"0.02"},{"v":0.007696349277168208,"d":"0.01"},{"v":0.007696349277168208,"d":"0.01"},{"v":0.007696349277168208,"d":"0.01"},{"v":0.016538688718251683,"d":"0.02"},{"v":0.058201904258427924,"d":"0.06"},null,46,{"v":0.05528604118993144,"d":"0.06"},{"v":0.01722839884874392,"d":"0.02"},{"v":0.01722839884874392,"d":"0.02"},{"v":0.01722839884874392,"d":"0.02"},{"v":3.0746038207685638E-3,"d":"0.00"},{"v":0.03140237502015712,"d":"0.03"}]
[{"$nulls":6},47,{"v":2.0039646958314297,"d":"2.00"},{"v":0.4144081661014596,"d":"0.41"},{"v":0.2609961606579408,"d":"0.26"},{"v":0.4144081661014596,"d":"0.41"},{"v":0.0840296499905196,"d":"0.08"},{"v":2.0039646958314297,"d":"2.00"},null,47,{"v":0.012404016538688762,"d":"0.01"},{"v":0.005772261957876157,"d":"0.01"},{"v":0.005772261957876157,"d":"0.01"},{"v":0.005772261957876157,"d":"0.01"},{"v":0.012404016538688762,"d":"0.01"},{"v":0.043651428193820944,"d":"0.04"},null,47,{"v":0.04146453089244858,"d":"0.04"},{"v":0.012921299136557943,"d":"0.01"},{"v":0.012921299136557943,"d":"0.01"},{"v":0.012921299136557943,"d":"0.01"},{"v":2.3059528655764226E-3,"d":"0.00"},{"v":0.02355178126511784,"d":"0.02"}]
[{"$nulls":6},48,{"v":1.3359764638876197,"d":"1.34"},{"v":0.27627211073430635,"d":"0.28"},{"v":0.1739974404386272,"d":"0.17"},{"v":0.27627211073430635,"d":"0.28"},{"v":0.056019766660346394,"d":"0.06"},{"v":1.3359764638876197,"d":"1.34"},null,48,{"v":0.008269344359125842,"d":"0.01"},{"v":3.8481746385841046E-3,"d":"0.00"},{"v":3.8481746385841046E-3,"d":"0.00"},{"v":3.8481746385841046E-3,"d":"0.00"},{"v":0.008269344359125842,"d":"0.01"},{"v":0.029100952129213962,"d":"0.03"},null,48,{"v":0.02764302059496572,"d":"0.03"},{"v":0.008614199424371962,"d":"0.01"},{"v":0.008614199424371962,"d":"0.01"},{"v":0.008614199424371962,"d":"0.01"},{"v":1.5373019103842817E-3,"d":"0.00"},{"v":0.01570118751007856,"d":"0.02"}]
[{"$nulls":6},49,{"v":0.6679882319438097,"d":"0.67"},{"v":0.13813605536715315,"d":"0.14"},{"v":0.0869987202193136,"d":"0.09"},{"v":0.13813605536715315,"d":"0.14"},{"v":0.028009883330173194,"d":"0.03"},{"v":0.6679882319438097,"d":"0.67"},null,49,{"v":0.004134672179562922,"d":"0.00"},{"v":1.9240873192920528E-3,"d":"0.00"},{"v":1.9240873192920528E-3,"d":"0.00"},{"v":1.9240873192920528E-3,"d":"0.00"},{"v":0.004134672179562922,"d":"0.00"},{"v":0.014550476064606981,"d":"0.01"},null,49,{"v":0.01382151029748286,"d":"0.01"},{"v":0.004307099712185982,"d":"0.00"},{"v":0.004307099712185982,"d":"0.00"},{"v":0.004307099712185982,"d":"0.00"},{"v":7.6865095519214072E-4,"d":"0.00"},{"v":0.007850593755039282,"d":"0.01"}]
[{"$nulls":6},50,0,0,0,0,0,0,null,50,0,0,0,0,0,0,null,50,0,0,0,0,0,0]
[{"$nulls":6},51,{"v":0.383320225191884,"d":"0.38"},{"v":0.0908895748552772,"d":"0.09"},{"v":0.21947729571942598,"d":"0.22"},{"v":0.0908895748552772,"d":"0.09"},{"v":0.253718382384988,"d":"0.25"},{"v":0.383320225191884,"d":"0.38"},null,51,{"v":3.4355828220858932E-3,"d":"0.00"},{"v":1.1378739808806319E-4,"d":"0.00"},{"v":1.1378739808806319E-4,"d":"0.00"},{"v":1.1378739808806319E-4,"d":"0.00"},{"v":3.4355828220858932E-3,"d":"0.00"},{"v":0.011484897097620262,"d":"0.01"},null,51,{"v":0.012822049131216309,"d":"0.01"},{"v":2.2429209512524946E-3,"d":"0.00"},{"v":2.2429209512524946E-3,"d":"0.00"},{"v":2.2429209512524946E-3,"d":"0.00"},{"v":3.0037248958903803E-3,"d":"0.00"},{"v":0.012166043910381388,"d":"0.01"}]
[{"$nulls":6},52,{"v":0.766640450383768,"d":"0.77"},{"v":0.1817791497105544,"d":"0.18"},{"v":0.43895459143885196,"d":"0.44"},{"v":0.1817791497105544,"d":"0.18"},{"v":0.507436764769976,"d":"0.51"},{"v":0.766640450383768,"d":"0.77"},null,52,{"v":6.8711656441717865E-3,"d":"0.01"},{"v":2.2757479617612638E-4,"d":"0.00"},{"v":2.2757479617612638E-4,"d":"0.00"},{"v":2.2757479617612638E-4,"d":"0.00"},{"v":6.8711656441717865E-3,"d":"0.01"},{"v":0.022969794195240523,"d":"0.02"},null,52,{"v":0.025644098262432618,"d":"0.03"},{"v":0.004485841902504989,"d":"0.00"},{"v":0.004485841902504989,"d":"0.00"},{"v":0.004485841902504989,"d":"0.00"},{"v":6.0074497917807605E-3,"d":"0.01"},{"v":0.024332087820762776,"d":"0.02"}]
[{"$nulls":6},53,{"v":1.149960675575652,"d":"1.15"},{"v":0.2726687245658316,"d":"0.27"},{"v":0.6584318871582779,"d":"0.66"},{"v":0.2726687245658316,"d":"0.27"},{"v":0.761155147154964,"d":"0.76"},{"v":1.149960675575652,"d":"1.15"},null,53,{"v":0.010306748466257681,"d":"0.01"},{"v":3.4136219426418959E-4,"d":"0.00"},{"v":3.4136219426418959E-4,"d":"0.00"},{"v":3.4136219426418959E-4,"d":"0.00"},{"v":0.010306748466257681,"d":"0.01"},{"v":0.03445469129286079,"d":"0.03"},null,53,{"v":0.038466147393648925,"d":"0.04"},{"v":0.006728762853757484,"d":"0.01"},{"v":0.006728762853757484,"d":"0.01"},{"v":0.006728762853757484,"d":"0.01"},{"v":9.011174687671139E-3,"d":"0.01"},{"v":0.03649813173114416,"d":"0.04"}]
[{"$nulls":6},54,{"v":1.533280900767536,"d":"1.53"},{"v":0.3635582994211088,"d":"0.36"},{"v":0.8779091828777039,"d":"0.88"},{"v":0.3635582994211088,"d":"0.36"},{"v":1.014873529539952,"d":"1.01"},{"v":1.533280900767536,"d":"1.53"},null,54,{"v":0.013742331288343573,"d":"0.01"},{"v":4.5514959235225277E-4,"d":"0.00"},{"v":4.5514959235225277E-4,"d":"0.00"},{"v":4.5514959235225277E-4,"d":"0.00"},{"v":0.013742331288343573,"d":"0.01"},{"v":0.04593958839048105,"d":"0.05"},null,54,{"v":0.051288196524865236,"d":"0.05"},{"v":0.008971683805009978,"d":"0.01"},{"v":0.008971683805009978,"d":"0.01"},{"v":0.008971683805009978,"d":"0.01"},{"v":0.012014899583561521,"d":"0.01"},{"v":0.04866417564152555,"d":"0.05"}]
[{"$nulls":6},55,{"v":1.91660112595942,"d":"1.92"},{"v":0.454447874276386,"d":"0.45"},{"v":1.09738647859713,"d":"1.10"},{"v":0.454447874276386,"d":"0.45"},{"v":1.26859191192494,"d":"1.27"},{"v":1.91660112595942,"d":"1.92"},null,55,{"v":0.017177914110429463,"d":"0.02"},{"v":0.000568936990440316,"d":"0.00"},{"v":0.000568936990440316,"d":"0.00"},{"v":0.000568936990440316,"d":"0.00"},{"v":0.017177914110429463,"d":"0.02"},{"v":0.0574244854881013,"d":"0.06"},null,55,{"v":0.06411024565608155,"d":"0.06"},{"v":0.011214604756262474,"d":"0.01"},{"v":0.011214604756262474,"d":"0.01"},{"v":0.011214604756262474,"d":"0.01"},{"v":0.015018624479451901,"d":"0.02"},{"v":0.06083021955190694,"d":"0.06"}]
[{"$nulls":6},56,{"v":2.458438057369616,"d":"2.46"},{"v":0.4927975803239856,"d":"0.49"},{"v":1.099183315091828,"d":"1.10"},{"v":0.4927975803239856,"d":"0.49"},{"v":1.6895520206188819,"d":"1.69"},{"v":2.458438057369616,"d":"2.46"},null,56,{"v":0.020733592212188744,"d":"0.02"},{"v":0.002558904668289893,"d":"0.00"},{"v":0.002558904668289893,"d":"0.00"},{"v":0.002558904668289893,"d":"0.00"},{"v":0.020733592212188744,"d":"0.02"},{"v":0.06541466635894007,"d":"0.07"},null,56,{"v":0.07693229478729785,"d":"0.08"},{"v":0.01159864856926335,"d":"0.01"},{"v":0.01159864856926335,"d":"0.01"},{"v":0.01159864856926335,"d":"0.01"},{"v":0.0198420361350542,"d":"0.02"},{"v":0.0674347574197912,"d":"0.07"}]
[{"$nulls":6},57,{"v":3.000274988779812,"d":"3.00"},{"v":0.5311472863715851,"d":"0.53"},{"v":1.100980151586526,"d":"1.10"},{"v":0.5311472863715851,"d":"0.53"},{"v":2.1105121293128235,"d":"2.11"},{"v":3.000274988779812,"d":"3.00"},null,57,{"v":0.024289270313948022,"d":"0.02"},{"v":0.00454887234613947,"d":"0.00"},{"v":0.00454887234613947,"d":"0.00"},{"v":0.00454887234613947,"d":"0.00"},{"v":0.024289270313948022,"d":"0.02"},{"v":0.07340484722977884,"d":"0.07"},null,57,{"v":0.08975434391851415,"d":"0.09"},{"v":0.011982692382264227,"d":"0.01"},{"v":0.011982692382264227,"d":"0.01"},{"v":0.011982692382264227,"d":"0.01"},{"v":0.024665447790656502,"d":"0.02"},{"v":0.07403929528767546,"d":"0.07"}]
[{"$nulls":6},58,{"v":3.542111920190008,"d":"3.54"},{"v":0.5694969924191847,"d":"0.57"},{"v":1.1027769880812242,"d":"1.10"},{"v":0.5694969924191847,"d":"0.57"},{"v":2.5314722380067654,"d":"2.53"},{"v":3.542111920190008,"d":"3.54"},null,58,{"v":0.0278449484157073,"d":"0.03"},{"v":0.006538840023989047,"d":"0.01"},{"v":0.006538840023989047,"d":"0.01"},{"v":0.006538840023989047,"d":"0.01"},{"v":0.0278449484157073,"d":"0.03"},{"v":0.08139502810061762,"d":"0.08"},null,58,{"v":0.10257639304973047,"d":"0.10"},{"v":0.012366736195265102,"d":"0.01"},{"v":0.012366736195265102,"d":"0.01"},{"v":0.012366736195265102,"d":"0.01"},{"v":0.0294888594462588,"d":"0.03"},{"v":0.08064383315555972,"d":"0.08"}]
[{"$nulls":6},59,{"v":4.083948851600204,"d":"4.08"},{"v":0.6078466984667843,"d":"0.61"},{"v":1.1045738245759222,"d":"1.10"},{"v":0.6078466984667843,"d":"0.61"},{"v":2.952432346700707,"d":"2.95"},{"v":4.083948851600204,"d":"4.08"},null,59,{"v":0.03140062651746658,"d":"0.03"},{"v":8.528807701838623E-3,"d":"0.01"},{"v":8.528807701838623E-3,"d":"0.01"},{"v":8.528807701838623E-3,"d":"0.01"},{"v":0.03140062651746658,"d":"0.03"},{"v":0.08938520897145638,"d":"0.09"},null,59,{"v":0.11539844218094679,"d":"0.12"},{"v":0.012750780008265978,"d":"0.01"},{"v":0.012750780008265978,"d":"0.01"},{"v":0.012750780008265978,"d":"0.01"},{"v":0.0343122711018611,"d":"0.03"},{"v":0.08724837102344399,"d":"0.09"}]
[{"$nulls":6},60,{"v":4.6257857830104,"d":"4.63"},{"v":0.646196404514384,"d":"0.65"},{"v":1.10637066107062,"d":"1.11"},{"v":0.646196404514384,"d":"0.65"},{"v":3.3733924553946495,"d":"3.37"},{"v":4.6257857830104,"d":"4.63"},null,60,{"v":0.03495630461922586,"d":"0.03"},{"v":0.0105187753796882,"d":"0.01"},{"v":0.0105187753796882,"d":"0.01"},{"v":0.0105187753796882,"d":"0.01"},{"v":0.03495630461922586,"d":"0.03"},{"v":0.09737538984229514,"d":"0.10"},null,60,{"v":0.1282204913121631,"d":"0.13"},{"v":0.013134823821266857,"d":"0.01"},{"v":0.013134823821266857,"d":"0.01"},{"v":0.013134823821266857,"d":"0.01"},{"v":0.0391356827574634,"d":"0.04"},{"v":0.09385290889132826,"d":"0.09"}]
[{"$nulls":6},61,{"v":4.228641527367447,"d":"4.23"},{"v":1.363962265874679,"d":"1.36"},{"v":2.0090947960694923,"d":"2.01"},{"v":1.363962265874679,"d":"1.36"},{"v":4.082590058726398,"d":"4.08"},{"v":4.228641527367447,"d":"4.23"},null,61,{"v":0.03495630461922586,"d":"0.03"},{"v":0.014231571663494641,"d":"0.01"},{"v":0.014231571663494641,"d":"0.01"},{"v":0.014231571663494641,"d":"0.01"},{"v":0.03495630461922586,"d":"0.03"},{"v":0.10178771702775764,"d":"0.10"},null,61,{"v":0.1282204913121631,"d":"0.13"},{"v":0.011857102355658964,"d":"0.01"},{"v":0.011857102355658964,"d":"0.01"},{"v":0.011857102355658964,"d":"0.01"},{"v":0.045405095083112725,"d":"0.05"},{"v":0.09397304649801592,"d":"0.09"}]
[{"$nulls":6},62,{"v":3.8314972717244946,"d":"3.83"},{"v":2.081728127234974,"d":"2.08"},{"v":2.9118189310683644,"d":"2.91"},{"v":2.081728127234974,"d":"2.08"},{"v":4.791787662058145,"d":"4.79"},{"v":3.8314972717244946,"d":"3.83"},null,62,{"v":0.03495630461922586,"d":"0.03"},{"v":0.01794436794730108,"d":"0.02"},{"v":0.01794436794730108,"d":"0.02"},{"v":0.01794436794730108,"d":"0.02"},{"v":0.03495630461922586,"d":"0.03"},{"v":0.10620004421322013,"d":"0.11"},null,62,{"v":0.1282204913121631,"d":"0.13"},{"v":0.01057938089005107,"d":"0.01"},{"v":0.01057938089005107,"d":"0.01"},{"v":0.01057938089005107,"d":"0.01"},{"v":0.051674507408762047,"d":"0.05"},{"v":0.09409318410470359,"d":"0.09"}]
[{"$nulls":6},63,{"v":3.434353016081542,"d":"3.43"},{"v":2.799493988595269,"d":"2.80"},{"v":3.8145430660672366,"d":"3.81"},{"v":2.799493988595269,"d":"2.80"},{"v":5.500985265389893,"d":"5.50"},{"v":3.434353016081542,"d":"3.43"},null,63,{"v":0.03495630461922586,"d":"0.03"},{"v":0.021657164231107518,"d":"0.02"},{"v":0.021657164231107518,"d":"0.02"},{"v":0.021657164231107518,"d":"0.02"},{"v":0.03495630461922586,"d":"0.03"},{"v":0.11061237139868263,"d":"0.11"},null,63,{"v":0.1282204913121631,"d":"0.13"},{"v":0.009301659424443179,"d":"0.01"},{"v":0.009301659424443179,"d":"0.01"},{"v":0.009301659424443179,"d":"0.01"},{"v":0.05794391973441137,"d":"0.06"},{"v":0.09421332171139125,"d":"0.09"}]
[{"$nulls":6},64,{"v":3.0372087604385896,"d":"3.04"},{"v":3.5172598499555643,"d":"3.52"},{"v":4.717267201066108,"d":"4.72"},{"v":3.5172598499555643,"d":"3.52"},{"v":6.210182868721641,"d":"6.21"},{"v":3.0372087604385896,"d":"3.04"},null,64,{"v":0.03495630461922586,"d":"0.03"},{"v":0.02536996051491396,"d":"0.03"},{"v":0.02536996051491396,"d":"0.03"},{"v":0.02536996051491396,"d":"0.03"},{"v":0.03495630461922586,"d":"0.03"},{"v":0.11502469858414513,"d":"0.12"},null,64,{"v":0.1282204913121631,"d":"0.13"},{"v":0.008023937958835286,"d":"0.01"},{"v":0.008023937958835286,"d":"0.01"},{"v":0.008023937958835286,"d":"0.01"},{"v":0.06421333206006069,"d":"0.06"},{"v":0.09433345931807892,"d":"0.09"}]
[{"$nulls":6},65,{"v":2.6400645047956366,"d":"2.64"},{"v":4.23502571131586,"d":"4.24"},{"v":5.61999133606498,"d":"5.62"},{"v":4.23502571131586,"d":"4.24"},{"v":6.91938047205339,"d":"6.92"},{"v":2.6400645047956366,"d":"2.64"},null,65,{"v":0.03495630461922586,"d":"0.03"},{"v":0.0290827567987204,"d":"0.03"},{"v":0.0290827567987204,"d":"0.03"},{"v":0.0290827567987204,"d":"0.03"},{"v":0.03495630461922586,"d":"0.03"},{"v":0.11943702576960759,"d":"0.12"},null,65,{"v":0.1282204913121631,"d":"0.13"},{"v":0.006746216493227392,"d":"0.01"},{"v":0.006746216493227392,"d":"0.01"},{"v":0.006746216493227392,"d":"0.01"},{"v":0.07048274438571,"d":"0.07"},{"v":0.09445359692476661,"d":"0.09"}]
[{"$nulls":6},66,{"v":3.357654604812214,"d":"3.36"},{"v":3.7968264111416397,"d":"3.80"},{"v":5.605465324723192,"d":"5.61"},{"v":3.7968264111416397,"d":"3.80"},{"v":5.980906860565702,"d":"5.98"},{"v":3.357654604812214,"d":"3.36"},null,66,{"v":0.03495630461922586,"d":"0.03"},{"v":0.03435252858954292,"d":"0.03"},{"v":0.03435252858954292,"d":"0.03"},{"v":0.03435252858954292,"d":"0.03"},{"v":0.03495630461922586,"d":"0.03"},{"v":0.12053977384816075,"d":"0.12"},null,66,{"v":0.1282204913121631,"d":"0.13"},{"v":0.006806152980246476,"d":"0.01"},{"v":0.006806152980246476,"d":"0.01"},{"v":0.006806152980246476,"d":"0.01"},{"v":0.0778667968017386,"d":"0.08"},{"v":0.09433345931807895,"d":"0.09"}]
[{"$nulls":6},67,{"v":4.0752447048287905,"d":"4.08"},{"v":3.3586271109674195,"d":"3.36"},{"v":5.590939313381404,"d":"5.59"},{"v":3.3586271109674195,"d":"3.36"},{"v":5.042433249078015,"d":"5.04"},{"v":4.0752447048287905,"d":"4.08"},null,67,{"v":0.03495630461922586,"d":"0.03"},{"v":0.03962230038036543,"d":"0.04"},{"v":0.03962230038036543,"d":"0.04"},{"v":0.03962230038036543,"d":"0.04"},{"v":0.03495630461922586,"d":"0.03"},{"v":0.12164252192671393,"d":"0.12"},null,67,{"v":0.1282204913121631,"d":"0.13"},{"v":0.006866089467265559,"d":"0.01"},{"v":0.006866089467265559,"d":"0.01"},{"v":0.006866089467265559,"d":"0.01"},{"v":0.08525084921776721,"d":"0.09"},{"v":0.09421332171139127,"d":"0.09"}]
[{"$nulls":6},68,{"v":4.792834804845367,"d":"4.79"},{"v":2.9204278107931994,"d":"2.92"},{"v":5.576413302039616,"d":"5.58"},{"v":2.9204278107931994,"d":"2.92"},{"v":4.103959637590328,"d":"4.10"},{"v":4.792834804845367,"d":"4.79"},null,68,{"v":0.03495630461922586,"d":"0.03"},{"v":0.04489207217118795,"d":"0.04"},{"v":0.04489207217118795,"d":"0.04"},{"v":0.04489207217118795,"d":"0.04"},{"v":0.03495630461922586,"d":"0.03"},{"v":0.1227452700052671,"d":"0.12"},null,68,{"v":0.1282204913121631,"d":"0.13"},{"v":0.006926025954284642,"d":"0.01"},{"v":0.006926025954284642,"d":"0.01"},{"v":0.006926025954284642,"d":"0.01"},{"v":0.09263490163379581,"d":"0.09"},{"v":0.0940931841047036,"d":"0.09"}]
[{"$nulls":6},69,{"v":5.510424904861944,"d":"5.51"},{"v":2.482228510618979,"d":"2.48"},{"v":5.561887290697828,"d":"5.56"},{"v":2.482228510618979,"d":"2.48"},{"v":3.16548602610264,"d":"3.17"},{"v":5.510424904861944,"d":"5.51"},null,69,{"v":0.03495630461922586,"d":"0.03"},{"v":0.05016184396201047,"d":"0.05"},{"v":0.05016184396201047,"d":"0.05"},{"v":0.05016184396201047,"d":"0.05"},{"v":0.03495630461922586,"d":"0.03"},{"v":0.12384801808382027,"d":"0.12"},null,69,{"v":0.1282204913121631,"d":"0.13"},{"v":0.006985962441303725,"d":"0.01"},{"v":0.006985962441303725,"d":"0.01"},{"v":0.006985962441303725,"d":"0.01"},{"v":0.10001895404982442,"d":"0.10"},{"v":0.09397304649801594,"d":"0.09"}]
[{"$nulls":6},70,{"v":6.228015004878522,"d":"6.23"},{"v":2.04402921044476,"d":"2.04"},{"v":5.54736127935604,"d":"5.55"},{"v":2.04402921044476,"d":"2.04"},{"v":2.227012414614952,"d":"2.23"},{"v":6.228015004878522,"d":"6.23"},null,70,{"v":0.03495630461922586,"d":"0.03"},{"v":0.055431615752832994,"d":"0.06"},{"v":0.055431615752832994,"d":"0.06"},{"v":0.055431615752832994,"d":"0.06"},{"v":0.03495630461922586,"d":"0.03"},{"v":0.12495076616237347,"d":"0.12"},null,70,{"v":0.1282204913121631,"d":"0.13"},{"v":0.00704589892832281,"d":"0.01"},{"v":0.00704589892832281,"d":"0.01"},{"v":0.00704589892832281,"d":"0.01"},{"v":0.107403006465853,"d":"0.11"},{"v":0.09385290889132826,"d":"0.09"}]
[{"$nulls":6},71,{"v":5.0791156030431015,"d":"5.08"},{"v":4.002666972118428,"d":"4.00"},{"v":7.082914170936952,"d":"7.08"},{"v":4.002666972118428,"d":"4.00"},{"v":5.042363373468421,"d":"5.04"},{"v":5.0791156030431015,"d":"5.08"},null,71,{"v":0.029913886569923928,"d":"0.03"},{"v":0.06206919862195154,"d":"0.06"},{"v":0.06206919862195154,"d":"0.06"},{"v":0.06206919862195154,"d":"0.06"},{"v":0.029913886569923928,"d":"0.03"},{"v":0.12328934824184028,"d":"0.12"},null,71,{"v":0.12287561113071847,"d":"0.12"},{"v":0.011121860181527408,"d":"0.01"},{"v":0.011121860181527408,"d":"0.01"},{"v":0.011121860181527408,"d":"0.01"},{"v":0.11561152740533559,"d":"0.12"},{"v":0.08854072505180378,"d":"0.09"}]
[{"$nulls":6},72,{"v":3.930216201207681,"d":"3.93"},{"v":5.961304733792096,"d":"5.96"},{"v":8.618467062517864,"d":"8.62"},{"v":5.961304733792096,"d":"5.96"},{"v":7.85771433232189,"d":"7.86"},{"v":3.930216201207681,"d":"3.93"},null,72,{"v":0.024871468520621994,"d":"0.02"},{"v":0.06870678149107007,"d":"0.07"},{"v":0.06870678149107007,"d":"0.07"},{"v":0.06870678149107007,"d":"0.07"},{"v":0.024871468520621994,"d":"0.02"},{"v":0.12162793032130709,"d":"0.12"},null,72,{"v":0.11753073094927385,"d":"0.12"},{"v":0.015197821434732006,"d":"0.02"},{"v":0.015197821434732006,"d":"0.02"},{"v":0.015197821434732006,"d":"0.02"},{"v":0.12382004834481819,"d":"0.12"},{"v":0.08322854121227931,"d":"0.08"}]
[{"$nulls":6},73,{"v":2.7813167993722603,"d":"2.78"},{"v":7.919942495465763,"d":"7.92"},{"v":10.154019954098775,"d":"10.15"},{"v":7.919942495465763,"d":"7.92"},{"v":10.673065291175359,"d":"10.67"},{"v":2.7813167993722603,"d":"2.78"},null,73,{"v":0.019829050471320067,"d":"0.02"},{"v":0.07534436436018861,"d":"0.08"},{"v":0.07534436436018861,"d":"0.08"},{"v":0.07534436436018861,"d":"0.08"},{"v":0.019829050471320067,"d":"0.02"},{"v":0.11996651240077391,"d":"0.12"},null,73,{"v":0.11218585076782923,"d":"0.11"},{"v":0.019273782687936603,"d":"0.02"},{"v":0.019273782687936603,"d":"0.02"},{"v":0.019273782687936603,"d":"0.02"},{"v":0.1320285692843008,"d":"0.13"},{"v":0.07791635737275483,"d":"0.08"}]
[{"$nulls":6},74,{"v":1.6324173975368397,"d":"1.63"},{"v":9.878580257139431,"d":"9.88"},{"v":11.689572845679686,"d":"11.69"},{"v":9.878580257139431,"d":"9.88"},{"v":13.488416250028827,"d":"13.49"},{"v":1.6324173975368397,"d":"1.63"},null,74,{"v":0.014786632422018138,"d":"0.01"},{"v":0.08198194722930716,"d":"0.08"},{"v":0.08198194722930716,"d":"0.08"},{"v":0.08198194722930716,"d":"0.08"},{"v":0.014786632422018138,"d":"0.01"},{"v":0.11830509448024072,"d":"0.12"},null,74,{"v":0.10684097058638463,"d":"0.11"},{"v":0.023349743941141202,"d":"0.02"},{"v":0.023349743941141202,"d":"0.02"},{"v":0.023349743941141202,"d":"0.02"},{"v":0.1402370902237834,"d":"0.14"},{"v":0.07260417353323036,"d":"0.07"}]
[{"$nulls":6},75,{"v":0.483517995701419,"d":"0.48"},{"v":11.8372180188131,"d":"11.84"},{"v":13.2251257372606,"d":"13.23"},{"v":11.8372180188131,"d":"11.84"},{"v":16.3037672088823,"d":"16.30"},{"v":0.483517995701419,"d":"0.48"},null,75,{"v":0.00974421437271621,"d":"0.01"},{"v":0.08861953009842569,"d":"0.09"},{"v":0.08861953009842569,"d":"0.09"},{"v":0.08861953009842569,"d":"0.09"},{"v":0.00974421437271621,"d":"0.01"},{"v":0.11664367655970753,"d":"0.12"},null,75,{"v":0.10149609040494,"d":"0.10"},{"v":0.027425705194345798,"d":"0.03"},{"v":0.027425705194345798,"d":"0.03"},{"v":0.027425705194345798,"d":"0.03"},{"v":0.14844561116326602,"d":"0.15"},{"v":0.06729198969370588,"d":"0.07"}]
[{"$nulls":6},76,{"v":1.4384645760785213,"d":"1.44"},{"v":10.988436682758705,"d":"10.99"},{"v":13.17364003667904,"d":"13.17"},{"v":10.988436682758705,"d":"10.99"},{"v":13.761539784983935,"d":"13.76"},{"v":1.4384645760785213,"d":"1.44"},null,76,{"v":0.010649117039195568,"d":"0.01"},{"v":0.09641125070603457,"d":"0.10"},{"v":0.09641125070603457,"d":"0.10"},{"v":0.09641125070603457,"d":"0.10"},{"v":0.010649117039195568,"d":"0.01"},{"v":0.11292390855278278,"d":"0.11"},null,76,{"v":0.09615121022349538,"d":"0.10"},{"v":0.03267249480162194,"d":"0.03"},{"v":0.03267249480162194,"d":"0.03"},{"v":0.03267249480162194,"d":"0.03"},{"v":0.1572271034225424,"d":"0.16"},{"v":0.06197980585418141,"d":"0.06"}]
[{"$nulls":6},77,{"v":2.3934111564556235,"d":"2.39"},{"v":10.13965534670431,"d":"10.14"},{"v":13.122154336097479,"d":"13.12"},{"v":10.13965534670431,"d":"10.14"},{"v":11.21931236108557,"d":"11.22"},{"v":2.3934111564556235,"d":"2.39"},null,77,{"v":0.011554019705674927,"d":"0.01"},{"v":0.10420297131364344,"d":"0.10"},{"v":0.10420297131364344,"d":"0.10"},{"v":0.10420297131364344,"d":"0.10"},{"v":0.011554019705674927,"d":"0.01"},{"v":0.10920414054585802,"d":"0.11"},null,77,{"v":0.09080633004205076,"d":"0.09"},{"v":0.03791928440889808,"d":"0.04"},{"v":0.03791928440889808,"d":"0.04"},{"v":0.03791928440889808,"d":"0.04"},{"v":0.1660085956818188,"d":"0.17"},{"v":0.056667622014656936,"d":"0.06"}]
[{"$nulls":6},78,{"v":3.3483577368327255,"d":"3.35"},{"v":9.290874010649913,"d":"9.29"},{"v":13.070668635515919,"d":"13.07"},{"v":9.290874010649913,"d":"9.29"},{"v":8.677084937187207,"d":"8.68"},{"v":3.3483577368327255,"d":"3.35"},null,78,{"v":0.012458922372154286,"d":"0.01"},{"v":0.1119946919212523,"d":"0.11"},{"v":0.1119946919212523,"d":"0.11"},{"v":0.1119946919212523,"d":"0.11"},{"v":0.012458922372154286,"d":"0.01"},{"v":0.10548437253893325,"d":"0.11"},null,78,{"v":0.08546144986060615,"d":"0.09"},{"v":0.04316607401617421,"d":"0.04"},{"v":0.04316607401617421,"d":"0.04"},{"v":0.04316607401617421,"d":"0.04"},{"v":0.1747900879410952,"d":"0.17"},{"v":0.05135543817513246,"d":"0.05"}]
[{"$nulls":6},79,{"v":4.303304317209828,"d":"4.30"},{"v":8.442092674595518,"d":"8.44"},{"v":13.019182934934358,"d":"13.02"},{"v":8.442092674595518,"d":"8.44"},{"v":6.134857513288843,"d":"6.13"},{"v":4.303304317209828,"d":"4.30"},null,79,{"v":0.013363825038633646,"d":"0.01"},{"v":0.11978641252886117,"d":"0.12"},{"v":0.11978641252886117,"d":"0.12"},{"v":0.11978641252886117,"d":"0.12"},{"v":0.013363825038633646,"d":"0.01"},{"v":0.1017646045320085,"d":"0.10"},null,79,{"v":0.08011656967916153,"d":"0.08"},{"v":0.04841286362345035,"d":"0.05"},{"v":0.04841286362345035,"d":"0.05"},{"v":0.04841286362345035,"d":"0.05"},{"v":0.18357158020037162,"d":"0.18"},{"v":0.046043254335607985,"d":"0.05"}]
[{"$nulls":6},80,{"v":5.25825089758693,"d":"5.26"},{"v":7.59331133854112,"d":"7.59"},{"v":12.9676972343528,"d":"12.97"},{"v":7.59331133854112,"d":"7.59"},{"v":3.59263008939048,"d":"3.59"},{"v":5.25825089758693,"d":"5.26"},null,80,{"v":0.014268727705113,"d":"0.01"},{"v":0.12757813313647,"d":"0.13"},{"v":0.12757813313647,"d":"0.13"},{"v":0.12757813313647,"d":"0.13"},{"v":0.014268727705113,"d":"0.01"},{"v":0.09804483652508374,"d":"0.10"},null,80,{"v":0.07477168949771688,"d":"0.07"},{"v":0.053659653230726495,"d":"0.05"},{"v":0.053659653230726495,"d":"0.05"},{"v":0.053659653230726495,"d":"0.05"},{"v":0.192353072459648,"d":"0.19"},{"v":0.040731070496083516,"d":"0.04"}]
[{"$nulls":6},81,{"v":5.590061442965578,"d":"5.59"},{"v":10.723502404108617,"d":"10.72"},{"v":15.09899668073852,"d":"15.10"},{"v":10.723502404108617,"d":"10.72"},{"v":8.635734915680345,"d":"8.64"},{"v":5.590061442965578,"d":"5.59"},null,81,{"v":0.0206209660536186,"d":"0.02"},{"v":0.1362920324389966,"d":"0.14"},{"v":0.1362920324389966,"d":"0.14"},{"v":0.1362920324389966,"d":"0.14"},{"v":0.0206209660536186,"d":"0.02"},{"v":0.09301709130924611,"d":"0.09"},null,81,{"v":0.06809751840661757,"d":"0.07"},{"v":0.059943895130882295,"d":"0.06"},{"v":0.059943895130882295,"d":"0.06"},{"v":0.059943895130882295,"d":"0.06"},{"v":0.2014914263680652,"d":"0.20"},{"v":0.034306175107425674,"d":"0.03"}]
[{"$nulls":6},82,{"v":5.921871988344226,"d":"5.92"},{"v":13.853693469676113,"d":"13.85"},{"v":17.23029612712424,"d":"17.23"},{"v":13.853693469676113,"d":"13.85"},{"v":13.67883974197021,"d":"13.68"},{"v":5.921871988344226,"d":"5.92"},null,82,{"v":0.026973204402124203,"d":"0.03"},{"v":0.1450059317415232,"d":"0.15"},{"v":0.1450059317415232,"d":"0.15"},{"v":0.1450059317415232,"d":"0.15"},{"v":0.026973204402124203,"d":"0.03"},{"v":0.08798934609340847,"d":"0.09"},null,82,{"v":0.061423347315518254,"d":"0.06"},{"v":0.0662281370310381,"d":"0.07"},{"v":0.0662281370310381,"d":"0.07"},{"v":0.0662281370310381,"d":"0.07"},{"v":0.21062978027648238,"d":"0.21"},{"v":0.02788127971876784,"d":"0.03"}]
[{"$nulls":6},83,{"v":6.253682533722874,"d":"6.25"},{"v":16.983884535243607,"d":"16.98"},{"v":19.36159557350996,"d":"19.36"},{"v":16.983884535243607,"d":"16.98"},{"v":18.721944568260074,"d":"18.72"},{"v":6.253682533722874,"d":"6.25"},null,83,{"v":0.033325442750629805,"d":"0.03"},{"v":0.1537198310440498,"d":"0.15"},{"v":0.1537198310440498,"d":"0.15"},{"v":0.1537198310440498,"d":"0.15"},{"v":0.033325442750629805,"d":"0.03"},{"v":0.08296160087757083,"d":"0.08"},null,83,{"v":0.05474917622441894,"d":"0.05"},{"v":0.0725123789311939,"d":"0.07"},{"v":0.0725123789311939,"d":"0.07"},{"v":0.0725123789311939,"d":"0.07"},{"v":0.21976813418489957,"d":"0.22"},{"v":0.02145638433011,"d":"0.02"}]
[{"$nulls":6},84,{"v":6.585493079101522,"d":"6.59"},{"v":20.114075600811102,"d":"20.11"},{"v":21.492895019895677,"d":"21.49"},{"v":20.114075600811102,"d":"20.11"},{"v":23.76504939454994,"d":"23.77"},{"v":6.585493079101522,"d":"6.59"},null,84,{"v":0.03967768109913541,"d":"0.04"},{"v":0.1624337303465764,"d":"0.16"},{"v":0.1624337303465764,"d":"0.16"},{"v":0.1624337303465764,"d":"0.16"},{"v":0.03967768109913541,"d":"0.04"},{"v":0.07793385566173319,"d":"0.08"},null,84,{"v":0.04807500513331963,"d":"0.05"},{"v":0.0787966208313497,"d":"0.08"},{"v":0.0787966208313497,"d":"0.08"},{"v":0.0787966208313497,"d":"0.08"},{"v":0.22890648809331676,"d":"0.23"},{"v":0.01503148894145216,"d":"0.02"}]
[{"$nulls":6},85,{"v":6.91730362448017,"d":"6.92"},{"v":23.2442666663786,"d":"23.24"},{"v":23.6241944662814,"d":"23.62"},{"v":23.2442666663786,"d":"23.24"},{"v":28.8081542208398,"d":"28.81"},{"v":6.91730362448017,"d":"6.92"},null,85,{"v":0.046029919447641,"d":"0.05"},{"v":0.17114762964910302,"d":"0.17"},{"v":0.17114762964910302,"d":"0.17"},{"v":0.17114762964910302,"d":"0.17"},{"v":0.046029919447641,"d":"0.05"},{"v":0.07290611044589554,"d":"0.07"},null,85,{"v":0.04140083404222031,"d":"0.04"},{"v":0.0850808627315055,"d":"0.09"},{"v":0.0850808627315055,"d":"0.09"},{"v":0.0850808627315055,"d":"0.09"},{"v":0.23804484200173398,"d":"0.24"},{"v":0.00860659355279432,"d":"0.01"}]
[{"$nulls":6},86,{"v":5.950602545525655,"d":"5.95"},{"v":21.93156603120268,"d":"21.93"},{"v":23.575651034644,"d":"23.58"},{"v":21.93156603120268,"d":"21.93"},{"v":25.80654279192032,"d":"25.81"},{"v":5.950602545525655,"d":"5.95"},null,86,{"v":0.05198558550237146,"d":"0.05"},{"v":0.18054397965839603,"d":"0.18"},{"v":0.18054397965839603,"d":"0.18"},{"v":0.18054397965839603,"d":"0.18"},{"v":0.05198558550237146,"d":"0.05"},{"v":0.06728031589690882,"d":"0.07"},null,86,{"v":0.03472666295112099,"d":"0.03"},{"v":0.09227813180579479,"d":"0.09"},{"v":0.09227813180579479,"d":"0.09"},{"v":0.09227813180579479,"d":"0.09"},{"v":0.24735584604493638,"d":"0.25"},{"v":0.011588851520334436,"d":"0.01"}]
[{"$nulls":6},87,{"v":4.983901466571139,"d":"4.98"},{"v":20.618865396026763,"d":"20.62"},{"v":23.527107603006602,"d":"23.53"},{"v":20.618865396026763,"d":"20.62"},{"v":22.80493136300084,"d":"22.80"},{"v":4.983901466571139,"d":"4.98"},null,87,{"v":0.05794125155710192,"d":"0.06"},{"v":0.18994032966768903,"d":"0.19"},{"v":0.18994032966768903,"d":"0.19"},{"v":0.18994032966768903,"d":"0.19"},{"v":0.05794125155710192,"d":"0.06"},{"v":0.061654521347922105,"d":"0.06"},null,87,{"v":0.02805249186002168,"d":"0.03"},{"v":0.0994754008800841,"d":"0.10"},{"v":0.0994754008800841,"d":"0.10"},{"v":0.0994754008800841,"d":"0.10"},{"v":0.2566668500881388,"d":"0.26"},{"v":0.014571109487874552,"d":"0.01"}]
[{"$nulls":6},88,{"v":4.017200387616624,"d":"4.02"},{"v":19.306164760850844,"d":"19.31"},{"v":23.478564171369204,"d":"23.48"},{"v":19.306164760850844,"d":"19.31"},{"v":19.803319934081358,"d":"19.80"},{"v":4.017200387616624,"d":"4.02"},null,88,{"v":0.06389691761183237,"d":"0.06"},{"v":0.19933667967698201,"d":"0.20"},{"v":0.19933667967698201,"d":"0.20"},{"v":0.19933667967698201,"d":"0.20"},{"v":0.06389691761183237,"d":"0.06"},{"v":0.056028726798935384,"d":"0.06"},null,88,{"v":0.02137832076892237,"d":"0.02"},{"v":0.1066726699543734,"d":"0.11"},{"v":0.1066726699543734,"d":"0.11"},{"v":0.1066726699543734,"d":"0.11"},{"v":0.2659778541313412,"d":"0.27"},{"v":0.017553367455414668,"d":"0.02"}]
[{"$nulls":6},89,{"v":3.0504993086621086,"d":"3.05"},{"v":17.993464125674926,"d":"17.99"},{"v":23.430020739731805,"d":"23.43"},{"v":17.993464125674926,"d":"17.99"},{"v":16.801708505161876,"d":"16.80"},{"v":3.0504993086621086,"d":"3.05"},null,89,{"v":0.06985258366656283,"d":"0.07"},{"v":0.20873302968627502,"d":"0.21"},{"v":0.20873302968627502,"d":"0.21"},{"v":0.20873302968627502,"d":"0.21"},{"v":0.06985258366656283,"d":"0.07"},{"v":0.05040293224994866,"d":"0.05"},null,89,{"v":0.014704149677823058,"d":"0.01"},{"v":0.11386993902866269,"d":"0.11"},{"v":0.11386993902866269,"d":"0.11"},{"v":0.11386993902866269,"d":"0.11"},{"v":0.27528885817454357,"d":"0.28"},{"v":0.02053562542295478,"d":"0.02"}]
[{"$nulls":6},90,{"v":2.0837982297075923,"d":"2.08"},{"v":16.680763490499,"d":"16.68"},{"v":23.3814773080944,"d":"23.38"},{"v":16.680763490499,"d":"16.68"},{"v":13.8000970762424,"d":"13.80"},{"v":2.0837982297075923,"d":"2.08"},null,90,{"v":0.0758082497212933,"d":"0.08"},{"v":0.218129379695568,"d":"0.22"},{"v":0.218129379695568,"d":"0.22"},{"v":0.218129379695568,"d":"0.22"},{"v":0.0758082497212933,"d":"0.08"},{"v":0.044777137700961964,"d":"0.04"},null,90,{"v":0.008029978586723741,"d":"0.01"},{"v":0.121067208102952,"d":"0.12"},{"v":0.121067208102952,"d":"0.12"},{"v":0.121067208102952,"d":"0.12"},{"v":0.28459986221774597,"d":"0.28"},{"v":0.023517883390494897,"d":"0.02"}]
[{"$nulls":6},91,{"v":4.942962694531974,"d":"4.94"},{"v":20.69301054161242,"d":"20.69"},{"v":25.98869343503692,"d":"25.99"},{"v":20.69301054161242,"d":"20.69"},{"v":19.94545006520416,"d":"19.95"},{"v":4.942962694531974,"d":"4.94"},null,91,{"v":0.0758082497212933,"d":"0.08"},{"v":0.2279723949498636,"d":"0.23"},{"v":0.2279723949498636,"d":"0.23"},{"v":0.2279723949498636,"d":"0.23"},{"v":0.0758082497212933,"d":"0.08"},{"v":0.06420289388385557,"d":"0.06"},null,91,{"v":0.008029978586723741,"d":"0.01"},{"v":0.1290565416227796,"d":"0.13"},{"v":0.1290565416227796,"d":"0.13"},{"v":0.1290565416227796,"d":"0.13"},{"v":0.2939279179203178,"d":"0.29"},{"v":0.023517883390494897,"d":"0.02"}]
[{"$nulls":6},92,{"v":7.802127159356355,"d":"7.80"},{"v":24.70525759272584,"d":"24.71"},{"v":28.595909561979443,"d":"28.60"},{"v":24.70525759272584,"d":"24.71"},{"v":26.090803054165917,"d":"26.09"},{"v":7.802127159356355,"d":"7.80"},null,92,{"v":0.0758082497212933,"d":"0.08"},{"v":0.23781541020415922,"d":"0.24"},{"v":0.23781541020415922,"d":"0.24"},{"v":0.23781541020415922,"d":"0.24"},{"v":0.0758082497212933,"d":"0.08"},{"v":0.08362865006674917,"d":"0.08"},null,92,{"v":0.008029978586723741,"d":"0.01"},{"v":0.1370458751426072,"d":"0.14"},{"v":0.1370458751426072,"d":"0.14"},{"v":0.1370458751426072,"d":"0.14"},{"v":0.3032559736228896,"d":"0.30"},{"v":0.023517883390494897,"d":"0.02"}]
[{"$nulls":6},93,{"v":10.661291624180738,"d":"10.66"},{"v":28.71750464383926,"d":"28.72"},{"v":31.203125688921965,"d":"31.20"},{"v":28.71750464383926,"d":"28.72"},{"v":32.23615604312768,"d":"32.24"},{"v":10.661291624180738,"d":"10.66"},null,93,{"v":0.0758082497212933,"d":"0.08"},{"v":0.24765842545845485,"d":"0.25"},{"v":0.24765842545845485,"d":"0.25"},{"v":0.24765842545845485,"d":"0.25"},{"v":0.0758082497212933,"d":"0.08"},{"v":0.10305440624964278,"d":"0.10"},null,93,{"v":0.008029978586723741,"d":"0.01"},{"v":0.1450352086624348,"d":"0.15"},{"v":0.1450352086624348,"d":"0.15"},{"v":0.1450352086624348,"d":"0.15"},{"v":0.3125840293254614,"d":"0.31"},{"v":0.023517883390494897,"d":"0.02"}]
[{"$nulls":6},94,{"v":13.520456089005119,"d":"13.52"},{"v":32.72975169495268,"d":"32.73"},{"v":33.81034181586448,"d":"33.81"},{"v":32.72975169495268,"d":"32.73"},{"v":38.38150903208944,"d":"38.38"},{"v":13.520456089005119,"d":"13.52"},null,94,{"v":0.0758082497212933,"d":"0.08"},{"v":0.25750144071275044,"d":"0.26"},{"v":0.25750144071275044,"d":"0.26"},{"v":0.25750144071275044,"d":"0.26"},{"v":0.0758082497212933,"d":"0.08"},{"v":0.1224801624325364,"d":"0.12"},null,94,{"v":0.008029978586723741,"d":"0.01"},{"v":0.15302454218226239,"d":"0.15"},{"v":0.15302454218226239,"d":"0.15"},{"v":0.15302454218226239,"d":"0.15"},{"v":0.3219120850280332,"d":"0.32"},{"v":0.023517883390494897,"d":"0.02"}]
[{"$nulls":6},95,{"v":16.3796205538295,"d":"16.38"},{"v":36.7419987460661,"d":"36.74"},{"v":36.417557942807,"d":"36.42"},{"v":36.7419987460661,"d":"36.74"},{"v":44.5268620210512,"d":"44.53"},{"v":16.3796205538295,"d":"16.38"},null,95,{"v":0.0758082497212933,"d":"0.08"},{"v":0.267344455967046,"d":"0.27"},{"v":0.267344455967046,"d":"0.27"},{"v":0.267344455967046,"d":"0.27"},{"v":0.0758082497212933,"d":"0.08"},{"v":0.14190591861543,"d":"0.14"},null,95,{"v":0.008029978586723741,"d":"0.01"},{"v":0.16101387570209,"d":"0.16"},{"v":0.16101387570209,"d":"0.16"},{"v":0.16101387570209,"d":"0.16"},{"v":0.331240140730605,"d":"0.33"},{"v":0.023517883390494897,"d":"0.02"}]
[{"$nulls":6},96,{"v":13.72270819249881,"d":"13.72"},{"v":34.86426621368516,"d":"34.86"},{"v":36.39877646999258,"d":"36.40"},{"v":34.86426621368516,"d":"34.86"},{"v":41.650830419248884,"d":"41.65"},{"v":13.72270819249881,"d":"13.72"},null,96,{"v":0.0758082497212933,"d":"0.08"},{"v":0.277412835132871,"d":"0.28"},{"v":0.277412835132871,"d":"0.28"},{"v":0.277412835132871,"d":"0.28"},{"v":0.0758082497212933,"d":"0.08"},{"v":0.1465197448725956,"d":"0.15"},null,96,{"v":0.008029978586723741,"d":"0.01"},{"v":0.1696718470169672,"d":"0.17"},{"v":0.1696718470169672,"d":"0.17"},{"v":0.1696718470169672,"d":"0.17"},{"v":0.3404553905440324,"d":"0.34"},{"v":0.023517883390494897,"d":"0.02"}]
[{"$nulls":6},97,{"v":11.06579583116812,"d":"11.07"},{"v":32.98653368130422,"d":"32.99"},{"v":36.379994997178166,"d":"36.38"},{"v":32.98653368130422,"d":"32.99"},{"v":38.774798817446566,"d":"38.77"},{"v":11.06579583116812,"d":"11.07"},null,97,{"v":0.0758082497212933,"d":"0.08"},{"v":0.287481214298696,"d":"0.29"},{"v":0.287481214298696,"d":"0.29"},{"v":0.287481214298696,"d":"0.29"},{"v":0.0758082497212933,"d":"0.08"},{"v":0.1511335711297612,"d":"0.15"},null,97,{"v":0.008029978586723741,"d":"0.01"},{"v":0.17832981833184441,"d":"0.18"},{"v":0.17832981833184441,"d":"0.18"},{"v":0.17832981833184441,"d":"0.18"},{"v":0.34967064035745987,"d":"0.35"},{"v":0.023517883390494897,"d":"0.02"}]
[{"$nulls":6},98,{"v":8.40888346983743,"d":"8.41"},{"v":31.108801148923284,"d":"31.11"},{"v":36.36121352436375,"d":"36.36"},{"v":31.108801148923284,"d":"31.11"},{"v":35.89876721564425,"d":"35.90"},{"v":8.40888346983743,"d":"8.41"},null,98,{"v":0.0758082497212933,"d":"0.08"},{"v":0.29754959346452103,"d":"0.30"},{"v":0.29754959346452103,"d":"0.30"},{"v":0.29754959346452103,"d":"0.30"},{"v":0.0758082497212933,"d":"0.08"},{"v":0.1557473973869268,"d":"0.16"},null,98,{"v":0.008029978586723741,"d":"0.01"},{"v":0.1869877896467216,"d":"0.19"},{"v":0.1869877896467216,"d":"0.19"},{"v":0.1869877896467216,"d":"0.19"},{"v":0.3588858901708873,"d":"0.36"},{"v":0.023517883390494897,"d":"0.02"}]
[{"$nulls":6},99,{"v":5.751971108506741,"d":"5.75"},{"v":29.231068616542345,"d":"29.23"},{"v":36.34243205154933,"d":"36.34"},{"v":29.231068616542345,"d":"29.23"},{"v":33.02273561384193,"d":"33.02"},{"v":5.751971108506741,"d":"5.75"},null,99,{"v":0.0758082497212933,"d":"0.08"},{"v":0.30761797263034607,"d":"0.31"},{"v":0.30761797263034607,"d":"0.31"},{"v":0.30761797263034607,"d":"0.31"},{"v":0.0758082497212933,"d":"0.08"},{"v":0.16036122364409242,"d":"0.16"},null,99,{"v":0.008029978586723741,"d":"0.01"},{"v":0.19564576096159883,"d":"0.20"},{"v":0.19564576096159883,"d":"0.20"},{"v":0.19564576096159883,"d":"0.20"},{"v":0.3681011399843147,"d":"0.37"},{"v":0.023517883390494897,"d":"0.02"}]
[{"$nulls":6},100,{"v":3.09505874717605,"d":"3.10"},{"v":27.3533360841614,"d":"27.35"},{"v":36.3236505787349,"d":"36.32"},{"v":27.3533360841614,"d":"27.35"},{"v":30.1467040120396,"d":"30.15"},{"v":3.09505874717605,"d":"3.10"},null,100,{"v":0.0758082497212933,"d":"0.08"},{"v":0.317686351796171,"d":"0.32"},{"v":0.317686351796171,"d":"0.32"},{"v":0.317686351796171,"d":"0.32"},{"v":0.0758082497212933,"d":"0.08"},{"v":0.164975049901258,"d":"0.16"},null,100,{"v":0.008029978586723741,"d":"0.01"},{"v":0.204303732276476,"d":"0.20"},{"v":0.204303732276476,"d":"0.20"},{"v":0.204303732276476,"d":"0.20"},{"v":0.377316389797742,"d":"0.38"},{"v":0.023517883390494897,"d":"0.02"}]
[]
[]
[]
[]
[{"$nulls":6},"Speed Impact (Fuel Efficiency)"]
[{"$nulls":7},{"$f":"H668","v":0},1,2,3,4,5,6,7,8,9,10,11,12,13,14,15,16,17,18,19]
[{"$nulls":5},"NO BRT",{"$f":"G669","v":"Cars"},{"$f":"IF(ISERROR(VLOOKUP(H669,$G$683:$M$780,MATCH($H653,$G$683:$M$683,0),TRUE)),0,VLOOKUP(H669,$G$683:$M$780,MATCH($H653,$G$683:$M$683,0),TRUE))","v":0},0,0,0,0,0,0,0,0,0,0,0,0,0,0,0,0,0,0,0]
[{"$nulls":6},{"$f":"G670","v":"2-wheeler"},{"$f":"IF(ISERROR(VLOOKUP(H670,$G$683:$M$780,MATCH($H654,$G$683:$M$683,0),TRUE)),0,VLOOKUP(H670,$G$683:$M$780,MATCH($H654,$G$683:$M$683,0),TRUE))","v":0},0,0,0,0,0,0,0,0,0,0,0,0,0,0,0,0,0,0,0]
[{"$nulls":6},"Taxi",{"$f":"IF(ISERROR(VLOOKUP(H671,$G$683:$M$780,MATCH($H655,$G$683:$M$683,0),TRUE)),0,VLOOKUP(H671,$G$683:$M$780,MATCH($H655,$G$683:$M$683,0),TRUE))","v":0},0,0,0,0,0,0,0,0,0,0,0,0,0,0,0,0,0,0,0]
[{"$nulls":6},"",{"$f":"IF(ISERROR(VLOOKUP(H672,$G$683:$M$780,MATCH($H656,$G$683:$M$683,0),TRUE)),0,VLOOKUP(H672,$G$683:$M$780,MATCH($H656,$G$683:$M$683,0),TRUE))","v":0},0,0,0,0,0,0,0,0,0,0,0,0,0,0,0,0,0,0,0]
[{"$nulls":6},"",{"$f":"IF(ISERROR(VLOOKUP(H673,$G$683:$M$780,MATCH($H657,$G$683:$M$683,0),TRUE)),0,VLOOKUP(H673,$G$683:$M$780,MATCH($H657,$G$683:$M$683,0),TRUE))","v":0},0,0,0,0,0,0,0,0,0,0,0,0,0,0,0,0,0,0,0]
[{"$nulls":6},"3-wheeler",{"$f":"IF(ISERROR(VLOOKUP(H674,$G$683:$M$780,MATCH($H658,$G$683:$M$683,0),TRUE)),0,VLOOKUP(H674,$G$683:$M$780,MATCH($H658,$G$683:$M$683,0),TRUE))","v":0},0,0,0,0,0,0,0,0,0,0,0,0,0,0,0,0,0,0,0]
[{"$nulls":6},"Bus",{"$f":"IF(ISERROR(VLOOKUP(H675,$G$683:$M$780,MATCH($H659,$G$683:$M$683,0),TRUE)),0,VLOOKUP(H675,$G$683:$M$780,MATCH($H659,$G$683:$M$683,0),TRUE))","v":0},0,0,0,0,0,0,0,0,0,0,0,0,0,0,0,0,0,0,0]
[{"$nulls":6},"Mini-bus",{"$f":"IF(ISERROR(VLOOKUP(H676,$G$683:$M$780,MATCH($H660,$G$683:$M$683,0),TRUE)),0,VLOOKUP(H676,$G$683:$M$780,MATCH($H660,$G$683:$M$683,0),TRUE))","v":0},0,0,0,0,0,0,0,0,0,0,0,0,0,0,0,0,0,0,0]
[{"$nulls":6},"",{"$f":"IF(ISERROR(VLOOKUP(H677,$G$683:$M$780,MATCH($H661,$G$683:$M$683,0),TRUE)),0,VLOOKUP(H677,$G$683:$M$780,MATCH($H661,$G$683:$M$683,0),TRUE))","v":0},0,0,0,0,0,0,0,0,0,0,0,0,0,0,0,0,0,0,0]
[{"$nulls":6},"",{"$f":"IF(ISERROR(VLOOKUP(H678,$G$683:$M$780,MATCH($H662,$G$683:$M$683,0),TRUE)),0,VLOOKUP(H678,$G$683:$M$780,MATCH($H662,$G$683:$M$683,0),TRUE))","v":0},0,0,0,0,0,0,0,0,0,0,0,0,0,0,0,0,0,0,0]
[{"$nulls":6},"BRT",{"$f":"IF(ISERROR(VLOOKUP(H679,$G$683:$M$780,MATCH($H663,$G$683:$M$683,0),TRUE)),0,VLOOKUP(H679,$G$683:$M$780,MATCH($H663,$G$683:$M$683,0),TRUE))","v":0},0,0,0,0,0,0,0,0,0,0,0,0,0,0,0,0,0,0,0]
[]
[{"$nulls":6},"Speed Impact PM"]
[{"$nulls":7},{"$f":"H786","v":0},{"$f":"I786","v":1},2,3,4,5,6,7,8,9,10,11,12,13,14,15,16,17,18,19]
[{"$nulls":6},{"$f":"G787","v":"Cars"},{"$f":"IF(ISERROR(VLOOKUP(H669,$O$683:$U$780,MATCH($H653,$O$683:$U$683,0),TRUE)),0,VLOOKUP(H669,$O$683:$U$780,MATCH($H653,$O$683:$U$683,0),TRUE))","v":0},0,0,0,0,0,0,0,0,0,0,0,0,0,0,0,0,0,0,0]
[{"$nulls":6},{"$f":"G788","v":"2-wheeler"},{"$f":"IF(ISERROR(VLOOKUP(H670,$O$683:$U$780,MATCH($H654,$O$683:$U$683,0),TRUE)),0,VLOOKUP(H670,$O$683:$U$780,MATCH($H654,$O$683:$U$683,0),TRUE))","v":0},0,0,0,0,0,0,0,0,0,0,0,0,0,0,0,0,0,0,0]
[{"$nulls":6},"Taxi",{"$f":"IF(ISERROR(VLOOKUP(H671,$O$683:$U$780,MATCH($H655,$O$683:$U$683,0),TRUE)),0,VLOOKUP(H671,$O$683:$U$780,MATCH($H655,$O$683:$U$683,0),TRUE))","v":0},0,0,0,0,0,0,0,0,0,0,0,0,0,0,0,0,0,0,0]
[{"$nulls":6},"",{"$f":"IF(ISERROR(VLOOKUP(H672,$O$683:$U$780,MATCH($H656,$O$683:$U$683,0),TRUE)),0,VLOOKUP(H672,$O$683:$U$780,MATCH($H656,$O$683:$U$683,0),TRUE))","v":0},0,0,0,0,0,0,0,0,0,0,0,0,0,0,0,0,0,0,0]
[{"$nulls":6},"",{"$f":"IF(ISERROR(VLOOKUP(H673,$O$683:$U$780,MATCH($H657,$O$683:$U$683,0),TRUE)),0,VLOOKUP(H673,$O$683:$U$780,MATCH($H657,$O$683:$U$683,0),TRUE))","v":0},0,0,0,0,0,0,0,0,0,0,0,0,0,0,0,0,0,0,0]
[{"$nulls":6},"3-wheeler",{"$f":"IF(ISERROR(VLOOKUP(H674,$O$683:$U$780,MATCH($H658,$O$683:$U$683,0),TRUE)),0,VLOOKUP(H674,$O$683:$U$780,MATCH($H658,$O$683:$U$683,0),TRUE))","v":0},0,0,0,0,0,0,0,0,0,0,0,0,0,0,0,0,0,0,0]
[{"$nulls":6},"Bus",{"$f":"IF(ISERROR(VLOOKUP(H675,$O$683:$U$780,MATCH($H659,$O$683:$U$683,0),TRUE)),0,VLOOKUP(H675,$O$683:$U$780,MATCH($H659,$O$683:$U$683,0),TRUE))","v":0},0,0,0,0,0,0,0,0,0,0,0,0,0,0,0,0,0,0,0]
[{"$nulls":6},"Mini-bus",{"$f":"IF(ISERROR(VLOOKUP(H676,$O$683:$U$780,MATCH($H660,$O$683:$U$683,0),TRUE)),0,VLOOKUP(H676,$O$683:$U$780,MATCH($H660,$O$683:$U$683,0),TRUE))","v":0},0,0,0,0,0,0,0,0,0,0,0,0,0,0,0,0,0,0,0]
[{"$nulls":6},"",{"$f":"IF(ISERROR(VLOOKUP(H677,$O$683:$U$780,MATCH($H661,$O$683:$U$683,0),TRUE)),0,VLOOKUP(H677,$O$683:$U$780,MATCH($H661,$O$683:$U$683,0),TRUE))","v":0},0,0,0,0,0,0,0,0,0,0,0,0,0,0,0,0,0,0,0]
[{"$nulls":6},"",{"$f":"IF(ISERROR(VLOOKUP(H678,$O$683:$U$780,MATCH($H662,$O$683:$U$683,0),TRUE)),0,VLOOKUP(H678,$O$683:$U$780,MATCH($H662,$O$683:$U$683,0),TRUE))","v":0},0,0,0,0,0,0,0,0,0,0,0,0,0,0,0,0,0,0,0]
[{"$nulls":6},"BRT",{"$f":"IF(ISERROR(VLOOKUP(H679,$O$683:$U$780,MATCH($H663,$O$683:$U$683,0),TRUE)),0,VLOOKUP(H679,$O$683:$U$780,MATCH($H663,$O$683:$U$683,0),TRUE))","v":0},0,0,0,0,0,0,0,0,0,0,0,0,0,0,0,0,0,0,0]
[]
[{"$nulls":6},"Speed Impact Nox"]
[{"$nulls":7},{"$f":"H800","v":0},{"$f":"I800","v":1},2,3,4,5,6,7,8,9,10,11,12,13,14,15,16,17,18,19]
[{"$nulls":6},{"$f":"G801","v":"Cars"},{"$f":"IF(ISERROR(VLOOKUP(H669,$W$683:$AC$780,MATCH($H653,$W$683:$AC$683,0),TRUE)),0,VLOOKUP(H669,$W$683:$AC$780,MATCH($H653,$W$683:$AC$683,0),TRUE))","v":0},0,0,0,0,0,0,0,0,0,0,0,0,0,0,0,0,0,0,0]
[{"$nulls":6},{"$f":"G802","v":"2-wheeler"},{"$f":"IF(ISERROR(VLOOKUP(H670,$W$683:$AC$780,MATCH($H654,$W$683:$AC$683,0),TRUE)),0,VLOOKUP(H670,$W$683:$AC$780,MATCH($H654,$W$683:$AC$683,0),TRUE))","v":0},0,0,0,0,0,0,0,0,0,0,0,0,0,0,0,0,0,0,0]
[{"$nulls":6},"Taxi",{"$f":"IF(ISERROR(VLOOKUP(H671,$W$683:$AC$780,MATCH($H655,$W$683:$AC$683,0),TRUE)),0,VLOOKUP(H671,$W$683:$AC$780,MATCH($H655,$W$683:$AC$683,0),TRUE))","v":0},0,0,0,0,0,0,0,0,0,0,0,0,0,0,0,0,0,0,0]
[{"$nulls":6},"",{"$f":"IF(ISERROR(VLOOKUP(H672,$W$683:$AC$780,MATCH($H656,$W$683:$AC$683,0),TRUE)),0,VLOOKUP(H672,$W$683:$AC$780,MATCH($H656,$W$683:$AC$683,0),TRUE))","v":0},0,0,0,0,0,0,0,0,0,0,0,0,0,0,0,0,0,0,0]
[{"$nulls":6},"",{"$f":"IF(ISERROR(VLOOKUP(H673,$W$683:$AC$780,MATCH($H657,$W$683:$AC$683,0),TRUE)),0,VLOOKUP(H673,$W$683:$AC$780,MATCH($H657,$W$683:$AC$683,0),TRUE))","v":0},0,0,0,0,0,0,0,0,0,0,0,0,0,0,0,0,0,0,0]
[{"$nulls":6},"3-wheeler",{"$f":"IF(ISERROR(VLOOKUP(H674,$W$683:$AC$780,MATCH($H658,$W$683:$AC$683,0),TRUE)),0,VLOOKUP(H674,$W$683:$AC$780,MATCH($H658,$W$683:$AC$683,0),TRUE))","v":0},0,0,0,0,0,0,0,0,0,0,0,0,0,0,0,0,0,0,0]
[{"$nulls":6},"Bus",{"$f":"IF(ISERROR(VLOOKUP(H675,$W$683:$AC$780,MATCH($H659,$W$683:$AC$683,0),TRUE)),0,VLOOKUP(H675,$W$683:$AC$780,MATCH($H659,$W$683:$AC$683,0),TRUE))","v":0},0,0,0,0,0,0,0,0,0,0,0,0,0,0,0,0,0,0,0]
[{"$nulls":6},"Mini-bus",{"$f":"IF(ISERROR(VLOOKUP(H676,$W$683:$AC$780,MATCH($H660,$W$683:$AC$683,0),TRUE)),0,VLOOKUP(H676,$W$683:$AC$780,MATCH($H660,$W$683:$AC$683,0),TRUE))","v":0},0,0,0,0,0,0,0,0,0,0,0,0,0,0,0,0,0,0,0]
[{"$nulls":6},"",{"$f":"IF(ISERROR(VLOOKUP(H677,$W$683:$AC$780,MATCH($H661,$W$683:$AC$683,0),TRUE)),0,VLOOKUP(H677,$W$683:$AC$780,MATCH($H661,$W$683:$AC$683,0),TRUE))","v":0},0,0,0,0,0,0,0,0,0,0,0,0,0,0,0,0,0,0,0]
[{"$nulls":6},"",{"$f":"IF(ISERROR(VLOOKUP(H678,$W$683:$AC$780,MATCH($H662,$W$683:$AC$683,0),TRUE)),0,VLOOKUP(H678,$W$683:$AC$780,MATCH($H662,$W$683:$AC$683,0),TRUE))","v":0},0,0,0,0,0,0,0,0,0,0,0,0,0,0,0,0,0,0,0]
[{"$nulls":6},"BRT",{"$f":"IF(ISERROR(VLOOKUP(H679,$W$683:$AC$780,MATCH($H663,$W$683:$AC$683,0),TRUE)),0,VLOOKUP(H679,$W$683:$AC$780,MATCH($H663,$W$683:$AC$683,0),TRUE))","v":0},0,0,0,0,0,0,0,0,0,0,0,0,0,0,0,0,0,0,0]
[]
[]
[{"$nulls":6},"Fuel Consumption"]
[{"$nulls":6},"Gasoline","Fuel Consumption"]
[{"$nulls":7},{"$f":"H814","v":0},{"$f":"I814","v":1},2,3,4,5,6,7,8,9,10,11,12,13,14,15,16,17,18,19]
[{"$nulls":5},"NO BRT",{"$f":"G815","v":"Cars"},{"$f":"IF(ISERROR(H203/(H471-(H471*(H787/100)))),0,H203/(H471-(H471*(H787/100))))","v":0},0,0,0,0,0,0,0,0,0,0,0,0,0,0,0,0,0,0,0]
[{"$nulls":6},{"$f":"G816","v":"2-wheeler"},{"$f":"IF(ISERROR(H204/(H472-(H472*(H788/100)))),0,H204/(H472-(H472*(H788/100))))","v":0},0,0,0,0,0,0,0,0,0,0,0,0,0,0,0,0,0,0,0]
[{"$nulls":6},"Taxi",{"$f":"IF(ISERROR(H205/(H473-(H473*(H789/100)))),0,H205/(H473-(H473*(H789/100))))","v":0},0,0,0,0,0,0,0,0,0,0,0,0,0,0,0,0,0,0,0]
[{"$nulls":6},"",{"$f":"IF(ISERROR(H206/(H474-(H474*(H790/100)))),0,H206/(H474-(H474*(H790/100))))","v":0},0,0,0,0,0,0,0,0,0,0,0,0,0,0,0,0,0,0,0]
[{"$nulls":6},"",{"$f":"IF(ISERROR(H207/(H475-(H475*(H791/100)))),0,H207/(H475-(H475*(H791/100))))","v":0},0,0,0,0,0,0,0,0,0,0,0,0,0,0,0,0,0,0,0]
[{"$nulls":6},"3-wheeler",{"$f":"IF(ISERROR(H208/(H476-(H476*(H792/100)))),0,H208/(H476-(H476*(H792/100))))","v":0},0,0,0,0,0,0,0,0,0,0,0,0,0,0,0,0,0,0,0]
[{"$nulls":6},"Bus",{"$f":"IF(ISERROR(H209/(H477-(H477*(H793/100)))),0,H209/(H477-(H477*(H793/100))))","v":0},0,0,0,0,0,0,0,0,0,0,0,0,0,0,0,0,0,0,0]
[{"$nulls":6},"Mini-bus",{"$f":"IF(ISERROR(H210/(H478-(H478*(H794/100)))),0,H210/(H478-(H478*(H794/100))))","v":0},0,0,0,0,0,0,0,0,0,0,0,0,0,0,0,0,0,0,0]
[{"$nulls":6},"",{"$f":"IF(ISERROR(H211/(H479-(H479*(H795/100)))),0,H211/(H479-(H479*(H795/100))))","v":0},0,0,0,0,0,0,0,0,0,0,0,0,0,0,0,0,0,0,0]
[{"$nulls":6},"",{"$f":"IF(ISERROR(H212/(H480-(H480*(H796/100)))),0,H212/(H480-(H480*(H796/100))))","v":0},0,0,0,0,0,0,0,0,0,0,0,0,0,0,0,0,0,0,0]
[{"$nulls":6},"BRT",{"$f":"IF(ISERROR(H213/(H481-(H481*(H797/100)))),0,H213/(H481-(H481*(H797/100))))","v":0},0,0,0,0,0,0,0,0,0,0,0,0,0,0,0,0,0,0,0]
[]
[]
[{"$nulls":6},"Diesel","Fuel Consumption"]
[{"$nulls":7},{"$f":"H830","v":0},{"$f":"I830","v":1},2,3,4,5,6,7,8,9,10,11,12,13,14,15,16,17,18,19]
[{"$nulls":5},"NO BRT",{"$f":"G831","v":"Cars"},{"$f":"IF(ISERROR(H250/(H504-(H504*(H787/100)))),0,H250/(H504-(H504*(H787/100))))","v":0},0,0,0,0,0,0,0,0,0,0,0,0,0,0,0,0,0,0,0]
[{"$nulls":6},{"$f":"G832","v":"2-wheeler"},{"$f":"IF(ISERROR(H251/(H505-(H505*(H788/100)))),0,H251/(H505-(H505*(H788/100))))","v":0},0,0,0,0,0,0,0,0,0,0,0,0,0,0,0,0,0,0,0]
[{"$nulls":6},"Taxi",{"$f":"IF(ISERROR(H252/(H506-(H506*(H789/100)))),0,H252/(H506-(H506*(H789/100))))","v":0},0,0,0,0,0,0,0,0,0,0,0,0,0,0,0,0,0,0,0]
[{"$nulls":6},"",{"$f":"IF(ISERROR(H253/(H507-(H507*(H790/100)))),0,H253/(H507-(H507*(H790/100))))","v":0},0,0,0,0,0,0,0,0,0,0,0,0,0,0,0,0,0,0,0]
[{"$nulls":6},"",{"$f":"IF(ISERROR(H254/(H508-(H508*(H791/100)))),0,H254/(H508-(H508*(H791/100))))","v":0},0,0,0,0,0,0,0,0,0,0,0,0,0,0,0,0,0,0,0]
[{"$nulls":6},"3-wheeler",{"$f":"IF(ISERROR(H255/(H509-(H509*(H792/100)))),0,H255/(H509-(H509*(H792/100))))","v":0},0,0,0,0,0,0,0,0,0,0,0,0,0,0,0,0,0,0,0]
[{"$nulls":6},"Bus",{"$f":"IF(ISERROR(H256/(H510-(H510*(H793/100)))),0,H256/(H510-(H510*(H793/100))))","v":0},0,0,0,0,0,0,0,0,0,0,0,0,0,0,0,0,0,0,0]
[{"$nulls":6},"Mini-bus",{"$f":"IF(ISERROR(H257/(H511-(H511*(H794/100)))),0,H257/(H511-(H511*(H794/100))))","v":0},0,0,0,0,0,0,0,0,0,0,0,0,0,0,0,0,0,0,0]
[{"$nulls":6},"",{"$f":"IF(ISERROR(H258/(H512-(H512*(H795/100)))),0,H258/(H512-(H512*(H795/100))))","v":0},0,0,0,0,0,0,0,0,0,0,0,0,0,0,0,0,0,0,0]
[{"$nulls":6},"",{"$f":"IF(ISERROR(H259/(H513-(H513*(H796/100)))),0,H259/(H513-(H513*(H796/100))))","v":0},0,0,0,0,0,0,0,0,0,0,0,0,0,0,0,0,0,0,0]
[{"$nulls":6},"BRT",{"$f":"IF(ISERROR(H260/(H514-(H514*(H797/100)))),0,H260/(H514-(H514*(H797/100))))","v":0},0,0,0,0,0,0,0,0,0,0,0,0,0,0,0,0,0,0,0]
[]
[]
[{"$nulls":6},"LPG","Fuel Consumption"]
[{"$nulls":7},{"$f":"H845","v":0},{"$f":"I845","v":1},2,3,4,5,6,7,8,9,10,11,12,13,14,15,16,17,18,19]
[{"$nulls":5},"NO BRT",{"$f":"G846","v":"Cars"},{"$f":"IF(ISERROR(H297/(H537-(H537*(H787/100)))),0,H297/(H537-(H537*(H787/100))))","v":0},0,0,0,0,0,0,0,0,0,0,0,0,0,0,0,0,0,0,0]
[{"$nulls":6},{"$f":"G847","v":"2-wheeler"},{"$f":"IF(ISERROR(H298/(H538-(H538*(H788/100)))),0,H298/(H538-(H538*(H788/100))))","v":0},0,0,0,0,0,0,0,0,0,0,0,0,0,0,0,0,0,0,0]
[{"$nulls":6},"Taxi",{"$f":"IF(ISERROR(H299/(H539-(H539*(H789/100)))),0,H299/(H539-(H539*(H789/100))))","v":0},0,0,0,0,0,0,0,0,0,0,0,0,0,0,0,0,0,0,0]
[{"$nulls":6},"",{"$f":"IF(ISERROR(H300/(H540-(H540*(H790/100)))),0,H300/(H540-(H540*(H790/100))))","v":0},0,0,0,0,0,0,0,0,0,0,0,0,0,0,0,0,0,0,0]
[{"$nulls":6},"",{"$f":"IF(ISERROR(H301/(H541-(H541*(H791/100)))),0,H301/(H541-(H541*(H791/100))))","v":0},0,0,0,0,0,0,0,0,0,0,0,0,0,0,0,0,0,0,0]
[{"$nulls":6},"3-wheeler",{"$f":"IF(ISERROR(H302/(H542-(H542*(H792/100)))),0,H302/(H542-(H542*(H792/100))))","v":0},0,0,0,0,0,0,0,0,0,0,0,0,0,0,0,0,0,0,0]
[{"$nulls":6},"Bus",{"$f":"IF(ISERROR(H303/(H543-(H543*(H793/100)))),0,H303/(H543-(H543*(H793/100))))","v":0},0,0,0,0,0,0,0,0,0,0,0,0,0,0,0,0,0,0,0]
[{"$nulls":6},"Mini-bus",{"$f":"IF(ISERROR(H304/(H544-(H544*(H794/100)))),0,H304/(H544-(H544*(H794/100))))","v":0},0,0,0,0,0,0,0,0,0,0,0,0,0,0,0,0,0,0,0]
[{"$nulls":6},"",{"$f":"IF(ISERROR(H305/(H545-(H545*(H795/100)))),0,H305/(H545-(H545*(H795/100))))","v":0},0,0,0,0,0,0,0,0,0,0,0,0,0,0,0,0,0,0,0]
[{"$nulls":6},"",{"$f":"IF(ISERROR(H306/(H546-(H546*(H796/100)))),0,H306/(H546-(H546*(H796/100))))","v":0},0,0,0,0,0,0,0,0,0,0,0,0,0,0,0,0,0,0,0]
[{"$nulls":6},"BRT",{"$f":"IF(ISERROR(H307/(H547-(H547*(H797/100)))),0,H307/(H547-(H547*(H797/100))))","v":0},0,0,0,0,0,0,0,0,0,0,0,0,0,0,0,0,0,0,0]
[]
[]
[{"$nulls":6},"CNG","Fuel Consumption"]
[{"$nulls":7},{"$f":"H860","v":0},{"$f":"I860","v":1},2,3,4,5,6,7,8,9,10,11,12,13,14,15,16,17,18,19]
[{"$nulls":5},"NO BRT",{"$f":"G861","v":"Cars"},{"$f":"IF(ISERROR(H344/(H570-(H570*(H787/100)))),0,H344/(H570-(H570*(H787/100))))","v":0},0,0,0,0,0,0,0,0,0,0,0,0,0,0,0,0,0,0,0]
[{"$nulls":6},{"$f":"G862","v":"2-wheeler"},{"$f":"IF(ISERROR(H345/(H571-(H571*(H788/100)))),0,H345/(H571-(H571*(H788/100))))","v":0},0,0,0,0,0,0,0,0,0,0,0,0,0,0,0,0,0,0,0]
[{"$nulls":6},"Taxi",{"$f":"IF(ISERROR(H346/(H572-(H572*(H789/100)))),0,H346/(H572-(H572*(H789/100))))","v":0},0,0,0,0,0,0,0,0,0,0,0,0,0,0,0,0,0,0,0]
[{"$nulls":6},"",{"$f":"IF(ISERROR(H347/(H573-(H573*(H790/100)))),0,H347/(H573-(H573*(H790/100))))","v":0},0,0,0,0,0,0,0,0,0,0,0,0,0,0,0,0,0,0,0]
[{"$nulls":6},"",{"$f":"IF(ISERROR(H348/(H574-(H574*(H791/100)))),0,H348/(H574-(H574*(H791/100))))","v":0},0,0,0,0,0,0,0,0,0,0,0,0,0,0,0,0,0,0,0]
[{"$nulls":6},"3-wheeler",{"$f":"IF(ISERROR(H349/(H575-(H575*(H792/100)))),0,H349/(H575-(H575*(H792/100))))","v":0},0,0,0,0,0,0,0,0,0,0,0,0,0,0,0,0,0,0,0]
[{"$nulls":6},"Bus",{"$f":"IF(ISERROR(H350/(H576-(H576*(H793/100)))),0,H350/(H576-(H576*(H793/100))))","v":0},0,0,0,0,0,0,0,0,0,0,0,0,0,0,0,0,0,0,0]
[{"$nulls":6},"Mini-bus",{"$f":"IF(ISERROR(H351/(H577-(H577*(H794/100)))),0,H351/(H577-(H577*(H794/100))))","v":0},0,0,0,0,0,0,0,0,0,0,0,0,0,0,0,0,0,0,0]
[{"$nulls":6},"",{"$f":"IF(ISERROR(H352/(H578-(H578*(H795/100)))),0,H352/(H578-(H578*(H795/100))))","v":0},0,0,0,0,0,0,0,0,0,0,0,0,0,0,0,0,0,0,0]
[{"$nulls":6},"",{"$f":"IF(ISERROR(H353/(H579-(H579*(H796/100)))),0,H353/(H579-(H579*(H796/100))))","v":0},0,0,0,0,0,0,0,0,0,0,0,0,0,0,0,0,0,0,0]
[{"$nulls":6},"BRT",{"$f":"IF(ISERROR(H354/(H580-(H580*(H797/100)))),0,H354/(H580-(H580*(H797/100))))","v":0},0,0,0,0,0,0,0,0,0,0,0,0,0,0,0,0,0,0,0]
[]
[]
[{"$nulls":6},"Electric","Fuel Consumption"]
[{"$nulls":7},{"$f":"H875","v":0},{"$f":"I875","v":1},2,3,4,5,6,7,8,9,10,11,12,13,14,15,16,17,18,19]
[{"$nulls":5},"NO BRT",{"$f":"G876","v":"Cars"},{"$f":"IF(ISERROR(H391/(H603-(H603*(H787/100)))),0,H391/(H603-(H603*(H787/100))))","v":0},0,0,0,0,0,0,0,0,0,0,0,0,0,0,0,0,0,0,0]
[{"$nulls":6},{"$f":"G877","v":"2-wheeler"},{"$f":"IF(ISERROR(H392/(H604-(H604*(H788/100)))),0,H392/(H604-(H604*(H788/100))))","v":0},0,0,0,0,0,0,0,0,0,0,0,0,0,0,0,0,0,0,0]
[{"$nulls":6},"Taxi",{"$f":"IF(ISERROR(H393/(H605-(H605*(H789/100)))),0,H393/(H605-(H605*(H789/100))))","v":0},0,0,0,0,0,0,0,0,0,0,0,0,0,0,0,0,0,0,0]
[{"$nulls":6},"",{"$f":"IF(ISERROR(H394/(H606-(H606*(H790/100)))),0,H394/(H606-(H606*(H790/100))))","v":0},0,0,0,0,0,0,0,0,0,0,0,0,0,0,0,0,0,0,0]
[{"$nulls":6},"",{"$f":"IF(ISERROR(H395/(H607-(H607*(H791/100)))),0,H395/(H607-(H607*(H791/100))))","v":0},0,0,0,0,0,0,0,0,0,0,0,0,0,0,0,0,0,0,0]
[{"$nulls":6},"3-wheeler",{"$f":"IF(ISERROR(H396/(H608-(H608*(H792/100)))),0,H396/(H608-(H608*(H792/100))))","v":0},0,0,0,0,0,0,0,0,0,0,0,0,0,0,0,0,0,0,0]
[{"$nulls":6},"Bus",{"$f":"IF(ISERROR(H397/(H609-(H609*(H793/100)))),0,H397/(H609-(H609*(H793/100))))","v":0},0,0,0,0,0,0,0,0,0,0,0,0,0,0,0,0,0,0,0]
[{"$nulls":6},"Mini-bus",{"$f":"IF(ISERROR(H398/(H610-(H610*(H794/100)))),0,H398/(H610-(H610*(H794/100))))","v":0},0,0,0,0,0,0,0,0,0,0,0,0,0,0,0,0,0,0,0]
[{"$nulls":6},"",{"$f":"IF(ISERROR(H399/(H611-(H611*(H795/100)))),0,H399/(H611-(H611*(H795/100))))","v":0},0,0,0,0,0,0,0,0,0,0,0,0,0,0,0,0,0,0,0]
[{"$nulls":6},"",{"$f":"IF(ISERROR(H400/(H612-(H612*(H796/100)))),0,H400/(H612-(H612*(H796/100))))","v":0},0,0,0,0,0,0,0,0,0,0,0,0,0,0,0,0,0,0,0]
[{"$nulls":6},"BRT",{"$f":"IF(ISERROR(H401/(H613-(H613*(H797/100)))),0,H401/(H613-(H613*(H797/100))))","v":0},0,0,0,0,0,0,0,0,0,0,0,0,0,0,0,0,0,0,0]
[]
[]
[{"$nulls":6},{"$f":"IF('IF Factors'!J8=\"\",\"not included\",CONCATENATE('IF Factors'!J8,\"Fuel consumption\"))","v":"EthanolFuel consumption"},"Fuel Consumption"]
[{"$nulls":7},{"$f":"H890","v":0},{"$f":"I890","v":1},2,3,4,5,6,7,8,9,10,11,12,13,14,15,16,17,18,19]
[{"$nulls":5},"NO BRT",{"$f":"G891","v":"Cars"},{"$f":"IF(ISERROR(H438/(H636-(H636*(H787/100)))),0,H438/(H636-(H636*(H787/100))))","v":0},0,0,0,0,0,0,0,0,0,0,0,0,0,0,0,0,0,0,0]
[{"$nulls":6},{"$f":"G892","v":"2-wheeler"},{"$f":"IF(ISERROR(H439/(H637-(H637*(H788/100)))),0,H439/(H637-(H637*(H788/100))))","v":0},0,0,0,0,0,0,0,0,0,0,0,0,0,0,0,0,0,0,0]
[{"$nulls":6},"Taxi",{"$f":"IF(ISERROR(H440/(H638-(H638*(H789/100)))),0,H440/(H638-(H638*(H789/100))))","v":0},0,0,0,0,0,0,0,0,0,0,0,0,0,0,0,0,0,0,0]
[{"$nulls":6},"",{"$f":"IF(ISERROR(H441/(H639-(H639*(H790/100)))),0,H441/(H639-(H639*(H790/100))))","v":0},0,0,0,0,0,0,0,0,0,0,0,0,0,0,0,0,0,0,0]
[{"$nulls":6},"",{"$f":"IF(ISERROR(H442/(H640-(H640*(H791/100)))),0,H442/(H640-(H640*(H791/100))))","v":0},0,0,0,0,0,0,0,0,0,0,0,0,0,0,0,0,0,0,0]
[{"$nulls":6},"3-wheeler",{"$f":"IF(ISERROR(H443/(H641-(H641*(H792/100)))),0,H443/(H641-(H641*(H792/100))))","v":0},0,0,0,0,0,0,0,0,0,0,0,0,0,0,0,0,0,0,0]
[{"$nulls":6},"Bus",{"$f":"IF(ISERROR(H444/(H642-(H642*(H793/100)))),0,H444/(H642-(H642*(H793/100))))","v":0},0,0,0,0,0,0,0,0,0,0,0,0,0,0,0,0,0,0,0]
[{"$nulls":6},"Mini-bus",{"$f":"IF(ISERROR(H445/(H643-(H643*(H794/100)))),0,H445/(H643-(H643*(H794/100))))","v":0},0,0,0,0,0,0,0,0,0,0,0,0,0,0,0,0,0,0,0]
[{"$nulls":6},"",{"$f":"IF(ISERROR(H446/(H644-(H644*(H795/100)))),0,H446/(H644-(H644*(H795/100))))","v":0},0,0,0,0,0,0,0,0,0,0,0,0,0,0,0,0,0,0,0]
[{"$nulls":6},"",{"$f":"IF(ISERROR(H447/(H645-(H645*(H796/100)))),0,H447/(H645-(H645*(H796/100))))","v":0},0,0,0,0,0,0,0,0,0,0,0,0,0,0,0,0,0,0,0]
[{"$nulls":6},"BRT",{"$f":"IF(ISERROR(H448/(H646-(H646*(H797/100)))),0,H448/(H646-(H646*(H797/100))))","v":0},0,0,0,0,0,0,0,0,0,0,0,0,0,0,0,0,0,0,0]
[]
[]
[{"$nulls":6},"PM Emission Factor Gasoline"]
[]
[{"$nulls":10},"g/vkm",{"$nulls":3},"1st",null,"2nd"]
[{"$nulls":10},{"$f":"K7","v":0},{"$f":"L7","v":9},19,null,"intercept","slope","intercept","slope",null,{"$f":"K922","v":0},{"$f":"L922","v":9},{"$f":"M922","v":19},null,"1st","2nd"]
[{"$nulls":5},"NO BRT",{"$f":"G906","v":"Cars"},{"$nulls":3},{"$f":"'IF Factors'!AI31","v":0},{"$f":"OFFSET('IF Factors'!AI31,0,5)","v":0},{"$f":"OFFSET('IF Factors'!AI31,0,10)","v":0},null,{"$f":"INTERCEPT(K923:L923,$K$7:$L$7)","v":0},{"$f":"SLOPE(K923:L923,$K$7:$L$7)","v":0},{"$f":"INTERCEPT(L923:M923,$L$7:$M$7)","v":0},{"$f":"SLOPE(L923:M923,$L$7:$M$7)","v":0},null,{"$f":"IF(K923<>0,0,1)","v":1},{"$f":"IF(L923<>0,0,1)","v":1},{"$f":"IF(M923<>0,0,1)","v":1},null,{"$f":"IF(T923+U923=1,1,0)","v":0},{"$f":"IF(U923+V923=1,1,0)","v":0}]
[{"$nulls":6},{"$f":"G907","v":"2-wheeler"},{"$nulls":3},{"$f":"'IF Factors'!AI32","v":0},{"$f":"OFFSET('IF Factors'!AI32,0,5)","v":0},{"$f":"OFFSET('IF Factors'!AI32,0,10)","v":0},null,{"$f":"INTERCEPT(K924:L924,$K$7:$L$7)","v":0},{"$f":"SLOPE(K924:L924,$K$7:$L$7)","v":0},{"$f":"INTERCEPT(L924:M924,$L$7:$M$7)","v":0},{"$f":"SLOPE(L924:M924,$L$7:$M$7)","v":0},null,{"$f":"IF(K924<>0,0,1)","v":1},{"$f":"IF(L924<>0,0,1)","v":1},{"$f":"IF(M924<>0,0,1)","v":1},null,{"$f":"IF(T924+U924=1,1,0)","v":0},0]
[{"$nulls":6},"Taxi",{"$nulls":3},{"$f":"'IF Factors'!AI33","v":0},{"$f":"OFFSET('IF Factors'!AI33,0,5)","v":0},{"$f":"OFFSET('IF Factors'!AI33,0,10)","v":0},null,0,0,0,0,null,1,1,1,null,0,0]
[{"$nulls":6},"",{"$nulls":3},{"$f":"'IF Factors'!AI34","v":0},{"$f":"OFFSET('IF Factors'!AI34,0,5)","v":0},{"$f":"OFFSET('IF Factors'!AI34,0,10)","v":0},null,0,0,0,0,null,1,1,1,null,0,0]
[{"$nulls":6},"",{"$nulls":3},{"$f":"'IF Factors'!AI35","v":0},{"$f":"OFFSET('IF Factors'!AI35,0,5)","v":0},{"$f":"OFFSET('IF Factors'!AI35,0,10)","v":0},null,0,0,0,0,null,1,1,1,null,0,0]
[{"$nulls":6},"3-wheeler",{"$nulls":3},{"$f":"'IF Factors'!AI36","v":0},{"$f":"OFFSET('IF Factors'!AI36,0,5)","v":0},{"$f":"OFFSET('IF Factors'!AI36,0,10)","v":0},null,0,0,0,0,null,1,1,1,null,0,0]
[{"$nulls":6},"Bus",{"$nulls":3},{"$f":"'IF Factors'!AI37","v":0},{"$f":"OFFSET('IF Factors'!AI37,0,5)","v":0},{"$f":"OFFSET('IF Factors'!AI37,0,10)","v":0},null,0,0,0,0,null,1,1,1,null,0,0]
[{"$nulls":6},"Mini-bus",{"$nulls":3},{"$f":"'IF Factors'!AI38","v":0},{"$f":"OFFSET('IF Factors'!AI38,0,5)","v":0},{"$f":"OFFSET('IF Factors'!AI38,0,10)","v":0},null,0,0,0,0,null,1,1,1,null,0,0]
[{"$nulls":6},"",{"$nulls":3},{"$f":"'IF Factors'!AI39","v":0},{"$f":"OFFSET('IF Factors'!AI39,0,5)","v":0},{"$f":"OFFSET('IF Factors'!AI39,0,10)","v":0},null,0,0,0,0,null,1,1,1,null,0,0]
[{"$nulls":6},"",{"$nulls":3},{"$f":"'IF Factors'!AI40","v":0},{"$f":"OFFSET('IF Factors'!AI40,0,5)","v":0},{"$f":"OFFSET('IF Factors'!AI40,0,10)","v":0},null,0,0,0,0,null,1,1,1,null,0,0]
[{"$nulls":6},"BRT",{"$nulls":3},{"$f":"'IF Factors'!AI41","v":0},{"$f":"OFFSET('IF Factors'!AI41,0,5)","v":0},{"$f":"OFFSET('IF Factors'!AI41,0,10)","v":0},null,0,0,0,0,null,1,1,1,null,0,0]
[]
[]
[]
[{"$nulls":6},"PM Emission Factor",null,"Gasoline"]
[{"$nulls":7},{"$f":"H905","v":0},{"$f":"I905","v":1},2,3,4,5,6,7,8,9,10,11,12,13,14,15,16,17,18,19]
[{"$nulls":5},"NO BRT",{"$f":"G906","v":"Cars"},{"$f":"K923","v":{"v":0,"d":"0.00"}},{"$f":"(I$23*$P923)+$O923","v":{"v":0,"d":"0.00"}},{"$f":"(J$23*$P923)+$O923","v":{"v":0,"d":"0.00"}},{"v":0,"d":"0.00"},{"v":0,"d":"0.00"},{"v":0,"d":"0.00"},{"v":0,"d":"0.00"},{"v":0,"d":"0.00"},{"v":0,"d":"0.00"},{"$f":"L923","v":{"v":0,"d":"0.00"}},{"$f":"(R$23*$R923)+$Q923","v":{"v":0,"d":"0.00"}},{"$f":"(S$23*$R923)+$Q923","v":{"v":0,"d":"0.00"}},{"v":0,"d":"0.00"},{"v":0,"d":"0.00"},{"v":0,"d":"0.00"},{"v":0,"d":"0.00"},{"v":0,"d":"0.00"},{"v":0,"d":"0.00"},{"v":0,"d":"0.00"},{"$f":"M923","v":{"v":0,"d":"0.00"}}]
[{"$nulls":6},{"$f":"G907","v":"2-wheeler"},{"$f":"K924","v":{"v":0,"d":"0.00"}},{"$f":"(I$23*$P924)+$O924","v":{"v":0,"d":"0.00"}},{"v":0,"d":"0.00"},{"v":0,"d":"0.00"},{"v":0,"d":"0.00"},{"v":0,"d":"0.00"},{"v":0,"d":"0.00"},{"v":0,"d":"0.00"},{"v":0,"d":"0.00"},{"$f":"L924","v":{"v":0,"d":"0.00"}},{"$f":"(R$23*$R924)+$Q924","v":{"v":0,"d":"0.00"}},{"v":0,"d":"0.00"},{"v":0,"d":"0.00"},{"v":0,"d":"0.00"},{"v":0,"d":"0.00"},{"v":0,"d":"0.00"},{"v":0,"d":"0.00"},{"v":0,"d":"0.00"},{"v":0,"d":"0.00"},{"$f":"M924","v":{"v":0,"d":"0.00"}}]
[{"$nulls":6},"Taxi",{"v":0,"d":"0.00"},{"$f":"(I$23*$P925)+$O925","v":{"v":0,"d":"0.00"}},{"v":0,"d":"0.00"},{"v":0,"d":"0.00"},{"v":0,"d":"0.00"},{"v":0,"d":"0.00"},{"v":0,"d":"0.00"},{"v":0,"d":"0.00"},{"v":0,"d":"0.00"},{"v":0,"d":"0.00"},{"$f":"(R$23*$R925)+$Q925","v":{"v":0,"d":"0.00"}},{"v":0,"d":"0.00"},{"v":0,"d":"0.00"},{"v":0,"d":"0.00"},{"v":0,"d":"0.00"},{"v":0,"d":"0.00"},{"v":0,"d":"0.00"},{"v":0,"d":"0.00"},{"v":0,"d":"0.00"},{"v":0,"d":"0.00"}]
[{"$nulls":6},"",{"v":0,"d":"0.00"},{"$f":"(I$23*$P926)+$O926","v":{"v":0,"d":"0.00"}},{"v":0,"d":"0.00"},{"v":0,"d":"0.00"},{"v":0,"d":"0.00"},{"v":0,"d":"0.00"},{"v":0,"d":"0.00"},{"v":0,"d":"0.00"},{"v":0,"d":"0.00"},{"v":0,"d":"0.00"},{"$f":"(R$23*$R926)+$Q926","v":{"v":0,"d":"0.00"}},{"v":0,"d":"0.00"},{"v":0,"d":"0.00"},{"v":0,"d":"0.00"},{"v":0,"d":"0.00"},{"v":0,"d":"0.00"},{"v":0,"d":"0.00"},{"v":0,"d":"0.00"},{"v":0,"d":"0.00"},{"v":0,"d":"0.00"}]
[{"$nulls":6},"",{"v":0,"d":"0.00"},{"$f":"(I$23*$P927)+$O927","v":{"v":0,"d":"0.00"}},{"v":0,"d":"0.00"},{"v":0,"d":"0.00"},{"v":0,"d":"0.00"},{"v":0,"d":"0.00"},{"v":0,"d":"0.00"},{"v":0,"d":"0.00"},{"v":0,"d":"0.00"},{"v":0,"d":"0.00"},{"$f":"(R$23*$R927)+$Q927","v":{"v":0,"d":"0.00"}},{"v":0,"d":"0.00"},{"v":0,"d":"0.00"},{"v":0,"d":"0.00"},{"v":0,"d":"0.00"},{"v":0,"d":"0.00"},{"v":0,"d":"0.00"},{"v":0,"d":"0.00"},{"v":0,"d":"0.00"},{"v":0,"d":"0.00"}]
[{"$nulls":6},"3-wheeler",{"v":0,"d":"0.00"},{"$f":"(I$23*$P928)+$O928","v":{"v":0,"d":"0.00"}},{"v":0,"d":"0.00"},{"v":0,"d":"0.00"},{"v":0,"d":"0.00"},{"v":0,"d":"0.00"},{"v":0,"d":"0.00"},{"v":0,"d":"0.00"},{"v":0,"d":"0.00"},{"v":0,"d":"0.00"},{"$f":"(R$23*$R928)+$Q928","v":{"v":0,"d":"0.00"}},{"v":0,"d":"0.00"},{"v":0,"d":"0.00"},{"v":0,"d":"0.00"},{"v":0,"d":"0.00"},{"v":0,"d":"0.00"},{"v":0,"d":"0.00"},{"v":0,"d":"0.00"},{"v":0,"d":"0.00"},{"v":0,"d":"0.00"}]
[{"$nulls":6},"Bus",{"v":0,"d":"0.00"},{"$f":"(I$23*$P929)+$O929","v":{"v":0,"d":"0.00"}},{"v":0,"d":"0.00"},{"v":0,"d":"0.00"},{"v":0,"d":"0.00"},{"v":0,"d":"0.00"},{"v":0,"d":"0.00"},{"v":0,"d":"0.00"},{"v":0,"d":"0.00"},{"v":0,"d":"0.00"},{"$f":"(R$23*$R929)+$Q929","v":{"v":0,"d":"0.00"}},{"v":0,"d":"0.00"},{"v":0,"d":"0.00"},{"v":0,"d":"0.00"},{"v":0,"d":"0.00"},{"v":0,"d":"0.00"},{"v":0,"d":"0.00"},{"v":0,"d":"0.00"},{"v":0,"d":"0.00"},{"v":0,"d":"0.00"}]
[{"$nulls":6},"Mini-bus",{"v":0,"d":"0.00"},{"$f":"(I$23*$P930)+$O930","v":{"v":0,"d":"0.00"}},{"v":0,"d":"0.00"},{"v":0,"d":"0.00"},{"v":0,"d":"0.00"},{"v":0,"d":"0.00"},{"v":0,"d":"0.00"},{"v":0,"d":"0.00"},{"v":0,"d":"0.00"},{"v":0,"d":"0.00"},{"$f":"(R$23*$R930)+$Q930","v":{"v":0,"d":"0.00"}},{"v":0,"d":"0.00"},{"v":0,"d":"0.00"},{"v":0,"d":"0.00"},{"v":0,"d":"0.00"},{"v":0,"d":"0.00"},{"v":0,"d":"0.00"},{"v":0,"d":"0.00"},{"v":0,"d":"0.00"},{"v":0,"d":"0.00"}]
[{"$nulls":6},"",{"v":0,"d":"0.00"},{"$f":"(I$23*$P931)+$O931","v":{"v":0,"d":"0.00"}},{"v":0,"d":"0.00"},{"v":0,"d":"0.00"},{"v":0,"d":"0.00"},{"v":0,"d":"0.00"},{"v":0,"d":"0.00"},{"v":0,"d":"0.00"},{"v":0,"d":"0.00"},{"v":0,"d":"0.00"},{"$f":"(R$23*$R931)+$Q931","v":{"v":0,"d":"0.00"}},{"v":0,"d":"0.00"},{"v":0,"d":"0.00"},{"v":0,"d":"0.00"},{"v":0,"d":"0.00"},{"v":0,"d":"0.00"},{"v":0,"d":"0.00"},{"v":0,"d":"0.00"},{"v":0,"d":"0.00"},{"v":0,"d":"0.00"}]
[{"$nulls":6},"",{"v":0,"d":"0.00"},{"$f":"(I$23*$P932)+$O932","v":{"v":0,"d":"0.00"}},{"v":0,"d":"0.00"},{"v":0,"d":"0.00"},{"v":0,"d":"0.00"},{"v":0,"d":"0.00"},{"v":0,"d":"0.00"},{"v":0,"d":"0.00"},{"v":0,"d":"0.00"},{"v":0,"d":"0.00"},{"$f":"(R$23*$R932)+$Q932","v":{"v":0,"d":"0.00"}},{"v":0,"d":"0.00"},{"v":0,"d":"0.00"},{"v":0,"d":"0.00"},{"v":0,"d":"0.00"},{"v":0,"d":"0.00"},{"v":0,"d":"0.00"},{"v":0,"d":"0.00"},{"v":0,"d":"0.00"},{"v":0,"d":"0.00"}]
[{"$nulls":6},"BRT",{"$f":"(H$23*$P933)+$O933","v":{"v":0,"d":"0.00"}},{"v":0,"d":"0.00"},{"v":0,"d":"0.00"},{"v":0,"d":"0.00"},{"v":0,"d":"0.00"},{"v":0,"d":"0.00"},{"v":0,"d":"0.00"},{"v":0,"d":"0.00"},{"v":0,"d":"0.00"},{"v":0,"d":"0.00"},{"$f":"(R$23*$R933)+$Q933","v":{"v":0,"d":"0.00"}},{"v":0,"d":"0.00"},{"v":0,"d":"0.00"},{"v":0,"d":"0.00"},{"v":0,"d":"0.00"},{"v":0,"d":"0.00"},{"v":0,"d":"0.00"},{"v":0,"d":"0.00"},{"v":0,"d":"0.00"},{"v":0,"d":"0.00"}]
[]
[{"$nulls":6},"Adjusted PM Emission Factor",null,{"$f":"I937","v":"Gasoline"}]
[{"$nulls":7},{"$f":"H938","v":0},{"$f":"I938","v":1},2,3,4,5,6,7,8,9,10,11,12,13,14,15,16,17,18,19]
[{"$nulls":5},"NO BRT",{"$f":"G939","v":"Cars"},{"$f":"H939+(H939*H801)","v":0},{"$f":"I939+(I939*I801)","v":0},0,0,0,0,0,0,0,0,0,0,0,0,0,0,0,0,0,0]
[{"$nulls":6},{"$f":"G940","v":"2-wheeler"},{"$f":"H940+(H940*H802)","v":0},0,0,0,0,0,0,0,0,0,0,0,0,0,0,0,0,0,0,0]
[{"$nulls":6},"Taxi",{"$f":"H941+(H941*H803)","v":0},{"$f":"I941+(I941*I803)","v":0},0,0,0,0,0,0,0,0,0,0,0,0,0,0,0,0,0,0]
[{"$nulls":6},"",{"$f":"H942+(H942*H804)","v":0},{"$f":"I942+(I942*I804)","v":0},0,0,0,0,0,0,0,0,0,0,0,0,0,0,0,0,0,0]
[{"$nulls":6},"",{"$f":"H943+(H943*H805)","v":0},0,0,0,0,0,0,0,0,0,0,0,0,0,0,0,0,0,0,0]
[{"$nulls":6},"3-wheeler",{"$f":"H944+(H944*H806)","v":0},0,0,0,0,0,0,0,0,0,0,0,0,0,0,0,0,0,0,0]
[{"$nulls":6},"Bus",{"$f":"H945+(H945*H807)","v":0},0,0,0,0,0,0,0,0,0,0,0,0,0,0,0,0,0,0,0]
[{"$nulls":6},"Mini-bus",{"$f":"H946+(H946*H808)","v":0},0,0,0,0,0,0,0,0,0,0,0,0,0,0,0,0,0,0,0]
[{"$nulls":6},"",{"$f":"H947+(H947*H809)","v":0},0,0,0,0,0,0,0,0,0,0,0,0,0,0,0,0,0,0,0]
[{"$nulls":6},"",{"$f":"H948+(H948*H810)","v":0},0,0,0,0,0,0,0,0,0,0,0,0,0,0,0,0,0,0,0]
[{"$nulls":6},"BRT",{"$f":"H949+(H949*H811)","v":0},0,0,0,0,0,0,0,0,0,0,0,0,0,0,0,0,0,0,0]
[]
[]
[{"$nulls":6},"PM Emission Factor Diesel"]
[]
[{"$nulls":10},"g/vkm",{"$nulls":3},"1st",null,"2nd"]
[{"$nulls":10},{"$f":"K922","v":0},{"$f":"L922","v":9},{"$f":"M922","v":19},null,"intercept","slope","intercept","slope",null,{"$f":"K969","v":0},{"$f":"L969","v":9},{"$f":"M969","v":19},null,"1st","2nd"]
[{"$nulls":5},"NO BRT",{"$f":"G953","v":"Cars"},{"$nulls":3},{"$f":"'IF Factors'!AI46","v":0},{"$f":"OFFSET('IF Factors'!AI46,0,5)","v":0},{"$f":"OFFSET('IF Factors'!AI46,0,10)","v":0},null,{"$f":"INTERCEPT(K970:L970,$K$7:$L$7)","v":0},{"$f":"SLOPE(K970:L970,$K$7:$L$7)","v":0},{"$f":"INTERCEPT(L970:M970,$L$7:$M$7)","v":0},{"$f":"SLOPE(L970:M970,$L$7:$M$7)","v":0},null,{"$f":"IF(K970<>0,0,1)","v":1},{"$f":"IF(L970<>0,0,1)","v":1},{"$f":"IF(M970<>0,0,1)","v":1},null,{"$f":"IF(T970+U970=1,1,0)","v":0},{"$f":"IF(U970+V970=1,1,0)","v":0}]
[{"$nulls":6},{"$f":"G954","v":"2-wheeler"},{"$nulls":3},{"$f":"'IF Factors'!AI47","v":0},{"$f":"OFFSET('IF Factors'!AI47,0,5)","v":0},{"$f":"OFFSET('IF Factors'!AI47,0,10)","v":0},null,{"$f":"INTERCEPT(K971:L971,$K$7:$L$7)","v":0},{"$f":"SLOPE(K971:L971,$K$7:$L$7)","v":0},{"$f":"INTERCEPT(L971:M971,$L$7:$M$7)","v":0},{"$f":"SLOPE(L971:M971,$L$7:$M$7)","v":0},null,{"$f":"IF(K971<>0,0,1)","v":1},{"$f":"IF(L971<>0,0,1)","v":1},{"$f":"IF(M971<>0,0,1)","v":1},null,{"$f":"IF(T971+U971=1,1,0)","v":0},0]
[{"$nulls":6},"Taxi",{"$nulls":3},{"$f":"'IF Factors'!AI48","v":0},{"$f":"OFFSET('IF Factors'!AI48,0,5)","v":0},{"$f":"OFFSET('IF Factors'!AI48,0,10)","v":0},null,0,0,0,0,null,1,1,1,null,0,0]
[{"$nulls":6},"",{"$nulls":3},{"$f":"'IF Factors'!AI49","v":0},{"$f":"OFFSET('IF Factors'!AI49,0,5)","v":0},{"$f":"OFFSET('IF Factors'!AI49,0,10)","v":0},null,0,0,0,0,null,1,1,1,null,0,0]
[{"$nulls":6},"",{"$nulls":3},{"$f":"'IF Factors'!AI50","v":0},{"$f":"OFFSET('IF Factors'!AI50,0,5)","v":0},{"$f":"OFFSET('IF Factors'!AI50,0,10)","v":0},null,0,0,0,0,null,1,1,1,null,0,0]
[{"$nulls":6},"3-wheeler",{"$nulls":3},{"$f":"'IF Factors'!AI51","v":0},{"$f":"OFFSET('IF Factors'!AI51,0,5)","v":0},{"$f":"OFFSET('IF Factors'!AI51,0,10)","v":0},null,0,0,0,0,null,1,1,1,null,0,0]
[{"$nulls":6},"Bus",{"$nulls":3},{"$f":"'IF Factors'!AI52","v":0},{"$f":"OFFSET('IF Factors'!AI52,0,5)","v":0},{"$f":"OFFSET('IF Factors'!AI52,0,10)","v":0},null,0,0,0,0,null,1,1,1,null,0,0]
[{"$nulls":6},"Mini-bus",{"$nulls":3},{"$f":"'IF Factors'!AI53","v":0},{"$f":"OFFSET('IF Factors'!AI53,0,5)","v":0},{"$f":"OFFSET('IF Factors'!AI53,0,10)","v":0},null,0,0,0,0,null,1,1,1,null,0,0]
[{"$nulls":6},"",{"$nulls":3},{"$f":"'IF Factors'!AI54","v":0},{"$f":"OFFSET('IF Factors'!AI54,0,5)","v":0},{"$f":"OFFSET('IF Factors'!AI54,0,10)","v":0},null,0,0,0,0,null,1,1,1,null,0,0]
[{"$nulls":6},"",{"$nulls":3},{"$f":"'IF Factors'!AI55","v":0},{"$f":"OFFSET('IF Factors'!AI55,0,5)","v":0},{"$f":"OFFSET('IF Factors'!AI55,0,10)","v":0},null,0,0,0,0,null,1,1,1,null,0,0]
[{"$nulls":6},"BRT",{"$nulls":3},{"$f":"'IF Factors'!AI56","v":0},{"$f":"OFFSET('IF Factors'!AI56,0,5)","v":0},{"$f":"OFFSET('IF Factors'!AI56,0,10)","v":0},null,0,0,0,0,null,1,1,1,null,0,0]
[]
[]
[]
[{"$nulls":6},"PM Emission Factor",null,"Diesel"]
[{"$nulls":7},{"$f":"H952","v":0},{"$f":"I952","v":1},2,3,4,5,6,7,8,9,10,11,12,13,14,15,16,17,18,19]
[{"$nulls":5},"NO BRT",{"$f":"G953","v":"Cars"},{"$f":"K970","v":{"v":0,"d":"0.00"}},{"$f":"(I$23*$P970)+$O970","v":{"v":0,"d":"0.00"}},{"$f":"(J$23*$P970)+$O970","v":{"v":0,"d":"0.00"}},{"v":0,"d":"0.00"},{"v":0,"d":"0.00"},{"v":0,"d":"0.00"},{"v":0,"d":"0.00"},{"v":0,"d":"0.00"},{"v":0,"d":"0.00"},{"$f":"L970","v":{"v":0,"d":"0.00"}},{"$f":"(R$23*$R970)+$Q970","v":{"v":0,"d":"0.00"}},{"$f":"(S$23*$R970)+$Q970","v":{"v":0,"d":"0.00"}},{"v":0,"d":"0.00"},{"v":0,"d":"0.00"},{"v":0,"d":"0.00"},{"v":0,"d":"0.00"},{"v":0,"d":"0.00"},{"v":0,"d":"0.00"},{"v":0,"d":"0.00"},{"$f":"M970","v":{"v":0,"d":"0.00"}}]
[{"$nulls":6},{"$f":"G954","v":"2-wheeler"},{"$f":"K971","v":{"v":0,"d":"0.00"}},{"$f":"(I$23*$P971)+$O971","v":{"v":0,"d":"0.00"}},{"v":0,"d":"0.00"},{"v":0,"d":"0.00"},{"v":0,"d":"0.00"},{"v":0,"d":"0.00"},{"v":0,"d":"0.00"},{"v":0,"d":"0.00"},{"v":0,"d":"0.00"},{"$f":"L971","v":{"v":0,"d":"0.00"}},{"$f":"(R$23*$R971)+$Q971","v":{"v":0,"d":"0.00"}},{"v":0,"d":"0.00"},{"v":0,"d":"0.00"},{"v":0,"d":"0.00"},{"v":0,"d":"0.00"},{"v":0,"d":"0.00"},{"v":0,"d":"0.00"},{"v":0,"d":"0.00"},{"v":0,"d":"0.00"},{"$f":"M971","v":{"v":0,"d":"0.00"}}]
[{"$nulls":6},"Taxi",{"v":0,"d":"0.00"},{"$f":"(I$23*$P972)+$O972","v":{"v":0,"d":"0.00"}},{"v":0,"d":"0.00"},{"v":0,"d":"0.00"},{"v":0,"d":"0.00"},{"v":0,"d":"0.00"},{"v":0,"d":"0.00"},{"v":0,"d":"0.00"},{"v":0,"d":"0.00"},{"v":0,"d":"0.00"},{"$f":"(R$23*$R972)+$Q972","v":{"v":0,"d":"0.00"}},{"v":0,"d":"0.00"},{"v":0,"d":"0.00"},{"v":0,"d":"0.00"},{"v":0,"d":"0.00"},{"v":0,"d":"0.00"},{"v":0,"d":"0.00"},{"v":0,"d":"0.00"},{"v":0,"d":"0.00"},{"v":0,"d":"0.00"}]
[{"$nulls":6},"",{"v":0,"d":"0.00"},{"$f":"(I$23*$P973)+$O973","v":{"v":0,"d":"0.00"}},{"v":0,"d":"0.00"},{"v":0,"d":"0.00"},{"v":0,"d":"0.00"},{"v":0,"d":"0.00"},{"v":0,"d":"0.00"},{"v":0,"d":"0.00"},{"v":0,"d":"0.00"},{"v":0,"d":"0.00"},{"$f":"(R$23*$R973)+$Q973","v":{"v":0,"d":"0.00"}},{"v":0,"d":"0.00"},{"v":0,"d":"0.00"},{"v":0,"d":"0.00"},{"v":0,"d":"0.00"},{"v":0,"d":"0.00"},{"v":0,"d":"0.00"},{"v":0,"d":"0.00"},{"v":0,"d":"0.00"},{"v":0,"d":"0.00"}]
[{"$nulls":6},"",{"v":0,"d":"0.00"},{"$f":"(I$23*$P974)+$O974","v":{"v":0,"d":"0.00"}},{"v":0,"d":"0.00"},{"v":0,"d":"0.00"},{"v":0,"d":"0.00"},{"v":0,"d":"0.00"},{"v":0,"d":"0.00"},{"v":0,"d":"0.00"},{"v":0,"d":"0.00"},{"v":0,"d":"0.00"},{"$f":"(R$23*$R974)+$Q974","v":{"v":0,"d":"0.00"}},{"v":0,"d":"0.00"},{"v":0,"d":"0.00"},{"v":0,"d":"0.00"},{"v":0,"d":"0.00"},{"v":0,"d":"0.00"},{"v":0,"d":"0.00"},{"v":0,"d":"0.00"},{"v":0,"d":"0.00"},{"v":0,"d":"0.00"}]
[{"$nulls":6},"3-wheeler",{"v":0,"d":"0.00"},{"$f":"(I$23*$P975)+$O975","v":{"v":0,"d":"0.00"}},{"v":0,"d":"0.00"},{"v":0,"d":"0.00"},{"v":0,"d":"0.00"},{"v":0,"d":"0.00"},{"v":0,"d":"0.00"},{"v":0,"d":"0.00"},{"v":0,"d":"0.00"},{"v":0,"d":"0.00"},{"$f":"(R$23*$R975)+$Q975","v":{"v":0,"d":"0.00"}},{"v":0,"d":"0.00"},{"v":0,"d":"0.00"},{"v":0,"d":"0.00"},{"v":0,"d":"0.00"},{"v":0,"d":"0.00"},{"v":0,"d":"0.00"},{"v":0,"d":"0.00"},{"v":0,"d":"0.00"},{"v":0,"d":"0.00"}]
[{"$nulls":6},"Bus",{"v":0,"d":"0.00"},{"$f":"(I$23*$P976)+$O976","v":{"v":0,"d":"0.00"}},{"v":0,"d":"0.00"},{"v":0,"d":"0.00"},{"v":0,"d":"0.00"},{"v":0,"d":"0.00"},{"v":0,"d":"0.00"},{"v":0,"d":"0.00"},{"v":0,"d":"0.00"},{"v":0,"d":"0.00"},{"$f":"(R$23*$R976)+$Q976","v":{"v":0,"d":"0.00"}},{"v":0,"d":"0.00"},{"v":0,"d":"0.00"},{"v":0,"d":"0.00"},{"v":0,"d":"0.00"},{"v":0,"d":"0.00"},{"v":0,"d":"0.00"},{"v":0,"d":"0.00"},{"v":0,"d":"0.00"},{"v":0,"d":"0.00"}]
[{"$nulls":6},"Mini-bus",{"v":0,"d":"0.00"},{"$f":"(I$23*$P977)+$O977","v":{"v":0,"d":"0.00"}},{"v":0,"d":"0.00"},{"v":0,"d":"0.00"},{"v":0,"d":"0.00"},{"v":0,"d":"0.00"},{"v":0,"d":"0.00"},{"v":0,"d":"0.00"},{"v":0,"d":"0.00"},{"v":0,"d":"0.00"},{"$f":"(R$23*$R977)+$Q977","v":{"v":0,"d":"0.00"}},{"v":0,"d":"0.00"},{"v":0,"d":"0.00"},{"v":0,"d":"0.00"},{"v":0,"d":"0.00"},{"v":0,"d":"0.00"},{"v":0,"d":"0.00"},{"v":0,"d":"0.00"},{"v":0,"d":"0.00"},{"v":0,"d":"0.00"}]
[{"$nulls":6},"",{"v":0,"d":"0.00"},{"$f":"(I$23*$P978)+$O978","v":{"v":0,"d":"0.00"}},{"v":0,"d":"0.00"},{"v":0,"d":"0.00"},{"v":0,"d":"0.00"},{"v":0,"d":"0.00"},{"v":0,"d":"0.00"},{"v":0,"d":"0.00"},{"v":0,"d":"0.00"},{"v":0,"d":"0.00"},{"$f":"(R$23*$R978)+$Q978","v":{"v":0,"d":"0.00"}},{"v":0,"d":"0.00"},{"v":0,"d":"0.00"},{"v":0,"d":"0.00"},{"v":0,"d":"0.00"},{"v":0,"d":"0.00"},{"v":0,"d":"0.00"},{"v":0,"d":"0.00"},{"v":0,"d":"0.00"},{"v":0,"d":"0.00"}]
[{"$nulls":6},"",{"v":0,"d":"0.00"},{"$f":"(I$23*$P979)+$O979","v":{"v":0,"d":"0.00"}},{"v":0,"d":"0.00"},{"v":0,"d":"0.00"},{"v":0,"d":"0.00"},{"v":0,"d":"0.00"},{"v":0,"d":"0.00"},{"v":0,"d":"0.00"},{"v":0,"d":"0.00"},{"v":0,"d":"0.00"},{"$f":"(R$23*$R979)+$Q979","v":{"v":0,"d":"0.00"}},{"v":0,"d":"0.00"},{"v":0,"d":"0.00"},{"v":0,"d":"0.00"},{"v":0,"d":"0.00"},{"v":0,"d":"0.00"},{"v":0,"d":"0.00"},{"v":0,"d":"0.00"},{"v":0,"d":"0.00"},{"v":0,"d":"0.00"}]
[{"$nulls":6},"BRT",{"v":0,"d":"0.00"},{"$f":"(I$23*$P980)+$O980","v":{"v":0,"d":"0.00"}},{"v":0,"d":"0.00"},{"v":0,"d":"0.00"},{"v":0,"d":"0.00"},{"v":0,"d":"0.00"},{"v":0,"d":"0.00"},{"v":0,"d":"0.00"},{"v":0,"d":"0.00"},{"v":0,"d":"0.00"},{"$f":"(R$23*$R980)+$Q980","v":{"v":0,"d":"0.00"}},{"v":0,"d":"0.00"},{"v":0,"d":"0.00"},{"v":0,"d":"0.00"},{"v":0,"d":"0.00"},{"v":0,"d":"0.00"},{"v":0,"d":"0.00"},{"v":0,"d":"0.00"},{"v":0,"d":"0.00"},{"v":0,"d":"0.00"}]
[]
[{"$nulls":6},"Adjusted PM Emission Factor",null,{"$f":"I984","v":"Diesel"}]
[{"$nulls":7},{"$f":"H985","v":0},{"$f":"I985","v":1},2,3,4,5,6,7,8,9,10,11,12,13,14,15,16,17,18,19]
[{"$nulls":5},"NO BRT",{"$f":"G986","v":"Cars"},{"$f":"H986+(H986*H801)","v":0},{"$f":"I986+(I986*I801)","v":0},0,0,0,0,0,0,0,0,0,0,0,0,0,0,0,0,0,0]
[{"$nulls":6},{"$f":"G987","v":"2-wheeler"},{"$f":"H987+(H987*H802)","v":0},0,0,0,0,0,0,0,0,0,0,0,0,0,0,0,0,0,0,0]
[{"$nulls":6},"Taxi",{"$f":"H988+(H988*H803)","v":0},0,0,0,0,0,0,0,0,0,0,0,0,0,0,0,0,0,0,0]
[{"$nulls":6},"",{"$f":"H989+(H989*H804)","v":0},0,0,0,0,0,0,0,0,0,0,0,0,0,0,0,0,0,0,0]
[{"$nulls":6},"",{"$f":"H990+(H990*H805)","v":0},0,0,0,0,0,0,0,0,0,0,0,0,0,0,0,0,0,0,0]
[{"$nulls":6},"3-wheeler",{"$f":"H991+(H991*H806)","v":0},0,0,0,0,0,0,0,0,0,0,0,0,0,0,0,0,0,0,0]
[{"$nulls":6},"Bus",{"$f":"H992+(H992*H807)","v":0},0,0,0,0,0,0,0,0,0,0,0,0,0,0,0,0,0,0,0]
[{"$nulls":6},"Mini-bus",{"$f":"H993+(H993*H808)","v":0},0,0,0,0,0,0,0,0,0,0,0,0,0,0,0,0,0,0,0]
[{"$nulls":6},"",{"$f":"H994+(H994*H809)","v":0},0,0,0,0,0,0,0,0,0,0,0,0,0,0,0,0,0,0,0]
[{"$nulls":6},"",{"$f":"H995+(H995*H810)","v":0},0,0,0,0,0,0,0,0,0,0,0,0,0,0,0,0,0,0,0]
[{"$nulls":6},"BRT",{"$f":"H996+(H996*H811)","v":0},0,0,0,0,0,0,0,0,0,0,0,0,0,0,0,0,0,0,0]
[]
[]
[{"$nulls":6},"PM Emission Factor LPG"]
[]
[{"$nulls":10},"g/vkm",{"$nulls":3},"1st",null,"2nd"]
[{"$nulls":10},{"$f":"K969","v":0},{"$f":"L969","v":9},{"$f":"M969","v":19},null,"intercept","slope","intercept","slope",null,{"$f":"K1016","v":0},{"$f":"L1016","v":9},{"$f":"M1016","v":19},null,"1st","2nd"]
[{"$nulls":5},"NO BRT",{"$f":"G1000","v":"Cars"},{"$nulls":3},{"$f":"'IF Factors'!AI61","v":0},{"$f":"OFFSET('IF Factors'!AI61,0,5)","v":0},{"$f":"OFFSET('IF Factors'!AI61,0,10)","v":0},null,{"$f":"INTERCEPT(K1017:L1017,$K$7:$L$7)","v":0},{"$f":"SLOPE(K1017:L1017,$K$7:$L$7)","v":0},{"$f":"INTERCEPT(L1017:M1017,$L$7:$M$7)","v":0},{"$f":"SLOPE(L1017:M1017,$L$7:$M$7)","v":0},null,{"$f":"IF(K1017<>0,0,1)","v":1},{"$f":"IF(L1017<>0,0,1)","v":1},{"$f":"IF(M1017<>0,0,1)","v":1},null,{"$f":"IF(T1017+U1017=1,1,0)","v":0},{"$f":"IF(U1017+V1017=1,1,0)","v":0}]
[{"$nulls":6},{"$f":"G1001","v":"2-wheeler"},{"$nulls":3},{"$f":"'IF Factors'!AI62","v":0},{"$f":"OFFSET('IF Factors'!AI62,0,5)","v":0},{"$f":"OFFSET('IF Factors'!AI62,0,10)","v":0},null,{"$f":"INTERCEPT(K1018:L1018,$K$7:$L$7)","v":0},{"$f":"SLOPE(K1018:L1018,$K$7:$L$7)","v":0},{"$f":"INTERCEPT(L1018:M1018,$L$7:$M$7)","v":0},{"$f":"SLOPE(L1018:M1018,$L$7:$M$7)","v":0},null,{"$f":"IF(K1018<>0,0,1)","v":1},{"$f":"IF(L1018<>0,0,1)","v":1},{"$f":"IF(M1018<>0,0,1)","v":1},null,{"$f":"IF(T1018+U1018=1,1,0)","v":0},0]
[{"$nulls":6},"Taxi",{"$nulls":3},{"$f":"'IF Factors'!AI63","v":0},{"$f":"OFFSET('IF Factors'!AI63,0,5)","v":0},{"$f":"OFFSET('IF Factors'!AI63,0,10)","v":0},null,0,0,0,0,null,1,1,1,null,0,0]
[{"$nulls":6},"",{"$nulls":3},{"$f":"'IF Factors'!AI64","v":0},{"$f":"OFFSET('IF Factors'!AI64,0,5)","v":0},{"$f":"OFFSET('IF Factors'!AI64,0,10)","v":0},null,0,0,0,0,null,1,1,1,null,0,0]
[{"$nulls":6},"",{"$nulls":3},{"$f":"'IF Factors'!AI65","v":0},{"$f":"OFFSET('IF Factors'!AI65,0,5)","v":0},{"$f":"OFFSET('IF Factors'!AI65,0,10)","v":0},null,0,0,0,0,null,1,1,1,null,0,0]
[{"$nulls":6},"3-wheeler",{"$nulls":3},{"$f":"'IF Factors'!AI66","v":0},{"$f":"OFFSET('IF Factors'!AI66,0,5)","v":0},{"$f":"OFFSET('IF Factors'!AI66,0,10)","v":0},null,0,0,0,0,null,1,1,1,null,0,0]
[{"$nulls":6},"Bus",{"$nulls":3},{"$f":"'IF Factors'!AI67","v":0},{"$f":"OFFSET('IF Factors'!AI67,0,5)","v":0},{"$f":"OFFSET('IF Factors'!AI67,0,10)","v":0},null,0,0,0,0,null,1,1,1,null,0,0]
[{"$nulls":6},"Mini-bus",{"$nulls":3},{"$f":"'IF Factors'!AI68","v":0},{"$f":"OFFSET('IF Factors'!AI68,0,5)","v":0},{"$f":"OFFSET('IF Factors'!AI68,0,10)","v":0},null,0,0,0,0,null,1,1,1,null,0,0]
[{"$nulls":6},"",{"$nulls":3},{"$f":"'IF Factors'!AI69","v":0},{"$f":"OFFSET('IF Factors'!AI69,0,5)","v":0},{"$f":"OFFSET('IF Factors'!AI69,0,10)","v":0},null,0,0,0,0,null,1,1,1,null,0,0]
[{"$nulls":6},"",{"$nulls":3},{"$f":"'IF Factors'!AI70","v":0},{"$f":"OFFSET('IF Factors'!AI70,0,5)","v":0},{"$f":"OFFSET('IF Factors'!AI70,0,10)","v":0},null,0,0,0,0,null,1,1,1,null,0,0]
[{"$nulls":6},"BRT",{"$nulls":3},{"$f":"'IF Factors'!AI71","v":0},{"$f":"OFFSET('IF Factors'!AI71,0,5)","v":0},{"$f":"OFFSET('IF Factors'!AI71,0,10)","v":0},null,0,0,0,0,null,1,1,1,null,0,0]
[]
[]
[]
[{"$nulls":6},"PM Emission Factor",null,"LPG"]
[{"$nulls":7},{"$f":"H999","v":0},{"$f":"I999","v":1},2,3,4,5,6,7,8,9,10,11,12,13,14,15,16,17,18,19]
[{"$nulls":5},"NO BRT",{"$f":"G1000","v":"Cars"},{"$f":"K1017","v":{"v":0,"d":"0.00"}},{"$f":"(I$23*$P1017)+$O1017","v":{"v":0,"d":"0.00"}},{"$f":"(J$23*$P1017)+$O1017","v":{"v":0,"d":"0.00"}},{"v":0,"d":"0.00"},{"v":0,"d":"0.00"},{"v":0,"d":"0.00"},{"v":0,"d":"0.00"},{"v":0,"d":"0.00"},{"v":0,"d":"0.00"},{"$f":"L1017","v":{"v":0,"d":"0.00"}},{"$f":"(R$23*$R1017)+$Q1017","v":{"v":0,"d":"0.00"}},{"$f":"(S$23*$R1017)+$Q1017","v":{"v":0,"d":"0.00"}},{"v":0,"d":"0.00"},{"v":0,"d":"0.00"},{"v":0,"d":"0.00"},{"v":0,"d":"0.00"},{"v":0,"d":"0.00"},{"v":0,"d":"0.00"},{"v":0,"d":"0.00"},{"$f":"M1017","v":{"v":0,"d":"0.00"}}]
[{"$nulls":6},{"$f":"G1001","v":"2-wheeler"},{"$f":"K1018","v":{"v":0,"d":"0.00"}},{"$f":"(I$23*$P1018)+$O1018","v":{"v":0,"d":"0.00"}},{"v":0,"d":"0.00"},{"v":0,"d":"0.00"},{"v":0,"d":"0.00"},{"v":0,"d":"0.00"},{"v":0,"d":"0.00"},{"v":0,"d":"0.00"},{"v":0,"d":"0.00"},{"$f":"L1018","v":{"v":0,"d":"0.00"}},{"$f":"(R$23*$R1018)+$Q1018","v":{"v":0,"d":"0.00"}},{"v":0,"d":"0.00"},{"v":0,"d":"0.00"},{"v":0,"d":"0.00"},{"v":0,"d":"0.00"},{"v":0,"d":"0.00"},{"v":0,"d":"0.00"},{"v":0,"d":"0.00"},{"v":0,"d":"0.00"},{"$f":"M1018","v":{"v":0,"d":"0.00"}}]
[{"$nulls":6},"Taxi",{"v":0,"d":"0.00"},{"$f":"(I$23*$P1019)+$O1019","v":{"v":0,"d":"0.00"}},{"v":0,"d":"0.00"},{"v":0,"d":"0.00"},{"v":0,"d":"0.00"},{"v":0,"d":"0.00"},{"v":0,"d":"0.00"},{"v":0,"d":"0.00"},{"v":0,"d":"0.00"},{"v":0,"d":"0.00"},{"$f":"(R$23*$R1019)+$Q1019","v":{"v":0,"d":"0.00"}},{"v":0,"d":"0.00"},{"v":0,"d":"0.00"},{"v":0,"d":"0.00"},{"v":0,"d":"0.00"},{"v":0,"d":"0.00"},{"v":0,"d":"0.00"},{"v":0,"d":"0.00"},{"v":0,"d":"0.00"},{"v":0,"d":"0.00"}]
[{"$nulls":6},"",{"v":0,"d":"0.00"},{"$f":"(I$23*$P1020)+$O1020","v":{"v":0,"d":"0.00"}},{"v":0,"d":"0.00"},{"v":0,"d":"0.00"},{"v":0,"d":"0.00"},{"v":0,"d":"0.00"},{"v":0,"d":"0.00"},{"v":0,"d":"0.00"},{"v":0,"d":"0.00"},{"v":0,"d":"0.00"},{"$f":"(R$23*$R1020)+$Q1020","v":{"v":0,"d":"0.00"}},{"v":0,"d":"0.00"},{"v":0,"d":"0.00"},{"v":0,"d":"0.00"},{"v":0,"d":"0.00"},{"v":0,"d":"0.00"},{"v":0,"d":"0.00"},{"v":0,"d":"0.00"},{"v":0,"d":"0.00"},{"v":0,"d":"0.00"}]
[{"$nulls":6},"",{"v":0,"d":"0.00"},{"$f":"(I$23*$P1021)+$O1021","v":{"v":0,"d":"0.00"}},{"v":0,"d":"0.00"},{"v":0,"d":"0.00"},{"v":0,"d":"0.00"},{"v":0,"d":"0.00"},{"v":0,"d":"0.00"},{"v":0,"d":"0.00"},{"v":0,"d":"0.00"},{"v":0,"d":"0.00"},{"$f":"(R$23*$R1021)+$Q1021","v":{"v":0,"d":"0.00"}},{"v":0,"d":"0.00"},{"v":0,"d":"0.00"},{"v":0,"d":"0.00"},{"v":0,"d":"0.00"},{"v":0,"d":"0.00"},{"v":0,"d":"0.00"},{"v":0,"d":"0.00"},{"v":0,"d":"0.00"},{"v":0,"d":"0.00"}]
[{"$nulls":6},"3-wheeler",{"v":0,"d":"0.00"},{"$f":"(I$23*$P1022)+$O1022","v":{"v":0,"d":"0.00"}},{"v":0,"d":"0.00"},{"v":0,"d":"0.00"},{"v":0,"d":"0.00"},{"v":0,"d":"0.00"},{"v":0,"d":"0.00"},{"v":0,"d":"0.00"},{"v":0,"d":"0.00"},{"v":0,"d":"0.00"},{"$f":"(R$23*$R1022)+$Q1022","v":{"v":0,"d":"0.00"}},{"v":0,"d":"0.00"},{"v":0,"d":"0.00"},{"v":0,"d":"0.00"},{"v":0,"d":"0.00"},{"v":0,"d":"0.00"},{"v":0,"d":"0.00"},{"v":0,"d":"0.00"},{"v":0,"d":"0.00"},{"v":0,"d":"0.00"}]
[{"$nulls":6},"Bus",{"v":0,"d":"0.00"},{"$f":"(I$23*$P1023)+$O1023","v":{"v":0,"d":"0.00"}},{"v":0,"d":"0.00"},{"v":0,"d":"0.00"},{"v":0,"d":"0.00"},{"v":0,"d":"0.00"},{"v":0,"d":"0.00"},{"v":0,"d":"0.00"},{"v":0,"d":"0.00"},{"v":0,"d":"0.00"},{"$f":"(R$23*$R1023)+$Q1023","v":{"v":0,"d":"0.00"}},{"v":0,"d":"0.00"},{"v":0,"d":"0.00"},{"v":0,"d":"0.00"},{"v":0,"d":"0.00"},{"v":0,"d":"0.00"},{"v":0,"d":"0.00"},{"v":0,"d":"0.00"},{"v":0,"d":"0.00"},{"v":0,"d":"0.00"}]
[{"$nulls":6},"Mini-bus",{"v":0,"d":"0.00"},{"$f":"(I$23*$P1024)+$O1024","v":{"v":0,"d":"0.00"}},{"v":0,"d":"0.00"},{"v":0,"d":"0.00"},{"v":0,"d":"0.00"},{"v":0,"d":"0.00"},{"v":0,"d":"0.00"},{"v":0,"d":"0.00"},{"v":0,"d":"0.00"},{"v":0,"d":"0.00"},{"$f":"(R$23*$R1024)+$Q1024","v":{"v":0,"d":"0.00"}},{"v":0,"d":"0.00"},{"v":0,"d":"0.00"},{"v":0,"d":"0.00"},{"v":0,"d":"0.00"},{"v":0,"d":"0.00"},{"v":0,"d":"0.00"},{"v":0,"d":"0.00"},{"v":0,"d":"0.00"},{"v":0,"d":"0.00"}]
[{"$nulls":6},"",{"v":0,"d":"0.00"},{"$f":"(I$23*$P1025)+$O1025","v":{"v":0,"d":"0.00"}},{"v":0,"d":"0.00"},{"v":0,"d":"0.00"},{"v":0,"d":"0.00"},{"v":0,"d":"0.00"},{"v":0,"d":"0.00"},{"v":0,"d":"0.00"},{"v":0,"d":"0.00"},{"v":0,"d":"0.00"},{"$f":"(R$23*$R1025)+$Q1025","v":{"v":0,"d":"0.00"}},{"v":0,"d":"0.00"},{"v":0,"d":"0.00"},{"v":0,"d":"0.00"},{"v":0,"d":"0.00"},{"v":0,"d":"0.00"},{"v":0,"d":"0.00"},{"v":0,"d":"0.00"},{"v":0,"d":"0.00"},{"v":0,"d":"0.00"}]
[{"$nulls":6},"",{"v":0,"d":"0.00"},{"$f":"(I$23*$P1026)+$O1026","v":{"v":0,"d":"0.00"}},{"v":0,"d":"0.00"},{"v":0,"d":"0.00"},{"v":0,"d":"0.00"},{"v":0,"d":"0.00"},{"v":0,"d":"0.00"},{"v":0,"d":"0.00"},{"v":0,"d":"0.00"},{"v":0,"d":"0.00"},{"$f":"(R$23*$R1026)+$Q1026","v":{"v":0,"d":"0.00"}},{"v":0,"d":"0.00"},{"v":0,"d":"0.00"},{"v":0,"d":"0.00"},{"v":0,"d":"0.00"},{"v":0,"d":"0.00"},{"v":0,"d":"0.00"},{"v":0,"d":"0.00"},{"v":0,"d":"0.00"},{"v":0,"d":"0.00"}]
[{"$nulls":6},"BRT",{"v":0,"d":"0.00"},{"$f":"(I$23*$P1027)+$O1027","v":{"v":0,"d":"0.00"}},{"v":0,"d":"0.00"},{"v":0,"d":"0.00"},{"v":0,"d":"0.00"},{"v":0,"d":"0.00"},{"v":0,"d":"0.00"},{"v":0,"d":"0.00"},{"v":0,"d":"0.00"},{"v":0,"d":"0.00"},{"$f":"(R$23*$R1027)+$Q1027","v":{"v":0,"d":"0.00"}},{"v":0,"d":"0.00"},{"v":0,"d":"0.00"},{"v":0,"d":"0.00"},{"v":0,"d":"0.00"},{"v":0,"d":"0.00"},{"v":0,"d":"0.00"},{"v":0,"d":"0.00"},{"v":0,"d":"0.00"},{"v":0,"d":"0.00"}]
[]
[{"$nulls":6},"Adjusted PM Emission Factor",null,{"$f":"I1031","v":"LPG"}]
[{"$nulls":7},{"$f":"H1032","v":0},{"$f":"I1032","v":1},2,3,4,5,6,7,8,9,10,11,12,13,14,15,16,17,18,19]
[{"$nulls":5},"NO BRT",{"$f":"G1033","v":"Cars"},{"$f":"H1033+(H1033*H801)","v":0},{"$f":"I1033+(I1033*I801)","v":0},0,0,0,0,0,0,0,0,0,0,0,0,0,0,0,0,0,0]
[{"$nulls":6},{"$f":"G1034","v":"2-wheeler"},{"$f":"H1034+(H1034*H802)","v":0},0,0,0,0,0,0,0,0,0,0,0,0,0,0,0,0,0,0,0]
[{"$nulls":6},"Taxi",{"$f":"H1035+(H1035*H803)","v":0},0,0,0,0,0,0,0,0,0,0,0,0,0,0,0,0,0,0,0]
[{"$nulls":6},"",{"$f":"H1036+(H1036*H804)","v":0},0,0,0,0,0,0,0,0,0,0,0,0,0,0,0,0,0,0,0]
[{"$nulls":6},"",{"$f":"H1037+(H1037*H805)","v":0},0,0,0,0,0,0,0,0,0,0,0,0,0,0,0,0,0,0,0]
[{"$nulls":6},"3-wheeler",{"$f":"H1038+(H1038*H806)","v":0},0,0,0,0,0,0,0,0,0,0,0,0,0,0,0,0,0,0,0]
[{"$nulls":6},"Bus",{"$f":"H1039+(H1039*H807)","v":0},0,0,0,0,0,0,0,0,0,0,0,0,0,0,0,0,0,0,0]
[{"$nulls":6},"Mini-bus",{"$f":"H1040+(H1040*H808)","v":0},0,0,0,0,0,0,0,0,0,0,0,0,0,0,0,0,0,0,0]
[{"$nulls":6},"",{"$f":"H1041+(H1041*H809)","v":0},0,0,0,0,0,0,0,0,0,0,0,0,0,0,0,0,0,0,0]
[{"$nulls":6},"",{"$f":"H1042+(H1042*H810)","v":0},0,0,0,0,0,0,0,0,0,0,0,0,0,0,0,0,0,0,0]
[{"$nulls":6},"BRT",{"$f":"H1043+(H1043*H811)","v":0},0,0,0,0,0,0,0,0,0,0,0,0,0,0,0,0,0,0,0]
[]
[]
[{"$nulls":6},"PM Emission Factor CNG"]
[]
[{"$nulls":10},"g/vkm",{"$nulls":3},"1st",null,"2nd"]
[{"$nulls":10},{"$f":"K1016","v":0},{"$f":"L1016","v":9},{"$f":"M1016","v":19},null,"intercept","slope","intercept","slope",null,{"$f":"K1063","v":0},{"$f":"L1063","v":9},{"$f":"M1063","v":19},null,"1st","2nd"]
[{"$nulls":5},"NO BRT",{"$f":"G1047","v":"Cars"},{"$nulls":3},{"$f":"'IF Factors'!AI76","v":0},{"$f":"OFFSET('IF Factors'!AI76,0,5)","v":0},{"$f":"OFFSET('IF Factors'!AI76,0,10)","v":0},null,{"$f":"INTERCEPT(K1064:L1064,$K$7:$L$7)","v":0},{"$f":"SLOPE(K1064:L1064,$K$7:$L$7)","v":0},{"$f":"INTERCEPT(L1064:M1064,$L$7:$M$7)","v":0},{"$f":"SLOPE(L1064:M1064,$L$7:$M$7)","v":0},null,{"$f":"IF(K1064<>0,0,1)","v":1},{"$f":"IF(L1064<>0,0,1)","v":1},{"$f":"IF(M1064<>0,0,1)","v":1},null,{"$f":"IF(T1064+U1064=1,1,0)","v":0},{"$f":"IF(U1064+V1064=1,1,0)","v":0}]
[{"$nulls":6},{"$f":"G1048","v":"2-wheeler"},{"$nulls":3},{"$f":"'IF Factors'!AI77","v":0},{"$f":"OFFSET('IF Factors'!AI77,0,5)","v":0},{"$f":"OFFSET('IF Factors'!AI77,0,10)","v":0},null,{"$f":"INTERCEPT(K1065:L1065,$K$7:$L$7)","v":0},{"$f":"SLOPE(K1065:L1065,$K$7:$L$7)","v":0},{"$f":"INTERCEPT(L1065:M1065,$L$7:$M$7)","v":0},{"$f":"SLOPE(L1065:M1065,$L$7:$M$7)","v":0},null,{"$f":"IF(K1065<>0,0,1)","v":1},{"$f":"IF(L1065<>0,0,1)","v":1},{"$f":"IF(M1065<>0,0,1)","v":1},null,{"$f":"IF(T1065+U1065=1,1,0)","v":0},0]
[{"$nulls":6},"Taxi",{"$nulls":3},{"$f":"'IF Factors'!AI78","v":0},{"$f":"OFFSET('IF Factors'!AI78,0,5)","v":0},{"$f":"OFFSET('IF Factors'!AI78,0,10)","v":0},null,0,0,0,0,null,1,1,1,null,0,0]
[{"$nulls":6},"",{"$nulls":3},{"$f":"'IF Factors'!AI79","v":0},{"$f":"OFFSET('IF Factors'!AI79,0,5)","v":0},{"$f":"OFFSET('IF Factors'!AI79,0,10)","v":0},null,0,0,0,0,null,1,1,1,null,0,0]
[{"$nulls":6},"",{"$nulls":3},{"$f":"'IF Factors'!AI80","v":0},{"$f":"OFFSET('IF Factors'!AI80,0,5)","v":0},{"$f":"OFFSET('IF Factors'!AI80,0,10)","v":0},null,0,0,0,0,null,1,1,1,null,0,0]
[{"$nulls":6},"3-wheeler",{"$nulls":3},{"$f":"'IF Factors'!AI81","v":0},{"$f":"OFFSET('IF Factors'!AI81,0,5)","v":0},{"$f":"OFFSET('IF Factors'!AI81,0,10)","v":0},null,0,0,0,0,null,1,1,1,null,0,0]
[{"$nulls":6},"Bus",{"$nulls":3},{"$f":"'IF Factors'!AI82","v":0},{"$f":"OFFSET('IF Factors'!AI82,0,5)","v":0},{"$f":"OFFSET('IF Factors'!AI82,0,10)","v":0},null,0,0,0,0,null,1,1,1,null,0,0]
[{"$nulls":6},"Mini-bus",{"$nulls":3},{"$f":"'IF Factors'!AI83","v":0},{"$f":"OFFSET('IF Factors'!AI83,0,5)","v":0},{"$f":"OFFSET('IF Factors'!AI83,0,10)","v":0},null,0,0,0,0,null,1,1,1,null,0,0]
[{"$nulls":6},"",{"$nulls":3},{"$f":"'IF Factors'!AI84","v":0},{"$f":"OFFSET('IF Factors'!AI84,0,5)","v":0},{"$f":"OFFSET('IF Factors'!AI84,0,10)","v":0},null,0,0,0,0,null,1,1,1,null,0,0]
[{"$nulls":6},"",{"$nulls":3},{"$f":"'IF Factors'!AI85","v":0},{"$f":"OFFSET('IF Factors'!AI85,0,5)","v":0},{"$f":"OFFSET('IF Factors'!AI85,0,10)","v":0},null,0,0,0,0,null,1,1,1,null,0,0]
[{"$nulls":6},"BRT",{"$nulls":3},{"$f":"'IF Factors'!AI86","v":0},{"$f":"OFFSET('IF Factors'!AI86,0,5)","v":0},{"$f":"OFFSET('IF Factors'!AI86,0,10)","v":0},null,0,0,0,0,null,1,1,1,null,0,0]
[]
[]
[]
[{"$nulls":6},"PM Emission Factor",null,"CNG"]
[{"$nulls":7},{"$f":"H1046","v":0},{"$f":"I1046","v":1},2,3,4,5,6,7,8,9,10,11,12,13,14,15,16,17,18,19]
[{"$nulls":5},"NO BRT",{"$f":"G1047","v":"Cars"},{"$f":"K1064","v":{"v":0,"d":"0.00"}},{"$f":"(I$23*$P1064)+$O1064","v":{"v":0,"d":"0.00"}},{"$f":"(J$23*$P1064)+$O1064","v":{"v":0,"d":"0.00"}},{"v":0,"d":"0.00"},{"v":0,"d":"0.00"},{"v":0,"d":"0.00"},{"v":0,"d":"0.00"},{"v":0,"d":"0.00"},{"v":0,"d":"0.00"},{"$f":"L1064","v":{"v":0,"d":"0.00"}},{"$f":"(R$23*$R1064)+$Q1064","v":{"v":0,"d":"0.00"}},{"$f":"(S$23*$R1064)+$Q1064","v":{"v":0,"d":"0.00"}},{"v":0,"d":"0.00"},{"v":0,"d":"0.00"},{"v":0,"d":"0.00"},{"v":0,"d":"0.00"},{"v":0,"d":"0.00"},{"v":0,"d":"0.00"},{"v":0,"d":"0.00"},{"$f":"M1064","v":{"v":0,"d":"0.00"}}]
[{"$nulls":6},{"$f":"G1048","v":"2-wheeler"},{"$f":"K1065","v":{"v":0,"d":"0.00"}},{"$f":"(I$23*$P1065)+$O1065","v":{"v":0,"d":"0.00"}},{"v":0,"d":"0.00"},{"v":0,"d":"0.00"},{"v":0,"d":"0.00"},{"v":0,"d":"0.00"},{"v":0,"d":"0.00"},{"v":0,"d":"0.00"},{"v":0,"d":"0.00"},{"$f":"L1065","v":{"v":0,"d":"0.00"}},{"$f":"(R$23*$R1065)+$Q1065","v":{"v":0,"d":"0.00"}},{"v":0,"d":"0.00"},{"v":0,"d":"0.00"},{"v":0,"d":"0.00"},{"v":0,"d":"0.00"},{"v":0,"d":"0.00"},{"v":0,"d":"0.00"},{"v":0,"d":"0.00"},{"v":0,"d":"0.00"},{"$f":"M1065","v":{"v":0,"d":"0.00"}}]
[{"$nulls":6},"Taxi",{"v":0,"d":"0.00"},{"$f":"(I$23*$P1066)+$O1066","v":{"v":0,"d":"0.00"}},{"v":0,"d":"0.00"},{"v":0,"d":"0.00"},{"v":0,"d":"0.00"},{"v":0,"d":"0.00"},{"v":0,"d":"0.00"},{"v":0,"d":"0.00"},{"v":0,"d":"0.00"},{"v":0,"d":"0.00"},{"$f":"(R$23*$R1066)+$Q1066","v":{"v":0,"d":"0.00"}},{"v":0,"d":"0.00"},{"v":0,"d":"0.00"},{"v":0,"d":"0.00"},{"v":0,"d":"0.00"},{"v":0,"d":"0.00"},{"v":0,"d":"0.00"},{"v":0,"d":"0.00"},{"v":0,"d":"0.00"},{"v":0,"d":"0.00"}]
[{"$nulls":6},"",{"v":0,"d":"0.00"},{"$f":"(I$23*$P1067)+$O1067","v":{"v":0,"d":"0.00"}},{"v":0,"d":"0.00"},{"v":0,"d":"0.00"},{"v":0,"d":"0.00"},{"v":0,"d":"0.00"},{"v":0,"d":"0.00"},{"v":0,"d":"0.00"},{"v":0,"d":"0.00"},{"v":0,"d":"0.00"},{"$f":"(R$23*$R1067)+$Q1067","v":{"v":0,"d":"0.00"}},{"v":0,"d":"0.00"},{"v":0,"d":"0.00"},{"v":0,"d":"0.00"},{"v":0,"d":"0.00"},{"v":0,"d":"0.00"},{"v":0,"d":"0.00"},{"v":0,"d":"0.00"},{"v":0,"d":"0.00"},{"v":0,"d":"0.00"}]
[{"$nulls":6},"",{"v":0,"d":"0.00"},{"$f":"(I$23*$P1068)+$O1068","v":{"v":0,"d":"0.00"}},{"v":0,"d":"0.00"},{"v":0,"d":"0.00"},{"v":0,"d":"0.00"},{"v":0,"d":"0.00"},{"v":0,"d":"0.00"},{"v":0,"d":"0.00"},{"v":0,"d":"0.00"},{"v":0,"d":"0.00"},{"$f":"(R$23*$R1068)+$Q1068","v":{"v":0,"d":"0.00"}},{"v":0,"d":"0.00"},{"v":0,"d":"0.00"},{"v":0,"d":"0.00"},{"v":0,"d":"0.00"},{"v":0,"d":"0.00"},{"v":0,"d":"0.00"},{"v":0,"d":"0.00"},{"v":0,"d":"0.00"},{"v":0,"d":"0.00"}]
[{"$nulls":6},"3-wheeler",{"v":0,"d":"0.00"},{"$f":"(I$23*$P1069)+$O1069","v":{"v":0,"d":"0.00"}},{"v":0,"d":"0.00"},{"v":0,"d":"0.00"},{"v":0,"d":"0.00"},{"v":0,"d":"0.00"},{"v":0,"d":"0.00"},{"v":0,"d":"0.00"},{"v":0,"d":"0.00"},{"v":0,"d":"0.00"},{"$f":"(R$23*$R1069)+$Q1069","v":{"v":0,"d":"0.00"}},{"v":0,"d":"0.00"},{"v":0,"d":"0.00"},{"v":0,"d":"0.00"},{"v":0,"d":"0.00"},{"v":0,"d":"0.00"},{"v":0,"d":"0.00"},{"v":0,"d":"0.00"},{"v":0,"d":"0.00"},{"v":0,"d":"0.00"}]
[{"$nulls":6},"Bus",{"v":0,"d":"0.00"},{"$f":"(I$23*$P1070)+$O1070","v":{"v":0,"d":"0.00"}},{"v":0,"d":"0.00"},{"v":0,"d":"0.00"},{"v":0,"d":"0.00"},{"v":0,"d":"0.00"},{"v":0,"d":"0.00"},{"v":0,"d":"0.00"},{"v":0,"d":"0.00"},{"v":0,"d":"0.00"},{"$f":"(R$23*$R1070)+$Q1070","v":{"v":0,"d":"0.00"}},{"v":0,"d":"0.00"},{"v":0,"d":"0.00"},{"v":0,"d":"0.00"},{"v":0,"d":"0.00"},{"v":0,"d":"0.00"},{"v":0,"d":"0.00"},{"v":0,"d":"0.00"},{"v":0,"d":"0.00"},{"v":0,"d":"0.00"}]
[{"$nulls":6},"Mini-bus",{"v":0,"d":"0.00"},{"$f":"(I$23*$P1071)+$O1071","v":{"v":0,"d":"0.00"}},{"v":0,"d":"0.00"},{"v":0,"d":"0.00"},{"v":0,"d":"0.00"},{"v":0,"d":"0.00"},{"v":0,"d":"0.00"},{"v":0,"d":"0.00"},{"v":0,"d":"0.00"},{"v":0,"d":"0.00"},{"$f":"(R$23*$R1071)+$Q1071","v":{"v":0,"d":"0.00"}},{"v":0,"d":"0.00"},{"v":0,"d":"0.00"},{"v":0,"d":"0.00"},{"v":0,"d":"0.00"},{"v":0,"d":"0.00"},{"v":0,"d":"0.00"},{"v":0,"d":"0.00"},{"v":0,"d":"0.00"},{"v":0,"d":"0.00"}]
[{"$nulls":6},"",{"v":0,"d":"0.00"},{"$f":"(I$23*$P1072)+$O1072","v":{"v":0,"d":"0.00"}},{"v":0,"d":"0.00"},{"v":0,"d":"0.00"},{"v":0,"d":"0.00"},{"v":0,"d":"0.00"},{"v":0,"d":"0.00"},{"v":0,"d":"0.00"},{"v":0,"d":"0.00"},{"v":0,"d":"0.00"},{"$f":"(R$23*$R1072)+$Q1072","v":{"v":0,"d":"0.00"}},{"v":0,"d":"0.00"},{"v":0,"d":"0.00"},{"v":0,"d":"0.00"},{"v":0,"d":"0.00"},{"v":0,"d":"0.00"},{"v":0,"d":"0.00"},{"v":0,"d":"0.00"},{"v":0,"d":"0.00"},{"v":0,"d":"0.00"}]
[{"$nulls":6},"",{"v":0,"d":"0.00"},{"$f":"(I$23*$P1073)+$O1073","v":{"v":0,"d":"0.00"}},{"v":0,"d":"0.00"},{"v":0,"d":"0.00"},{"v":0,"d":"0.00"},{"v":0,"d":"0.00"},{"v":0,"d":"0.00"},{"v":0,"d":"0.00"},{"v":0,"d":"0.00"},{"v":0,"d":"0.00"},{"$f":"(R$23*$R1073)+$Q1073","v":{"v":0,"d":"0.00"}},{"v":0,"d":"0.00"},{"v":0,"d":"0.00"},{"v":0,"d":"0.00"},{"v":0,"d":"0.00"},{"v":0,"d":"0.00"},{"v":0,"d":"0.00"},{"v":0,"d":"0.00"},{"v":0,"d":"0.00"},{"v":0,"d":"0.00"}]
[{"$nulls":6},"BRT",{"v":0,"d":"0.00"},{"$f":"(I$23*$P1074)+$O1074","v":{"v":0,"d":"0.00"}},{"v":0,"d":"0.00"},{"v":0,"d":"0.00"},{"v":0,"d":"0.00"},{"v":0,"d":"0.00"},{"v":0,"d":"0.00"},{"v":0,"d":"0.00"},{"v":0,"d":"0.00"},{"v":0,"d":"0.00"},{"$f":"(R$23*$R1074)+$Q1074","v":{"v":0,"d":"0.00"}},{"v":0,"d":"0.00"},{"v":0,"d":"0.00"},{"v":0,"d":"0.00"},{"v":0,"d":"0.00"},{"v":0,"d":"0.00"},{"v":0,"d":"0.00"},{"v":0,"d":"0.00"},{"v":0,"d":"0.00"},{"v":0,"d":"0.00"}]
[]
[{"$nulls":6},"Adjusted PM Emission Factor",null,{"$f":"I1078","v":"CNG"}]
[{"$nulls":7},{"$f":"H1079","v":0},{"$f":"I1079","v":1},2,3,4,5,6,7,8,9,10,11,12,13,14,15,16,17,18,19]
[{"$nulls":5},"NO BRT",{"$f":"G1080","v":"Cars"},{"$f":"H1080+(H1080*H801)","v":0},{"$f":"I1080+(I1080*I801)","v":0},0,0,0,0,0,0,0,0,0,0,0,0,0,0,0,0,0,0]
[{"$nulls":6},{"$f":"G1081","v":"2-wheeler"},{"$f":"H1081+(H1081*H802)","v":0},0,0,0,0,0,0,0,0,0,0,0,0,0,0,0,0,0,0,0]
[{"$nulls":6},"Taxi",{"$f":"H1082+(H1082*H803)","v":0},0,0,0,0,0,0,0,0,0,0,0,0,0,0,0,0,0,0,0]
[{"$nulls":6},"",{"$f":"H1083+(H1083*H804)","v":0},0,0,0,0,0,0,0,0,0,0,0,0,0,0,0,0,0,0,0]
[{"$nulls":6},"",{"$f":"H1084+(H1084*H805)","v":0},0,0,0,0,0,0,0,0,0,0,0,0,0,0,0,0,0,0,0]
[{"$nulls":6},"3-wheeler",{"$f":"H1085+(H1085*H806)","v":0},0,0,0,0,0,0,0,0,0,0,0,0,0,0,0,0,0,0,0]
[{"$nulls":6},"Bus",{"$f":"H1086+(H1086*H807)","v":0},0,0,0,0,0,0,0,0,0,0,0,0,0,0,0,0,0,0,0]
[{"$nulls":6},"Mini-bus",{"$f":"H1087+(H1087*H808)","v":0},0,0,0,0,0,0,0,0,0,0,0,0,0,0,0,0,0,0,0]
[{"$nulls":6},"",{"$f":"H1088+(H1088*H809)","v":0},0,0,0,0,0,0,0,0,0,0,0,0,0,0,0,0,0,0,0]
[{"$nulls":6},"",{"$f":"H1089+(H1089*H810)","v":0},0,0,0,0,0,0,0,0,0,0,0,0,0,0,0,0,0,0,0]
[{"$nulls":6},"BRT",{"$f":"H1090+(H1090*H811)","v":0},0,0,0,0,0,0,0,0,0,0,0,0,0,0,0,0,0,0,0]
[]
[]
[{"$nulls":6},"PM Emission Factor Electric"]
[]
[{"$nulls":10},"g/vkm",{"$nulls":3},"1st",null,"2nd"]
[{"$nulls":10},{"$f":"K1063","v":0},{"$f":"L1063","v":9},{"$f":"M1063","v":19},null,"intercept","slope","intercept","slope",null,{"$f":"K1110","v":0},{"$f":"L1110","v":9},{"$f":"M1110","v":19},null,"1st","2nd"]
[{"$nulls":5},"NO BRT",{"$f":"G1094","v":"Cars"},{"$nulls":3},{"$f":"'IF Factors'!AI91","v":0},{"$f":"OFFSET('IF Factors'!AI91,0,5)","v":0},{"$f":"OFFSET('IF Factors'!AI91,0,10)","v":0},null,{"$f":"INTERCEPT(K1111:L1111,$K$7:$L$7)","v":0},{"$f":"SLOPE(K1111:L1111,$K$7:$L$7)","v":0},{"$f":"INTERCEPT(L1111:M1111,$L$7:$M$7)","v":0},{"$f":"SLOPE(L1111:M1111,$L$7:$M$7)","v":0},null,{"$f":"IF(K1111<>0,0,1)","v":1},{"$f":"IF(L1111<>0,0,1)","v":1},{"$f":"IF(M1111<>0,0,1)","v":1},null,{"$f":"IF(T1111+U1111=1,1,0)","v":0},{"$f":"IF(U1111+V1111=1,1,0)","v":0}]
[{"$nulls":6},{"$f":"G1095","v":"2-wheeler"},{"$nulls":3},{"$f":"'IF Factors'!AI92","v":0},{"$f":"OFFSET('IF Factors'!AI92,0,5)","v":0},{"$f":"OFFSET('IF Factors'!AI92,0,10)","v":0},null,{"$f":"INTERCEPT(K1112:L1112,$K$7:$L$7)","v":0},{"$f":"SLOPE(K1112:L1112,$K$7:$L$7)","v":0},{"$f":"INTERCEPT(L1112:M1112,$L$7:$M$7)","v":0},{"$f":"SLOPE(L1112:M1112,$L$7:$M$7)","v":0},null,{"$f":"IF(K1112<>0,0,1)","v":1},{"$f":"IF(L1112<>0,0,1)","v":1},{"$f":"IF(M1112<>0,0,1)","v":1},null,{"$f":"IF(T1112+U1112=1,1,0)","v":0},0]
[{"$nulls":6},"Taxi",{"$nulls":3},{"$f":"'IF Factors'!AI93","v":0},{"$f":"OFFSET('IF Factors'!AI93,0,5)","v":0},{"$f":"OFFSET('IF Factors'!AI93,0,10)","v":0},null,0,0,0,0,null,1,1,1,null,0,0]
[{"$nulls":6},"",{"$nulls":3},{"$f":"'IF Factors'!AI94","v":0},{"$f":"OFFSET('IF Factors'!AI94,0,5)","v":0},{"$f":"OFFSET('IF Factors'!AI94,0,10)","v":0},null,0,0,0,0,null,1,1,1,null,0,0]
[{"$nulls":6},"",{"$nulls":3},{"$f":"'IF Factors'!AI95","v":0},{"$f":"OFFSET('IF Factors'!AI95,0,5)","v":0},{"$f":"OFFSET('IF Factors'!AI95,0,10)","v":0},null,0,0,0,0,null,1,1,1,null,0,0]
[{"$nulls":6},"3-wheeler",{"$nulls":3},{"$f":"'IF Factors'!AI96","v":0},{"$f":"OFFSET('IF Factors'!AI96,0,5)","v":0},{"$f":"OFFSET('IF Factors'!AI96,0,10)","v":0},null,0,0,0,0,null,1,1,1,null,0,0]
[{"$nulls":6},"Bus",{"$nulls":3},{"$f":"'IF Factors'!AI97","v":0},{"$f":"OFFSET('IF Factors'!AI97,0,5)","v":0},{"$f":"OFFSET('IF Factors'!AI97,0,10)","v":0},null,0,0,0,0,null,1,1,1,null,0,0]
[{"$nulls":6},"Mini-bus",{"$nulls":3},{"$f":"'IF Factors'!AI98","v":0},{"$f":"OFFSET('IF Factors'!AI98,0,5)","v":0},{"$f":"OFFSET('IF Factors'!AI98,0,10)","v":0},null,0,0,0,0,null,1,1,1,null,0,0]
[{"$nulls":6},"",{"$nulls":3},{"$f":"'IF Factors'!AI99","v":0},{"$f":"OFFSET('IF Factors'!AI99,0,5)","v":0},{"$f":"OFFSET('IF Factors'!AI99,0,10)","v":0},null,0,0,0,0,null,1,1,1,null,0,0]
[{"$nulls":6},"",{"$nulls":3},{"$f":"'IF Factors'!AI100","v":0},{"$f":"OFFSET('IF Factors'!AI100,0,5)","v":0},{"$f":"OFFSET('IF Factors'!AI100,0,10)","v":0},null,0,0,0,0,null,1,1,1,null,0,0]
[{"$nulls":6},"BRT",{"$nulls":3},{"$f":"'IF Factors'!AI101","v":0},{"$f":"OFFSET('IF Factors'!AI101,0,5)","v":0},{"$f":"OFFSET('IF Factors'!AI101,0,10)","v":0},null,0,0,0,0,null,1,1,1,null,0,0]
[]
[]
[]
[{"$nulls":6},"PM Emission Factor",null,"Electric"]
[{"$nulls":7},{"$f":"H1093","v":0},{"$f":"I1093","v":1},2,3,4,5,6,7,8,9,10,11,12,13,14,15,16,17,18,19]
[{"$nulls":5},"NO BRT",{"$f":"G1094","v":"Cars"},{"$f":"K1111","v":{"v":0,"d":"0.00"}},{"$f":"(I$23*$P1111)+$O1111","v":{"v":0,"d":"0.00"}},{"$f":"(J$23*$P1111)+$O1111","v":{"v":0,"d":"0.00"}},{"v":0,"d":"0.00"},{"v":0,"d":"0.00"},{"v":0,"d":"0.00"},{"v":0,"d":"0.00"},{"v":0,"d":"0.00"},{"v":0,"d":"0.00"},{"$f":"L1111","v":{"v":0,"d":"0.00"}},{"$f":"(R$23*$R1111)+$Q1111","v":{"v":0,"d":"0.00"}},{"$f":"(S$23*$R1111)+$Q1111","v":{"v":0,"d":"0.00"}},{"v":0,"d":"0.00"},{"v":0,"d":"0.00"},{"v":0,"d":"0.00"},{"v":0,"d":"0.00"},{"v":0,"d":"0.00"},{"v":0,"d":"0.00"},{"v":0,"d":"0.00"},{"$f":"M1111","v":{"v":0,"d":"0.00"}}]
[{"$nulls":6},{"$f":"G1095","v":"2-wheeler"},{"$f":"K1112","v":{"v":0,"d":"0.00"}},{"$f":"(I$23*$P1112)+$O1112","v":{"v":0,"d":"0.00"}},{"v":0,"d":"0.00"},{"v":0,"d":"0.00"},{"v":0,"d":"0.00"},{"v":0,"d":"0.00"},{"v":0,"d":"0.00"},{"v":0,"d":"0.00"},{"v":0,"d":"0.00"},{"$f":"L1112","v":{"v":0,"d":"0.00"}},{"$f":"(R$23*$R1112)+$Q1112","v":{"v":0,"d":"0.00"}},{"v":0,"d":"0.00"},{"v":0,"d":"0.00"},{"v":0,"d":"0.00"},{"v":0,"d":"0.00"},{"v":0,"d":"0.00"},{"v":0,"d":"0.00"},{"v":0,"d":"0.00"},{"v":0,"d":"0.00"},{"$f":"M1112","v":{"v":0,"d":"0.00"}}]
[{"$nulls":6},"Taxi",{"v":0,"d":"0.00"},{"$f":"(I$23*$P1113)+$O1113","v":{"v":0,"d":"0.00"}},{"v":0,"d":"0.00"},{"v":0,"d":"0.00"},{"v":0,"d":"0.00"},{"v":0,"d":"0.00"},{"v":0,"d":"0.00"},{"v":0,"d":"0.00"},{"v":0,"d":"0.00"},{"v":0,"d":"0.00"},{"$f":"(R$23*$R1113)+$Q1113","v":{"v":0,"d":"0.00"}},{"v":0,"d":"0.00"},{"v":0,"d":"0.00"},{"v":0,"d":"0.00"},{"v":0,"d":"0.00"},{"v":0,"d":"0.00"},{"v":0,"d":"0.00"},{"v":0,"d":"0.00"},{"v":0,"d":"0.00"},{"v":0,"d":"0.00"}]
[{"$nulls":6},"",{"v":0,"d":"0.00"},{"$f":"(I$23*$P1114)+$O1114","v":{"v":0,"d":"0.00"}},{"v":0,"d":"0.00"},{"v":0,"d":"0.00"},{"v":0,"d":"0.00"},{"v":0,"d":"0.00"},{"v":0,"d":"0.00"},{"v":0,"d":"0.00"},{"v":0,"d":"0.00"},{"v":0,"d":"0.00"},{"$f":"(R$23*$R1114)+$Q1114","v":{"v":0,"d":"0.00"}},{"v":0,"d":"0.00"},{"v":0,"d":"0.00"},{"v":0,"d":"0.00"},{"v":0,"d":"0.00"},{"v":0,"d":"0.00"},{"v":0,"d":"0.00"},{"v":0,"d":"0.00"},{"v":0,"d":"0.00"},{"v":0,"d":"0.00"}]
[{"$nulls":6},"",{"v":0,"d":"0.00"},{"$f":"(I$23*$P1115)+$O1115","v":{"v":0,"d":"0.00"}},{"v":0,"d":"0.00"},{"v":0,"d":"0.00"},{"v":0,"d":"0.00"},{"v":0,"d":"0.00"},{"v":0,"d":"0.00"},{"v":0,"d":"0.00"},{"v":0,"d":"0.00"},{"v":0,"d":"0.00"},{"$f":"(R$23*$R1115)+$Q1115","v":{"v":0,"d":"0.00"}},{"v":0,"d":"0.00"},{"v":0,"d":"0.00"},{"v":0,"d":"0.00"},{"v":0,"d":"0.00"},{"v":0,"d":"0.00"},{"v":0,"d":"0.00"},{"v":0,"d":"0.00"},{"v":0,"d":"0.00"},{"v":0,"d":"0.00"}]
[{"$nulls":6},"3-wheeler",{"v":0,"d":"0.00"},{"$f":"(I$23*$P1116)+$O1116","v":{"v":0,"d":"0.00"}},{"v":0,"d":"0.00"},{"v":0,"d":"0.00"},{"v":0,"d":"0.00"},{"v":0,"d":"0.00"},{"v":0,"d":"0.00"},{"v":0,"d":"0.00"},{"v":0,"d":"0.00"},{"v":0,"d":"0.00"},{"$f":"(R$23*$R1116)+$Q1116","v":{"v":0,"d":"0.00"}},{"v":0,"d":"0.00"},{"v":0,"d":"0.00"},{"v":0,"d":"0.00"},{"v":0,"d":"0.00"},{"v":0,"d":"0.00"},{"v":0,"d":"0.00"},{"v":0,"d":"0.00"},{"v":0,"d":"0.00"},{"v":0,"d":"0.00"}]
[{"$nulls":6},"Bus",{"v":0,"d":"0.00"},{"$f":"(I$23*$P1117)+$O1117","v":{"v":0,"d":"0.00"}},{"v":0,"d":"0.00"},{"v":0,"d":"0.00"},{"v":0,"d":"0.00"},{"v":0,"d":"0.00"},{"v":0,"d":"0.00"},{"v":0,"d":"0.00"},{"v":0,"d":"0.00"},{"v":0,"d":"0.00"},{"$f":"(R$23*$R1117)+$Q1117","v":{"v":0,"d":"0.00"}},{"v":0,"d":"0.00"},{"v":0,"d":"0.00"},{"v":0,"d":"0.00"},{"v":0,"d":"0.00"},{"v":0,"d":"0.00"},{"v":0,"d":"0.00"},{"v":0,"d":"0.00"},{"v":0,"d":"0.00"},{"v":0,"d":"0.00"}]
[{"$nulls":6},"Mini-bus",{"v":0,"d":"0.00"},{"$f":"(I$23*$P1118)+$O1118","v":{"v":0,"d":"0.00"}},{"v":0,"d":"0.00"},{"v":0,"d":"0.00"},{"v":0,"d":"0.00"},{"v":0,"d":"0.00"},{"v":0,"d":"0.00"},{"v":0,"d":"0.00"},{"v":0,"d":"0.00"},{"v":0,"d":"0.00"},{"$f":"(R$23*$R1118)+$Q1118","v":{"v":0,"d":"0.00"}},{"v":0,"d":"0.00"},{"v":0,"d":"0.00"},{"v":0,"d":"0.00"},{"v":0,"d":"0.00"},{"v":0,"d":"0.00"},{"v":0,"d":"0.00"},{"v":0,"d":"0.00"},{"v":0,"d":"0.00"},{"v":0,"d":"0.00"}]
[{"$nulls":6},"",{"v":0,"d":"0.00"},{"$f":"(I$23*$P1119)+$O1119","v":{"v":0,"d":"0.00"}},{"v":0,"d":"0.00"},{"v":0,"d":"0.00"},{"v":0,"d":"0.00"},{"v":0,"d":"0.00"},{"v":0,"d":"0.00"},{"v":0,"d":"0.00"},{"v":0,"d":"0.00"},{"v":0,"d":"0.00"},{"$f":"(R$23*$R1119)+$Q1119","v":{"v":0,"d":"0.00"}},{"v":0,"d":"0.00"},{"v":0,"d":"0.00"},{"v":0,"d":"0.00"},{"v":0,"d":"0.00"},{"v":0,"d":"0.00"},{"v":0,"d":"0.00"},{"v":0,"d":"0.00"},{"v":0,"d":"0.00"},{"v":0,"d":"0.00"}]
[{"$nulls":6},"",{"v":0,"d":"0.00"},{"$f":"(I$23*$P1120)+$O1120","v":{"v":0,"d":"0.00"}},{"v":0,"d":"0.00"},{"v":0,"d":"0.00"},{"v":0,"d":"0.00"},{"v":0,"d":"0.00"},{"v":0,"d":"0.00"},{"v":0,"d":"0.00"},{"v":0,"d":"0.00"},{"v":0,"d":"0.00"},{"$f":"(R$23*$R1120)+$Q1120","v":{"v":0,"d":"0.00"}},{"v":0,"d":"0.00"},{"v":0,"d":"0.00"},{"v":0,"d":"0.00"},{"v":0,"d":"0.00"},{"v":0,"d":"0.00"},{"v":0,"d":"0.00"},{"v":0,"d":"0.00"},{"v":0,"d":"0.00"},{"v":0,"d":"0.00"}]
[{"$nulls":6},"BRT",{"v":0,"d":"0.00"},{"$f":"(I$23*$P1121)+$O1121","v":{"v":0,"d":"0.00"}},{"v":0,"d":"0.00"},{"v":0,"d":"0.00"},{"v":0,"d":"0.00"},{"v":0,"d":"0.00"},{"v":0,"d":"0.00"},{"v":0,"d":"0.00"},{"v":0,"d":"0.00"},{"v":0,"d":"0.00"},{"$f":"(R$23*$R1121)+$Q1121","v":{"v":0,"d":"0.00"}},{"v":0,"d":"0.00"},{"v":0,"d":"0.00"},{"v":0,"d":"0.00"},{"v":0,"d":"0.00"},{"v":0,"d":"0.00"},{"v":0,"d":"0.00"},{"v":0,"d":"0.00"},{"v":0,"d":"0.00"},{"v":0,"d":"0.00"}]
[]
[{"$nulls":6},"Adjusted PM Emission Factor",null,{"$f":"I1125","v":"Electric"}]
[{"$nulls":7},{"$f":"H1126","v":0},{"$f":"I1126","v":1},2,3,4,5,6,7,8,9,10,11,12,13,14,15,16,17,18,19]
[{"$nulls":5},"NO BRT",{"$f":"G1127","v":"Cars"},{"$f":"H1127+(H1127*H801)","v":0},{"$f":"I1127+(I1127*I801)","v":0},0,0,0,0,0,0,0,0,0,0,0,0,0,0,0,0,0,0]
[{"$nulls":6},{"$f":"G1128","v":"2-wheeler"},{"$f":"H1128+(H1128*H802)","v":0},0,0,0,0,0,0,0,0,0,0,0,0,0,0,0,0,0,0,0]
[{"$nulls":6},"Taxi",{"$f":"H1129+(H1129*H803)","v":0},0,0,0,0,0,0,0,0,0,0,0,0,0,0,0,0,0,0,0]
[{"$nulls":6},"",{"$f":"H1130+(H1130*H804)","v":0},0,0,0,0,0,0,0,0,0,0,0,0,0,0,0,0,0,0,0]
[{"$nulls":6},"",{"$f":"H1131+(H1131*H805)","v":0},0,0,0,0,0,0,0,0,0,0,0,0,0,0,0,0,0,0,0]
[{"$nulls":6},"3-wheeler",{"$f":"H1132+(H1132*H806)","v":0},0,0,0,0,0,0,0,0,0,0,0,0,0,0,0,0,0,0,0]
[{"$nulls":6},"Bus",{"$f":"H1133+(H1133*H807)","v":0},0,0,0,0,0,0,0,0,0,0,0,0,0,0,0,0,0,0,0]
[{"$nulls":6},"Mini-bus",{"$f":"H1134+(H1134*H808)","v":0},0,0,0,0,0,0,0,0,0,0,0,0,0,0,0,0,0,0,0]
[{"$nulls":6},"",{"$f":"H1135+(H1135*H809)","v":0},0,0,0,0,0,0,0,0,0,0,0,0,0,0,0,0,0,0,0]
[{"$nulls":6},"",{"$f":"H1136+(H1136*H810)","v":0},0,0,0,0,0,0,0,0,0,0,0,0,0,0,0,0,0,0,0]
[{"$nulls":6},"BRT",{"$f":"H1137+(H1137*H811)","v":0},0,0,0,0,0,0,0,0,0,0,0,0,0,0,0,0,0,0,0]
[]
[]
[{"$nulls":6},{"$f":"IF('IF Factors'!J8=\"\",\"not included\",CONCATENATE(\"PM Emission Factor \",'IF Factors'!J8))","v":"PM Emission Factor Ethanol"}]
[]
[{"$nulls":10},"g/vkm",{"$nulls":3},"1st",null,"2nd"]
[{"$nulls":10},{"$f":"K1110","v":0},{"$f":"L1110","v":9},{"$f":"M1110","v":19},null,"intercept","slope","intercept","slope",null,{"$f":"K1157","v":0},{"$f":"L1157","v":9},{"$f":"M1157","v":19},null,"1st","2nd"]
[{"$nulls":5},"NO BRT",{"$f":"G1141","v":"Cars"},{"$nulls":3},{"$f":"'IF Factors'!AI106","v":0},{"$f":"OFFSET('IF Factors'!AI106,0,5)","v":0},{"$f":"OFFSET('IF Factors'!AI106,0,10)","v":0},null,{"$f":"INTERCEPT(K1158:L1158,$K$7:$L$7)","v":0},{"$f":"SLOPE(K1158:L1158,$K$7:$L$7)","v":0},{"$f":"INTERCEPT(L1158:M1158,$L$7:$M$7)","v":0},{"$f":"SLOPE(L1158:M1158,$L$7:$M$7)","v":0},null,{"$f":"IF(K1158<>0,0,1)","v":1},{"$f":"IF(L1158<>0,0,1)","v":1},{"$f":"IF(M1158<>0,0,1)","v":1},null,{"$f":"IF(T1158+U1158=1,1,0)","v":0},{"$f":"IF(U1158+V1158=1,1,0)","v":0}]
[{"$nulls":6},{"$f":"G1142","v":"2-wheeler"},{"$nulls":3},{"$f":"'IF Factors'!AI107","v":0},{"$f":"OFFSET('IF Factors'!AI107,0,5)","v":0},{"$f":"OFFSET('IF Factors'!AI107,0,10)","v":0},null,{"$f":"INTERCEPT(K1159:L1159,$K$7:$L$7)","v":0},{"$f":"SLOPE(K1159:L1159,$K$7:$L$7)","v":0},{"$f":"INTERCEPT(L1159:M1159,$L$7:$M$7)","v":0},{"$f":"SLOPE(L1159:M1159,$L$7:$M$7)","v":0},null,{"$f":"IF(K1159<>0,0,1)","v":1},{"$f":"IF(L1159<>0,0,1)","v":1},{"$f":"IF(M1159<>0,0,1)","v":1},null,{"$f":"IF(T1159+U1159=1,1,0)","v":0},0]
[{"$nulls":6},"Taxi",{"$nulls":3},{"$f":"'IF Factors'!AI108","v":0},{"$f":"OFFSET('IF Factors'!AI108,0,5)","v":0},{"$f":"OFFSET('IF Factors'!AI108,0,10)","v":0},null,0,0,0,0,null,1,1,1,null,0,0]
[{"$nulls":6},"",{"$nulls":3},{"$f":"'IF Factors'!AI109","v":0},{"$f":"OFFSET('IF Factors'!AI109,0,5)","v":0},{"$f":"OFFSET('IF Factors'!AI109,0,10)","v":0},null,0,0,0,0,null,1,1,1,null,0,0]
[{"$nulls":6},"",{"$nulls":3},{"$f":"'IF Factors'!AI110","v":0},{"$f":"OFFSET('IF Factors'!AI110,0,5)","v":0},{"$f":"OFFSET('IF Factors'!AI110,0,10)","v":0},null,0,0,0,0,null,1,1,1,null,0,0]
[{"$nulls":6},"3-wheeler",{"$nulls":3},{"$f":"'IF Factors'!AI111","v":0},{"$f":"OFFSET('IF Factors'!AI111,0,5)","v":0},{"$f":"OFFSET('IF Factors'!AI111,0,10)","v":0},null,0,0,0,0,null,1,1,1,null,0,0]
[{"$nulls":6},"Bus",{"$nulls":3},{"$f":"'IF Factors'!AI112","v":0},{"$f":"OFFSET('IF Factors'!AI112,0,5)","v":0},{"$f":"OFFSET('IF Factors'!AI112,0,10)","v":0},null,0,0,0,0,null,1,1,1,null,0,0]
[{"$nulls":6},"Mini-bus",{"$nulls":3},{"$f":"'IF Factors'!AI113","v":0},{"$f":"OFFSET('IF Factors'!AI113,0,5)","v":0},{"$f":"OFFSET('IF Factors'!AI113,0,10)","v":0},null,0,0,0,0,null,1,1,1,null,0,0]
[{"$nulls":6},"",{"$nulls":3},{"$f":"'IF Factors'!AI114","v":0},{"$f":"OFFSET('IF Factors'!AI114,0,5)","v":0},{"$f":"OFFSET('IF Factors'!AI114,0,10)","v":0},null,0,0,0,0,null,1,1,1,null,0,0]
[{"$nulls":6},"",{"$nulls":3},{"$f":"'IF Factors'!AI115","v":0},{"$f":"OFFSET('IF Factors'!AI115,0,5)","v":0},{"$f":"OFFSET('IF Factors'!AI115,0,10)","v":0},null,0,0,0,0,null,1,1,1,null,0,0]
[{"$nulls":6},"BRT",{"$nulls":3},{"$f":"'IF Factors'!AI116","v":0},{"$f":"OFFSET('IF Factors'!AI116,0,5)","v":0},{"$f":"OFFSET('IF Factors'!AI116,0,10)","v":0},null,0,0,0,0,null,1,1,1,null,0,0]
[]
[]
[]
[{"$nulls":6},"PM Emission Factor"]
[{"$nulls":7},{"$f":"H1140","v":0},{"$f":"I1140","v":1},2,3,4,5,6,7,8,9,10,11,12,13,14,15,16,17,18,19]
[{"$nulls":5},"NO BRT",{"$f":"G1141","v":"Cars"},{"$f":"K1158","v":{"v":0,"d":"0.00"}},{"$f":"(I$23*$P1158)+$O1158","v":{"v":0,"d":"0.00"}},{"$f":"(J$23*$P1158)+$O1158","v":{"v":0,"d":"0.00"}},{"v":0,"d":"0.00"},{"v":0,"d":"0.00"},{"v":0,"d":"0.00"},{"v":0,"d":"0.00"},{"v":0,"d":"0.00"},{"v":0,"d":"0.00"},{"$f":"L1158","v":{"v":0,"d":"0.00"}},{"$f":"(R$23*$R1158)+$Q1158","v":{"v":0,"d":"0.00"}},{"$f":"(S$23*$R1158)+$Q1158","v":{"v":0,"d":"0.00"}},{"v":0,"d":"0.00"},{"v":0,"d":"0.00"},{"v":0,"d":"0.00"},{"v":0,"d":"0.00"},{"v":0,"d":"0.00"},{"v":0,"d":"0.00"},{"v":0,"d":"0.00"},{"$f":"M1158","v":{"v":0,"d":"0.00"}}]
[{"$nulls":6},{"$f":"G1142","v":"2-wheeler"},{"$f":"K1159","v":{"v":0,"d":"0.00"}},{"$f":"(I$23*$P1159)+$O1159","v":{"v":0,"d":"0.00"}},{"v":0,"d":"0.00"},{"v":0,"d":"0.00"},{"v":0,"d":"0.00"},{"v":0,"d":"0.00"},{"v":0,"d":"0.00"},{"v":0,"d":"0.00"},{"v":0,"d":"0.00"},{"$f":"L1159","v":{"v":0,"d":"0.00"}},{"$f":"(R$23*$R1159)+$Q1159","v":{"v":0,"d":"0.00"}},{"v":0,"d":"0.00"},{"v":0,"d":"0.00"},{"v":0,"d":"0.00"},{"v":0,"d":"0.00"},{"v":0,"d":"0.00"},{"v":0,"d":"0.00"},{"v":0,"d":"0.00"},{"v":0,"d":"0.00"},{"$f":"M1159","v":{"v":0,"d":"0.00"}}]
[{"$nulls":6},"Taxi",{"v":0,"d":"0.00"},{"$f":"(I$23*$P1160)+$O1160","v":{"v":0,"d":"0.00"}},{"v":0,"d":"0.00"},{"v":0,"d":"0.00"},{"v":0,"d":"0.00"},{"v":0,"d":"0.00"},{"v":0,"d":"0.00"},{"v":0,"d":"0.00"},{"v":0,"d":"0.00"},{"v":0,"d":"0.00"},{"$f":"(R$23*$R1160)+$Q1160","v":{"v":0,"d":"0.00"}},{"v":0,"d":"0.00"},{"v":0,"d":"0.00"},{"v":0,"d":"0.00"},{"v":0,"d":"0.00"},{"v":0,"d":"0.00"},{"v":0,"d":"0.00"},{"v":0,"d":"0.00"},{"v":0,"d":"0.00"},{"v":0,"d":"0.00"}]
[{"$nulls":6},"",{"v":0,"d":"0.00"},{"$f":"(I$23*$P1161)+$O1161","v":{"v":0,"d":"0.00"}},{"v":0,"d":"0.00"},{"v":0,"d":"0.00"},{"v":0,"d":"0.00"},{"v":0,"d":"0.00"},{"v":0,"d":"0.00"},{"v":0,"d":"0.00"},{"v":0,"d":"0.00"},{"v":0,"d":"0.00"},{"$f":"(R$23*$R1161)+$Q1161","v":{"v":0,"d":"0.00"}},{"v":0,"d":"0.00"},{"v":0,"d":"0.00"},{"v":0,"d":"0.00"},{"v":0,"d":"0.00"},{"v":0,"d":"0.00"},{"v":0,"d":"0.00"},{"v":0,"d":"0.00"},{"v":0,"d":"0.00"},{"v":0,"d":"0.00"}]
[{"$nulls":6},"",{"v":0,"d":"0.00"},{"$f":"(I$23*$P1162)+$O1162","v":{"v":0,"d":"0.00"}},{"v":0,"d":"0.00"},{"v":0,"d":"0.00"},{"v":0,"d":"0.00"},{"v":0,"d":"0.00"},{"v":0,"d":"0.00"},{"v":0,"d":"0.00"},{"v":0,"d":"0.00"},{"v":0,"d":"0.00"},{"$f":"(R$23*$R1162)+$Q1162","v":{"v":0,"d":"0.00"}},{"v":0,"d":"0.00"},{"v":0,"d":"0.00"},{"v":0,"d":"0.00"},{"v":0,"d":"0.00"},{"v":0,"d":"0.00"},{"v":0,"d":"0.00"},{"v":0,"d":"0.00"},{"v":0,"d":"0.00"},{"v":0,"d":"0.00"}]
[{"$nulls":6},"3-wheeler",{"v":0,"d":"0.00"},{"$f":"(I$23*$P1163)+$O1163","v":{"v":0,"d":"0.00"}},{"v":0,"d":"0.00"},{"v":0,"d":"0.00"},{"v":0,"d":"0.00"},{"v":0,"d":"0.00"},{"v":0,"d":"0.00"},{"v":0,"d":"0.00"},{"v":0,"d":"0.00"},{"v":0,"d":"0.00"},{"$f":"(R$23*$R1163)+$Q1163","v":{"v":0,"d":"0.00"}},{"v":0,"d":"0.00"},{"v":0,"d":"0.00"},{"v":0,"d":"0.00"},{"v":0,"d":"0.00"},{"v":0,"d":"0.00"},{"v":0,"d":"0.00"},{"v":0,"d":"0.00"},{"v":0,"d":"0.00"},{"v":0,"d":"0.00"}]
[{"$nulls":6},"Bus",{"v":0,"d":"0.00"},{"$f":"(I$23*$P1164)+$O1164","v":{"v":0,"d":"0.00"}},{"v":0,"d":"0.00"},{"v":0,"d":"0.00"},{"v":0,"d":"0.00"},{"v":0,"d":"0.00"},{"v":0,"d":"0.00"},{"v":0,"d":"0.00"},{"v":0,"d":"0.00"},{"v":0,"d":"0.00"},{"$f":"(R$23*$R1164)+$Q1164","v":{"v":0,"d":"0.00"}},{"v":0,"d":"0.00"},{"v":0,"d":"0.00"},{"v":0,"d":"0.00"},{"v":0,"d":"0.00"},{"v":0,"d":"0.00"},{"v":0,"d":"0.00"},{"v":0,"d":"0.00"},{"v":0,"d":"0.00"},{"v":0,"d":"0.00"}]
[{"$nulls":6},"Mini-bus",{"v":0,"d":"0.00"},{"$f":"(I$23*$P1165)+$O1165","v":{"v":0,"d":"0.00"}},{"v":0,"d":"0.00"},{"v":0,"d":"0.00"},{"v":0,"d":"0.00"},{"v":0,"d":"0.00"},{"v":0,"d":"0.00"},{"v":0,"d":"0.00"},{"v":0,"d":"0.00"},{"v":0,"d":"0.00"},{"$f":"(R$23*$R1165)+$Q1165","v":{"v":0,"d":"0.00"}},{"v":0,"d":"0.00"},{"v":0,"d":"0.00"},{"v":0,"d":"0.00"},{"v":0,"d":"0.00"},{"v":0,"d":"0.00"},{"v":0,"d":"0.00"},{"v":0,"d":"0.00"},{"v":0,"d":"0.00"},{"v":0,"d":"0.00"}]
[{"$nulls":6},"",{"v":0,"d":"0.00"},{"$f":"(I$23*$P1166)+$O1166","v":{"v":0,"d":"0.00"}},{"v":0,"d":"0.00"},{"v":0,"d":"0.00"},{"v":0,"d":"0.00"},{"v":0,"d":"0.00"},{"v":0,"d":"0.00"},{"v":0,"d":"0.00"},{"v":0,"d":"0.00"},{"v":0,"d":"0.00"},{"$f":"(R$23*$R1166)+$Q1166","v":{"v":0,"d":"0.00"}},{"v":0,"d":"0.00"},{"v":0,"d":"0.00"},{"v":0,"d":"0.00"},{"v":0,"d":"0.00"},{"v":0,"d":"0.00"},{"v":0,"d":"0.00"},{"v":0,"d":"0.00"},{"v":0,"d":"0.00"},{"v":0,"d":"0.00"}]
[{"$nulls":6},"",{"v":0,"d":"0.00"},{"$f":"(I$23*$P1167)+$O1167","v":{"v":0,"d":"0.00"}},{"v":0,"d":"0.00"},{"v":0,"d":"0.00"},{"v":0,"d":"0.00"},{"v":0,"d":"0.00"},{"v":0,"d":"0.00"},{"v":0,"d":"0.00"},{"v":0,"d":"0.00"},{"v":0,"d":"0.00"},{"$f":"(R$23*$R1167)+$Q1167","v":{"v":0,"d":"0.00"}},{"v":0,"d":"0.00"},{"v":0,"d":"0.00"},{"v":0,"d":"0.00"},{"v":0,"d":"0.00"},{"v":0,"d":"0.00"},{"v":0,"d":"0.00"},{"v":0,"d":"0.00"},{"v":0,"d":"0.00"},{"v":0,"d":"0.00"}]
[{"$nulls":6},"BRT",{"v":0,"d":"0.00"},{"$f":"(I$23*$P1168)+$O1168","v":{"v":0,"d":"0.00"}},{"v":0,"d":"0.00"},{"v":0,"d":"0.00"},{"v":0,"d":"0.00"},{"v":0,"d":"0.00"},{"v":0,"d":"0.00"},{"v":0,"d":"0.00"},{"v":0,"d":"0.00"},{"v":0,"d":"0.00"},{"$f":"(R$23*$R1168)+$Q1168","v":{"v":0,"d":"0.00"}},{"v":0,"d":"0.00"},{"v":0,"d":"0.00"},{"v":0,"d":"0.00"},{"v":0,"d":"0.00"},{"v":0,"d":"0.00"},{"v":0,"d":"0.00"},{"v":0,"d":"0.00"},{"v":0,"d":"0.00"},{"v":0,"d":"0.00"}]
[]
[{"$nulls":6},"Adjusted PM Emission Factor",null,{"$f":"I1172","v":0}]
[{"$nulls":7},{"$f":"H1173","v":0},{"$f":"I1173","v":1},2,3,4,5,6,7,8,9,10,11,12,13,14,15,16,17,18,19]
[{"$nulls":5},"NO BRT",{"$f":"G1174","v":"Cars"},{"$f":"H1174+(H1174*H801)","v":0},{"$f":"I1174+(I1174*I801)","v":0},0,0,0,0,0,0,0,0,0,0,0,0,0,0,0,0,0,0]
[{"$nulls":6},{"$f":"G1175","v":"2-wheeler"},{"$f":"H1175+(H1175*H802)","v":0},0,0,0,0,0,0,0,0,0,0,0,0,0,0,0,0,0,0,0]
[{"$nulls":6},"Taxi",{"$f":"H1176+(H1176*H803)","v":0},0,0,0,0,0,0,0,0,0,0,0,0,0,0,0,0,0,0,0]
[{"$nulls":6},"",{"$f":"H1177+(H1177*H804)","v":0},0,0,0,0,0,0,0,0,0,0,0,0,0,0,0,0,0,0,0]
[{"$nulls":6},"",{"$f":"H1178+(H1178*H805)","v":0},0,0,0,0,0,0,0,0,0,0,0,0,0,0,0,0,0,0,0]
[{"$nulls":6},"3-wheeler",{"$f":"H1179+(H1179*H806)","v":0},0,0,0,0,0,0,0,0,0,0,0,0,0,0,0,0,0,0,0]
[{"$nulls":6},"Bus",{"$f":"H1180+(H1180*H807)","v":0},0,0,0,0,0,0,0,0,0,0,0,0,0,0,0,0,0,0,0]
[{"$nulls":6},"Mini-bus",{"$f":"H1181+(H1181*H808)","v":0},0,0,0,0,0,0,0,0,0,0,0,0,0,0,0,0,0,0,0]
[{"$nulls":6},"",{"$f":"H1182+(H1182*H809)","v":0},0,0,0,0,0,0,0,0,0,0,0,0,0,0,0,0,0,0,0]
[{"$nulls":6},"",{"$f":"H1183+(H1183*H810)","v":0},0,0,0,0,0,0,0,0,0,0,0,0,0,0,0,0,0,0,0]
[{"$nulls":6},"BRT",{"$f":"H1184+(H1184*H811)","v":0},0,0,0,0,0,0,0,0,0,0,0,0,0,0,0,0,0,0,0]
[]
[]
[{"$nulls":6},"NOx Emission Factor Gasoline"]
[]
[{"$nulls":10},"g/vkm",{"$nulls":3},"1st",null,"2nd"]
[{"$nulls":10},{"$f":"K7","v":0},9,19,null,"intercept","slope","intercept","slope",null,{"$f":"K1204","v":0},{"$f":"L1204","v":9},{"$f":"M1204","v":19},null,"1st","2nd"]
[{"$nulls":5},"NO BRT",{"$f":"G1188","v":"Cars"},{"$nulls":3},{"$f":"'IF Factors'!BJ31","v":0},{"$f":"OFFSET('IF Factors'!BJ31,0,5)","v":0},{"$f":"OFFSET('IF Factors'!BJ31,0,10)","v":0},null,{"$f":"INTERCEPT(K1205:L1205,$K$7:$L$7)","v":0},{"$f":"SLOPE(K1205:L1205,$K$7:$L$7)","v":0},{"$f":"INTERCEPT(L1205:M1205,$L$7:$M$7)","v":0},{"$f":"SLOPE(L1205:M1205,$L$7:$M$7)","v":0},null,{"$f":"IF(K1205<>0,0,1)","v":1},{"$f":"IF(L1205<>0,0,1)","v":1},{"$f":"IF(M1205<>0,0,1)","v":1},null,{"$f":"IF(T1205+U1205=1,1,0)","v":0},{"$f":"IF(U1205+V1205=1,1,0)","v":0}]
[{"$nulls":6},{"$f":"G1189","v":"2-wheeler"},{"$nulls":3},{"$f":"'IF Factors'!BJ32","v":0},{"$f":"OFFSET('IF Factors'!BJ32,0,5)","v":0},{"$f":"OFFSET('IF Factors'!BJ32,0,10)","v":0},null,{"$f":"INTERCEPT(K1206:L1206,$K$7:$L$7)","v":0},{"$f":"SLOPE(K1206:L1206,$K$7:$L$7)","v":0},{"$f":"INTERCEPT(L1206:M1206,$L$7:$M$7)","v":0},{"$f":"SLOPE(L1206:M1206,$L$7:$M$7)","v":0},null,{"$f":"IF(K1206<>0,0,1)","v":1},{"$f":"IF(L1206<>0,0,1)","v":1},{"$f":"IF(M1206<>0,0,1)","v":1},null,{"$f":"IF(T1206+U1206=1,1,0)","v":0},0]
[{"$nulls":6},"Taxi",{"$nulls":3},{"$f":"'IF Factors'!BJ33","v":0},{"$f":"OFFSET('IF Factors'!BJ33,0,5)","v":0},{"$f":"OFFSET('IF Factors'!BJ33,0,10)","v":0},null,0,0,0,0,null,1,1,1,null,0,0]
[{"$nulls":6},"",{"$nulls":3},{"$f":"'IF Factors'!BJ34","v":0},{"$f":"OFFSET('IF Factors'!BJ34,0,5)","v":0},{"$f":"OFFSET('IF Factors'!BJ34,0,10)","v":0},null,0,0,0,0,null,1,1,1,null,0,0]
[{"$nulls":6},"",{"$nulls":3},{"$f":"'IF Factors'!BJ35","v":0},{"$f":"OFFSET('IF Factors'!BJ35,0,5)","v":0},{"$f":"OFFSET('IF Factors'!BJ35,0,10)","v":0},null,0,0,0,0,null,1,1,1,null,0,0]
[{"$nulls":6},"3-wheeler",{"$nulls":3},{"$f":"'IF Factors'!BJ36","v":0},{"$f":"OFFSET('IF Factors'!BJ36,0,5)","v":0},{"$f":"OFFSET('IF Factors'!BJ36,0,10)","v":0},null,0,0,0,0,null,1,1,1,null,0,0]
[{"$nulls":6},"Bus",{"$nulls":3},{"$f":"'IF Factors'!BJ37","v":0},{"$f":"OFFSET('IF Factors'!BJ37,0,5)","v":0},{"$f":"OFFSET('IF Factors'!BJ37,0,10)","v":0},null,0,0,0,0,null,1,1,1,null,0,0]
[{"$nulls":6},"Mini-bus",{"$nulls":3},{"$f":"'IF Factors'!BJ38","v":0},{"$f":"OFFSET('IF Factors'!BJ38,0,5)","v":0},{"$f":"OFFSET('IF Factors'!BJ38,0,10)","v":0},null,0,0,0,0,null,1,1,1,null,0,0]
[{"$nulls":6},"",{"$nulls":3},{"$f":"'IF Factors'!BJ39","v":0},{"$f":"OFFSET('IF Factors'!BJ39,0,5)","v":0},{"$f":"OFFSET('IF Factors'!BJ39,0,10)","v":0},null,0,0,0,0,null,1,1,1,null,0,0]
[{"$nulls":6},"",{"$nulls":3},{"$f":"'IF Factors'!BJ40","v":0},{"$f":"OFFSET('IF Factors'!BJ40,0,5)","v":0},{"$f":"OFFSET('IF Factors'!BJ40,0,10)","v":0},null,0,0,0,0,null,1,1,1,null,0,0]
[{"$nulls":6},"BRT",{"$nulls":3},{"$f":"'IF Factors'!BJ41","v":0},{"$f":"OFFSET('IF Factors'!BJ41,0,5)","v":0},{"$f":"OFFSET('IF Factors'!BJ41,0,10)","v":0},null,0,0,0,0,null,1,1,1,null,0,0]
[]
[]
[]
[{"$nulls":6},"NOx Emission Factor",null,"Gasoline"]
[{"$nulls":7},{"$f":"H1187","v":0},{"$f":"I1187","v":1},2,3,4,5,6,7,8,9,10,11,12,13,14,15,16,17,18,19]
[{"$nulls":5},"NO BRT",{"$f":"G1188","v":"Cars"},{"$f":"K1205","v":{"v":0,"d":"0.00"}},{"$f":"(I$23*$P1205)+$O1205","v":{"v":0,"d":"0.00"}},{"$f":"(J$23*$P1205)+$O1205","v":{"v":0,"d":"0.00"}},{"v":0,"d":"0.00"},{"v":0,"d":"0.00"},{"v":0,"d":"0.00"},{"v":0,"d":"0.00"},{"v":0,"d":"0.00"},{"v":0,"d":"0.00"},{"$f":"L1205","v":{"v":0,"d":"0.00"}},{"$f":"(R$23*$R1205)+$Q1205","v":{"v":0,"d":"0.00"}},{"$f":"(S$23*$R1205)+$Q1205","v":{"v":0,"d":"0.00"}},{"v":0,"d":"0.00"},{"v":0,"d":"0.00"},{"v":0,"d":"0.00"},{"v":0,"d":"0.00"},{"v":0,"d":"0.00"},{"v":0,"d":"0.00"},{"v":0,"d":"0.00"},{"$f":"M1205","v":{"v":0,"d":"0.00"}}]
[{"$nulls":6},{"$f":"G1189","v":"2-wheeler"},{"$f":"K1206","v":{"v":0,"d":"0.00"}},{"$f":"(I$23*$P1206)+$O1206","v":{"v":0,"d":"0.00"}},{"v":0,"d":"0.00"},{"v":0,"d":"0.00"},{"v":0,"d":"0.00"},{"v":0,"d":"0.00"},{"v":0,"d":"0.00"},{"v":0,"d":"0.00"},{"v":0,"d":"0.00"},{"$f":"L1206","v":{"v":0,"d":"0.00"}},{"$f":"(R$23*$R1206)+$Q1206","v":{"v":0,"d":"0.00"}},{"v":0,"d":"0.00"},{"v":0,"d":"0.00"},{"v":0,"d":"0.00"},{"v":0,"d":"0.00"},{"v":0,"d":"0.00"},{"v":0,"d":"0.00"},{"v":0,"d":"0.00"},{"v":0,"d":"0.00"},{"$f":"M1206","v":{"v":0,"d":"0.00"}}]
[{"$nulls":6},"Taxi",{"v":0,"d":"0.00"},{"$f":"(I$23*$P1207)+$O1207","v":{"v":0,"d":"0.00"}},{"v":0,"d":"0.00"},{"v":0,"d":"0.00"},{"v":0,"d":"0.00"},{"v":0,"d":"0.00"},{"v":0,"d":"0.00"},{"v":0,"d":"0.00"},{"v":0,"d":"0.00"},{"v":0,"d":"0.00"},{"$f":"(R$23*$R1207)+$Q1207","v":{"v":0,"d":"0.00"}},{"v":0,"d":"0.00"},{"v":0,"d":"0.00"},{"v":0,"d":"0.00"},{"v":0,"d":"0.00"},{"v":0,"d":"0.00"},{"v":0,"d":"0.00"},{"v":0,"d":"0.00"},{"v":0,"d":"0.00"},{"v":0,"d":"0.00"}]
[{"$nulls":6},"",{"v":0,"d":"0.00"},{"$f":"(I$23*$P1208)+$O1208","v":{"v":0,"d":"0.00"}},{"v":0,"d":"0.00"},{"v":0,"d":"0.00"},{"v":0,"d":"0.00"},{"v":0,"d":"0.00"},{"v":0,"d":"0.00"},{"v":0,"d":"0.00"},{"v":0,"d":"0.00"},{"v":0,"d":"0.00"},{"$f":"(R$23*$R1208)+$Q1208","v":{"v":0,"d":"0.00"}},{"v":0,"d":"0.00"},{"v":0,"d":"0.00"},{"v":0,"d":"0.00"},{"v":0,"d":"0.00"},{"v":0,"d":"0.00"},{"v":0,"d":"0.00"},{"v":0,"d":"0.00"},{"v":0,"d":"0.00"},{"v":0,"d":"0.00"}]
[{"$nulls":6},"",{"v":0,"d":"0.00"},{"$f":"(I$23*$P1209)+$O1209","v":{"v":0,"d":"0.00"}},{"v":0,"d":"0.00"},{"v":0,"d":"0.00"},{"v":0,"d":"0.00"},{"v":0,"d":"0.00"},{"v":0,"d":"0.00"},{"v":0,"d":"0.00"},{"v":0,"d":"0.00"},{"v":0,"d":"0.00"},{"$f":"(R$23*$R1209)+$Q1209","v":{"v":0,"d":"0.00"}},{"v":0,"d":"0.00"},{"v":0,"d":"0.00"},{"v":0,"d":"0.00"},{"v":0,"d":"0.00"},{"v":0,"d":"0.00"},{"v":0,"d":"0.00"},{"v":0,"d":"0.00"},{"v":0,"d":"0.00"},{"v":0,"d":"0.00"}]
[{"$nulls":6},"3-wheeler",{"v":0,"d":"0.00"},{"$f":"(I$23*$P1210)+$O1210","v":{"v":0,"d":"0.00"}},{"v":0,"d":"0.00"},{"v":0,"d":"0.00"},{"v":0,"d":"0.00"},{"v":0,"d":"0.00"},{"v":0,"d":"0.00"},{"v":0,"d":"0.00"},{"v":0,"d":"0.00"},{"v":0,"d":"0.00"},{"$f":"(R$23*$R1210)+$Q1210","v":{"v":0,"d":"0.00"}},{"v":0,"d":"0.00"},{"v":0,"d":"0.00"},{"v":0,"d":"0.00"},{"v":0,"d":"0.00"},{"v":0,"d":"0.00"},{"v":0,"d":"0.00"},{"v":0,"d":"0.00"},{"v":0,"d":"0.00"},{"v":0,"d":"0.00"}]
[{"$nulls":6},"Bus",{"v":0,"d":"0.00"},{"$f":"(I$23*$P1211)+$O1211","v":{"v":0,"d":"0.00"}},{"v":0,"d":"0.00"},{"v":0,"d":"0.00"},{"v":0,"d":"0.00"},{"v":0,"d":"0.00"},{"v":0,"d":"0.00"},{"v":0,"d":"0.00"},{"v":0,"d":"0.00"},{"v":0,"d":"0.00"},{"$f":"(R$23*$R1211)+$Q1211","v":{"v":0,"d":"0.00"}},{"v":0,"d":"0.00"},{"v":0,"d":"0.00"},{"v":0,"d":"0.00"},{"v":0,"d":"0.00"},{"v":0,"d":"0.00"},{"v":0,"d":"0.00"},{"v":0,"d":"0.00"},{"v":0,"d":"0.00"},{"v":0,"d":"0.00"}]
[{"$nulls":6},"Mini-bus",{"v":0,"d":"0.00"},{"$f":"(I$23*$P1212)+$O1212","v":{"v":0,"d":"0.00"}},{"v":0,"d":"0.00"},{"v":0,"d":"0.00"},{"v":0,"d":"0.00"},{"v":0,"d":"0.00"},{"v":0,"d":"0.00"},{"v":0,"d":"0.00"},{"v":0,"d":"0.00"},{"v":0,"d":"0.00"},{"$f":"(R$23*$R1212)+$Q1212","v":{"v":0,"d":"0.00"}},{"v":0,"d":"0.00"},{"v":0,"d":"0.00"},{"v":0,"d":"0.00"},{"v":0,"d":"0.00"},{"v":0,"d":"0.00"},{"v":0,"d":"0.00"},{"v":0,"d":"0.00"},{"v":0,"d":"0.00"},{"v":0,"d":"0.00"}]
[{"$nulls":6},"",{"v":0,"d":"0.00"},{"$f":"(I$23*$P1213)+$O1213","v":{"v":0,"d":"0.00"}},{"v":0,"d":"0.00"},{"v":0,"d":"0.00"},{"v":0,"d":"0.00"},{"v":0,"d":"0.00"},{"v":0,"d":"0.00"},{"v":0,"d":"0.00"},{"v":0,"d":"0.00"},{"v":0,"d":"0.00"},{"$f":"(R$23*$R1213)+$Q1213","v":{"v":0,"d":"0.00"}},{"v":0,"d":"0.00"},{"v":0,"d":"0.00"},{"v":0,"d":"0.00"},{"v":0,"d":"0.00"},{"v":0,"d":"0.00"},{"v":0,"d":"0.00"},{"v":0,"d":"0.00"},{"v":0,"d":"0.00"},{"v":0,"d":"0.00"}]
[{"$nulls":6},"",{"v":0,"d":"0.00"},{"$f":"(I$23*$P1214)+$O1214","v":{"v":0,"d":"0.00"}},{"v":0,"d":"0.00"},{"v":0,"d":"0.00"},{"v":0,"d":"0.00"},{"v":0,"d":"0.00"},{"v":0,"d":"0.00"},{"v":0,"d":"0.00"},{"v":0,"d":"0.00"},{"v":0,"d":"0.00"},{"$f":"(R$23*$R1214)+$Q1214","v":{"v":0,"d":"0.00"}},{"v":0,"d":"0.00"},{"v":0,"d":"0.00"},{"v":0,"d":"0.00"},{"v":0,"d":"0.00"},{"v":0,"d":"0.00"},{"v":0,"d":"0.00"},{"v":0,"d":"0.00"},{"v":0,"d":"0.00"},{"v":0,"d":"0.00"}]
[{"$nulls":6},"BRT",{"v":0,"d":"0.00"},{"$f":"(I$23*$P1215)+$O1215","v":{"v":0,"d":"0.00"}},{"v":0,"d":"0.00"},{"v":0,"d":"0.00"},{"v":0,"d":"0.00"},{"v":0,"d":"0.00"},{"v":0,"d":"0.00"},{"v":0,"d":"0.00"},{"v":0,"d":"0.00"},{"v":0,"d":"0.00"},{"$f":"(R$23*$R1215)+$Q1215","v":{"v":0,"d":"0.00"}},{"v":0,"d":"0.00"},{"v":0,"d":"0.00"},{"v":0,"d":"0.00"},{"v":0,"d":"0.00"},{"v":0,"d":"0.00"},{"v":0,"d":"0.00"},{"v":0,"d":"0.00"},{"v":0,"d":"0.00"},{"v":0,"d":"0.00"}]
[]
[{"$nulls":6},"Adjusted NOx Emission Factor",null,{"$f":"I1219","v":"Gasoline"}]
[{"$nulls":7},{"$f":"H1220","v":0},{"$f":"I1220","v":1},2,3,4,5,6,7,8,9,10,11,12,13,14,15,16,17,18,19]
[{"$nulls":5},"NO BRT",{"$f":"G1221","v":"Cars"},{"$f":"H1221+(H1221*H815)","v":0},{"$f":"I1221+(I1221*I815)","v":0},0,0,0,0,0,0,0,0,0,0,0,0,0,0,0,0,0,0]
[{"$nulls":6},{"$f":"G1222","v":"2-wheeler"},{"$f":"H1222+(H1222*H816)","v":0},0,0,0,0,0,0,0,0,0,0,0,0,0,0,0,0,0,0,0]
[{"$nulls":6},"Taxi",{"$f":"H1223+(H1223*H817)","v":0},0,0,0,0,0,0,0,0,0,0,0,0,0,0,0,0,0,0,0]
[{"$nulls":6},"",{"$f":"H1224+(H1224*H818)","v":0},0,0,0,0,0,0,0,0,0,0,0,0,0,0,0,0,0,0,0]
[{"$nulls":6},"",{"$f":"H1225+(H1225*H819)","v":0},0,0,0,0,0,0,0,0,0,0,0,0,0,0,0,0,0,0,0]
[{"$nulls":6},"3-wheeler",{"$f":"H1226+(H1226*H820)","v":0},0,0,0,0,0,0,0,0,0,0,0,0,0,0,0,0,0,0,0]
[{"$nulls":6},"Bus",{"$f":"H1227+(H1227*H821)","v":0},0,0,0,0,0,0,0,0,0,0,0,0,0,0,0,0,0,0,0]
[{"$nulls":6},"Mini-bus",{"$f":"H1228+(H1228*H822)","v":0},0,0,0,0,0,0,0,0,0,0,0,0,0,0,0,0,0,0,0]
[{"$nulls":6},"",{"$f":"H1229+(H1229*H823)","v":0},0,0,0,0,0,0,0,0,0,0,0,0,0,0,0,0,0,0,0]
[{"$nulls":6},"",{"$f":"H1230+(H1230*H824)","v":0},0,0,0,0,0,0,0,0,0,0,0,0,0,0,0,0,0,0,0]
[{"$nulls":6},"BRT",{"$f":"H1231+(H1231*H825)","v":0},0,0,0,0,0,0,0,0,0,0,0,0,0,0,0,0,0,0,0]
[]
[]
[{"$nulls":6},"NOx Emission Factor Diesel"]
[]
[{"$nulls":10},"g/vkm",{"$nulls":3},"1st",null,"2nd"]
[{"$nulls":10},{"$f":"K1204","v":0},{"$f":"L1204","v":9},{"$f":"M1204","v":19},null,"intercept","slope","intercept","slope",null,{"$f":"K1251","v":0},{"$f":"L1251","v":9},{"$f":"M1251","v":19},null,"1st","2nd"]
[{"$nulls":5},"NO BRT",{"$f":"G1235","v":"Cars"},{"$nulls":3},{"$f":"'IF Factors'!BJ46","v":0},{"$f":"OFFSET('IF Factors'!BJ46,0,5)","v":0},{"$f":"OFFSET('IF Factors'!BJ46,0,10)","v":0},null,{"$f":"INTERCEPT(K1252:L1252,$K$7:$L$7)","v":0},{"$f":"SLOPE(K1252:L1252,$K$7:$L$7)","v":0},{"$f":"INTERCEPT(L1252:M1252,$L$7:$M$7)","v":0},{"$f":"SLOPE(L1252:M1252,$L$7:$M$7)","v":0},null,{"$f":"IF(K1252<>0,0,1)","v":1},{"$f":"IF(L1252<>0,0,1)","v":1},{"$f":"IF(M1252<>0,0,1)","v":1},null,{"$f":"IF(T1252+U1252=1,1,0)","v":0},{"$f":"IF(U1252+V1252=1,1,0)","v":0}]
[{"$nulls":6},{"$f":"G1236","v":"2-wheeler"},{"$nulls":3},{"$f":"'IF Factors'!BJ47","v":0},{"$f":"OFFSET('IF Factors'!BJ47,0,5)","v":0},{"$f":"OFFSET('IF Factors'!BJ47,0,10)","v":0},null,{"$f":"INTERCEPT(K1253:L1253,$K$7:$L$7)","v":0},{"$f":"SLOPE(K1253:L1253,$K$7:$L$7)","v":0},{"$f":"INTERCEPT(L1253:M1253,$L$7:$M$7)","v":0},{"$f":"SLOPE(L1253:M1253,$L$7:$M$7)","v":0},null,{"$f":"IF(K1253<>0,0,1)","v":1},{"$f":"IF(L1253<>0,0,1)","v":1},{"$f":"IF(M1253<>0,0,1)","v":1},null,{"$f":"IF(T1253+U1253=1,1,0)","v":0},0]
[{"$nulls":6},"Taxi",{"$nulls":3},{"$f":"'IF Factors'!BJ48","v":0},{"$f":"OFFSET('IF Factors'!BJ48,0,5)","v":0},{"$f":"OFFSET('IF Factors'!BJ48,0,10)","v":0},null,0,0,0,0,null,1,1,1,null,0,0]
[{"$nulls":6},"",{"$nulls":3},{"$f":"'IF Factors'!BJ49","v":0},{"$f":"OFFSET('IF Factors'!BJ49,0,5)","v":0},{"$f":"OFFSET('IF Factors'!BJ49,0,10)","v":0},null,0,0,0,0,null,1,1,1,null,0,0]
[{"$nulls":6},"",{"$nulls":3},{"$f":"'IF Factors'!BJ50","v":0},{"$f":"OFFSET('IF Factors'!BJ50,0,5)","v":0},{"$f":"OFFSET('IF Factors'!BJ50,0,10)","v":0},null,0,0,0,0,null,1,1,1,null,0,0]
[{"$nulls":6},"3-wheeler",{"$nulls":3},{"$f":"'IF Factors'!BJ51","v":0},{"$f":"OFFSET('IF Factors'!BJ51,0,5)","v":0},{"$f":"OFFSET('IF Factors'!BJ51,0,10)","v":0},null,0,0,0,0,null,1,1,1,null,0,0]
[{"$nulls":6},"Bus",{"$nulls":3},{"$f":"'IF Factors'!BJ52","v":0},{"$f":"OFFSET('IF Factors'!BJ52,0,5)","v":0},{"$f":"OFFSET('IF Factors'!BJ52,0,10)","v":0},null,0,0,0,0,null,1,1,1,null,0,0]
[{"$nulls":6},"Mini-bus",{"$nulls":3},{"$f":"'IF Factors'!BJ53","v":0},{"$f":"OFFSET('IF Factors'!BJ53,0,5)","v":0},{"$f":"OFFSET('IF Factors'!BJ53,0,10)","v":0},null,0,0,0,0,null,1,1,1,null,0,0]
[{"$nulls":6},"",{"$nulls":3},{"$f":"'IF Factors'!BJ54","v":0},{"$f":"OFFSET('IF Factors'!BJ54,0,5)","v":0},{"$f":"OFFSET('IF Factors'!BJ54,0,10)","v":0},null,0,0,0,0,null,1,1,1,null,0,0]
[{"$nulls":6},"",{"$nulls":3},{"$f":"'IF Factors'!BJ55","v":0},{"$f":"OFFSET('IF Factors'!BJ55,0,5)","v":0},{"$f":"OFFSET('IF Factors'!BJ55,0,10)","v":0},null,0,0,0,0,null,1,1,1,null,0,0]
[{"$nulls":6},"BRT",{"$nulls":3},{"$f":"'IF Factors'!BJ56","v":0},{"$f":"OFFSET('IF Factors'!BJ56,0,5)","v":0},{"$f":"OFFSET('IF Factors'!BJ56,0,10)","v":0},null,0,0,0,0,null,1,1,1,null,0,0]
[]
[]
[]
[{"$nulls":6},"NOx Emission Factor",null,"Diesel"]
[{"$nulls":7},{"$f":"H1234","v":0},{"$f":"I1234","v":1},2,3,4,5,6,7,8,9,10,11,12,13,14,15,16,17,18,19]
[{"$nulls":5},"NO BRT",{"$f":"G1235","v":"Cars"},{"$f":"K1252","v":{"v":0,"d":"0.00"}},{"$f":"(I$23*$P1252)+$O1252","v":{"v":0,"d":"0.00"}},{"$f":"(J$23*$P1252)+$O1252","v":{"v":0,"d":"0.00"}},{"v":0,"d":"0.00"},{"v":0,"d":"0.00"},{"v":0,"d":"0.00"},{"v":0,"d":"0.00"},{"v":0,"d":"0.00"},{"v":0,"d":"0.00"},{"$f":"L1252","v":{"v":0,"d":"0.00"}},{"$f":"(R$23*$R1252)+$Q1252","v":{"v":0,"d":"0.00"}},{"$f":"(S$23*$R1252)+$Q1252","v":{"v":0,"d":"0.00"}},{"v":0,"d":"0.00"},{"v":0,"d":"0.00"},{"v":0,"d":"0.00"},{"v":0,"d":"0.00"},{"v":0,"d":"0.00"},{"v":0,"d":"0.00"},{"v":0,"d":"0.00"},{"$f":"M1252","v":{"v":0,"d":"0.00"}}]
[{"$nulls":6},{"$f":"G1236","v":"2-wheeler"},{"$f":"K1253","v":{"v":0,"d":"0.00"}},{"$f":"(I$23*$P1253)+$O1253","v":{"v":0,"d":"0.00"}},{"v":0,"d":"0.00"},{"v":0,"d":"0.00"},{"v":0,"d":"0.00"},{"v":0,"d":"0.00"},{"v":0,"d":"0.00"},{"v":0,"d":"0.00"},{"v":0,"d":"0.00"},{"$f":"L1253","v":{"v":0,"d":"0.00"}},{"$f":"(R$23*$R1253)+$Q1253","v":{"v":0,"d":"0.00"}},{"v":0,"d":"0.00"},{"v":0,"d":"0.00"},{"v":0,"d":"0.00"},{"v":0,"d":"0.00"},{"v":0,"d":"0.00"},{"v":0,"d":"0.00"},{"v":0,"d":"0.00"},{"v":0,"d":"0.00"},{"$f":"M1253","v":{"v":0,"d":"0.00"}}]
[{"$nulls":6},"Taxi",{"v":0,"d":"0.00"},{"$f":"(I$23*$P1254)+$O1254","v":{"v":0,"d":"0.00"}},{"v":0,"d":"0.00"},{"v":0,"d":"0.00"},{"v":0,"d":"0.00"},{"v":0,"d":"0.00"},{"v":0,"d":"0.00"},{"v":0,"d":"0.00"},{"v":0,"d":"0.00"},{"v":0,"d":"0.00"},{"$f":"(R$23*$R1254)+$Q1254","v":{"v":0,"d":"0.00"}},{"v":0,"d":"0.00"},{"v":0,"d":"0.00"},{"v":0,"d":"0.00"},{"v":0,"d":"0.00"},{"v":0,"d":"0.00"},{"v":0,"d":"0.00"},{"v":0,"d":"0.00"},{"v":0,"d":"0.00"},{"v":0,"d":"0.00"}]
[{"$nulls":6},"",{"v":0,"d":"0.00"},{"$f":"(I$23*$P1255)+$O1255","v":{"v":0,"d":"0.00"}},{"v":0,"d":"0.00"},{"v":0,"d":"0.00"},{"v":0,"d":"0.00"},{"v":0,"d":"0.00"},{"v":0,"d":"0.00"},{"v":0,"d":"0.00"},{"v":0,"d":"0.00"},{"v":0,"d":"0.00"},{"$f":"(R$23*$R1255)+$Q1255","v":{"v":0,"d":"0.00"}},{"v":0,"d":"0.00"},{"v":0,"d":"0.00"},{"v":0,"d":"0.00"},{"v":0,"d":"0.00"},{"v":0,"d":"0.00"},{"v":0,"d":"0.00"},{"v":0,"d":"0.00"},{"v":0,"d":"0.00"},{"v":0,"d":"0.00"}]
[{"$nulls":6},"",{"v":0,"d":"0.00"},{"$f":"(I$23*$P1256)+$O1256","v":{"v":0,"d":"0.00"}},{"v":0,"d":"0.00"},{"v":0,"d":"0.00"},{"v":0,"d":"0.00"},{"v":0,"d":"0.00"},{"v":0,"d":"0.00"},{"v":0,"d":"0.00"},{"v":0,"d":"0.00"},{"v":0,"d":"0.00"},{"$f":"(R$23*$R1256)+$Q1256","v":{"v":0,"d":"0.00"}},{"v":0,"d":"0.00"},{"v":0,"d":"0.00"},{"v":0,"d":"0.00"},{"v":0,"d":"0.00"},{"v":0,"d":"0.00"},{"v":0,"d":"0.00"},{"v":0,"d":"0.00"},{"v":0,"d":"0.00"},{"v":0,"d":"0.00"}]
[{"$nulls":6},"3-wheeler",{"v":0,"d":"0.00"},{"$f":"(I$23*$P1257)+$O1257","v":{"v":0,"d":"0.00"}},{"v":0,"d":"0.00"},{"v":0,"d":"0.00"},{"v":0,"d":"0.00"},{"v":0,"d":"0.00"},{"v":0,"d":"0.00"},{"v":0,"d":"0.00"},{"v":0,"d":"0.00"},{"v":0,"d":"0.00"},{"$f":"(R$23*$R1257)+$Q1257","v":{"v":0,"d":"0.00"}},{"v":0,"d":"0.00"},{"v":0,"d":"0.00"},{"v":0,"d":"0.00"},{"v":0,"d":"0.00"},{"v":0,"d":"0.00"},{"v":0,"d":"0.00"},{"v":0,"d":"0.00"},{"v":0,"d":"0.00"},{"v":0,"d":"0.00"}]
[{"$nulls":6},"Bus",{"v":0,"d":"0.00"},{"$f":"(I$23*$P1258)+$O1258","v":{"v":0,"d":"0.00"}},{"v":0,"d":"0.00"},{"v":0,"d":"0.00"},{"v":0,"d":"0.00"},{"v":0,"d":"0.00"},{"v":0,"d":"0.00"},{"v":0,"d":"0.00"},{"v":0,"d":"0.00"},{"v":0,"d":"0.00"},{"$f":"(R$23*$R1258)+$Q1258","v":{"v":0,"d":"0.00"}},{"v":0,"d":"0.00"},{"v":0,"d":"0.00"},{"v":0,"d":"0.00"},{"v":0,"d":"0.00"},{"v":0,"d":"0.00"},{"v":0,"d":"0.00"},{"v":0,"d":"0.00"},{"v":0,"d":"0.00"},{"v":0,"d":"0.00"}]
[{"$nulls":6},"Mini-bus",{"v":0,"d":"0.00"},{"$f":"(I$23*$P1259)+$O1259","v":{"v":0,"d":"0.00"}},{"v":0,"d":"0.00"},{"v":0,"d":"0.00"},{"v":0,"d":"0.00"},{"v":0,"d":"0.00"},{"v":0,"d":"0.00"},{"v":0,"d":"0.00"},{"v":0,"d":"0.00"},{"v":0,"d":"0.00"},{"$f":"(R$23*$R1259)+$Q1259","v":{"v":0,"d":"0.00"}},{"v":0,"d":"0.00"},{"v":0,"d":"0.00"},{"v":0,"d":"0.00"},{"v":0,"d":"0.00"},{"v":0,"d":"0.00"},{"v":0,"d":"0.00"},{"v":0,"d":"0.00"},{"v":0,"d":"0.00"},{"v":0,"d":"0.00"}]
[{"$nulls":6},"",{"v":0,"d":"0.00"},{"$f":"(I$23*$P1260)+$O1260","v":{"v":0,"d":"0.00"}},{"v":0,"d":"0.00"},{"v":0,"d":"0.00"},{"v":0,"d":"0.00"},{"v":0,"d":"0.00"},{"v":0,"d":"0.00"},{"v":0,"d":"0.00"},{"v":0,"d":"0.00"},{"v":0,"d":"0.00"},{"$f":"(R$23*$R1260)+$Q1260","v":{"v":0,"d":"0.00"}},{"v":0,"d":"0.00"},{"v":0,"d":"0.00"},{"v":0,"d":"0.00"},{"v":0,"d":"0.00"},{"v":0,"d":"0.00"},{"v":0,"d":"0.00"},{"v":0,"d":"0.00"},{"v":0,"d":"0.00"},{"v":0,"d":"0.00"}]
[{"$nulls":6},"",{"v":0,"d":"0.00"},{"$f":"(I$23*$P1261)+$O1261","v":{"v":0,"d":"0.00"}},{"v":0,"d":"0.00"},{"v":0,"d":"0.00"},{"v":0,"d":"0.00"},{"v":0,"d":"0.00"},{"v":0,"d":"0.00"},{"v":0,"d":"0.00"},{"v":0,"d":"0.00"},{"v":0,"d":"0.00"},{"$f":"(R$23*$R1261)+$Q1261","v":{"v":0,"d":"0.00"}},{"v":0,"d":"0.00"},{"v":0,"d":"0.00"},{"v":0,"d":"0.00"},{"v":0,"d":"0.00"},{"v":0,"d":"0.00"},{"v":0,"d":"0.00"},{"v":0,"d":"0.00"},{"v":0,"d":"0.00"},{"v":0,"d":"0.00"}]
[{"$nulls":6},"BRT",{"v":0,"d":"0.00"},{"$f":"(I$23*$P1262)+$O1262","v":{"v":0,"d":"0.00"}},{"v":0,"d":"0.00"},{"v":0,"d":"0.00"},{"v":0,"d":"0.00"},{"v":0,"d":"0.00"},{"v":0,"d":"0.00"},{"v":0,"d":"0.00"},{"v":0,"d":"0.00"},{"v":0,"d":"0.00"},{"$f":"(R$23*$R1262)+$Q1262","v":{"v":0,"d":"0.00"}},{"v":0,"d":"0.00"},{"v":0,"d":"0.00"},{"v":0,"d":"0.00"},{"v":0,"d":"0.00"},{"v":0,"d":"0.00"},{"v":0,"d":"0.00"},{"v":0,"d":"0.00"},{"v":0,"d":"0.00"},{"v":0,"d":"0.00"}]
[]
[{"$nulls":6},"Adjusted NOx Emission Factor",null,{"$f":"I1266","v":"Diesel"}]
[{"$nulls":7},{"$f":"H1267","v":0},{"$f":"I1267","v":1},2,3,4,5,6,7,8,9,10,11,12,13,14,15,16,17,18,19]
[{"$nulls":5},"NO BRT",{"$f":"G1268","v":"Cars"},{"$f":"H1268+(H1268*H815)","v":0},{"$f":"I1268+(I1268*I815)","v":0},0,0,0,0,0,0,0,0,0,0,0,0,0,0,0,0,0,0]
[{"$nulls":6},{"$f":"G1269","v":"2-wheeler"},{"$f":"H1269+(H1269*H816)","v":0},0,0,0,0,0,0,0,0,0,0,0,0,0,0,0,0,0,0,0]
[{"$nulls":6},"Taxi",{"$f":"H1270+(H1270*H817)","v":0},0,0,0,0,0,0,0,0,0,0,0,0,0,0,0,0,0,0,0]
[{"$nulls":6},"",{"$f":"H1271+(H1271*H818)","v":0},0,0,0,0,0,0,0,0,0,0,0,0,0,0,0,0,0,0,0]
[{"$nulls":6},"",{"$f":"H1272+(H1272*H819)","v":0},0,0,0,0,0,0,0,0,0,0,0,0,0,0,0,0,0,0,0]
[{"$nulls":6},"3-wheeler",{"$f":"H1273+(H1273*H820)","v":0},0,0,0,0,0,0,0,0,0,0,0,0,0,0,0,0,0,0,0]
[{"$nulls":6},"Bus",{"$f":"H1274+(H1274*H821)","v":0},0,0,0,0,0,0,0,0,0,0,0,0,0,0,0,0,0,0,0]
[{"$nulls":6},"Mini-bus",{"$f":"H1275+(H1275*H822)","v":0},0,0,0,0,0,0,0,0,0,0,0,0,0,0,0,0,0,0,0]
[{"$nulls":6},"",{"$f":"H1276+(H1276*H823)","v":0},0,0,0,0,0,0,0,0,0,0,0,0,0,0,0,0,0,0,0]
[{"$nulls":6},"",{"$f":"H1277+(H1277*H824)","v":0},0,0,0,0,0,0,0,0,0,0,0,0,0,0,0,0,0,0,0]
[{"$nulls":6},"BRT",{"$f":"H1278+(H1278*H825)","v":0},0,0,0,0,0,0,0,0,0,0,0,0,0,0,0,0,0,0,0]
[]
[]
[{"$nulls":6},"NOx Emission Factor LPG"]
[]
[{"$nulls":10},"g/vkm",{"$nulls":3},"1st",null,"2nd"]
[{"$nulls":10},{"$f":"K1251","v":0},{"$f":"L1251","v":9},{"$f":"M1251","v":19},null,"intercept","slope","intercept","slope",null,{"$f":"K1298","v":0},{"$f":"L1298","v":9},{"$f":"M1298","v":19},null,"1st","2nd"]
[{"$nulls":5},"NO BRT",{"$f":"G1282","v":"Cars"},{"$nulls":3},{"$f":"'IF Factors'!BJ61","v":0},{"$f":"OFFSET('IF Factors'!BJ61,0,5)","v":0},{"$f":"OFFSET('IF Factors'!BJ61,0,10)","v":0},null,{"$f":"INTERCEPT(K1299:L1299,$K$7:$L$7)","v":0},{"$f":"SLOPE(K1299:L1299,$K$7:$L$7)","v":0},{"$f":"INTERCEPT(L1299:M1299,$L$7:$M$7)","v":0},{"$f":"SLOPE(L1299:M1299,$L$7:$M$7)","v":0},null,{"$f":"IF(K1299<>0,0,1)","v":1},{"$f":"IF(L1299<>0,0,1)","v":1},{"$f":"IF(M1299<>0,0,1)","v":1},null,{"$f":"IF(T1299+U1299=1,1,0)","v":0},{"$f":"IF(U1299+V1299=1,1,0)","v":0}]
[{"$nulls":6},{"$f":"G1283","v":"2-wheeler"},{"$nulls":3},{"$f":"'IF Factors'!BJ62","v":0},{"$f":"OFFSET('IF Factors'!BJ62,0,5)","v":0},{"$f":"OFFSET('IF Factors'!BJ62,0,10)","v":0},null,{"$f":"INTERCEPT(K1300:L1300,$K$7:$L$7)","v":0},{"$f":"SLOPE(K1300:L1300,$K$7:$L$7)","v":0},{"$f":"INTERCEPT(L1300:M1300,$L$7:$M$7)","v":0},{"$f":"SLOPE(L1300:M1300,$L$7:$M$7)","v":0},null,{"$f":"IF(K1300<>0,0,1)","v":1},{"$f":"IF(L1300<>0,0,1)","v":1},{"$f":"IF(M1300<>0,0,1)","v":1},null,{"$f":"IF(T1300+U1300=1,1,0)","v":0},0]
[{"$nulls":6},"Taxi",{"$nulls":3},{"$f":"'IF Factors'!BJ63","v":0},{"$f":"OFFSET('IF Factors'!BJ63,0,5)","v":0},{"$f":"OFFSET('IF Factors'!BJ63,0,10)","v":0},null,0,0,0,0,null,1,1,1,null,0,0]
[{"$nulls":6},"",{"$nulls":3},{"$f":"'IF Factors'!BJ64","v":0},{"$f":"OFFSET('IF Factors'!BJ64,0,5)","v":0},{"$f":"OFFSET('IF Factors'!BJ64,0,10)","v":0},null,0,0,0,0,null,1,1,1,null,0,0]
[{"$nulls":6},"",{"$nulls":3},{"$f":"'IF Factors'!BJ65","v":0},{"$f":"OFFSET('IF Factors'!BJ65,0,5)","v":0},{"$f":"OFFSET('IF Factors'!BJ65,0,10)","v":0},null,0,0,0,0,null,1,1,1,null,0,0]
[{"$nulls":6},"3-wheeler",{"$nulls":3},{"$f":"'IF Factors'!BJ66","v":0},{"$f":"OFFSET('IF Factors'!BJ66,0,5)","v":0},{"$f":"OFFSET('IF Factors'!BJ66,0,10)","v":0},null,0,0,0,0,null,1,1,1,null,0,0]
[{"$nulls":6},"Bus",{"$nulls":3},{"$f":"'IF Factors'!BJ67","v":0},{"$f":"OFFSET('IF Factors'!BJ67,0,5)","v":0},{"$f":"OFFSET('IF Factors'!BJ67,0,10)","v":0},null,0,0,0,0,null,1,1,1,null,0,0]
[{"$nulls":6},"Mini-bus",{"$nulls":3},{"$f":"'IF Factors'!BJ68","v":0},{"$f":"OFFSET('IF Factors'!BJ68,0,5)","v":0},{"$f":"OFFSET('IF Factors'!BJ68,0,10)","v":0},null,0,0,0,0,null,1,1,1,null,0,0]
[{"$nulls":6},"",{"$nulls":3},{"$f":"'IF Factors'!BJ69","v":0},{"$f":"OFFSET('IF Factors'!BJ69,0,5)","v":0},{"$f":"OFFSET('IF Factors'!BJ69,0,10)","v":0},null,0,0,0,0,null,1,1,1,null,0,0]
[{"$nulls":6},"",{"$nulls":3},{"$f":"'IF Factors'!BJ70","v":0},{"$f":"OFFSET('IF Factors'!BJ70,0,5)","v":0},{"$f":"OFFSET('IF Factors'!BJ70,0,10)","v":0},null,0,0,0,0,null,1,1,1,null,0,0]
[{"$nulls":6},"BRT",{"$nulls":3},{"$f":"'IF Factors'!BJ71","v":0},{"$f":"OFFSET('IF Factors'!BJ71,0,5)","v":0},{"$f":"OFFSET('IF Factors'!BJ71,0,10)","v":0},null,0,0,0,0,null,1,1,1,null,0,0]
[]
[]
[]
[{"$nulls":6},"NOx Emission Factor",null,"LPG"]
[{"$nulls":7},{"$f":"H1281","v":0},{"$f":"I1281","v":1},2,3,4,5,6,7,8,9,10,11,12,13,14,15,16,17,18,19]
[{"$nulls":5},"NO BRT",{"$f":"G1282","v":"Cars"},{"$f":"K1299","v":{"v":0,"d":"0.00"}},{"$f":"(I$23*$P1299)+$O1299","v":{"v":0,"d":"0.00"}},{"$f":"(J$23*$P1299)+$O1299","v":{"v":0,"d":"0.00"}},{"v":0,"d":"0.00"},{"v":0,"d":"0.00"},{"v":0,"d":"0.00"},{"v":0,"d":"0.00"},{"v":0,"d":"0.00"},{"v":0,"d":"0.00"},{"$f":"L1299","v":{"v":0,"d":"0.00"}},{"$f":"(R$23*$R1299)+$Q1299","v":{"v":0,"d":"0.00"}},{"$f":"(S$23*$R1299)+$Q1299","v":{"v":0,"d":"0.00"}},{"v":0,"d":"0.00"},{"v":0,"d":"0.00"},{"v":0,"d":"0.00"},{"v":0,"d":"0.00"},{"v":0,"d":"0.00"},{"v":0,"d":"0.00"},{"v":0,"d":"0.00"},{"$f":"M1299","v":{"v":0,"d":"0.00"}}]
[{"$nulls":6},{"$f":"G1283","v":"2-wheeler"},{"$f":"K1300","v":{"v":0,"d":"0.00"}},{"$f":"(I$23*$P1300)+$O1300","v":{"v":0,"d":"0.00"}},{"v":0,"d":"0.00"},{"v":0,"d":"0.00"},{"v":0,"d":"0.00"},{"v":0,"d":"0.00"},{"v":0,"d":"0.00"},{"v":0,"d":"0.00"},{"v":0,"d":"0.00"},{"$f":"L1300","v":{"v":0,"d":"0.00"}},{"$f":"(R$23*$R1300)+$Q1300","v":{"v":0,"d":"0.00"}},{"v":0,"d":"0.00"},{"v":0,"d":"0.00"},{"v":0,"d":"0.00"},{"v":0,"d":"0.00"},{"v":0,"d":"0.00"},{"v":0,"d":"0.00"},{"v":0,"d":"0.00"},{"v":0,"d":"0.00"},{"$f":"M1300","v":{"v":0,"d":"0.00"}}]
[{"$nulls":6},"Taxi",{"v":0,"d":"0.00"},{"$f":"(I$23*$P1301)+$O1301","v":{"v":0,"d":"0.00"}},{"v":0,"d":"0.00"},{"v":0,"d":"0.00"},{"v":0,"d":"0.00"},{"v":0,"d":"0.00"},{"v":0,"d":"0.00"},{"v":0,"d":"0.00"},{"v":0,"d":"0.00"},{"v":0,"d":"0.00"},{"$f":"(R$23*$R1301)+$Q1301","v":{"v":0,"d":"0.00"}},{"v":0,"d":"0.00"},{"v":0,"d":"0.00"},{"v":0,"d":"0.00"},{"v":0,"d":"0.00"},{"v":0,"d":"0.00"},{"v":0,"d":"0.00"},{"v":0,"d":"0.00"},{"v":0,"d":"0.00"},{"v":0,"d":"0.00"}]
[{"$nulls":6},"",{"v":0,"d":"0.00"},{"$f":"(I$23*$P1302)+$O1302","v":{"v":0,"d":"0.00"}},{"v":0,"d":"0.00"},{"v":0,"d":"0.00"},{"v":0,"d":"0.00"},{"v":0,"d":"0.00"},{"v":0,"d":"0.00"},{"v":0,"d":"0.00"},{"v":0,"d":"0.00"},{"v":0,"d":"0.00"},{"$f":"(R$23*$R1302)+$Q1302","v":{"v":0,"d":"0.00"}},{"v":0,"d":"0.00"},{"v":0,"d":"0.00"},{"v":0,"d":"0.00"},{"v":0,"d":"0.00"},{"v":0,"d":"0.00"},{"v":0,"d":"0.00"},{"v":0,"d":"0.00"},{"v":0,"d":"0.00"},{"v":0,"d":"0.00"}]
[{"$nulls":6},"",{"v":0,"d":"0.00"},{"$f":"(I$23*$P1303)+$O1303","v":{"v":0,"d":"0.00"}},{"v":0,"d":"0.00"},{"v":0,"d":"0.00"},{"v":0,"d":"0.00"},{"v":0,"d":"0.00"},{"v":0,"d":"0.00"},{"v":0,"d":"0.00"},{"v":0,"d":"0.00"},{"v":0,"d":"0.00"},{"$f":"(R$23*$R1303)+$Q1303","v":{"v":0,"d":"0.00"}},{"v":0,"d":"0.00"},{"v":0,"d":"0.00"},{"v":0,"d":"0.00"},{"v":0,"d":"0.00"},{"v":0,"d":"0.00"},{"v":0,"d":"0.00"},{"v":0,"d":"0.00"},{"v":0,"d":"0.00"},{"v":0,"d":"0.00"}]
[{"$nulls":6},"3-wheeler",{"v":0,"d":"0.00"},{"$f":"(I$23*$P1304)+$O1304","v":{"v":0,"d":"0.00"}},{"v":0,"d":"0.00"},{"v":0,"d":"0.00"},{"v":0,"d":"0.00"},{"v":0,"d":"0.00"},{"v":0,"d":"0.00"},{"v":0,"d":"0.00"},{"v":0,"d":"0.00"},{"v":0,"d":"0.00"},{"$f":"(R$23*$R1304)+$Q1304","v":{"v":0,"d":"0.00"}},{"v":0,"d":"0.00"},{"v":0,"d":"0.00"},{"v":0,"d":"0.00"},{"v":0,"d":"0.00"},{"v":0,"d":"0.00"},{"v":0,"d":"0.00"},{"v":0,"d":"0.00"},{"v":0,"d":"0.00"},{"v":0,"d":"0.00"}]
[{"$nulls":6},"Bus",{"v":0,"d":"0.00"},{"$f":"(I$23*$P1305)+$O1305","v":{"v":0,"d":"0.00"}},{"v":0,"d":"0.00"},{"v":0,"d":"0.00"},{"v":0,"d":"0.00"},{"v":0,"d":"0.00"},{"v":0,"d":"0.00"},{"v":0,"d":"0.00"},{"v":0,"d":"0.00"},{"v":0,"d":"0.00"},{"$f":"(R$23*$R1305)+$Q1305","v":{"v":0,"d":"0.00"}},{"v":0,"d":"0.00"},{"v":0,"d":"0.00"},{"v":0,"d":"0.00"},{"v":0,"d":"0.00"},{"v":0,"d":"0.00"},{"v":0,"d":"0.00"},{"v":0,"d":"0.00"},{"v":0,"d":"0.00"},{"v":0,"d":"0.00"}]
[{"$nulls":6},"Mini-bus",{"v":0,"d":"0.00"},{"$f":"(I$23*$P1306)+$O1306","v":{"v":0,"d":"0.00"}},{"v":0,"d":"0.00"},{"v":0,"d":"0.00"},{"v":0,"d":"0.00"},{"v":0,"d":"0.00"},{"v":0,"d":"0.00"},{"v":0,"d":"0.00"},{"v":0,"d":"0.00"},{"v":0,"d":"0.00"},{"$f":"(R$23*$R1306)+$Q1306","v":{"v":0,"d":"0.00"}},{"v":0,"d":"0.00"},{"v":0,"d":"0.00"},{"v":0,"d":"0.00"},{"v":0,"d":"0.00"},{"v":0,"d":"0.00"},{"v":0,"d":"0.00"},{"v":0,"d":"0.00"},{"v":0,"d":"0.00"},{"v":0,"d":"0.00"}]
[{"$nulls":6},"",{"v":0,"d":"0.00"},{"$f":"(I$23*$P1307)+$O1307","v":{"v":0,"d":"0.00"}},{"v":0,"d":"0.00"},{"v":0,"d":"0.00"},{"v":0,"d":"0.00"},{"v":0,"d":"0.00"},{"v":0,"d":"0.00"},{"v":0,"d":"0.00"},{"v":0,"d":"0.00"},{"v":0,"d":"0.00"},{"$f":"(R$23*$R1307)+$Q1307","v":{"v":0,"d":"0.00"}},{"v":0,"d":"0.00"},{"v":0,"d":"0.00"},{"v":0,"d":"0.00"},{"v":0,"d":"0.00"},{"v":0,"d":"0.00"},{"v":0,"d":"0.00"},{"v":0,"d":"0.00"},{"v":0,"d":"0.00"},{"v":0,"d":"0.00"}]
[{"$nulls":6},"",{"v":0,"d":"0.00"},{"$f":"(I$23*$P1308)+$O1308","v":{"v":0,"d":"0.00"}},{"v":0,"d":"0.00"},{"v":0,"d":"0.00"},{"v":0,"d":"0.00"},{"v":0,"d":"0.00"},{"v":0,"d":"0.00"},{"v":0,"d":"0.00"},{"v":0,"d":"0.00"},{"v":0,"d":"0.00"},{"$f":"(R$23*$R1308)+$Q1308","v":{"v":0,"d":"0.00"}},{"v":0,"d":"0.00"},{"v":0,"d":"0.00"},{"v":0,"d":"0.00"},{"v":0,"d":"0.00"},{"v":0,"d":"0.00"},{"v":0,"d":"0.00"},{"v":0,"d":"0.00"},{"v":0,"d":"0.00"},{"v":0,"d":"0.00"}]
[{"$nulls":6},"BRT",{"v":0,"d":"0.00"},{"$f":"(I$23*$P1309)+$O1309","v":{"v":0,"d":"0.00"}},{"v":0,"d":"0.00"},{"v":0,"d":"0.00"},{"v":0,"d":"0.00"},{"v":0,"d":"0.00"},{"v":0,"d":"0.00"},{"v":0,"d":"0.00"},{"v":0,"d":"0.00"},{"v":0,"d":"0.00"},{"$f":"(R$23*$R1309)+$Q1309","v":{"v":0,"d":"0.00"}},{"v":0,"d":"0.00"},{"v":0,"d":"0.00"},{"v":0,"d":"0.00"},{"v":0,"d":"0.00"},{"v":0,"d":"0.00"},{"v":0,"d":"0.00"},{"v":0,"d":"0.00"},{"v":0,"d":"0.00"},{"v":0,"d":"0.00"}]
[]
[{"$nulls":6},"Adjusted NOx Emission Factor",null,{"$f":"I1313","v":"LPG"}]
[{"$nulls":7},{"$f":"H1314","v":0},{"$f":"I1314","v":1},2,3,4,5,6,7,8,9,10,11,12,13,14,15,16,17,18,19]
[{"$nulls":5},"NO BRT",{"$f":"G1315","v":"Cars"},{"$f":"H1315+(H1315*H815)","v":0},{"$f":"I1315+(I1315*I815)","v":0},0,0,0,0,0,0,0,0,0,0,0,0,0,0,0,0,0,0]
[{"$nulls":6},{"$f":"G1316","v":"2-wheeler"},{"$f":"H1316+(H1316*H816)","v":0},0,0,0,0,0,0,0,0,0,0,0,0,0,0,0,0,0,0,0]
[{"$nulls":6},"Taxi",{"$f":"H1317+(H1317*H817)","v":0},0,0,0,0,0,0,0,0,0,0,0,0,0,0,0,0,0,0,0]
[{"$nulls":6},"",{"$f":"H1318+(H1318*H818)","v":0},0,0,0,0,0,0,0,0,0,0,0,0,0,0,0,0,0,0,0]
[{"$nulls":6},"",{"$f":"H1319+(H1319*H819)","v":0},0,0,0,0,0,0,0,0,0,0,0,0,0,0,0,0,0,0,0]
[{"$nulls":6},"3-wheeler",{"$f":"H1320+(H1320*H820)","v":0},0,0,0,0,0,0,0,0,0,0,0,0,0,0,0,0,0,0,0]
[{"$nulls":6},"Bus",{"$f":"H1321+(H1321*H821)","v":0},0,0,0,0,0,0,0,0,0,0,0,0,0,0,0,0,0,0,0]
[{"$nulls":6},"Mini-bus",{"$f":"H1322+(H1322*H822)","v":0},0,0,0,0,0,0,0,0,0,0,0,0,0,0,0,0,0,0,0]
[{"$nulls":6},"",{"$f":"H1323+(H1323*H823)","v":0},0,0,0,0,0,0,0,0,0,0,0,0,0,0,0,0,0,0,0]
[{"$nulls":6},"",{"$f":"H1324+(H1324*H824)","v":0},0,0,0,0,0,0,0,0,0,0,0,0,0,0,0,0,0,0,0]
[{"$nulls":6},"BRT",{"$f":"H1325+(H1325*H825)","v":0},0,0,0,0,0,0,0,0,0,0,0,0,0,0,0,0,0,0,0]
[]
[]
[{"$nulls":6},"NOx Emission Factor CNG"]
[]
[{"$nulls":10},"g/vkm",{"$nulls":3},"1st",null,"2nd"]
[{"$nulls":10},{"$f":"K1298","v":0},{"$f":"L1298","v":9},{"$f":"M1298","v":19},null,"intercept","slope","intercept","slope",null,{"$f":"K1345","v":0},{"$f":"L1345","v":9},{"$f":"M1345","v":19},null,"1st","2nd"]
[{"$nulls":5},"NO BRT",{"$f":"G1329","v":"Cars"},{"$nulls":3},{"$f":"'IF Factors'!BJ76","v":0},{"$f":"OFFSET('IF Factors'!BJ76,0,5)","v":0},{"$f":"OFFSET('IF Factors'!BJ76,0,10)","v":0},null,{"$f":"INTERCEPT(K1346:L1346,$K$7:$L$7)","v":0},{"$f":"SLOPE(K1346:L1346,$K$7:$L$7)","v":0},{"$f":"INTERCEPT(L1346:M1346,$L$7:$M$7)","v":0},{"$f":"SLOPE(L1346:M1346,$L$7:$M$7)","v":0},null,{"$f":"IF(K1346<>0,0,1)","v":1},{"$f":"IF(L1346<>0,0,1)","v":1},{"$f":"IF(M1346<>0,0,1)","v":1},null,{"$f":"IF(T1346+U1346=1,1,0)","v":0},{"$f":"IF(U1346+V1346=1,1,0)","v":0}]
[{"$nulls":6},{"$f":"G1330","v":"2-wheeler"},{"$nulls":3},{"$f":"'IF Factors'!BJ77","v":0},{"$f":"OFFSET('IF Factors'!BJ77,0,5)","v":0},{"$f":"OFFSET('IF Factors'!BJ77,0,10)","v":0},null,{"$f":"INTERCEPT(K1347:L1347,$K$7:$L$7)","v":0},{"$f":"SLOPE(K1347:L1347,$K$7:$L$7)","v":0},{"$f":"INTERCEPT(L1347:M1347,$L$7:$M$7)","v":0},{"$f":"SLOPE(L1347:M1347,$L$7:$M$7)","v":0},null,{"$f":"IF(K1347<>0,0,1)","v":1},{"$f":"IF(L1347<>0,0,1)","v":1},{"$f":"IF(M1347<>0,0,1)","v":1},null,{"$f":"IF(T1347+U1347=1,1,0)","v":0},0]
[{"$nulls":6},"Taxi",{"$nulls":3},{"$f":"'IF Factors'!BJ78","v":0},{"$f":"OFFSET('IF Factors'!BJ78,0,5)","v":0},{"$f":"OFFSET('IF Factors'!BJ78,0,10)","v":0},null,0,0,0,0,null,1,1,1,null,0,0]
[{"$nulls":6},"",{"$nulls":3},{"$f":"'IF Factors'!BJ79","v":0},{"$f":"OFFSET('IF Factors'!BJ79,0,5)","v":0},{"$f":"OFFSET('IF Factors'!BJ79,0,10)","v":0},null,0,0,0,0,null,1,1,1,null,0,0]
[{"$nulls":6},"",{"$nulls":3},{"$f":"'IF Factors'!BJ80","v":0},{"$f":"OFFSET('IF Factors'!BJ80,0,5)","v":0},{"$f":"OFFSET('IF Factors'!BJ80,0,10)","v":0},null,0,0,0,0,null,1,1,1,null,0,0]
[{"$nulls":6},"3-wheeler",{"$nulls":3},{"$f":"'IF Factors'!BJ81","v":0},{"$f":"OFFSET('IF Factors'!BJ81,0,5)","v":0},{"$f":"OFFSET('IF Factors'!BJ81,0,10)","v":0},null,0,0,0,0,null,1,1,1,null,0,0]
[{"$nulls":6},"Bus",{"$nulls":3},{"$f":"'IF Factors'!BJ82","v":0},{"$f":"OFFSET('IF Factors'!BJ82,0,5)","v":0},{"$f":"OFFSET('IF Factors'!BJ82,0,10)","v":0},null,0,0,0,0,null,1,1,1,null,0,0]
[{"$nulls":6},"Mini-bus",{"$nulls":3},{"$f":"'IF Factors'!BJ83","v":0},{"$f":"OFFSET('IF Factors'!BJ83,0,5)","v":0},{"$f":"OFFSET('IF Factors'!BJ83,0,10)","v":0},null,0,0,0,0,null,1,1,1,null,0,0]
[{"$nulls":6},"",{"$nulls":3},{"$f":"'IF Factors'!BJ84","v":0},{"$f":"OFFSET('IF Factors'!BJ84,0,5)","v":0},{"$f":"OFFSET('IF Factors'!BJ84,0,10)","v":0},null,0,0,0,0,null,1,1,1,null,0,0]
[{"$nulls":6},"",{"$nulls":3},{"$f":"'IF Factors'!BJ85","v":0},{"$f":"OFFSET('IF Factors'!BJ85,0,5)","v":0},{"$f":"OFFSET('IF Factors'!BJ85,0,10)","v":0},null,0,0,0,0,null,1,1,1,null,0,0]
[{"$nulls":6},"BRT",{"$nulls":3},{"$f":"'IF Factors'!BJ86","v":0},{"$f":"OFFSET('IF Factors'!BJ86,0,5)","v":0},{"$f":"OFFSET('IF Factors'!BJ86,0,10)","v":0},null,0,0,0,0,null,1,1,1,null,0,0]
[]
[]
[]
[{"$nulls":6},"NOx Emission Factor",null,"CNG"]
[{"$nulls":7},{"$f":"H1328","v":0},{"$f":"I1328","v":1},2,3,4,5,6,7,8,9,10,11,12,13,14,15,16,17,18,19]
[{"$nulls":5},"NO BRT",{"$f":"G1329","v":"Cars"},{"$f":"K1346","v":{"v":0,"d":"0.00"}},{"$f":"(I$23*$P1346)+$O1346","v":{"v":0,"d":"0.00"}},{"$f":"(J$23*$P1346)+$O1346","v":{"v":0,"d":"0.00"}},{"v":0,"d":"0.00"},{"v":0,"d":"0.00"},{"v":0,"d":"0.00"},{"v":0,"d":"0.00"},{"v":0,"d":"0.00"},{"v":0,"d":"0.00"},{"$f":"L1346","v":{"v":0,"d":"0.00"}},{"$f":"(R$23*$R1346)+$Q1346","v":{"v":0,"d":"0.00"}},{"$f":"(S$23*$R1346)+$Q1346","v":{"v":0,"d":"0.00"}},{"v":0,"d":"0.00"},{"v":0,"d":"0.00"},{"v":0,"d":"0.00"},{"v":0,"d":"0.00"},{"v":0,"d":"0.00"},{"v":0,"d":"0.00"},{"v":0,"d":"0.00"},{"$f":"M1346","v":{"v":0,"d":"0.00"}}]
[{"$nulls":6},{"$f":"G1330","v":"2-wheeler"},{"$f":"K1347","v":{"v":0,"d":"0.00"}},{"$f":"(I$23*$P1347)+$O1347","v":{"v":0,"d":"0.00"}},{"v":0,"d":"0.00"},{"v":0,"d":"0.00"},{"v":0,"d":"0.00"},{"v":0,"d":"0.00"},{"v":0,"d":"0.00"},{"v":0,"d":"0.00"},{"v":0,"d":"0.00"},{"$f":"L1347","v":{"v":0,"d":"0.00"}},{"$f":"(R$23*$R1347)+$Q1347","v":{"v":0,"d":"0.00"}},{"v":0,"d":"0.00"},{"v":0,"d":"0.00"},{"v":0,"d":"0.00"},{"v":0,"d":"0.00"},{"v":0,"d":"0.00"},{"v":0,"d":"0.00"},{"v":0,"d":"0.00"},{"v":0,"d":"0.00"},{"$f":"M1347","v":{"v":0,"d":"0.00"}}]
[{"$nulls":6},"Taxi",{"v":0,"d":"0.00"},{"$f":"(I$23*$P1348)+$O1348","v":{"v":0,"d":"0.00"}},{"v":0,"d":"0.00"},{"v":0,"d":"0.00"},{"v":0,"d":"0.00"},{"v":0,"d":"0.00"},{"v":0,"d":"0.00"},{"v":0,"d":"0.00"},{"v":0,"d":"0.00"},{"v":0,"d":"0.00"},{"$f":"(R$23*$R1348)+$Q1348","v":{"v":0,"d":"0.00"}},{"v":0,"d":"0.00"},{"v":0,"d":"0.00"},{"v":0,"d":"0.00"},{"v":0,"d":"0.00"},{"v":0,"d":"0.00"},{"v":0,"d":"0.00"},{"v":0,"d":"0.00"},{"v":0,"d":"0.00"},{"v":0,"d":"0.00"}]
[{"$nulls":6},"",{"v":0,"d":"0.00"},{"$f":"(I$23*$P1349)+$O1349","v":{"v":0,"d":"0.00"}},{"v":0,"d":"0.00"},{"v":0,"d":"0.00"},{"v":0,"d":"0.00"},{"v":0,"d":"0.00"},{"v":0,"d":"0.00"},{"v":0,"d":"0.00"},{"v":0,"d":"0.00"},{"v":0,"d":"0.00"},{"$f":"(R$23*$R1349)+$Q1349","v":{"v":0,"d":"0.00"}},{"v":0,"d":"0.00"},{"v":0,"d":"0.00"},{"v":0,"d":"0.00"},{"v":0,"d":"0.00"},{"v":0,"d":"0.00"},{"v":0,"d":"0.00"},{"v":0,"d":"0.00"},{"v":0,"d":"0.00"},{"v":0,"d":"0.00"}]
[{"$nulls":6},"",{"v":0,"d":"0.00"},{"$f":"(I$23*$P1350)+$O1350","v":{"v":0,"d":"0.00"}},{"v":0,"d":"0.00"},{"v":0,"d":"0.00"},{"v":0,"d":"0.00"},{"v":0,"d":"0.00"},{"v":0,"d":"0.00"},{"v":0,"d":"0.00"},{"v":0,"d":"0.00"},{"v":0,"d":"0.00"},{"$f":"(R$23*$R1350)+$Q1350","v":{"v":0,"d":"0.00"}},{"v":0,"d":"0.00"},{"v":0,"d":"0.00"},{"v":0,"d":"0.00"},{"v":0,"d":"0.00"},{"v":0,"d":"0.00"},{"v":0,"d":"0.00"},{"v":0,"d":"0.00"},{"v":0,"d":"0.00"},{"v":0,"d":"0.00"}]
[{"$nulls":6},"3-wheeler",{"v":0,"d":"0.00"},{"$f":"(I$23*$P1351)+$O1351","v":{"v":0,"d":"0.00"}},{"v":0,"d":"0.00"},{"v":0,"d":"0.00"},{"v":0,"d":"0.00"},{"v":0,"d":"0.00"},{"v":0,"d":"0.00"},{"v":0,"d":"0.00"},{"v":0,"d":"0.00"},{"v":0,"d":"0.00"},{"$f":"(R$23*$R1351)+$Q1351","v":{"v":0,"d":"0.00"}},{"v":0,"d":"0.00"},{"v":0,"d":"0.00"},{"v":0,"d":"0.00"},{"v":0,"d":"0.00"},{"v":0,"d":"0.00"},{"v":0,"d":"0.00"},{"v":0,"d":"0.00"},{"v":0,"d":"0.00"},{"v":0,"d":"0.00"}]
[{"$nulls":6},"Bus",{"v":0,"d":"0.00"},{"$f":"(I$23*$P1352)+$O1352","v":{"v":0,"d":"0.00"}},{"v":0,"d":"0.00"},{"v":0,"d":"0.00"},{"v":0,"d":"0.00"},{"v":0,"d":"0.00"},{"v":0,"d":"0.00"},{"v":0,"d":"0.00"},{"v":0,"d":"0.00"},{"v":0,"d":"0.00"},{"$f":"(R$23*$R1352)+$Q1352","v":{"v":0,"d":"0.00"}},{"v":0,"d":"0.00"},{"v":0,"d":"0.00"},{"v":0,"d":"0.00"},{"v":0,"d":"0.00"},{"v":0,"d":"0.00"},{"v":0,"d":"0.00"},{"v":0,"d":"0.00"},{"v":0,"d":"0.00"},{"v":0,"d":"0.00"}]
[{"$nulls":6},"Mini-bus",{"v":0,"d":"0.00"},{"$f":"(I$23*$P1353)+$O1353","v":{"v":0,"d":"0.00"}},{"v":0,"d":"0.00"},{"v":0,"d":"0.00"},{"v":0,"d":"0.00"},{"v":0,"d":"0.00"},{"v":0,"d":"0.00"},{"v":0,"d":"0.00"},{"v":0,"d":"0.00"},{"v":0,"d":"0.00"},{"$f":"(R$23*$R1353)+$Q1353","v":{"v":0,"d":"0.00"}},{"v":0,"d":"0.00"},{"v":0,"d":"0.00"},{"v":0,"d":"0.00"},{"v":0,"d":"0.00"},{"v":0,"d":"0.00"},{"v":0,"d":"0.00"},{"v":0,"d":"0.00"},{"v":0,"d":"0.00"},{"v":0,"d":"0.00"}]
[{"$nulls":6},"",{"v":0,"d":"0.00"},{"$f":"(I$23*$P1354)+$O1354","v":{"v":0,"d":"0.00"}},{"v":0,"d":"0.00"},{"v":0,"d":"0.00"},{"v":0,"d":"0.00"},{"v":0,"d":"0.00"},{"v":0,"d":"0.00"},{"v":0,"d":"0.00"},{"v":0,"d":"0.00"},{"v":0,"d":"0.00"},{"$f":"(R$23*$R1354)+$Q1354","v":{"v":0,"d":"0.00"}},{"v":0,"d":"0.00"},{"v":0,"d":"0.00"},{"v":0,"d":"0.00"},{"v":0,"d":"0.00"},{"v":0,"d":"0.00"},{"v":0,"d":"0.00"},{"v":0,"d":"0.00"},{"v":0,"d":"0.00"},{"v":0,"d":"0.00"}]
[{"$nulls":6},"",{"v":0,"d":"0.00"},{"$f":"(I$23*$P1355)+$O1355","v":{"v":0,"d":"0.00"}},{"v":0,"d":"0.00"},{"v":0,"d":"0.00"},{"v":0,"d":"0.00"},{"v":0,"d":"0.00"},{"v":0,"d":"0.00"},{"v":0,"d":"0.00"},{"v":0,"d":"0.00"},{"v":0,"d":"0.00"},{"$f":"(R$23*$R1355)+$Q1355","v":{"v":0,"d":"0.00"}},{"v":0,"d":"0.00"},{"v":0,"d":"0.00"},{"v":0,"d":"0.00"},{"v":0,"d":"0.00"},{"v":0,"d":"0.00"},{"v":0,"d":"0.00"},{"v":0,"d":"0.00"},{"v":0,"d":"0.00"},{"v":0,"d":"0.00"}]
[{"$nulls":6},"BRT",{"v":0,"d":"0.00"},{"$f":"(I$23*$P1356)+$O1356","v":{"v":0,"d":"0.00"}},{"v":0,"d":"0.00"},{"v":0,"d":"0.00"},{"v":0,"d":"0.00"},{"v":0,"d":"0.00"},{"v":0,"d":"0.00"},{"v":0,"d":"0.00"},{"v":0,"d":"0.00"},{"v":0,"d":"0.00"},{"$f":"(R$23*$R1356)+$Q1356","v":{"v":0,"d":"0.00"}},{"v":0,"d":"0.00"},{"v":0,"d":"0.00"},{"v":0,"d":"0.00"},{"v":0,"d":"0.00"},{"v":0,"d":"0.00"},{"v":0,"d":"0.00"},{"v":0,"d":"0.00"},{"v":0,"d":"0.00"},{"v":0,"d":"0.00"}]
[]
[{"$nulls":6},"Adjusted NOx Emission Factor",null,{"$f":"I1360","v":"CNG"}]
[{"$nulls":7},{"$f":"H1361","v":0},{"$f":"I1361","v":1},2,3,4,5,6,7,8,9,10,11,12,13,14,15,16,17,18,19]
[{"$nulls":5},"NO BRT",{"$f":"G1362","v":"Cars"},{"$f":"H1362+(H1362*H815)","v":0},{"$f":"I1362+(I1362*I815)","v":0},0,0,0,0,0,0,0,0,0,0,0,0,0,0,0,0,0,0]
[{"$nulls":6},{"$f":"G1363","v":"2-wheeler"},{"$f":"H1363+(H1363*H816)","v":0},0,0,0,0,0,0,0,0,0,0,0,0,0,0,0,0,0,0,0]
[{"$nulls":6},"Taxi",{"$f":"H1364+(H1364*H817)","v":0},0,0,0,0,0,0,0,0,0,0,0,0,0,0,0,0,0,0,0]
[{"$nulls":6},"",{"$f":"H1365+(H1365*H818)","v":0},0,0,0,0,0,0,0,0,0,0,0,0,0,0,0,0,0,0,0]
[{"$nulls":6},"",{"$f":"H1366+(H1366*H819)","v":0},0,0,0,0,0,0,0,0,0,0,0,0,0,0,0,0,0,0,0]
[{"$nulls":6},"3-wheeler",{"$f":"H1367+(H1367*H820)","v":0},0,0,0,0,0,0,0,0,0,0,0,0,0,0,0,0,0,0,0]
[{"$nulls":6},"Bus",{"$f":"H1368+(H1368*H821)","v":0},0,0,0,0,0,0,0,0,0,0,0,0,0,0,0,0,0,0,0]
[{"$nulls":6},"Mini-bus",{"$f":"H1369+(H1369*H822)","v":0},0,0,0,0,0,0,0,0,0,0,0,0,0,0,0,0,0,0,0]
[{"$nulls":6},"",{"$f":"H1370+(H1370*H823)","v":0},0,0,0,0,0,0,0,0,0,0,0,0,0,0,0,0,0,0,0]
[{"$nulls":6},"",{"$f":"H1371+(H1371*H824)","v":0},0,0,0,0,0,0,0,0,0,0,0,0,0,0,0,0,0,0,0]
[{"$nulls":6},"BRT",{"$f":"H1372+(H1372*H825)","v":0},0,0,0,0,0,0,0,0,0,0,0,0,0,0,0,0,0,0,0]
[]
[]
[{"$nulls":6},"NOx Emission Factor Electric"]
[]
[{"$nulls":10},"g/vkm",{"$nulls":3},"1st",null,"2nd"]
[{"$nulls":10},{"$f":"K1345","v":0},{"$f":"L1345","v":9},{"$f":"M1345","v":19},null,"intercept","slope","intercept","slope",null,{"$f":"K1392","v":0},{"$f":"L1392","v":9},{"$f":"M1392","v":19},null,"1st","2nd"]
[{"$nulls":5},"NO BRT",{"$f":"G1376","v":"Cars"},{"$nulls":3},{"$f":"'IF Factors'!BJ91","v":0},{"$f":"OFFSET('IF Factors'!BJ91,0,5)","v":0},{"$f":"OFFSET('IF Factors'!BJ91,0,10)","v":0},null,{"$f":"INTERCEPT(K1393:L1393,$K$7:$L$7)","v":0},{"$f":"SLOPE(K1393:L1393,$K$7:$L$7)","v":0},{"$f":"INTERCEPT(L1393:M1393,$L$7:$M$7)","v":0},{"$f":"SLOPE(L1393:M1393,$L$7:$M$7)","v":0},null,{"$f":"IF(K1393<>0,0,1)","v":1},{"$f":"IF(L1393<>0,0,1)","v":1},{"$f":"IF(M1393<>0,0,1)","v":1},null,{"$f":"IF(T1393+U1393=1,1,0)","v":0},{"$f":"IF(U1393+V1393=1,1,0)","v":0}]
[{"$nulls":6},{"$f":"G1377","v":"2-wheeler"},{"$nulls":3},{"$f":"'IF Factors'!BJ92","v":0},{"$f":"OFFSET('IF Factors'!BJ92,0,5)","v":0},{"$f":"OFFSET('IF Factors'!BJ92,0,10)","v":0},null,{"$f":"INTERCEPT(K1394:L1394,$K$7:$L$7)","v":0},{"$f":"SLOPE(K1394:L1394,$K$7:$L$7)","v":0},{"$f":"INTERCEPT(L1394:M1394,$L$7:$M$7)","v":0},{"$f":"SLOPE(L1394:M1394,$L$7:$M$7)","v":0},null,{"$f":"IF(K1394<>0,0,1)","v":1},{"$f":"IF(L1394<>0,0,1)","v":1},{"$f":"IF(M1394<>0,0,1)","v":1},null,{"$f":"IF(T1394+U1394=1,1,0)","v":0},0]
[{"$nulls":6},"Taxi",{"$nulls":3},{"$f":"'IF Factors'!BJ93","v":0},{"$f":"OFFSET('IF Factors'!BJ93,0,5)","v":0},{"$f":"OFFSET('IF Factors'!BJ93,0,10)","v":0},null,0,0,0,0,null,1,1,1,null,0,0]
[{"$nulls":6},"",{"$nulls":3},{"$f":"'IF Factors'!BJ94","v":0},{"$f":"OFFSET('IF Factors'!BJ94,0,5)","v":0},{"$f":"OFFSET('IF Factors'!BJ94,0,10)","v":0},null,0,0,0,0,null,1,1,1,null,0,0]
[{"$nulls":6},"",{"$nulls":3},{"$f":"'IF Factors'!BJ95","v":0},{"$f":"OFFSET('IF Factors'!BJ95,0,5)","v":0},{"$f":"OFFSET('IF Factors'!BJ95,0,10)","v":0},null,0,0,0,0,null,1,1,1,null,0,0]
[{"$nulls":6},"3-wheeler",{"$nulls":3},{"$f":"'IF Factors'!BJ96","v":0},{"$f":"OFFSET('IF Factors'!BJ96,0,5)","v":0},{"$f":"OFFSET('IF Factors'!BJ96,0,10)","v":0},null,0,0,0,0,null,1,1,1,null,0,0]
[{"$nulls":6},"Bus",{"$nulls":3},{"$f":"'IF Factors'!BJ97","v":0},{"$f":"OFFSET('IF Factors'!BJ97,0,5)","v":0},{"$f":"OFFSET('IF Factors'!BJ97,0,10)","v":0},null,0,0,0,0,null,1,1,1,null,0,0]
[{"$nulls":6},"Mini-bus",{"$nulls":3},{"$f":"'IF Factors'!BJ98","v":0},{"$f":"OFFSET('IF Factors'!BJ98,0,5)","v":0},{"$f":"OFFSET('IF Factors'!BJ98,0,10)","v":0},null,0,0,0,0,null,1,1,1,null,0,0]
[{"$nulls":6},"",{"$nulls":3},{"$f":"'IF Factors'!BJ99","v":0},{"$f":"OFFSET('IF Factors'!BJ99,0,5)","v":0},{"$f":"OFFSET('IF Factors'!BJ99,0,10)","v":0},null,0,0,0,0,null,1,1,1,null,0,0]
[{"$nulls":6},"",{"$nulls":3},{"$f":"'IF Factors'!BJ100","v":0},{"$f":"OFFSET('IF Factors'!BJ100,0,5)","v":0},{"$f":"OFFSET('IF Factors'!BJ100,0,10)","v":0},null,0,0,0,0,null,1,1,1,null,0,0]
[{"$nulls":6},"BRT",{"$nulls":3},{"$f":"'IF Factors'!BJ101","v":0},{"$f":"OFFSET('IF Factors'!BJ101,0,5)","v":0},{"$f":"OFFSET('IF Factors'!BJ101,0,10)","v":0},null,0,0,0,0,null,1,1,1,null,0,0]
[]
[]
[]
[{"$nulls":6},"NOx Emission Factor",null,"Electric"]
[{"$nulls":7},{"$f":"H1375","v":0},{"$f":"I1375","v":1},2,3,4,5,6,7,8,9,10,11,12,13,14,15,16,17,18,19]
[{"$nulls":5},"NO BRT",{"$f":"G1376","v":"Cars"},{"$f":"K1393","v":{"v":0,"d":"0.00"}},{"$f":"(I$23*$P1393)+$O1393","v":{"v":0,"d":"0.00"}},{"$f":"(J$23*$P1393)+$O1393","v":{"v":0,"d":"0.00"}},{"v":0,"d":"0.00"},{"v":0,"d":"0.00"},{"v":0,"d":"0.00"},{"v":0,"d":"0.00"},{"v":0,"d":"0.00"},{"v":0,"d":"0.00"},{"$f":"L1393","v":{"v":0,"d":"0.00"}},{"$f":"(R$23*$R1393)+$Q1393","v":{"v":0,"d":"0.00"}},{"$f":"(S$23*$R1393)+$Q1393","v":{"v":0,"d":"0.00"}},{"v":0,"d":"0.00"},{"v":0,"d":"0.00"},{"v":0,"d":"0.00"},{"v":0,"d":"0.00"},{"v":0,"d":"0.00"},{"v":0,"d":"0.00"},{"v":0,"d":"0.00"},{"$f":"M1393","v":{"v":0,"d":"0.00"}}]
[{"$nulls":6},{"$f":"G1377","v":"2-wheeler"},{"$f":"K1394","v":{"v":0,"d":"0.00"}},{"$f":"(I$23*$P1394)+$O1394","v":{"v":0,"d":"0.00"}},{"v":0,"d":"0.00"},{"v":0,"d":"0.00"},{"v":0,"d":"0.00"},{"v":0,"d":"0.00"},{"v":0,"d":"0.00"},{"v":0,"d":"0.00"},{"v":0,"d":"0.00"},{"$f":"L1394","v":{"v":0,"d":"0.00"}},{"$f":"(R$23*$R1394)+$Q1394","v":{"v":0,"d":"0.00"}},{"v":0,"d":"0.00"},{"v":0,"d":"0.00"},{"v":0,"d":"0.00"},{"v":0,"d":"0.00"},{"v":0,"d":"0.00"},{"v":0,"d":"0.00"},{"v":0,"d":"0.00"},{"v":0,"d":"0.00"},{"$f":"M1394","v":{"v":0,"d":"0.00"}}]
[{"$nulls":6},"Taxi",{"v":0,"d":"0.00"},{"$f":"(I$23*$P1395)+$O1395","v":{"v":0,"d":"0.00"}},{"v":0,"d":"0.00"},{"v":0,"d":"0.00"},{"v":0,"d":"0.00"},{"v":0,"d":"0.00"},{"v":0,"d":"0.00"},{"v":0,"d":"0.00"},{"v":0,"d":"0.00"},{"v":0,"d":"0.00"},{"$f":"(R$23*$R1395)+$Q1395","v":{"v":0,"d":"0.00"}},{"v":0,"d":"0.00"},{"v":0,"d":"0.00"},{"v":0,"d":"0.00"},{"v":0,"d":"0.00"},{"v":0,"d":"0.00"},{"v":0,"d":"0.00"},{"v":0,"d":"0.00"},{"v":0,"d":"0.00"},{"v":0,"d":"0.00"}]
[{"$nulls":6},"",{"v":0,"d":"0.00"},{"$f":"(I$23*$P1396)+$O1396","v":{"v":0,"d":"0.00"}},{"v":0,"d":"0.00"},{"v":0,"d":"0.00"},{"v":0,"d":"0.00"},{"v":0,"d":"0.00"},{"v":0,"d":"0.00"},{"v":0,"d":"0.00"},{"v":0,"d":"0.00"},{"v":0,"d":"0.00"},{"$f":"(R$23*$R1396)+$Q1396","v":{"v":0,"d":"0.00"}},{"v":0,"d":"0.00"},{"v":0,"d":"0.00"},{"v":0,"d":"0.00"},{"v":0,"d":"0.00"},{"v":0,"d":"0.00"},{"v":0,"d":"0.00"},{"v":0,"d":"0.00"},{"v":0,"d":"0.00"},{"v":0,"d":"0.00"}]
[{"$nulls":6},"",{"v":0,"d":"0.00"},{"$f":"(I$23*$P1397)+$O1397","v":{"v":0,"d":"0.00"}},{"v":0,"d":"0.00"},{"v":0,"d":"0.00"},{"v":0,"d":"0.00"},{"v":0,"d":"0.00"},{"v":0,"d":"0.00"},{"v":0,"d":"0.00"},{"v":0,"d":"0.00"},{"v":0,"d":"0.00"},{"$f":"(R$23*$R1397)+$Q1397","v":{"v":0,"d":"0.00"}},{"v":0,"d":"0.00"},{"v":0,"d":"0.00"},{"v":0,"d":"0.00"},{"v":0,"d":"0.00"},{"v":0,"d":"0.00"},{"v":0,"d":"0.00"},{"v":0,"d":"0.00"},{"v":0,"d":"0.00"},{"v":0,"d":"0.00"}]
[{"$nulls":6},"3-wheeler",{"v":0,"d":"0.00"},{"$f":"(I$23*$P1398)+$O1398","v":{"v":0,"d":"0.00"}},{"v":0,"d":"0.00"},{"v":0,"d":"0.00"},{"v":0,"d":"0.00"},{"v":0,"d":"0.00"},{"v":0,"d":"0.00"},{"v":0,"d":"0.00"},{"v":0,"d":"0.00"},{"v":0,"d":"0.00"},{"$f":"(R$23*$R1398)+$Q1398","v":{"v":0,"d":"0.00"}},{"v":0,"d":"0.00"},{"v":0,"d":"0.00"},{"v":0,"d":"0.00"},{"v":0,"d":"0.00"},{"v":0,"d":"0.00"},{"v":0,"d":"0.00"},{"v":0,"d":"0.00"},{"v":0,"d":"0.00"},{"v":0,"d":"0.00"}]
[{"$nulls":6},"Bus",{"v":0,"d":"0.00"},{"$f":"(I$23*$P1399)+$O1399","v":{"v":0,"d":"0.00"}},{"v":0,"d":"0.00"},{"v":0,"d":"0.00"},{"v":0,"d":"0.00"},{"v":0,"d":"0.00"},{"v":0,"d":"0.00"},{"v":0,"d":"0.00"},{"v":0,"d":"0.00"},{"v":0,"d":"0.00"},{"$f":"(R$23*$R1399)+$Q1399","v":{"v":0,"d":"0.00"}},{"v":0,"d":"0.00"},{"v":0,"d":"0.00"},{"v":0,"d":"0.00"},{"v":0,"d":"0.00"},{"v":0,"d":"0.00"},{"v":0,"d":"0.00"},{"v":0,"d":"0.00"},{"v":0,"d":"0.00"},{"v":0,"d":"0.00"}]
[{"$nulls":6},"Mini-bus",{"v":0,"d":"0.00"},{"$f":"(I$23*$P1400)+$O1400","v":{"v":0,"d":"0.00"}},{"v":0,"d":"0.00"},{"v":0,"d":"0.00"},{"v":0,"d":"0.00"},{"v":0,"d":"0.00"},{"v":0,"d":"0.00"},{"v":0,"d":"0.00"},{"v":0,"d":"0.00"},{"v":0,"d":"0.00"},{"$f":"(R$23*$R1400)+$Q1400","v":{"v":0,"d":"0.00"}},{"v":0,"d":"0.00"},{"v":0,"d":"0.00"},{"v":0,"d":"0.00"},{"v":0,"d":"0.00"},{"v":0,"d":"0.00"},{"v":0,"d":"0.00"},{"v":0,"d":"0.00"},{"v":0,"d":"0.00"},{"v":0,"d":"0.00"}]
[{"$nulls":6},"",{"v":0,"d":"0.00"},{"$f":"(I$23*$P1401)+$O1401","v":{"v":0,"d":"0.00"}},{"v":0,"d":"0.00"},{"v":0,"d":"0.00"},{"v":0,"d":"0.00"},{"v":0,"d":"0.00"},{"v":0,"d":"0.00"},{"v":0,"d":"0.00"},{"v":0,"d":"0.00"},{"v":0,"d":"0.00"},{"$f":"(R$23*$R1401)+$Q1401","v":{"v":0,"d":"0.00"}},{"v":0,"d":"0.00"},{"v":0,"d":"0.00"},{"v":0,"d":"0.00"},{"v":0,"d":"0.00"},{"v":0,"d":"0.00"},{"v":0,"d":"0.00"},{"v":0,"d":"0.00"},{"v":0,"d":"0.00"},{"v":0,"d":"0.00"}]
[{"$nulls":6},"",{"v":0,"d":"0.00"},{"$f":"(I$23*$P1402)+$O1402","v":{"v":0,"d":"0.00"}},{"v":0,"d":"0.00"},{"v":0,"d":"0.00"},{"v":0,"d":"0.00"},{"v":0,"d":"0.00"},{"v":0,"d":"0.00"},{"v":0,"d":"0.00"},{"v":0,"d":"0.00"},{"v":0,"d":"0.00"},{"$f":"(R$23*$R1402)+$Q1402","v":{"v":0,"d":"0.00"}},{"v":0,"d":"0.00"},{"v":0,"d":"0.00"},{"v":0,"d":"0.00"},{"v":0,"d":"0.00"},{"v":0,"d":"0.00"},{"v":0,"d":"0.00"},{"v":0,"d":"0.00"},{"v":0,"d":"0.00"},{"v":0,"d":"0.00"}]
[{"$nulls":6},"BRT",{"v":0,"d":"0.00"},{"$f":"(I$23*$P1403)+$O1403","v":{"v":0,"d":"0.00"}},{"$f":"(J$23*$P1403)+$O1403","v":{"v":0,"d":"0.00"}},{"v":0,"d":"0.00"},{"v":0,"d":"0.00"},{"v":0,"d":"0.00"},{"v":0,"d":"0.00"},{"v":0,"d":"0.00"},{"v":0,"d":"0.00"},{"v":0,"d":"0.00"},{"$f":"(R$23*$R1403)+$Q1403","v":{"v":0,"d":"0.00"}},{"v":0,"d":"0.00"},{"v":0,"d":"0.00"},{"v":0,"d":"0.00"},{"v":0,"d":"0.00"},{"v":0,"d":"0.00"},{"v":0,"d":"0.00"},{"v":0,"d":"0.00"},{"v":0,"d":"0.00"},{"v":0,"d":"0.00"}]
[]
[{"$nulls":6},"Adjusted NOx Emission Factor",null,{"$f":"I1407","v":"Electric"}]
[{"$nulls":7},{"$f":"H1408","v":0},{"$f":"I1408","v":1},2,3,4,5,6,7,8,9,10,11,12,13,14,15,16,17,18,19]
[{"$nulls":5},"NO BRT",{"$f":"G1409","v":"Cars"},{"$f":"H1409+(H1409*H815)","v":0},{"$f":"I1409+(I1409*I815)","v":0},0,0,0,0,0,0,0,0,0,0,0,0,0,0,0,0,0,0]
[{"$nulls":6},{"$f":"G1410","v":"2-wheeler"},{"$f":"H1410+(H1410*H816)","v":0},0,0,0,0,0,0,0,0,0,0,0,0,0,0,0,0,0,0,0]
[{"$nulls":6},"Taxi",{"$f":"H1411+(H1411*H817)","v":0},0,0,0,0,0,0,0,0,0,0,0,0,0,0,0,0,0,0,0]
[{"$nulls":6},"",{"$f":"H1412+(H1412*H818)","v":0},0,0,0,0,0,0,0,0,0,0,0,0,0,0,0,0,0,0,0]
[{"$nulls":6},"",{"$f":"H1413+(H1413*H819)","v":0},0,0,0,0,0,0,0,0,0,0,0,0,0,0,0,0,0,0,0]
[{"$nulls":6},"3-wheeler",{"$f":"H1414+(H1414*H820)","v":0},0,0,0,0,0,0,0,0,0,0,0,0,0,0,0,0,0,0,0]
[{"$nulls":6},"Bus",{"$f":"H1415+(H1415*H821)","v":0},0,0,0,0,0,0,0,0,0,0,0,0,0,0,0,0,0,0,0]
[{"$nulls":6},"Mini-bus",{"$f":"H1416+(H1416*H822)","v":0},0,0,0,0,0,0,0,0,0,0,0,0,0,0,0,0,0,0,0]
[{"$nulls":6},"",{"$f":"H1417+(H1417*H823)","v":0},0,0,0,0,0,0,0,0,0,0,0,0,0,0,0,0,0,0,0]
[{"$nulls":6},"",{"$f":"H1418+(H1418*H824)","v":0},0,0,0,0,0,0,0,0,0,0,0,0,0,0,0,0,0,0,0]
[{"$nulls":6},"BRT",{"$f":"H1419+(H1419*H825)","v":0},0,0,0,0,0,0,0,0,0,0,0,0,0,0,0,0,0,0,0]
[]
[]
[{"$nulls":6},{"$f":"IF('IF Factors'!J290=\"\",\"not included\",CONCATENATE(\"NOx Emission Factor \",'IF Factors'!J290))","v":"not included"}]
[]
[{"$nulls":10},"g/vkm",{"$nulls":3},"1st",null,"2nd"]
[{"$nulls":10},{"$f":"K1392","v":0},{"$f":"L1392","v":9},{"$f":"M1392","v":19},null,"intercept","slope","intercept","slope",null,{"$f":"K1439","v":0},{"$f":"L1439","v":9},{"$f":"M1439","v":19},null,"1st","2nd"]
[{"$nulls":5},"NO BRT",{"$f":"G1423","v":"Cars"},{"$nulls":3},{"$f":"'IF Factors'!BJ106","v":0},{"$f":"OFFSET('IF Factors'!BJ106,0,5)","v":0},{"$f":"OFFSET('IF Factors'!BJ106,0,10)","v":0},null,{"$f":"INTERCEPT(K1440:L1440,$K$7:$L$7)","v":0},{"$f":"SLOPE(K1440:L1440,$K$7:$L$7)","v":0},{"$f":"INTERCEPT(L1440:M1440,$L$7:$M$7)","v":0},{"$f":"SLOPE(L1440:M1440,$L$7:$M$7)","v":0},null,{"$f":"IF(K1440<>0,0,1)","v":1},{"$f":"IF(L1440<>0,0,1)","v":1},{"$f":"IF(M1440<>0,0,1)","v":1},null,{"$f":"IF(T1440+U1440=1,1,0)","v":0},{"$f":"IF(U1440+V1440=1,1,0)","v":0}]
[{"$nulls":6},{"$f":"G1424","v":"2-wheeler"},{"$nulls":3},{"$f":"'IF Factors'!BJ107","v":0},{"$f":"OFFSET('IF Factors'!BJ107,0,5)","v":0},{"$f":"OFFSET('IF Factors'!BJ107,0,10)","v":0},null,{"$f":"INTERCEPT(K1441:L1441,$K$7:$L$7)","v":0},{"$f":"SLOPE(K1441:L1441,$K$7:$L$7)","v":0},{"$f":"INTERCEPT(L1441:M1441,$L$7:$M$7)","v":0},{"$f":"SLOPE(L1441:M1441,$L$7:$M$7)","v":0},null,{"$f":"IF(K1441<>0,0,1)","v":1},{"$f":"IF(L1441<>0,0,1)","v":1},{"$f":"IF(M1441<>0,0,1)","v":1},null,{"$f":"IF(T1441+U1441=1,1,0)","v":0},0]
[{"$nulls":6},"Taxi",{"$nulls":3},{"$f":"'IF Factors'!BJ108","v":0},{"$f":"OFFSET('IF Factors'!BJ108,0,5)","v":0},{"$f":"OFFSET('IF Factors'!BJ108,0,10)","v":0},null,0,0,0,0,null,1,1,1,null,0,0]
[{"$nulls":6},"",{"$nulls":3},{"$f":"'IF Factors'!BJ109","v":0},{"$f":"OFFSET('IF Factors'!BJ109,0,5)","v":0},{"$f":"OFFSET('IF Factors'!BJ109,0,10)","v":0},null,0,0,0,0,null,1,1,1,null,0,0]
[{"$nulls":6},"",{"$nulls":3},{"$f":"'IF Factors'!BJ110","v":0},{"$f":"OFFSET('IF Factors'!BJ110,0,5)","v":0},{"$f":"OFFSET('IF Factors'!BJ110,0,10)","v":0},null,0,0,0,0,null,1,1,1,null,0,0]
[{"$nulls":6},"3-wheeler",{"$nulls":3},{"$f":"'IF Factors'!BJ111","v":0},{"$f":"OFFSET('IF Factors'!BJ111,0,5)","v":0},{"$f":"OFFSET('IF Factors'!BJ111,0,10)","v":0},null,0,0,0,0,null,1,1,1,null,0,0]
[{"$nulls":6},"Bus",{"$nulls":3},{"$f":"'IF Factors'!BJ112","v":0},{"$f":"OFFSET('IF Factors'!BJ112,0,5)","v":0},{"$f":"OFFSET('IF Factors'!BJ112,0,10)","v":0},null,0,0,0,0,null,1,1,1,null,0,0]
[{"$nulls":6},"Mini-bus",{"$nulls":3},{"$f":"'IF Factors'!BJ113","v":0},{"$f":"OFFSET('IF Factors'!BJ113,0,5)","v":0},{"$f":"OFFSET('IF Factors'!BJ113,0,10)","v":0},null,0,0,0,0,null,1,1,1,null,0,0]
[{"$nulls":6},"",{"$nulls":3},{"$f":"'IF Factors'!BJ114","v":0},{"$f":"OFFSET('IF Factors'!BJ114,0,5)","v":0},{"$f":"OFFSET('IF Factors'!BJ114,0,10)","v":0},null,0,0,0,0,null,1,1,1,null,0,0]
[{"$nulls":6},"",{"$nulls":3},{"$f":"'IF Factors'!BJ115","v":0},{"$f":"OFFSET('IF Factors'!BJ115,0,5)","v":0},{"$f":"OFFSET('IF Factors'!BJ115,0,10)","v":0},null,0,0,0,0,null,1,1,1,null,0,0]
[{"$nulls":6},"BRT",{"$nulls":3},{"$f":"'IF Factors'!BJ116","v":0},{"$f":"OFFSET('IF Factors'!BJ116,0,5)","v":0},{"$f":"OFFSET('IF Factors'!BJ116,0,10)","v":0},null,0,0,0,0,null,1,1,1,null,0,0]
[]
[]
[]
[{"$nulls":6},"NOx Emission Factor"]
[{"$nulls":7},{"$f":"H1422","v":0},{"$f":"I1422","v":1},2,3,4,5,6,7,8,9,10,11,12,13,14,15,16,17,18,19]
[{"$nulls":5},"NO BRT",{"$f":"G1423","v":"Cars"},{"$f":"K1440","v":{"v":0,"d":"0.00"}},{"$f":"(I$23*$P1440)+$O1440","v":{"v":0,"d":"0.00"}},{"$f":"(J$23*$P1440)+$O1440","v":{"v":0,"d":"0.00"}},{"v":0,"d":"0.00"},{"v":0,"d":"0.00"},{"v":0,"d":"0.00"},{"v":0,"d":"0.00"},{"v":0,"d":"0.00"},{"v":0,"d":"0.00"},{"$f":"L1440","v":{"v":0,"d":"0.00"}},{"$f":"(R$23*$R1440)+$Q1440","v":{"v":0,"d":"0.00"}},{"$f":"(S$23*$R1440)+$Q1440","v":{"v":0,"d":"0.00"}},{"v":0,"d":"0.00"},{"v":0,"d":"0.00"},{"v":0,"d":"0.00"},{"v":0,"d":"0.00"},{"v":0,"d":"0.00"},{"v":0,"d":"0.00"},{"v":0,"d":"0.00"},{"$f":"M1440","v":{"v":0,"d":"0.00"}}]
[{"$nulls":6},{"$f":"G1424","v":"2-wheeler"},{"$f":"K1441","v":{"v":0,"d":"0.00"}},{"$f":"(I$23*$P1441)+$O1441","v":{"v":0,"d":"0.00"}},{"v":0,"d":"0.00"},{"v":0,"d":"0.00"},{"v":0,"d":"0.00"},{"v":0,"d":"0.00"},{"v":0,"d":"0.00"},{"v":0,"d":"0.00"},{"v":0,"d":"0.00"},{"$f":"L1441","v":{"v":0,"d":"0.00"}},{"$f":"(R$23*$R1441)+$Q1441","v":{"v":0,"d":"0.00"}},{"v":0,"d":"0.00"},{"v":0,"d":"0.00"},{"v":0,"d":"0.00"},{"v":0,"d":"0.00"},{"v":0,"d":"0.00"},{"v":0,"d":"0.00"},{"v":0,"d":"0.00"},{"v":0,"d":"0.00"},{"$f":"M1441","v":{"v":0,"d":"0.00"}}]
[{"$nulls":6},"Taxi",{"v":0,"d":"0.00"},{"$f":"(I$23*$P1442)+$O1442","v":{"v":0,"d":"0.00"}},{"v":0,"d":"0.00"},{"v":0,"d":"0.00"},{"v":0,"d":"0.00"},{"v":0,"d":"0.00"},{"v":0,"d":"0.00"},{"v":0,"d":"0.00"},{"v":0,"d":"0.00"},{"v":0,"d":"0.00"},{"$f":"(R$23*$R1442)+$Q1442","v":{"v":0,"d":"0.00"}},{"v":0,"d":"0.00"},{"v":0,"d":"0.00"},{"v":0,"d":"0.00"},{"v":0,"d":"0.00"},{"v":0,"d":"0.00"},{"v":0,"d":"0.00"},{"v":0,"d":"0.00"},{"v":0,"d":"0.00"},{"v":0,"d":"0.00"}]
[{"$nulls":6},"",{"v":0,"d":"0.00"},{"$f":"(I$23*$P1443)+$O1443","v":{"v":0,"d":"0.00"}},{"v":0,"d":"0.00"},{"v":0,"d":"0.00"},{"v":0,"d":"0.00"},{"v":0,"d":"0.00"},{"v":0,"d":"0.00"},{"v":0,"d":"0.00"},{"v":0,"d":"0.00"},{"v":0,"d":"0.00"},{"$f":"(R$23*$R1443)+$Q1443","v":{"v":0,"d":"0.00"}},{"v":0,"d":"0.00"},{"v":0,"d":"0.00"},{"v":0,"d":"0.00"},{"v":0,"d":"0.00"},{"v":0,"d":"0.00"},{"v":0,"d":"0.00"},{"v":0,"d":"0.00"},{"v":0,"d":"0.00"},{"v":0,"d":"0.00"}]
[{"$nulls":6},"",{"v":0,"d":"0.00"},{"$f":"(I$23*$P1444)+$O1444","v":{"v":0,"d":"0.00"}},{"v":0,"d":"0.00"},{"v":0,"d":"0.00"},{"v":0,"d":"0.00"},{"v":0,"d":"0.00"},{"v":0,"d":"0.00"},{"v":0,"d":"0.00"},{"v":0,"d":"0.00"},{"v":0,"d":"0.00"},{"$f":"(R$23*$R1444)+$Q1444","v":{"v":0,"d":"0.00"}},{"v":0,"d":"0.00"},{"v":0,"d":"0.00"},{"v":0,"d":"0.00"},{"v":0,"d":"0.00"},{"v":0,"d":"0.00"},{"v":0,"d":"0.00"},{"v":0,"d":"0.00"},{"v":0,"d":"0.00"},{"v":0,"d":"0.00"}]
[{"$nulls":6},"3-wheeler",{"v":0,"d":"0.00"},{"$f":"(I$23*$P1445)+$O1445","v":{"v":0,"d":"0.00"}},{"v":0,"d":"0.00"},{"v":0,"d":"0.00"},{"v":0,"d":"0.00"},{"v":0,"d":"0.00"},{"v":0,"d":"0.00"},{"v":0,"d":"0.00"},{"v":0,"d":"0.00"},{"v":0,"d":"0.00"},{"$f":"(R$23*$R1445)+$Q1445","v":{"v":0,"d":"0.00"}},{"v":0,"d":"0.00"},{"v":0,"d":"0.00"},{"v":0,"d":"0.00"},{"v":0,"d":"0.00"},{"v":0,"d":"0.00"},{"v":0,"d":"0.00"},{"v":0,"d":"0.00"},{"v":0,"d":"0.00"},{"v":0,"d":"0.00"}]
[{"$nulls":6},"Bus",{"v":0,"d":"0.00"},{"$f":"(I$23*$P1446)+$O1446","v":{"v":0,"d":"0.00"}},{"v":0,"d":"0.00"},{"v":0,"d":"0.00"},{"v":0,"d":"0.00"},{"v":0,"d":"0.00"},{"v":0,"d":"0.00"},{"v":0,"d":"0.00"},{"v":0,"d":"0.00"},{"v":0,"d":"0.00"},{"$f":"(R$23*$R1446)+$Q1446","v":{"v":0,"d":"0.00"}},{"v":0,"d":"0.00"},{"v":0,"d":"0.00"},{"v":0,"d":"0.00"},{"v":0,"d":"0.00"},{"v":0,"d":"0.00"},{"v":0,"d":"0.00"},{"v":0,"d":"0.00"},{"v":0,"d":"0.00"},{"v":0,"d":"0.00"}]
[{"$nulls":6},"Mini-bus",{"v":0,"d":"0.00"},{"$f":"(I$23*$P1447)+$O1447","v":{"v":0,"d":"0.00"}},{"v":0,"d":"0.00"},{"v":0,"d":"0.00"},{"v":0,"d":"0.00"},{"v":0,"d":"0.00"},{"v":0,"d":"0.00"},{"v":0,"d":"0.00"},{"v":0,"d":"0.00"},{"v":0,"d":"0.00"},{"$f":"(R$23*$R1447)+$Q1447","v":{"v":0,"d":"0.00"}},{"v":0,"d":"0.00"},{"v":0,"d":"0.00"},{"v":0,"d":"0.00"},{"v":0,"d":"0.00"},{"v":0,"d":"0.00"},{"v":0,"d":"0.00"},{"v":0,"d":"0.00"},{"v":0,"d":"0.00"},{"v":0,"d":"0.00"}]
[{"$nulls":6},"",{"v":0,"d":"0.00"},{"$f":"(I$23*$P1448)+$O1448","v":{"v":0,"d":"0.00"}},{"v":0,"d":"0.00"},{"v":0,"d":"0.00"},{"v":0,"d":"0.00"},{"v":0,"d":"0.00"},{"v":0,"d":"0.00"},{"v":0,"d":"0.00"},{"v":0,"d":"0.00"},{"v":0,"d":"0.00"},{"$f":"(R$23*$R1448)+$Q1448","v":{"v":0,"d":"0.00"}},{"v":0,"d":"0.00"},{"v":0,"d":"0.00"},{"v":0,"d":"0.00"},{"v":0,"d":"0.00"},{"v":0,"d":"0.00"},{"v":0,"d":"0.00"},{"v":0,"d":"0.00"},{"v":0,"d":"0.00"},{"v":0,"d":"0.00"}]
[{"$nulls":6},"",{"v":0,"d":"0.00"},{"$f":"(I$23*$P1449)+$O1449","v":{"v":0,"d":"0.00"}},{"v":0,"d":"0.00"},{"v":0,"d":"0.00"},{"v":0,"d":"0.00"},{"v":0,"d":"0.00"},{"v":0,"d":"0.00"},{"v":0,"d":"0.00"},{"v":0,"d":"0.00"},{"v":0,"d":"0.00"},{"$f":"(R$23*$R1449)+$Q1449","v":{"v":0,"d":"0.00"}},{"v":0,"d":"0.00"},{"v":0,"d":"0.00"},{"v":0,"d":"0.00"},{"v":0,"d":"0.00"},{"v":0,"d":"0.00"},{"v":0,"d":"0.00"},{"v":0,"d":"0.00"},{"v":0,"d":"0.00"},{"v":0,"d":"0.00"}]
[{"$nulls":6},"BRT",{"v":0,"d":"0.00"},{"$f":"(I$23*$P1450)+$O1450","v":{"v":0,"d":"0.00"}},{"v":0,"d":"0.00"},{"v":0,"d":"0.00"},{"v":0,"d":"0.00"},{"v":0,"d":"0.00"},{"v":0,"d":"0.00"},{"v":0,"d":"0.00"},{"v":0,"d":"0.00"},{"v":0,"d":"0.00"},{"$f":"(R$23*$R1450)+$Q1450","v":{"v":0,"d":"0.00"}},{"v":0,"d":"0.00"},{"v":0,"d":"0.00"},{"v":0,"d":"0.00"},{"v":0,"d":"0.00"},{"v":0,"d":"0.00"},{"v":0,"d":"0.00"},{"v":0,"d":"0.00"},{"v":0,"d":"0.00"},{"v":0,"d":"0.00"}]
[]
[{"$nulls":6},"Adjusted NOx Emission Factor",null,{"$f":"I1454","v":0}]
[{"$nulls":7},{"$f":"H1455","v":0},{"$f":"I1455","v":1},2,3,4,5,6,7,8,9,10,11,12,13,14,15,16,17,18,19]
[{"$nulls":5},"NO BRT",{"$f":"G1456","v":"Cars"},{"$f":"H1456+(H1456*H815)","v":0},{"$f":"I1456+(I1456*I815)","v":0},0,0,0,0,0,0,0,0,0,0,0,0,0,0,0,0,0,0]
[{"$nulls":6},{"$f":"G1457","v":"2-wheeler"},{"$f":"H1457+(H1457*H816)","v":0},0,0,0,0,0,0,0,0,0,0,0,0,0,0,0,0,0,0,0]
[{"$nulls":6},"Taxi",{"$f":"H1458+(H1458*H817)","v":0},0,0,0,0,0,0,0,0,0,0,0,0,0,0,0,0,0,0,0]
[{"$nulls":6},"",{"$f":"H1459+(H1459*H818)","v":0},0,0,0,0,0,0,0,0,0,0,0,0,0,0,0,0,0,0,0]
[{"$nulls":6},"",{"$f":"H1460+(H1460*H819)","v":0},0,0,0,0,0,0,0,0,0,0,0,0,0,0,0,0,0,0,0]
[{"$nulls":6},"3-wheeler",{"$f":"H1461+(H1461*H820)","v":0},0,0,0,0,0,0,0,0,0,0,0,0,0,0,0,0,0,0,0]
[{"$nulls":6},"Bus",{"$f":"H1462+(H1462*H821)","v":0},0,0,0,0,0,0,0,0,0,0,0,0,0,0,0,0,0,0,0]
[{"$nulls":6},"Mini-bus",{"$f":"H1463+(H1463*H822)","v":0},0,0,0,0,0,0,0,0,0,0,0,0,0,0,0,0,0,0,0]
[{"$nulls":6},"",{"$f":"H1464+(H1464*H823)","v":0},0,0,0,0,0,0,0,0,0,0,0,0,0,0,0,0,0,0,0]
[{"$nulls":6},"",{"$f":"H1465+(H1465*H824)","v":0},0,0,0,0,0,0,0,0,0,0,0,0,0,0,0,0,0,0,0]
[{"$nulls":6},"BRT",{"$f":"H1466+(H1466*H825)","v":0},0,0,0,0,0,0,0,0,0,0,0,0,0,0,0,0,0,0,0]
[]
[]
[{"$nulls":6},"CO2 Emission Factor Gasoline"]
[]
[{"$nulls":10},"g/UNIT OF CONSUMPTION",{"$nulls":3},"1st",null,"2nd"]
[{"$nulls":10},{"$f":"K7","v":0},9,19,null,"intercept","slope","intercept","slope",null,{"$f":"K1486","v":0},{"$f":"L1486","v":9},{"$f":"M1486","v":19},null,"1st","2nd"]
[{"$nulls":5},"NO BRT",{"$f":"G1470","v":"Cars"},{"$nulls":3},{"$f":"'IF Factors'!CK31","v":0},{"$f":"OFFSET('IF Factors'!CK31,0,5)","v":0},{"$f":"OFFSET('IF Factors'!CK31,0,10)","v":0},null,{"$f":"INTERCEPT(K1487:L1487,$K$7:$L$7)","v":0},{"$f":"SLOPE(K1487:L1487,$K$7:$L$7)","v":0},{"$f":"INTERCEPT(L1487:M1487,$L$7:$M$7)","v":0},{"$f":"SLOPE(L1487:M1487,$L$7:$M$7)","v":0},null,{"$f":"IF(K1487<>0,0,1)","v":1},{"$f":"IF(L1487<>0,0,1)","v":1},{"$f":"IF(M1487<>0,0,1)","v":1},null,{"$f":"IF(T1487+U1487=1,1,0)","v":0},{"$f":"IF(U1487+V1487=1,1,0)","v":0}]
[{"$nulls":6},{"$f":"G1471","v":"2-wheeler"},{"$nulls":3},{"$f":"'IF Factors'!CK32","v":0},{"$f":"OFFSET('IF Factors'!CK32,0,5)","v":0},{"$f":"OFFSET('IF Factors'!CK32,0,10)","v":0},null,{"$f":"INTERCEPT(K1488:L1488,$K$7:$L$7)","v":0},{"$f":"SLOPE(K1488:L1488,$K$7:$L$7)","v":0},{"$f":"INTERCEPT(L1488:M1488,$L$7:$M$7)","v":0},{"$f":"SLOPE(L1488:M1488,$L$7:$M$7)","v":0},null,{"$f":"IF(K1488<>0,0,1)","v":1},{"$f":"IF(L1488<>0,0,1)","v":1},{"$f":"IF(M1488<>0,0,1)","v":1},null,{"$f":"IF(T1488+U1488=1,1,0)","v":0},0]
[{"$nulls":6},"Taxi",{"$nulls":3},{"$f":"'IF Factors'!CK33","v":0},{"$f":"OFFSET('IF Factors'!CK33,0,5)","v":0},{"$f":"OFFSET('IF Factors'!CK33,0,10)","v":0},null,0,0,0,0,null,1,1,1,null,0,0]
[{"$nulls":6},"",{"$nulls":3},{"$f":"'IF Factors'!CK34","v":0},{"$f":"OFFSET('IF Factors'!CK34,0,5)","v":0},{"$f":"OFFSET('IF Factors'!CK34,0,10)","v":0},null,0,0,0,0,null,1,1,1,null,0,0]
[{"$nulls":6},"",{"$nulls":3},{"$f":"'IF Factors'!CK35","v":0},{"$f":"OFFSET('IF Factors'!CK35,0,5)","v":0},{"$f":"OFFSET('IF Factors'!CK35,0,10)","v":0},null,0,0,0,0,null,1,1,1,null,0,0]
[{"$nulls":6},"3-wheeler",{"$nulls":3},{"$f":"'IF Factors'!CK36","v":0},{"$f":"OFFSET('IF Factors'!CK36,0,5)","v":0},{"$f":"OFFSET('IF Factors'!CK36,0,10)","v":0},null,0,0,0,0,null,1,1,1,null,0,0]
[{"$nulls":6},"Bus",{"$nulls":3},{"$f":"'IF Factors'!CK37","v":0},{"$f":"OFFSET('IF Factors'!CK37,0,5)","v":0},{"$f":"OFFSET('IF Factors'!CK37,0,10)","v":0},null,0,0,0,0,null,1,1,1,null,0,0]
[{"$nulls":6},"Mini-bus",{"$nulls":3},{"$f":"'IF Factors'!CK38","v":0},{"$f":"OFFSET('IF Factors'!CK38,0,5)","v":0},{"$f":"OFFSET('IF Factors'!CK38,0,10)","v":0},null,0,0,0,0,null,1,1,1,null,0,0]
[{"$nulls":6},"",{"$nulls":3},{"$f":"'IF Factors'!CK39","v":0},{"$f":"OFFSET('IF Factors'!CK39,0,5)","v":0},{"$f":"OFFSET('IF Factors'!CK39,0,10)","v":0},null,0,0,0,0,null,1,1,1,null,0,0]
[{"$nulls":6},"",{"$nulls":3},{"$f":"'IF Factors'!CK40","v":0},{"$f":"OFFSET('IF Factors'!CK40,0,5)","v":0},{"$f":"OFFSET('IF Factors'!CK40,0,10)","v":0},null,0,0,0,0,null,1,1,1,null,0,0]
[{"$nulls":6},"BRT",{"$nulls":3},{"$f":"'IF Factors'!CK41","v":0},{"$f":"OFFSET('IF Factors'!CK41,0,5)","v":0},{"$f":"OFFSET('IF Factors'!CK41,0,10)","v":0},null,0,0,0,0,null,1,1,1,null,0,0]
[]
[]
[]
[{"$nulls":6},"CO2 Emission Factor",null,"Gasoline"]
[{"$nulls":7},{"$f":"H1469","v":0},{"$f":"I1469","v":1},2,3,4,5,6,7,8,9,10,11,12,13,14,15,16,17,18,19]
[{"$nulls":5},"NO BRT",{"$f":"G1470","v":"Cars"},{"$f":"K1487","v":{"v":0,"d":"0.00"}},{"$f":"(I$23*$P1487)+$O1487","v":{"v":0,"d":"0.00"}},{"$f":"(J$23*$P1487)+$O1487","v":{"v":0,"d":"0.00"}},{"v":0,"d":"0.00"},{"v":0,"d":"0.00"},{"v":0,"d":"0.00"},{"v":0,"d":"0.00"},{"v":0,"d":"0.00"},{"v":0,"d":"0.00"},{"$f":"L1487","v":{"v":0,"d":"0.00"}},{"$f":"(R$23*$R1487)+$Q1487","v":{"v":0,"d":"0.00"}},{"$f":"(S$23*$R1487)+$Q1487","v":{"v":0,"d":"0.00"}},{"v":0,"d":"0.00"},{"v":0,"d":"0.00"},{"v":0,"d":"0.00"},{"v":0,"d":"0.00"},{"v":0,"d":"0.00"},{"v":0,"d":"0.00"},{"v":0,"d":"0.00"},{"$f":"M1487","v":{"v":0,"d":"0.00"}}]
[{"$nulls":6},{"$f":"G1471","v":"2-wheeler"},{"$f":"K1488","v":{"v":0,"d":"0.00"}},{"$f":"(I$23*$P1488)+$O1488","v":{"v":0,"d":"0.00"}},{"v":0,"d":"0.00"},{"v":0,"d":"0.00"},{"v":0,"d":"0.00"},{"v":0,"d":"0.00"},{"v":0,"d":"0.00"},{"v":0,"d":"0.00"},{"v":0,"d":"0.00"},{"$f":"L1488","v":{"v":0,"d":"0.00"}},{"$f":"(R$23*$R1488)+$Q1488","v":{"v":0,"d":"0.00"}},{"v":0,"d":"0.00"},{"v":0,"d":"0.00"},{"v":0,"d":"0.00"},{"v":0,"d":"0.00"},{"v":0,"d":"0.00"},{"v":0,"d":"0.00"},{"v":0,"d":"0.00"},{"v":0,"d":"0.00"},{"$f":"M1488","v":{"v":0,"d":"0.00"}}]
[{"$nulls":6},"Taxi",{"v":0,"d":"0.00"},{"$f":"(I$23*$P1489)+$O1489","v":{"v":0,"d":"0.00"}},{"v":0,"d":"0.00"},{"v":0,"d":"0.00"},{"v":0,"d":"0.00"},{"v":0,"d":"0.00"},{"v":0,"d":"0.00"},{"v":0,"d":"0.00"},{"v":0,"d":"0.00"},{"v":0,"d":"0.00"},{"$f":"(R$23*$R1489)+$Q1489","v":{"v":0,"d":"0.00"}},{"v":0,"d":"0.00"},{"v":0,"d":"0.00"},{"v":0,"d":"0.00"},{"v":0,"d":"0.00"},{"v":0,"d":"0.00"},{"v":0,"d":"0.00"},{"v":0,"d":"0.00"},{"v":0,"d":"0.00"},{"v":0,"d":"0.00"}]
[{"$nulls":6},"",{"v":0,"d":"0.00"},{"$f":"(I$23*$P1490)+$O1490","v":{"v":0,"d":"0.00"}},{"v":0,"d":"0.00"},{"v":0,"d":"0.00"},{"v":0,"d":"0.00"},{"v":0,"d":"0.00"},{"v":0,"d":"0.00"},{"v":0,"d":"0.00"},{"v":0,"d":"0.00"},{"v":0,"d":"0.00"},{"$f":"(R$23*$R1490)+$Q1490","v":{"v":0,"d":"0.00"}},{"v":0,"d":"0.00"},{"v":0,"d":"0.00"},{"v":0,"d":"0.00"},{"v":0,"d":"0.00"},{"v":0,"d":"0.00"},{"v":0,"d":"0.00"},{"v":0,"d":"0.00"},{"v":0,"d":"0.00"},{"v":0,"d":"0.00"}]
[{"$nulls":6},"",{"v":0,"d":"0.00"},{"$f":"(I$23*$P1491)+$O1491","v":{"v":0,"d":"0.00"}},{"v":0,"d":"0.00"},{"v":0,"d":"0.00"},{"v":0,"d":"0.00"},{"v":0,"d":"0.00"},{"v":0,"d":"0.00"},{"v":0,"d":"0.00"},{"v":0,"d":"0.00"},{"v":0,"d":"0.00"},{"$f":"(R$23*$R1491)+$Q1491","v":{"v":0,"d":"0.00"}},{"v":0,"d":"0.00"},{"v":0,"d":"0.00"},{"v":0,"d":"0.00"},{"v":0,"d":"0.00"},{"v":0,"d":"0.00"},{"v":0,"d":"0.00"},{"v":0,"d":"0.00"},{"v":0,"d":"0.00"},{"v":0,"d":"0.00"}]
[{"$nulls":6},"3-wheeler",{"v":0,"d":"0.00"},{"$f":"(I$23*$P1492)+$O1492","v":{"v":0,"d":"0.00"}},{"v":0,"d":"0.00"},{"v":0,"d":"0.00"},{"v":0,"d":"0.00"},{"v":0,"d":"0.00"},{"v":0,"d":"0.00"},{"v":0,"d":"0.00"},{"v":0,"d":"0.00"},{"v":0,"d":"0.00"},{"$f":"(R$23*$R1492)+$Q1492","v":{"v":0,"d":"0.00"}},{"v":0,"d":"0.00"},{"v":0,"d":"0.00"},{"v":0,"d":"0.00"},{"v":0,"d":"0.00"},{"v":0,"d":"0.00"},{"v":0,"d":"0.00"},{"v":0,"d":"0.00"},{"v":0,"d":"0.00"},{"v":0,"d":"0.00"}]
[{"$nulls":6},"Bus",{"v":0,"d":"0.00"},{"$f":"(I$23*$P1493)+$O1493","v":{"v":0,"d":"0.00"}},{"v":0,"d":"0.00"},{"v":0,"d":"0.00"},{"v":0,"d":"0.00"},{"v":0,"d":"0.00"},{"v":0,"d":"0.00"},{"v":0,"d":"0.00"},{"v":0,"d":"0.00"},{"v":0,"d":"0.00"},{"$f":"(R$23*$R1493)+$Q1493","v":{"v":0,"d":"0.00"}},{"v":0,"d":"0.00"},{"v":0,"d":"0.00"},{"v":0,"d":"0.00"},{"v":0,"d":"0.00"},{"v":0,"d":"0.00"},{"v":0,"d":"0.00"},{"v":0,"d":"0.00"},{"v":0,"d":"0.00"},{"v":0,"d":"0.00"}]
[{"$nulls":6},"Mini-bus",{"v":0,"d":"0.00"},{"$f":"(I$23*$P1494)+$O1494","v":{"v":0,"d":"0.00"}},{"v":0,"d":"0.00"},{"v":0,"d":"0.00"},{"v":0,"d":"0.00"},{"v":0,"d":"0.00"},{"v":0,"d":"0.00"},{"v":0,"d":"0.00"},{"v":0,"d":"0.00"},{"v":0,"d":"0.00"},{"$f":"(R$23*$R1494)+$Q1494","v":{"v":0,"d":"0.00"}},{"v":0,"d":"0.00"},{"v":0,"d":"0.00"},{"v":0,"d":"0.00"},{"v":0,"d":"0.00"},{"v":0,"d":"0.00"},{"v":0,"d":"0.00"},{"v":0,"d":"0.00"},{"v":0,"d":"0.00"},{"v":0,"d":"0.00"}]
[{"$nulls":6},"",{"v":0,"d":"0.00"},{"$f":"(I$23*$P1495)+$O1495","v":{"v":0,"d":"0.00"}},{"v":0,"d":"0.00"},{"v":0,"d":"0.00"},{"v":0,"d":"0.00"},{"v":0,"d":"0.00"},{"v":0,"d":"0.00"},{"v":0,"d":"0.00"},{"v":0,"d":"0.00"},{"v":0,"d":"0.00"},{"$f":"(R$23*$R1495)+$Q1495","v":{"v":0,"d":"0.00"}},{"v":0,"d":"0.00"},{"v":0,"d":"0.00"},{"v":0,"d":"0.00"},{"v":0,"d":"0.00"},{"v":0,"d":"0.00"},{"v":0,"d":"0.00"},{"v":0,"d":"0.00"},{"v":0,"d":"0.00"},{"v":0,"d":"0.00"}]
[{"$nulls":6},"",{"v":0,"d":"0.00"},{"$f":"(I$23*$P1496)+$O1496","v":{"v":0,"d":"0.00"}},{"v":0,"d":"0.00"},{"v":0,"d":"0.00"},{"v":0,"d":"0.00"},{"v":0,"d":"0.00"},{"v":0,"d":"0.00"},{"v":0,"d":"0.00"},{"v":0,"d":"0.00"},{"v":0,"d":"0.00"},{"$f":"(R$23*$R1496)+$Q1496","v":{"v":0,"d":"0.00"}},{"v":0,"d":"0.00"},{"v":0,"d":"0.00"},{"v":0,"d":"0.00"},{"v":0,"d":"0.00"},{"v":0,"d":"0.00"},{"v":0,"d":"0.00"},{"v":0,"d":"0.00"},{"v":0,"d":"0.00"},{"v":0,"d":"0.00"}]
[{"$nulls":6},"BRT",{"v":0,"d":"0.00"},{"$f":"(I$23*$P1497)+$O1497","v":{"v":0,"d":"0.00"}},{"v":0,"d":"0.00"},{"v":0,"d":"0.00"},{"v":0,"d":"0.00"},{"v":0,"d":"0.00"},{"v":0,"d":"0.00"},{"v":0,"d":"0.00"},{"v":0,"d":"0.00"},{"v":0,"d":"0.00"},{"$f":"(R$23*$R1497)+$Q1497","v":{"v":0,"d":"0.00"}},{"v":0,"d":"0.00"},{"v":0,"d":"0.00"},{"v":0,"d":"0.00"},{"v":0,"d":"0.00"},{"v":0,"d":"0.00"},{"v":0,"d":"0.00"},{"v":0,"d":"0.00"},{"v":0,"d":"0.00"},{"v":0,"d":"0.00"}]
[]
[{"$nulls":6},"Adjusted CO2 Emission Factor",null,{"$f":"I1501","v":"Gasoline"}]
[{"$nulls":7},{"$f":"H1502","v":0},{"$f":"I1502","v":1},2,3,4,5,6,7,8,9,10,11,12,13,14,15,16,17,18,19]
{"$rows_empty":13}
[{"$nulls":6},"CO2 Emission Factor Diesel"]
[]
[{"$nulls":10},"g/UNIT OF CONSUMPTION",{"$nulls":3},"1st",null,"2nd"]
[{"$nulls":10},{"$f":"K1486","v":0},{"$f":"L1486","v":9},{"$f":"M1486","v":19},null,"intercept","slope","intercept","slope",null,{"$f":"K1533","v":0},{"$f":"L1533","v":9},{"$f":"M1533","v":19},null,"1st","2nd"]
[{"$nulls":5},"NO BRT",{"$f":"G1503","v":"Cars"},{"$nulls":3},{"$f":"'IF Factors'!CK46","v":0},{"$f":"OFFSET('IF Factors'!CK46,0,5)","v":0},{"$f":"OFFSET('IF Factors'!CK46,0,10)","v":0},null,{"$f":"INTERCEPT(K1534:L1534,$K$7:$L$7)","v":0},{"$f":"SLOPE(K1534:L1534,$K$7:$L$7)","v":0},{"$f":"INTERCEPT(L1534:M1534,$L$7:$M$7)","v":0},{"$f":"SLOPE(L1534:M1534,$L$7:$M$7)","v":0},null,{"$f":"IF(K1534<>0,0,1)","v":1},{"$f":"IF(L1534<>0,0,1)","v":1},{"$f":"IF(M1534<>0,0,1)","v":1},null,{"$f":"IF(T1534+U1534=1,1,0)","v":0},{"$f":"IF(U1534+V1534=1,1,0)","v":0}]
[{"$nulls":6},{"$f":"G1504","v":"2-wheeler"},{"$nulls":3},{"$f":"'IF Factors'!CK47","v":0},{"$f":"OFFSET('IF Factors'!CK47,0,5)","v":0},{"$f":"OFFSET('IF Factors'!CK47,0,10)","v":0},null,{"$f":"INTERCEPT(K1535:L1535,$K$7:$L$7)","v":0},{"$f":"SLOPE(K1535:L1535,$K$7:$L$7)","v":0},{"$f":"INTERCEPT(L1535:M1535,$L$7:$M$7)","v":0},{"$f":"SLOPE(L1535:M1535,$L$7:$M$7)","v":0},null,{"$f":"IF(K1535<>0,0,1)","v":1},{"$f":"IF(L1535<>0,0,1)","v":1},{"$f":"IF(M1535<>0,0,1)","v":1},null,{"$f":"IF(T1535+U1535=1,1,0)","v":0},0]
[{"$nulls":6},"Taxi",{"$nulls":3},{"$f":"'IF Factors'!CK48","v":0},{"$f":"OFFSET('IF Factors'!CK48,0,5)","v":0},{"$f":"OFFSET('IF Factors'!CK48,0,10)","v":0},null,0,0,0,0,null,1,1,1,null,0,0]
[{"$nulls":6},"",{"$nulls":3},{"$f":"'IF Factors'!CK49","v":0},{"$f":"OFFSET('IF Factors'!CK49,0,5)","v":0},{"$f":"OFFSET('IF Factors'!CK49,0,10)","v":0},null,0,0,0,0,null,1,1,1,null,0,0]
[{"$nulls":6},"",{"$nulls":3},{"$f":"'IF Factors'!CK50","v":0},{"$f":"OFFSET('IF Factors'!CK50,0,5)","v":0},{"$f":"OFFSET('IF Factors'!CK50,0,10)","v":0},null,0,0,0,0,null,1,1,1,null,0,0]
[{"$nulls":6},"3-wheeler",{"$nulls":3},{"$f":"'IF Factors'!CK51","v":0},{"$f":"OFFSET('IF Factors'!CK51,0,5)","v":0},{"$f":"OFFSET('IF Factors'!CK51,0,10)","v":0},null,0,0,0,0,null,1,1,1,null,0,0]
[{"$nulls":6},"Bus",{"$nulls":3},{"$f":"'IF Factors'!CK52","v":0},{"$f":"OFFSET('IF Factors'!CK52,0,5)","v":0},{"$f":"OFFSET('IF Factors'!CK52,0,10)","v":0},null,0,0,0,0,null,1,1,1,null,0,0]
[{"$nulls":6},"Mini-bus",{"$nulls":3},{"$f":"'IF Factors'!CK53","v":0},{"$f":"OFFSET('IF Factors'!CK53,0,5)","v":0},{"$f":"OFFSET('IF Factors'!CK53,0,10)","v":0},null,0,0,0,0,null,1,1,1,null,0,0]
[{"$nulls":6},"",{"$nulls":3},{"$f":"'IF Factors'!CK54","v":0},{"$f":"OFFSET('IF Factors'!CK54,0,5)","v":0},{"$f":"OFFSET('IF Factors'!CK54,0,10)","v":0},null,0,0,0,0,null,1,1,1,null,0,0]
[{"$nulls":6},"",{"$nulls":3},{"$f":"'IF Factors'!CK55","v":0},{"$f":"OFFSET('IF Factors'!CK55,0,5)","v":0},{"$f":"OFFSET('IF Factors'!CK55,0,10)","v":0},null,0,0,0,0,null,1,1,1,null,0,0]
[{"$nulls":6},"BRT",{"$nulls":3},{"$f":"'IF Factors'!CK56","v":0},{"$f":"OFFSET('IF Factors'!CK56,0,5)","v":0},{"$f":"OFFSET('IF Factors'!CK56,0,10)","v":0},null,0,{"$f":"SLOPE(K1544:L1544,$K$7:$L$7)","v":0},0,{"$f":"SLOPE(L1544:M1544,$L$7:$M$7)","v":0},null,1,1,1,null,0,0]
[]
[]
[]
[{"$nulls":6},"CO2 Emission Factor",null,"Diesel"]
[{"$nulls":7},{"$f":"H1516","v":0},{"$f":"I1516","v":1},2,3,4,5,6,7,8,9,10,11,12,13,14,15,16,17,18,19]
[{"$nulls":5},"NO BRT",{"$f":"G1534","v":"Cars"},{"$f":"K1534","v":{"v":0,"d":"0.00"}},{"$f":"(I$23*$P1534)+$O1534","v":{"v":0,"d":"0.00"}},{"$f":"(J$23*$P1534)+$O1534","v":{"v":0,"d":"0.00"}},{"v":0,"d":"0.00"},{"v":0,"d":"0.00"},{"v":0,"d":"0.00"},{"v":0,"d":"0.00"},{"v":0,"d":"0.00"},{"v":0,"d":"0.00"},{"$f":"L1534","v":{"v":0,"d":"0.00"}},{"$f":"(R$23*$R1534)+$Q1534","v":{"v":0,"d":"0.00"}},{"$f":"(S$23*$R1534)+$Q1534","v":{"v":0,"d":"0.00"}},{"v":0,"d":"0.00"},{"v":0,"d":"0.00"},{"v":0,"d":"0.00"},{"v":0,"d":"0.00"},{"v":0,"d":"0.00"},{"v":0,"d":"0.00"},{"v":0,"d":"0.00"},{"$f":"M1534","v":{"v":0,"d":"0.00"}}]
[{"$nulls":6},{"$f":"G1535","v":"2-wheeler"},{"$f":"K1535","v":{"v":0,"d":"0.00"}},{"$f":"(I$23*$P1535)+$O1535","v":{"v":0,"d":"0.00"}},{"v":0,"d":"0.00"},{"v":0,"d":"0.00"},{"v":0,"d":"0.00"},{"v":0,"d":"0.00"},{"v":0,"d":"0.00"},{"v":0,"d":"0.00"},{"v":0,"d":"0.00"},{"$f":"L1535","v":{"v":0,"d":"0.00"}},{"$f":"(R$23*$R1535)+$Q1535","v":{"v":0,"d":"0.00"}},{"v":0,"d":"0.00"},{"v":0,"d":"0.00"},{"v":0,"d":"0.00"},{"v":0,"d":"0.00"},{"v":0,"d":"0.00"},{"v":0,"d":"0.00"},{"v":0,"d":"0.00"},{"v":0,"d":"0.00"},{"$f":"M1535","v":{"v":0,"d":"0.00"}}]
[{"$nulls":6},"Taxi",{"v":0,"d":"0.00"},{"$f":"(I$23*$P1536)+$O1536","v":{"v":0,"d":"0.00"}},{"v":0,"d":"0.00"},{"v":0,"d":"0.00"},{"v":0,"d":"0.00"},{"v":0,"d":"0.00"},{"v":0,"d":"0.00"},{"v":0,"d":"0.00"},{"v":0,"d":"0.00"},{"v":0,"d":"0.00"},{"$f":"(R$23*$R1536)+$Q1536","v":{"v":0,"d":"0.00"}},{"v":0,"d":"0.00"},{"v":0,"d":"0.00"},{"v":0,"d":"0.00"},{"v":0,"d":"0.00"},{"v":0,"d":"0.00"},{"v":0,"d":"0.00"},{"v":0,"d":"0.00"},{"v":0,"d":"0.00"},{"v":0,"d":"0.00"}]
[{"$nulls":6},"",{"v":0,"d":"0.00"},{"$f":"(I$23*$P1537)+$O1537","v":{"v":0,"d":"0.00"}},{"v":0,"d":"0.00"},{"v":0,"d":"0.00"},{"v":0,"d":"0.00"},{"v":0,"d":"0.00"},{"v":0,"d":"0.00"},{"v":0,"d":"0.00"},{"v":0,"d":"0.00"},{"v":0,"d":"0.00"},{"$f":"(R$23*$R1537)+$Q1537","v":{"v":0,"d":"0.00"}},{"v":0,"d":"0.00"},{"v":0,"d":"0.00"},{"v":0,"d":"0.00"},{"v":0,"d":"0.00"},{"v":0,"d":"0.00"},{"v":0,"d":"0.00"},{"v":0,"d":"0.00"},{"v":0,"d":"0.00"},{"v":0,"d":"0.00"}]
[{"$nulls":6},"",{"v":0,"d":"0.00"},{"$f":"(I$23*$P1538)+$O1538","v":{"v":0,"d":"0.00"}},{"v":0,"d":"0.00"},{"v":0,"d":"0.00"},{"v":0,"d":"0.00"},{"v":0,"d":"0.00"},{"v":0,"d":"0.00"},{"v":0,"d":"0.00"},{"v":0,"d":"0.00"},{"v":0,"d":"0.00"},{"$f":"(R$23*$R1538)+$Q1538","v":{"v":0,"d":"0.00"}},{"v":0,"d":"0.00"},{"v":0,"d":"0.00"},{"v":0,"d":"0.00"},{"v":0,"d":"0.00"},{"v":0,"d":"0.00"},{"v":0,"d":"0.00"},{"v":0,"d":"0.00"},{"v":0,"d":"0.00"},{"v":0,"d":"0.00"}]
[{"$nulls":6},"3-wheeler",{"v":0,"d":"0.00"},{"$f":"(I$23*$P1539)+$O1539","v":{"v":0,"d":"0.00"}},{"v":0,"d":"0.00"},{"v":0,"d":"0.00"},{"v":0,"d":"0.00"},{"v":0,"d":"0.00"},{"v":0,"d":"0.00"},{"v":0,"d":"0.00"},{"v":0,"d":"0.00"},{"v":0,"d":"0.00"},{"$f":"(R$23*$R1539)+$Q1539","v":{"v":0,"d":"0.00"}},{"v":0,"d":"0.00"},{"v":0,"d":"0.00"},{"v":0,"d":"0.00"},{"v":0,"d":"0.00"},{"v":0,"d":"0.00"},{"v":0,"d":"0.00"},{"v":0,"d":"0.00"},{"v":0,"d":"0.00"},{"v":0,"d":"0.00"}]
[{"$nulls":6},"Bus",{"v":0,"d":"0.00"},{"$f":"(I$23*$P1540)+$O1540","v":{"v":0,"d":"0.00"}},{"v":0,"d":"0.00"},{"v":0,"d":"0.00"},{"v":0,"d":"0.00"},{"v":0,"d":"0.00"},{"v":0,"d":"0.00"},{"v":0,"d":"0.00"},{"v":0,"d":"0.00"},{"v":0,"d":"0.00"},{"$f":"(R$23*$R1540)+$Q1540","v":{"v":0,"d":"0.00"}},{"v":0,"d":"0.00"},{"v":0,"d":"0.00"},{"v":0,"d":"0.00"},{"v":0,"d":"0.00"},{"v":0,"d":"0.00"},{"v":0,"d":"0.00"},{"v":0,"d":"0.00"},{"v":0,"d":"0.00"},{"v":0,"d":"0.00"}]
[{"$nulls":6},"Mini-bus",{"v":0,"d":"0.00"},{"$f":"(I$23*$P1541)+$O1541","v":{"v":0,"d":"0.00"}},{"v":0,"d":"0.00"},{"v":0,"d":"0.00"},{"v":0,"d":"0.00"},{"v":0,"d":"0.00"},{"v":0,"d":"0.00"},{"v":0,"d":"0.00"},{"v":0,"d":"0.00"},{"v":0,"d":"0.00"},{"$f":"(R$23*$R1541)+$Q1541","v":{"v":0,"d":"0.00"}},{"v":0,"d":"0.00"},{"v":0,"d":"0.00"},{"v":0,"d":"0.00"},{"v":0,"d":"0.00"},{"v":0,"d":"0.00"},{"v":0,"d":"0.00"},{"v":0,"d":"0.00"},{"v":0,"d":"0.00"},{"v":0,"d":"0.00"}]
[{"$nulls":6},"",{"v":0,"d":"0.00"},{"$f":"(I$23*$P1542)+$O1542","v":{"v":0,"d":"0.00"}},{"v":0,"d":"0.00"},{"v":0,"d":"0.00"},{"v":0,"d":"0.00"},{"v":0,"d":"0.00"},{"v":0,"d":"0.00"},{"v":0,"d":"0.00"},{"v":0,"d":"0.00"},{"v":0,"d":"0.00"},{"$f":"(R$23*$R1542)+$Q1542","v":{"v":0,"d":"0.00"}},{"v":0,"d":"0.00"},{"v":0,"d":"0.00"},{"v":0,"d":"0.00"},{"v":0,"d":"0.00"},{"v":0,"d":"0.00"},{"v":0,"d":"0.00"},{"v":0,"d":"0.00"},{"v":0,"d":"0.00"},{"v":0,"d":"0.00"}]
[{"$nulls":6},"",{"v":0,"d":"0.00"},{"$f":"(I$23*$P1543)+$O1543","v":{"v":0,"d":"0.00"}},{"v":0,"d":"0.00"},{"v":0,"d":"0.00"},{"v":0,"d":"0.00"},{"v":0,"d":"0.00"},{"v":0,"d":"0.00"},{"v":0,"d":"0.00"},{"v":0,"d":"0.00"},{"v":0,"d":"0.00"},{"$f":"(R$23*$R1543)+$Q1543","v":{"v":0,"d":"0.00"}},{"v":0,"d":"0.00"},{"v":0,"d":"0.00"},{"v":0,"d":"0.00"},{"v":0,"d":"0.00"},{"v":0,"d":"0.00"},{"v":0,"d":"0.00"},{"v":0,"d":"0.00"},{"v":0,"d":"0.00"},{"v":0,"d":"0.00"}]
[{"$nulls":6},"BRT",{"v":0,"d":"0.00"},{"$f":"(I$23*$P1544)+$O1544","v":{"v":0,"d":"0.00"}},{"v":0,"d":"0.00"},{"v":0,"d":"0.00"},{"v":0,"d":"0.00"},{"v":0,"d":"0.00"},{"v":0,"d":"0.00"},{"v":0,"d":"0.00"},{"v":0,"d":"0.00"},{"v":0,"d":"0.00"},{"$f":"(R$23*$R1544)+$Q1544","v":{"v":0,"d":"0.00"}},{"v":0,"d":"0.00"},{"v":0,"d":"0.00"},{"v":0,"d":"0.00"},{"v":0,"d":"0.00"},{"v":0,"d":"0.00"},{"v":0,"d":"0.00"},{"v":0,"d":"0.00"},{"v":0,"d":"0.00"},{"v":0,"d":"0.00"}]
[]
[{"$nulls":6},"Adjusted CO2 Emission Factor",null,{"$f":"I1548","v":"Diesel"}]
[{"$nulls":7},{"$f":"H1549","v":0},{"$f":"I1549","v":1},2,3,4,5,6,7,8,9,10,11,12,13,14,15,16,17,18,19]
[{"$nulls":5},"NO BRT"]
{"$rows_empty":12}
[{"$nulls":6},"CO2 Emission Factor LPG"]
[]
[{"$nulls":10},"g/UNIT OF CONSUMPTION",{"$nulls":3},"1st",null,"2nd"]
[{"$nulls":10},{"$f":"K1533","v":0},{"$f":"L1533","v":9},{"$f":"M1533","v":19},null,"intercept","slope","intercept","slope",null,{"$f":"K1580","v":0},{"$f":"L1580","v":9},{"$f":"M1580","v":19},null,"1st","2nd"]
[{"$nulls":5},"NO BRT",{"$f":"G1550","v":"Cars"},{"$nulls":3},{"$f":"'IF Factors'!CK61","v":0},{"$f":"OFFSET('IF Factors'!CK61,0,5)","v":0},{"$f":"OFFSET('IF Factors'!CK61,0,10)","v":0},null,{"$f":"INTERCEPT(K1581:L1581,$K$7:$L$7)","v":0},{"$f":"SLOPE(K1581:L1581,$K$7:$L$7)","v":0},{"$f":"INTERCEPT(L1581:M1581,$L$7:$M$7)","v":0},{"$f":"SLOPE(L1581:M1581,$L$7:$M$7)","v":0},null,{"$f":"IF(K1581<>0,0,1)","v":1},{"$f":"IF(L1581<>0,0,1)","v":1},{"$f":"IF(M1581<>0,0,1)","v":1},null,{"$f":"IF(T1581+U1581=1,1,0)","v":0},{"$f":"IF(U1581+V1581=1,1,0)","v":0}]
[{"$nulls":6},{"$f":"G1551","v":"2-wheeler"},{"$nulls":3},{"$f":"'IF Factors'!CK62","v":0},{"$f":"OFFSET('IF Factors'!CK62,0,5)","v":0},{"$f":"OFFSET('IF Factors'!CK62,0,10)","v":0},null,{"$f":"INTERCEPT(K1582:L1582,$K$7:$L$7)","v":0},{"$f":"SLOPE(K1582:L1582,$K$7:$L$7)","v":0},{"$f":"INTERCEPT(L1582:M1582,$L$7:$M$7)","v":0},{"$f":"SLOPE(L1582:M1582,$L$7:$M$7)","v":0},null,{"$f":"IF(K1582<>0,0,1)","v":1},{"$f":"IF(L1582<>0,0,1)","v":1},{"$f":"IF(M1582<>0,0,1)","v":1},null,{"$f":"IF(T1582+U1582=1,1,0)","v":0},0]
[{"$nulls":6},"Taxi",{"$nulls":3},{"$f":"'IF Factors'!CK63","v":0},{"$f":"OFFSET('IF Factors'!CK63,0,5)","v":0},{"$f":"OFFSET('IF Factors'!CK63,0,10)","v":0},null,0,0,0,0,null,1,1,1,null,0,0]
[{"$nulls":6},"",{"$nulls":3},{"$f":"'IF Factors'!CK64","v":0},{"$f":"OFFSET('IF Factors'!CK64,0,5)","v":0},{"$f":"OFFSET('IF Factors'!CK64,0,10)","v":0},null,0,0,0,0,null,1,1,1,null,0,0]
[{"$nulls":6},"",{"$nulls":3},{"$f":"'IF Factors'!CK65","v":0},{"$f":"OFFSET('IF Factors'!CK65,0,5)","v":0},{"$f":"OFFSET('IF Factors'!CK65,0,10)","v":0},null,0,0,0,0,null,1,1,1,null,0,0]
[{"$nulls":6},"3-wheeler",{"$nulls":3},{"$f":"'IF Factors'!CK66","v":0},{"$f":"OFFSET('IF Factors'!CK66,0,5)","v":0},{"$f":"OFFSET('IF Factors'!CK66,0,10)","v":0},null,0,0,0,0,null,1,1,1,null,0,0]
[{"$nulls":6},"Bus",{"$nulls":3},{"$f":"'IF Factors'!CK67","v":0},{"$f":"OFFSET('IF Factors'!CK67,0,5)","v":0},{"$f":"OFFSET('IF Factors'!CK67,0,10)","v":0},null,0,0,0,0,null,1,1,1,null,0,0]
[{"$nulls":6},"Mini-bus",{"$nulls":3},{"$f":"'IF Factors'!CK68","v":0},{"$f":"OFFSET('IF Factors'!CK68,0,5)","v":0},{"$f":"OFFSET('IF Factors'!CK68,0,10)","v":0},null,0,0,0,0,null,1,1,1,null,0,0]
[{"$nulls":6},"",{"$nulls":3},{"$f":"'IF Factors'!CK69","v":0},{"$f":"OFFSET('IF Factors'!CK69,0,5)","v":0},{"$f":"OFFSET('IF Factors'!CK69,0,10)","v":0},null,0,0,0,0,null,1,1,1,null,0,0]
[{"$nulls":6},"",{"$nulls":3},{"$f":"'IF Factors'!CK70","v":0},{"$f":"OFFSET('IF Factors'!CK70,0,5)","v":0},{"$f":"OFFSET('IF Factors'!CK70,0,10)","v":0},null,0,0,0,0,null,1,1,1,null,0,0]
[{"$nulls":6},"BRT",{"$nulls":3},{"$f":"'IF Factors'!CK71","v":0},{"$f":"OFFSET('IF Factors'!CK71,0,5)","v":0},{"$f":"OFFSET('IF Factors'!CK71,0,10)","v":0},null,0,0,0,0,null,1,1,1,null,0,0]
[]
[]
[]
[{"$nulls":6},"CO2 Emission Factor",null,"LPG"]
[{"$nulls":7},{"$f":"H1563","v":0},{"$f":"I1563","v":1},2,3,4,5,6,7,8,9,10,11,12,13,14,15,16,17,18,19]
[{"$nulls":5},"NO BRT",{"$f":"G1581","v":"Cars"},{"$f":"K1581","v":{"v":0,"d":"0.00"}},{"$f":"(I$23*$P1581)+$O1581","v":{"v":0,"d":"0.00"}},{"$f":"(J$23*$P1581)+$O1581","v":{"v":0,"d":"0.00"}},{"v":0,"d":"0.00"},{"v":0,"d":"0.00"},{"v":0,"d":"0.00"},{"v":0,"d":"0.00"},{"v":0,"d":"0.00"},{"v":0,"d":"0.00"},{"$f":"L1581","v":{"v":0,"d":"0.00"}},{"$f":"(R$23*$R1581)+$Q1581","v":{"v":0,"d":"0.00"}},{"$f":"(S$23*$R1581)+$Q1581","v":{"v":0,"d":"0.00"}},{"v":0,"d":"0.00"},{"v":0,"d":"0.00"},{"v":0,"d":"0.00"},{"v":0,"d":"0.00"},{"v":0,"d":"0.00"},{"v":0,"d":"0.00"},{"v":0,"d":"0.00"},{"$f":"M1581","v":{"v":0,"d":"0.00"}}]
[{"$nulls":6},{"$f":"G1582","v":"2-wheeler"},{"$f":"K1582","v":{"v":0,"d":"0.00"}},{"$f":"(I$23*$P1582)+$O1582","v":{"v":0,"d":"0.00"}},{"v":0,"d":"0.00"},{"v":0,"d":"0.00"},{"v":0,"d":"0.00"},{"v":0,"d":"0.00"},{"v":0,"d":"0.00"},{"v":0,"d":"0.00"},{"v":0,"d":"0.00"},{"$f":"L1582","v":{"v":0,"d":"0.00"}},{"$f":"(R$23*$R1582)+$Q1582","v":{"v":0,"d":"0.00"}},{"v":0,"d":"0.00"},{"v":0,"d":"0.00"},{"v":0,"d":"0.00"},{"v":0,"d":"0.00"},{"v":0,"d":"0.00"},{"v":0,"d":"0.00"},{"v":0,"d":"0.00"},{"v":0,"d":"0.00"},{"$f":"M1582","v":{"v":0,"d":"0.00"}}]
[{"$nulls":6},"Taxi",{"v":0,"d":"0.00"},{"$f":"(I$23*$P1583)+$O1583","v":{"v":0,"d":"0.00"}},{"v":0,"d":"0.00"},{"v":0,"d":"0.00"},{"v":0,"d":"0.00"},{"v":0,"d":"0.00"},{"v":0,"d":"0.00"},{"v":0,"d":"0.00"},{"v":0,"d":"0.00"},{"v":0,"d":"0.00"},{"$f":"(R$23*$R1583)+$Q1583","v":{"v":0,"d":"0.00"}},{"v":0,"d":"0.00"},{"v":0,"d":"0.00"},{"v":0,"d":"0.00"},{"v":0,"d":"0.00"},{"v":0,"d":"0.00"},{"v":0,"d":"0.00"},{"v":0,"d":"0.00"},{"v":0,"d":"0.00"},{"v":0,"d":"0.00"}]
[{"$nulls":6},"",{"v":0,"d":"0.00"},{"$f":"(I$23*$P1584)+$O1584","v":{"v":0,"d":"0.00"}},{"v":0,"d":"0.00"},{"v":0,"d":"0.00"},{"v":0,"d":"0.00"},{"v":0,"d":"0.00"},{"v":0,"d":"0.00"},{"v":0,"d":"0.00"},{"v":0,"d":"0.00"},{"v":0,"d":"0.00"},{"$f":"(R$23*$R1584)+$Q1584","v":{"v":0,"d":"0.00"}},{"v":0,"d":"0.00"},{"v":0,"d":"0.00"},{"v":0,"d":"0.00"},{"v":0,"d":"0.00"},{"v":0,"d":"0.00"},{"v":0,"d":"0.00"},{"v":0,"d":"0.00"},{"v":0,"d":"0.00"},{"v":0,"d":"0.00"}]
[{"$nulls":6},"",{"v":0,"d":"0.00"},{"$f":"(I$23*$P1585)+$O1585","v":{"v":0,"d":"0.00"}},{"v":0,"d":"0.00"},{"v":0,"d":"0.00"},{"v":0,"d":"0.00"},{"v":0,"d":"0.00"},{"v":0,"d":"0.00"},{"v":0,"d":"0.00"},{"v":0,"d":"0.00"},{"v":0,"d":"0.00"},{"$f":"(R$23*$R1585)+$Q1585","v":{"v":0,"d":"0.00"}},{"v":0,"d":"0.00"},{"v":0,"d":"0.00"},{"v":0,"d":"0.00"},{"v":0,"d":"0.00"},{"v":0,"d":"0.00"},{"v":0,"d":"0.00"},{"v":0,"d":"0.00"},{"v":0,"d":"0.00"},{"v":0,"d":"0.00"}]
[{"$nulls":6},"3-wheeler",{"v":0,"d":"0.00"},{"$f":"(I$23*$P1586)+$O1586","v":{"v":0,"d":"0.00"}},{"v":0,"d":"0.00"},{"v":0,"d":"0.00"},{"v":0,"d":"0.00"},{"v":0,"d":"0.00"},{"v":0,"d":"0.00"},{"v":0,"d":"0.00"},{"v":0,"d":"0.00"},{"v":0,"d":"0.00"},{"$f":"(R$23*$R1586)+$Q1586","v":{"v":0,"d":"0.00"}},{"v":0,"d":"0.00"},{"v":0,"d":"0.00"},{"v":0,"d":"0.00"},{"v":0,"d":"0.00"},{"v":0,"d":"0.00"},{"v":0,"d":"0.00"},{"v":0,"d":"0.00"},{"v":0,"d":"0.00"},{"v":0,"d":"0.00"}]
[{"$nulls":6},"Bus",{"v":0,"d":"0.00"},{"$f":"(I$23*$P1587)+$O1587","v":{"v":0,"d":"0.00"}},{"v":0,"d":"0.00"},{"v":0,"d":"0.00"},{"v":0,"d":"0.00"},{"v":0,"d":"0.00"},{"v":0,"d":"0.00"},{"v":0,"d":"0.00"},{"v":0,"d":"0.00"},{"v":0,"d":"0.00"},{"$f":"(R$23*$R1587)+$Q1587","v":{"v":0,"d":"0.00"}},{"v":0,"d":"0.00"},{"v":0,"d":"0.00"},{"v":0,"d":"0.00"},{"v":0,"d":"0.00"},{"v":0,"d":"0.00"},{"v":0,"d":"0.00"},{"v":0,"d":"0.00"},{"v":0,"d":"0.00"},{"v":0,"d":"0.00"}]
[{"$nulls":6},"Mini-bus",{"v":0,"d":"0.00"},{"$f":"(I$23*$P1588)+$O1588","v":{"v":0,"d":"0.00"}},{"v":0,"d":"0.00"},{"v":0,"d":"0.00"},{"v":0,"d":"0.00"},{"v":0,"d":"0.00"},{"v":0,"d":"0.00"},{"v":0,"d":"0.00"},{"v":0,"d":"0.00"},{"v":0,"d":"0.00"},{"$f":"(R$23*$R1588)+$Q1588","v":{"v":0,"d":"0.00"}},{"v":0,"d":"0.00"},{"v":0,"d":"0.00"},{"v":0,"d":"0.00"},{"v":0,"d":"0.00"},{"v":0,"d":"0.00"},{"v":0,"d":"0.00"},{"v":0,"d":"0.00"},{"v":0,"d":"0.00"},{"v":0,"d":"0.00"}]
[{"$nulls":6},"",{"v":0,"d":"0.00"},{"$f":"(I$23*$P1589)+$O1589","v":{"v":0,"d":"0.00"}},{"v":0,"d":"0.00"},{"v":0,"d":"0.00"},{"v":0,"d":"0.00"},{"v":0,"d":"0.00"},{"v":0,"d":"0.00"},{"v":0,"d":"0.00"},{"v":0,"d":"0.00"},{"v":0,"d":"0.00"},{"$f":"(R$23*$R1589)+$Q1589","v":{"v":0,"d":"0.00"}},{"v":0,"d":"0.00"},{"v":0,"d":"0.00"},{"v":0,"d":"0.00"},{"v":0,"d":"0.00"},{"v":0,"d":"0.00"},{"v":0,"d":"0.00"},{"v":0,"d":"0.00"},{"v":0,"d":"0.00"},{"v":0,"d":"0.00"}]
[{"$nulls":6},"",{"v":0,"d":"0.00"},{"$f":"(I$23*$P1590)+$O1590","v":{"v":0,"d":"0.00"}},{"v":0,"d":"0.00"},{"v":0,"d":"0.00"},{"v":0,"d":"0.00"},{"v":0,"d":"0.00"},{"v":0,"d":"0.00"},{"v":0,"d":"0.00"},{"v":0,"d":"0.00"},{"v":0,"d":"0.00"},{"$f":"(R$23*$R1590)+$Q1590","v":{"v":0,"d":"0.00"}},{"v":0,"d":"0.00"},{"v":0,"d":"0.00"},{"v":0,"d":"0.00"},{"v":0,"d":"0.00"},{"v":0,"d":"0.00"},{"v":0,"d":"0.00"},{"v":0,"d":"0.00"},{"v":0,"d":"0.00"},{"v":0,"d":"0.00"}]
[{"$nulls":6},"BRT",{"v":0,"d":"0.00"},{"$f":"(I$23*$P1591)+$O1591","v":{"v":0,"d":"0.00"}},{"v":0,"d":"0.00"},{"v":0,"d":"0.00"},{"v":0,"d":"0.00"},{"v":0,"d":"0.00"},{"v":0,"d":"0.00"},{"v":0,"d":"0.00"},{"v":0,"d":"0.00"},{"v":0,"d":"0.00"},{"$f":"(R$23*$R1591)+$Q1591","v":{"v":0,"d":"0.00"}},{"v":0,"d":"0.00"},{"v":0,"d":"0.00"},{"v":0,"d":"0.00"},{"v":0,"d":"0.00"},{"v":0,"d":"0.00"},{"v":0,"d":"0.00"},{"v":0,"d":"0.00"},{"v":0,"d":"0.00"},{"v":0,"d":"0.00"}]
[]
[{"$nulls":6},"Adjusted CO2 Emission Factor",null,{"$f":"I1595","v":"LPG"}]
[{"$nulls":7},{"$f":"H1596","v":0},{"$f":"I1596","v":1},2,3,4,5,6,7,8,9,10,11,12,13,14,15,16,17,18,19]
[{"$nulls":5},"NO BRT"]
{"$rows_empty":12}
[{"$nulls":6},"CO2 Emission Factor CNG"]
[]
[{"$nulls":10},"g/UNIT OF CONSUMPTION",{"$nulls":3},"1st",null,"2nd"]
[{"$nulls":10},{"$f":"K1580","v":0},{"$f":"L1580","v":9},{"$f":"M1580","v":19},null,"intercept","slope","intercept","slope",null,{"$f":"K1627","v":0},{"$f":"L1627","v":9},{"$f":"M1627","v":19},null,"1st","2nd"]
[{"$nulls":5},"NO BRT",{"$f":"G1597","v":"Cars"},{"$nulls":3},{"$f":"'IF Factors'!CK76","v":0},{"$f":"OFFSET('IF Factors'!CK76,0,5)","v":0},{"$f":"OFFSET('IF Factors'!CK76,0,10)","v":0},null,{"$f":"INTERCEPT(K1628:L1628,$K$7:$L$7)","v":0},{"$f":"SLOPE(K1628:L1628,$K$7:$L$7)","v":0},{"$f":"INTERCEPT(L1628:M1628,$L$7:$M$7)","v":0},{"$f":"SLOPE(L1628:M1628,$L$7:$M$7)","v":0},null,{"$f":"IF(K1628<>0,0,1)","v":1},{"$f":"IF(L1628<>0,0,1)","v":1},{"$f":"IF(M1628<>0,0,1)","v":1},null,{"$f":"IF(T1628+U1628=1,1,0)","v":0},{"$f":"IF(U1628+V1628=1,1,0)","v":0}]
[{"$nulls":6},{"$f":"G1598","v":"2-wheeler"},{"$nulls":3},{"$f":"'IF Factors'!CK77","v":0},{"$f":"OFFSET('IF Factors'!CK77,0,5)","v":0},{"$f":"OFFSET('IF Factors'!CK77,0,10)","v":0},null,{"$f":"INTERCEPT(K1629:L1629,$K$7:$L$7)","v":0},{"$f":"SLOPE(K1629:L1629,$K$7:$L$7)","v":0},{"$f":"INTERCEPT(L1629:M1629,$L$7:$M$7)","v":0},{"$f":"SLOPE(L1629:M1629,$L$7:$M$7)","v":0},null,{"$f":"IF(K1629<>0,0,1)","v":1},{"$f":"IF(L1629<>0,0,1)","v":1},{"$f":"IF(M1629<>0,0,1)","v":1},null,{"$f":"IF(T1629+U1629=1,1,0)","v":0},0]
[{"$nulls":6},"Taxi",{"$nulls":3},{"$f":"'IF Factors'!CK78","v":0},{"$f":"OFFSET('IF Factors'!CK78,0,5)","v":0},{"$f":"OFFSET('IF Factors'!CK78,0,10)","v":0},null,0,0,0,0,null,1,1,1,null,0,0]
[{"$nulls":6},"",{"$nulls":3},{"$f":"'IF Factors'!CK79","v":0},{"$f":"OFFSET('IF Factors'!CK79,0,5)","v":0},{"$f":"OFFSET('IF Factors'!CK79,0,10)","v":0},null,0,0,0,0,null,1,1,1,null,0,0]
[{"$nulls":6},"",{"$nulls":3},{"$f":"'IF Factors'!CK80","v":0},{"$f":"OFFSET('IF Factors'!CK80,0,5)","v":0},{"$f":"OFFSET('IF Factors'!CK80,0,10)","v":0},null,0,0,0,0,null,1,1,1,null,0,0]
[{"$nulls":6},"3-wheeler",{"$nulls":3},{"$f":"'IF Factors'!CK81","v":0},{"$f":"OFFSET('IF Factors'!CK81,0,5)","v":0},{"$f":"OFFSET('IF Factors'!CK81,0,10)","v":0},null,0,0,0,0,null,1,1,1,null,0,0]
[{"$nulls":6},"Bus",{"$nulls":3},{"$f":"'IF Factors'!CK82","v":0},{"$f":"OFFSET('IF Factors'!CK82,0,5)","v":0},{"$f":"OFFSET('IF Factors'!CK82,0,10)","v":0},null,0,0,0,0,null,1,1,1,null,0,0]
[{"$nulls":6},"Mini-bus",{"$nulls":3},{"$f":"'IF Factors'!CK83","v":0},{"$f":"OFFSET('IF Factors'!CK83,0,5)","v":0},{"$f":"OFFSET('IF Factors'!CK83,0,10)","v":0},null,0,0,0,0,null,1,1,1,null,0,0]
[{"$nulls":6},"",{"$nulls":3},{"$f":"'IF Factors'!CK84","v":0},{"$f":"OFFSET('IF Factors'!CK84,0,5)","v":0},{"$f":"OFFSET('IF Factors'!CK84,0,10)","v":0},null,0,0,0,0,null,1,1,1,null,0,0]
[{"$nulls":6},"",{"$nulls":3},{"$f":"'IF Factors'!CK85","v":0},{"$f":"OFFSET('IF Factors'!CK85,0,5)","v":0},{"$f":"OFFSET('IF Factors'!CK85,0,10)","v":0},null,0,0,0,0,null,1,1,1,null,0,0]
[{"$nulls":6},"BRT",{"$nulls":3},{"$f":"'IF Factors'!CK86","v":0},{"$f":"OFFSET('IF Factors'!CK86,0,5)","v":0},{"$f":"OFFSET('IF Factors'!CK86,0,10)","v":0},null,0,0,0,0,null,1,1,1,null,0,0]
[]
[]
[]
[{"$nulls":6},"CO2 Emission Factor",null,"CNG"]
[{"$nulls":7},{"$f":"H1610","v":0},{"$f":"I1610","v":1},2,3,4,5,6,7,8,9,10,11,12,13,14,15,16,17,18,19]
[{"$nulls":5},"NO BRT",{"$f":"G1628","v":"Cars"},{"$f":"K1628","v":{"v":0,"d":"0.00"}},{"$f":"(I$23*$P1628)+$O1628","v":{"v":0,"d":"0.00"}},{"$f":"(J$23*$P1628)+$O1628","v":{"v":0,"d":"0.00"}},{"v":0,"d":"0.00"},{"v":0,"d":"0.00"},{"v":0,"d":"0.00"},{"v":0,"d":"0.00"},{"v":0,"d":"0.00"},{"v":0,"d":"0.00"},{"$f":"L1628","v":{"v":0,"d":"0.00"}},{"$f":"(R$23*$R1628)+$Q1628","v":{"v":0,"d":"0.00"}},{"$f":"(S$23*$R1628)+$Q1628","v":{"v":0,"d":"0.00"}},{"v":0,"d":"0.00"},{"v":0,"d":"0.00"},{"v":0,"d":"0.00"},{"v":0,"d":"0.00"},{"v":0,"d":"0.00"},{"v":0,"d":"0.00"},{"v":0,"d":"0.00"},{"$f":"M1628","v":{"v":0,"d":"0.00"}}]
[{"$nulls":6},{"$f":"G1629","v":"2-wheeler"},{"$f":"K1629","v":{"v":0,"d":"0.00"}},{"$f":"(I$23*$P1629)+$O1629","v":{"v":0,"d":"0.00"}},{"v":0,"d":"0.00"},{"v":0,"d":"0.00"},{"v":0,"d":"0.00"},{"v":0,"d":"0.00"},{"v":0,"d":"0.00"},{"v":0,"d":"0.00"},{"v":0,"d":"0.00"},{"$f":"L1629","v":{"v":0,"d":"0.00"}},{"$f":"(R$23*$R1629)+$Q1629","v":{"v":0,"d":"0.00"}},{"v":0,"d":"0.00"},{"v":0,"d":"0.00"},{"v":0,"d":"0.00"},{"v":0,"d":"0.00"},{"v":0,"d":"0.00"},{"v":0,"d":"0.00"},{"v":0,"d":"0.00"},{"v":0,"d":"0.00"},{"$f":"M1629","v":{"v":0,"d":"0.00"}}]
[{"$nulls":6},"Taxi",{"v":0,"d":"0.00"},{"$f":"(I$23*$P1630)+$O1630","v":{"v":0,"d":"0.00"}},{"v":0,"d":"0.00"},{"v":0,"d":"0.00"},{"v":0,"d":"0.00"},{"v":0,"d":"0.00"},{"v":0,"d":"0.00"},{"v":0,"d":"0.00"},{"v":0,"d":"0.00"},{"v":0,"d":"0.00"},{"$f":"(R$23*$R1630)+$Q1630","v":{"v":0,"d":"0.00"}},{"v":0,"d":"0.00"},{"v":0,"d":"0.00"},{"v":0,"d":"0.00"},{"v":0,"d":"0.00"},{"v":0,"d":"0.00"},{"v":0,"d":"0.00"},{"v":0,"d":"0.00"},{"v":0,"d":"0.00"},{"v":0,"d":"0.00"}]
[{"$nulls":6},"",{"v":0,"d":"0.00"},{"$f":"(I$23*$P1631)+$O1631","v":{"v":0,"d":"0.00"}},{"v":0,"d":"0.00"},{"v":0,"d":"0.00"},{"v":0,"d":"0.00"},{"v":0,"d":"0.00"},{"v":0,"d":"0.00"},{"v":0,"d":"0.00"},{"v":0,"d":"0.00"},{"v":0,"d":"0.00"},{"$f":"(R$23*$R1631)+$Q1631","v":{"v":0,"d":"0.00"}},{"v":0,"d":"0.00"},{"v":0,"d":"0.00"},{"v":0,"d":"0.00"},{"v":0,"d":"0.00"},{"v":0,"d":"0.00"},{"v":0,"d":"0.00"},{"v":0,"d":"0.00"},{"v":0,"d":"0.00"},{"v":0,"d":"0.00"}]
[{"$nulls":6},"",{"v":0,"d":"0.00"},{"$f":"(I$23*$P1632)+$O1632","v":{"v":0,"d":"0.00"}},{"v":0,"d":"0.00"},{"v":0,"d":"0.00"},{"v":0,"d":"0.00"},{"v":0,"d":"0.00"},{"v":0,"d":"0.00"},{"v":0,"d":"0.00"},{"v":0,"d":"0.00"},{"v":0,"d":"0.00"},{"$f":"(R$23*$R1632)+$Q1632","v":{"v":0,"d":"0.00"}},{"v":0,"d":"0.00"},{"v":0,"d":"0.00"},{"v":0,"d":"0.00"},{"v":0,"d":"0.00"},{"v":0,"d":"0.00"},{"v":0,"d":"0.00"},{"v":0,"d":"0.00"},{"v":0,"d":"0.00"},{"v":0,"d":"0.00"}]
[{"$nulls":6},"3-wheeler",{"v":0,"d":"0.00"},{"$f":"(I$23*$P1633)+$O1633","v":{"v":0,"d":"0.00"}},{"v":0,"d":"0.00"},{"v":0,"d":"0.00"},{"v":0,"d":"0.00"},{"v":0,"d":"0.00"},{"v":0,"d":"0.00"},{"v":0,"d":"0.00"},{"v":0,"d":"0.00"},{"v":0,"d":"0.00"},{"$f":"(R$23*$R1633)+$Q1633","v":{"v":0,"d":"0.00"}},{"v":0,"d":"0.00"},{"v":0,"d":"0.00"},{"v":0,"d":"0.00"},{"v":0,"d":"0.00"},{"v":0,"d":"0.00"},{"v":0,"d":"0.00"},{"v":0,"d":"0.00"},{"v":0,"d":"0.00"},{"v":0,"d":"0.00"}]
[{"$nulls":6},"Bus",{"v":0,"d":"0.00"},{"$f":"(I$23*$P1634)+$O1634","v":{"v":0,"d":"0.00"}},{"v":0,"d":"0.00"},{"v":0,"d":"0.00"},{"v":0,"d":"0.00"},{"v":0,"d":"0.00"},{"v":0,"d":"0.00"},{"v":0,"d":"0.00"},{"v":0,"d":"0.00"},{"v":0,"d":"0.00"},{"$f":"(R$23*$R1634)+$Q1634","v":{"v":0,"d":"0.00"}},{"v":0,"d":"0.00"},{"v":0,"d":"0.00"},{"v":0,"d":"0.00"},{"v":0,"d":"0.00"},{"v":0,"d":"0.00"},{"v":0,"d":"0.00"},{"v":0,"d":"0.00"},{"v":0,"d":"0.00"},{"v":0,"d":"0.00"}]
[{"$nulls":6},"Mini-bus",{"v":0,"d":"0.00"},{"$f":"(I$23*$P1635)+$O1635","v":{"v":0,"d":"0.00"}},{"v":0,"d":"0.00"},{"v":0,"d":"0.00"},{"v":0,"d":"0.00"},{"v":0,"d":"0.00"},{"v":0,"d":"0.00"},{"v":0,"d":"0.00"},{"v":0,"d":"0.00"},{"v":0,"d":"0.00"},{"$f":"(R$23*$R1635)+$Q1635","v":{"v":0,"d":"0.00"}},{"v":0,"d":"0.00"},{"v":0,"d":"0.00"},{"v":0,"d":"0.00"},{"v":0,"d":"0.00"},{"v":0,"d":"0.00"},{"v":0,"d":"0.00"},{"v":0,"d":"0.00"},{"v":0,"d":"0.00"},{"v":0,"d":"0.00"}]
[{"$nulls":6},"",{"v":0,"d":"0.00"},{"$f":"(I$23*$P1636)+$O1636","v":{"v":0,"d":"0.00"}},{"v":0,"d":"0.00"},{"v":0,"d":"0.00"},{"v":0,"d":"0.00"},{"v":0,"d":"0.00"},{"v":0,"d":"0.00"},{"v":0,"d":"0.00"},{"v":0,"d":"0.00"},{"v":0,"d":"0.00"},{"$f":"(R$23*$R1636)+$Q1636","v":{"v":0,"d":"0.00"}},{"v":0,"d":"0.00"},{"v":0,"d":"0.00"},{"v":0,"d":"0.00"},{"v":0,"d":"0.00"},{"v":0,"d":"0.00"},{"v":0,"d":"0.00"},{"v":0,"d":"0.00"},{"v":0,"d":"0.00"},{"v":0,"d":"0.00"}]
[{"$nulls":6},"",{"v":0,"d":"0.00"},{"$f":"(I$23*$P1637)+$O1637","v":{"v":0,"d":"0.00"}},{"v":0,"d":"0.00"},{"v":0,"d":"0.00"},{"v":0,"d":"0.00"},{"v":0,"d":"0.00"},{"v":0,"d":"0.00"},{"v":0,"d":"0.00"},{"v":0,"d":"0.00"},{"v":0,"d":"0.00"},{"$f":"(R$23*$R1637)+$Q1637","v":{"v":0,"d":"0.00"}},{"v":0,"d":"0.00"},{"v":0,"d":"0.00"},{"v":0,"d":"0.00"},{"v":0,"d":"0.00"},{"v":0,"d":"0.00"},{"v":0,"d":"0.00"},{"v":0,"d":"0.00"},{"v":0,"d":"0.00"},{"v":0,"d":"0.00"}]
[{"$nulls":6},"BRT",{"v":0,"d":"0.00"},{"$f":"(I$23*$P1638)+$O1638","v":{"v":0,"d":"0.00"}},{"v":0,"d":"0.00"},{"v":0,"d":"0.00"},{"v":0,"d":"0.00"},{"v":0,"d":"0.00"},{"v":0,"d":"0.00"},{"v":0,"d":"0.00"},{"v":0,"d":"0.00"},{"v":0,"d":"0.00"},{"$f":"(R$23*$R1638)+$Q1638","v":{"v":0,"d":"0.00"}},{"v":0,"d":"0.00"},{"v":0,"d":"0.00"},{"v":0,"d":"0.00"},{"v":0,"d":"0.00"},{"v":0,"d":"0.00"},{"v":0,"d":"0.00"},{"v":0,"d":"0.00"},{"v":0,"d":"0.00"},{"v":0,"d":"0.00"}]
[]
[{"$nulls":6},"Adjusted CO2 Emission Factor",null,{"$f":"I1642","v":"CNG"}]
[{"$nulls":7},{"$f":"H1643","v":0},{"$f":"I1643","v":1},2,3,4,5,6,7,8,9,10,11,12,13,14,15,16,17,18,19]
{"$rows_empty":13}
[{"$nulls":6},"CO2 Emission Factor Electric"]
[]
[{"$nulls":10},"g/UNIT OF CONSUMPTION",{"$nulls":3},"1st",null,"2nd"]
[{"$nulls":10},{"$f":"K1627","v":0},{"$f":"L1627","v":9},{"$f":"M1627","v":19},null,"intercept","slope","intercept","slope",null,{"$f":"K1674","v":0},{"$f":"L1674","v":9},{"$f":"M1674","v":19},null,"1st","2nd"]
[{"$nulls":5},"NO BRT",{"$f":"G1644","v":"Cars"},{"$nulls":3},{"$f":"'IF Factors'!CK91","v":0},{"$f":"OFFSET('IF Factors'!CK91,0,5)","v":0},{"$f":"OFFSET('IF Factors'!CK91,0,10)","v":0},null,{"$f":"INTERCEPT(K1675:L1675,$K$7:$L$7)","v":0},{"$f":"SLOPE(K1675:L1675,$K$7:$L$7)","v":0},{"$f":"INTERCEPT(L1675:M1675,$L$7:$M$7)","v":0},{"$f":"SLOPE(L1675:M1675,$L$7:$M$7)","v":0},null,{"$f":"IF(K1675<>0,0,1)","v":1},{"$f":"IF(L1675<>0,0,1)","v":1},{"$f":"IF(M1675<>0,0,1)","v":1},null,{"$f":"IF(T1675+U1675=1,1,0)","v":0},{"$f":"IF(U1675+V1675=1,1,0)","v":0}]
[{"$nulls":6},{"$f":"G1645","v":"2-wheeler"},{"$nulls":3},{"$f":"'IF Factors'!CK92","v":0},{"$f":"OFFSET('IF Factors'!CK92,0,5)","v":0},{"$f":"OFFSET('IF Factors'!CK92,0,10)","v":0},null,{"$f":"INTERCEPT(K1676:L1676,$K$7:$L$7)","v":0},{"$f":"SLOPE(K1676:L1676,$K$7:$L$7)","v":0},{"$f":"INTERCEPT(L1676:M1676,$L$7:$M$7)","v":0},{"$f":"SLOPE(L1676:M1676,$L$7:$M$7)","v":0},null,{"$f":"IF(K1676<>0,0,1)","v":1},{"$f":"IF(L1676<>0,0,1)","v":1},{"$f":"IF(M1676<>0,0,1)","v":1},null,{"$f":"IF(T1676+U1676=1,1,0)","v":0},0]
[{"$nulls":6},"Taxi",{"$nulls":3},{"$f":"'IF Factors'!CK93","v":0},{"$f":"OFFSET('IF Factors'!CK93,0,5)","v":0},{"$f":"OFFSET('IF Factors'!CK93,0,10)","v":0},null,0,0,0,0,null,1,1,1,null,0,0]
[{"$nulls":6},"",{"$nulls":3},{"$f":"'IF Factors'!CK94","v":0},{"$f":"OFFSET('IF Factors'!CK94,0,5)","v":0},{"$f":"OFFSET('IF Factors'!CK94,0,10)","v":0},null,0,0,0,0,null,1,1,1,null,0,0]
[{"$nulls":6},"",{"$nulls":3},{"$f":"'IF Factors'!CK95","v":0},{"$f":"OFFSET('IF Factors'!CK95,0,5)","v":0},{"$f":"OFFSET('IF Factors'!CK95,0,10)","v":0},null,0,0,0,0,null,1,1,1,null,0,0]
[{"$nulls":6},"3-wheeler",{"$nulls":3},{"$f":"'IF Factors'!CK96","v":0},{"$f":"OFFSET('IF Factors'!CK96,0,5)","v":0},{"$f":"OFFSET('IF Factors'!CK96,0,10)","v":0},null,0,0,0,0,null,1,1,1,null,0,0]
[{"$nulls":6},"Bus",{"$nulls":3},{"$f":"'IF Factors'!CK97","v":0},{"$f":"OFFSET('IF Factors'!CK97,0,5)","v":0},{"$f":"OFFSET('IF Factors'!CK97,0,10)","v":0},null,0,0,0,0,null,1,1,1,null,0,0]
[{"$nulls":6},"Mini-bus",{"$nulls":3},{"$f":"'IF Factors'!CK98","v":0},{"$f":"OFFSET('IF Factors'!CK98,0,5)","v":0},{"$f":"OFFSET('IF Factors'!CK98,0,10)","v":0},null,0,0,0,0,null,1,1,1,null,0,0]
[{"$nulls":6},"",{"$nulls":3},{"$f":"'IF Factors'!CK99","v":0},{"$f":"OFFSET('IF Factors'!CK99,0,5)","v":0},{"$f":"OFFSET('IF Factors'!CK99,0,10)","v":0},null,0,0,0,0,null,1,1,1,null,0,0]
[{"$nulls":6},"",{"$nulls":3},{"$f":"'IF Factors'!CK100","v":0},{"$f":"OFFSET('IF Factors'!CK100,0,5)","v":0},{"$f":"OFFSET('IF Factors'!CK100,0,10)","v":0},null,0,0,0,0,null,1,1,1,null,0,0]
[{"$nulls":6},"BRT",{"$nulls":3},{"$f":"'IF Factors'!CK101","v":0},{"$f":"OFFSET('IF Factors'!CK101,0,5)","v":0},{"$f":"OFFSET('IF Factors'!CK101,0,10)","v":0},null,0,0,0,0,null,1,1,1,null,0,0]
[]
[]
[]
[{"$nulls":6},"CO2 Emission Factor",null,"Electric"]
[{"$nulls":7},{"$f":"H1657","v":0},{"$f":"I1657","v":1},2,3,4,5,6,7,8,9,10,11,12,13,14,15,16,17,18,19]
[{"$nulls":5},"NO BRT",{"$f":"G1675","v":"Cars"},{"$f":"K1675","v":{"v":0,"d":"0.00"}},{"$f":"(I$23*$P1675)+$O1675","v":{"v":0,"d":"0.00"}},{"$f":"(J$23*$P1675)+$O1675","v":{"v":0,"d":"0.00"}},{"v":0,"d":"0.00"},{"v":0,"d":"0.00"},{"v":0,"d":"0.00"},{"v":0,"d":"0.00"},{"v":0,"d":"0.00"},{"v":0,"d":"0.00"},{"$f":"L1675","v":{"v":0,"d":"0.00"}},{"$f":"(R$23*$R1675)+$Q1675","v":{"v":0,"d":"0.00"}},{"$f":"(S$23*$R1675)+$Q1675","v":{"v":0,"d":"0.00"}},{"v":0,"d":"0.00"},{"v":0,"d":"0.00"},{"v":0,"d":"0.00"},{"v":0,"d":"0.00"},{"v":0,"d":"0.00"},{"v":0,"d":"0.00"},{"v":0,"d":"0.00"},{"$f":"M1675","v":{"v":0,"d":"0.00"}}]
[{"$nulls":6},{"$f":"G1676","v":"2-wheeler"},{"$f":"K1676","v":{"v":0,"d":"0.00"}},{"$f":"(I$23*$P1676)+$O1676","v":{"v":0,"d":"0.00"}},{"v":0,"d":"0.00"},{"v":0,"d":"0.00"},{"v":0,"d":"0.00"},{"v":0,"d":"0.00"},{"v":0,"d":"0.00"},{"v":0,"d":"0.00"},{"v":0,"d":"0.00"},{"$f":"L1676","v":{"v":0,"d":"0.00"}},{"$f":"(R$23*$R1676)+$Q1676","v":{"v":0,"d":"0.00"}},{"v":0,"d":"0.00"},{"v":0,"d":"0.00"},{"v":0,"d":"0.00"},{"v":0,"d":"0.00"},{"v":0,"d":"0.00"},{"v":0,"d":"0.00"},{"v":0,"d":"0.00"},{"v":0,"d":"0.00"},{"$f":"M1676","v":{"v":0,"d":"0.00"}}]
[{"$nulls":6},"Taxi",{"v":0,"d":"0.00"},{"$f":"(I$23*$P1677)+$O1677","v":{"v":0,"d":"0.00"}},{"v":0,"d":"0.00"},{"v":0,"d":"0.00"},{"v":0,"d":"0.00"},{"v":0,"d":"0.00"},{"v":0,"d":"0.00"},{"v":0,"d":"0.00"},{"v":0,"d":"0.00"},{"v":0,"d":"0.00"},{"$f":"(R$23*$R1677)+$Q1677","v":{"v":0,"d":"0.00"}},{"v":0,"d":"0.00"},{"v":0,"d":"0.00"},{"v":0,"d":"0.00"},{"v":0,"d":"0.00"},{"v":0,"d":"0.00"},{"v":0,"d":"0.00"},{"v":0,"d":"0.00"},{"v":0,"d":"0.00"},{"v":0,"d":"0.00"}]
[{"$nulls":6},"",{"v":0,"d":"0.00"},{"$f":"(I$23*$P1678)+$O1678","v":{"v":0,"d":"0.00"}},{"v":0,"d":"0.00"},{"v":0,"d":"0.00"},{"v":0,"d":"0.00"},{"v":0,"d":"0.00"},{"v":0,"d":"0.00"},{"v":0,"d":"0.00"},{"v":0,"d":"0.00"},{"v":0,"d":"0.00"},{"$f":"(R$23*$R1678)+$Q1678","v":{"v":0,"d":"0.00"}},{"v":0,"d":"0.00"},{"v":0,"d":"0.00"},{"v":0,"d":"0.00"},{"v":0,"d":"0.00"},{"v":0,"d":"0.00"},{"v":0,"d":"0.00"},{"v":0,"d":"0.00"},{"v":0,"d":"0.00"},{"v":0,"d":"0.00"}]
[{"$nulls":6},"",{"v":0,"d":"0.00"},{"$f":"(I$23*$P1679)+$O1679","v":{"v":0,"d":"0.00"}},{"v":0,"d":"0.00"},{"v":0,"d":"0.00"},{"v":0,"d":"0.00"},{"v":0,"d":"0.00"},{"v":0,"d":"0.00"},{"v":0,"d":"0.00"},{"v":0,"d":"0.00"},{"v":0,"d":"0.00"},{"$f":"(R$23*$R1679)+$Q1679","v":{"v":0,"d":"0.00"}},{"v":0,"d":"0.00"},{"v":0,"d":"0.00"},{"v":0,"d":"0.00"},{"v":0,"d":"0.00"},{"v":0,"d":"0.00"},{"v":0,"d":"0.00"},{"v":0,"d":"0.00"},{"v":0,"d":"0.00"},{"v":0,"d":"0.00"}]
[{"$nulls":6},"3-wheeler",{"v":0,"d":"0.00"},{"$f":"(I$23*$P1680)+$O1680","v":{"v":0,"d":"0.00"}},{"v":0,"d":"0.00"},{"v":0,"d":"0.00"},{"v":0,"d":"0.00"},{"v":0,"d":"0.00"},{"v":0,"d":"0.00"},{"v":0,"d":"0.00"},{"v":0,"d":"0.00"},{"v":0,"d":"0.00"},{"$f":"(R$23*$R1680)+$Q1680","v":{"v":0,"d":"0.00"}},{"v":0,"d":"0.00"},{"v":0,"d":"0.00"},{"v":0,"d":"0.00"},{"v":0,"d":"0.00"},{"v":0,"d":"0.00"},{"v":0,"d":"0.00"},{"v":0,"d":"0.00"},{"v":0,"d":"0.00"},{"v":0,"d":"0.00"}]
[{"$nulls":6},"Bus",{"v":0,"d":"0.00"},{"$f":"(I$23*$P1681)+$O1681","v":{"v":0,"d":"0.00"}},{"v":0,"d":"0.00"},{"v":0,"d":"0.00"},{"v":0,"d":"0.00"},{"v":0,"d":"0.00"},{"v":0,"d":"0.00"},{"v":0,"d":"0.00"},{"v":0,"d":"0.00"},{"v":0,"d":"0.00"},{"$f":"(R$23*$R1681)+$Q1681","v":{"v":0,"d":"0.00"}},{"v":0,"d":"0.00"},{"v":0,"d":"0.00"},{"v":0,"d":"0.00"},{"v":0,"d":"0.00"},{"v":0,"d":"0.00"},{"v":0,"d":"0.00"},{"v":0,"d":"0.00"},{"v":0,"d":"0.00"},{"v":0,"d":"0.00"}]
[{"$nulls":6},"Mini-bus",{"v":0,"d":"0.00"},{"$f":"(I$23*$P1682)+$O1682","v":{"v":0,"d":"0.00"}},{"v":0,"d":"0.00"},{"v":0,"d":"0.00"},{"v":0,"d":"0.00"},{"v":0,"d":"0.00"},{"v":0,"d":"0.00"},{"v":0,"d":"0.00"},{"v":0,"d":"0.00"},{"v":0,"d":"0.00"},{"$f":"(R$23*$R1682)+$Q1682","v":{"v":0,"d":"0.00"}},{"v":0,"d":"0.00"},{"v":0,"d":"0.00"},{"v":0,"d":"0.00"},{"v":0,"d":"0.00"},{"v":0,"d":"0.00"},{"v":0,"d":"0.00"},{"v":0,"d":"0.00"},{"v":0,"d":"0.00"},{"v":0,"d":"0.00"}]
[{"$nulls":6},"",{"v":0,"d":"0.00"},{"$f":"(I$23*$P1683)+$O1683","v":{"v":0,"d":"0.00"}},{"v":0,"d":"0.00"},{"v":0,"d":"0.00"},{"v":0,"d":"0.00"},{"v":0,"d":"0.00"},{"v":0,"d":"0.00"},{"v":0,"d":"0.00"},{"v":0,"d":"0.00"},{"v":0,"d":"0.00"},{"$f":"(R$23*$R1683)+$Q1683","v":{"v":0,"d":"0.00"}},{"v":0,"d":"0.00"},{"v":0,"d":"0.00"},{"v":0,"d":"0.00"},{"v":0,"d":"0.00"},{"v":0,"d":"0.00"},{"v":0,"d":"0.00"},{"v":0,"d":"0.00"},{"v":0,"d":"0.00"},{"v":0,"d":"0.00"}]
[{"$nulls":6},"",{"v":0,"d":"0.00"},{"$f":"(I$23*$P1684)+$O1684","v":{"v":0,"d":"0.00"}},{"v":0,"d":"0.00"},{"v":0,"d":"0.00"},{"v":0,"d":"0.00"},{"v":0,"d":"0.00"},{"v":0,"d":"0.00"},{"v":0,"d":"0.00"},{"v":0,"d":"0.00"},{"v":0,"d":"0.00"},{"$f":"(R$23*$R1684)+$Q1684","v":{"v":0,"d":"0.00"}},{"v":0,"d":"0.00"},{"v":0,"d":"0.00"},{"v":0,"d":"0.00"},{"v":0,"d":"0.00"},{"v":0,"d":"0.00"},{"v":0,"d":"0.00"},{"v":0,"d":"0.00"},{"v":0,"d":"0.00"},{"v":0,"d":"0.00"}]
[{"$nulls":6},"BRT",{"v":0,"d":"0.00"},{"$f":"(I$23*$P1685)+$O1685","v":{"v":0,"d":"0.00"}},{"v":0,"d":"0.00"},{"v":0,"d":"0.00"},{"v":0,"d":"0.00"},{"v":0,"d":"0.00"},{"v":0,"d":"0.00"},{"v":0,"d":"0.00"},{"v":0,"d":"0.00"},{"v":0,"d":"0.00"},{"$f":"(R$23*$R1685)+$Q1685","v":{"v":0,"d":"0.00"}},{"v":0,"d":"0.00"},{"v":0,"d":"0.00"},{"v":0,"d":"0.00"},{"v":0,"d":"0.00"},{"v":0,"d":"0.00"},{"v":0,"d":"0.00"},{"v":0,"d":"0.00"},{"v":0,"d":"0.00"},{"v":0,"d":"0.00"}]
[]
[{"$nulls":6},"Adjusted CO2 Emission Factor",null,{"$f":"I1689","v":"Electric"}]
[{"$nulls":7},{"$f":"H1690","v":0},{"$f":"I1690","v":1},2,3,4,5,6,7,8,9,10,11,12,13,14,15,16,17,18,19]
{"$rows_empty":13}
[{"$nulls":6},{"$f":"IF('IF Factors'!J572=\"\",\"not included\",CONCATENATE(\"CO2 Emission Factor \",'IF Factors'!J572))","v":"not included"}]
[]
[{"$nulls":10},"g/UNIT OF CONSUMPTION",{"$nulls":3},"1st",null,"2nd"]
[{"$nulls":10},{"$f":"K1674","v":0},{"$f":"L1674","v":9},{"$f":"M1674","v":19},null,"intercept","slope","intercept","slope",null,{"$f":"K1721","v":0},{"$f":"L1721","v":9},{"$f":"M1721","v":19},null,"1st","2nd"]
[{"$nulls":5},"NO BRT",{"$f":"G1691","v":"Cars"},{"$nulls":3},{"$f":"'IF Factors'!CK106","v":0},{"$f":"OFFSET('IF Factors'!CK106,0,5)","v":0},{"$f":"OFFSET('IF Factors'!CK106,0,10)","v":0},null,{"$f":"INTERCEPT(K1722:L1722,$K$7:$L$7)","v":0},{"$f":"SLOPE(K1722:L1722,$K$7:$L$7)","v":0},{"$f":"INTERCEPT(L1722:M1722,$L$7:$M$7)","v":0},{"$f":"SLOPE(L1722:M1722,$L$7:$M$7)","v":0},null,{"$f":"IF(K1722<>0,0,1)","v":1},{"$f":"IF(L1722<>0,0,1)","v":1},{"$f":"IF(M1722<>0,0,1)","v":1},null,{"$f":"IF(T1722+U1722=1,1,0)","v":0},{"$f":"IF(U1722+V1722=1,1,0)","v":0}]
[{"$nulls":6},{"$f":"G1692","v":"2-wheeler"},{"$nulls":3},{"$f":"'IF Factors'!CK107","v":0},{"$f":"OFFSET('IF Factors'!CK107,0,5)","v":0},{"$f":"OFFSET('IF Factors'!CK107,0,10)","v":0},null,{"$f":"INTERCEPT(K1723:L1723,$K$7:$L$7)","v":0},{"$f":"SLOPE(K1723:L1723,$K$7:$L$7)","v":0},{"$f":"INTERCEPT(L1723:M1723,$L$7:$M$7)","v":0},{"$f":"SLOPE(L1723:M1723,$L$7:$M$7)","v":0},null,{"$f":"IF(K1723<>0,0,1)","v":1},{"$f":"IF(L1723<>0,0,1)","v":1},{"$f":"IF(M1723<>0,0,1)","v":1},null,{"$f":"IF(T1723+U1723=1,1,0)","v":0},0]
[{"$nulls":6},"Taxi",{"$nulls":3},{"$f":"'IF Factors'!CK108","v":0},{"$f":"OFFSET('IF Factors'!CK108,0,5)","v":0},{"$f":"OFFSET('IF Factors'!CK108,0,10)","v":0},null,0,0,0,0,null,1,1,1,null,0,0]
[{"$nulls":6},"",{"$nulls":3},{"$f":"'IF Factors'!CK109","v":0},{"$f":"OFFSET('IF Factors'!CK109,0,5)","v":0},{"$f":"OFFSET('IF Factors'!CK109,0,10)","v":0},null,0,0,0,0,null,1,1,1,null,0,0]
[{"$nulls":6},"",{"$nulls":3},{"$f":"'IF Factors'!CK110","v":0},{"$f":"OFFSET('IF Factors'!CK110,0,5)","v":0},{"$f":"OFFSET('IF Factors'!CK110,0,10)","v":0},null,0,0,0,0,null,1,1,1,null,0,0]
[{"$nulls":6},"3-wheeler",{"$nulls":3},{"$f":"'IF Factors'!CK111","v":0},{"$f":"OFFSET('IF Factors'!CK111,0,5)","v":0},{"$f":"OFFSET('IF Factors'!CK111,0,10)","v":0},null,0,0,0,0,null,1,1,1,null,0,0]
[{"$nulls":6},"Bus",{"$nulls":3},{"$f":"'IF Factors'!CK112","v":0},{"$f":"OFFSET('IF Factors'!CK112,0,5)","v":0},{"$f":"OFFSET('IF Factors'!CK112,0,10)","v":0},null,0,0,0,0,null,1,1,1,null,0,0]
[{"$nulls":6},"Mini-bus",{"$nulls":3},{"$f":"'IF Factors'!CK113","v":0},{"$f":"OFFSET('IF Factors'!CK113,0,5)","v":0},{"$f":"OFFSET('IF Factors'!CK113,0,10)","v":0},null,0,0,0,0,null,1,1,1,null,0,0]
[{"$nulls":6},"",{"$nulls":3},{"$f":"'IF Factors'!CK114","v":0},{"$f":"OFFSET('IF Factors'!CK114,0,5)","v":0},{"$f":"OFFSET('IF Factors'!CK114,0,10)","v":0},null,0,0,0,0,null,1,1,1,null,0,0]
[{"$nulls":6},"",{"$nulls":3},{"$f":"'IF Factors'!CK115","v":0},{"$f":"OFFSET('IF Factors'!CK115,0,5)","v":0},{"$f":"OFFSET('IF Factors'!CK115,0,10)","v":0},null,0,0,0,0,null,1,1,1,null,0,0]
[{"$nulls":6},"BRT",{"$nulls":3},{"$f":"'IF Factors'!CK116","v":0},{"$f":"OFFSET('IF Factors'!CK116,0,5)","v":0},{"$f":"OFFSET('IF Factors'!CK116,0,10)","v":0},null,0,0,0,0,null,1,1,1,null,0,0]
[]
[]
[]
[{"$nulls":6},"CO2 Emission Factor"]
[{"$nulls":7},{"$f":"H1704","v":0},{"$f":"I1704","v":1},2,3,4,5,6,7,8,9,10,11,12,13,14,15,16,17,18,19]
[{"$nulls":5},"NO BRT",{"$f":"G1722","v":"Cars"},{"$f":"K1722","v":{"v":0,"d":"0.00"}},{"$f":"(I$23*$P1722)+$O1722","v":{"v":0,"d":"0.00"}},{"$f":"(J$23*$P1722)+$O1722","v":{"v":0,"d":"0.00"}},{"v":0,"d":"0.00"},{"v":0,"d":"0.00"},{"v":0,"d":"0.00"},{"v":0,"d":"0.00"},{"v":0,"d":"0.00"},{"v":0,"d":"0.00"},{"$f":"L1722","v":{"v":0,"d":"0.00"}},{"$f":"(R$23*$R1722)+$Q1722","v":{"v":0,"d":"0.00"}},{"$f":"(S$23*$R1722)+$Q1722","v":{"v":0,"d":"0.00"}},{"v":0,"d":"0.00"},{"v":0,"d":"0.00"},{"v":0,"d":"0.00"},{"v":0,"d":"0.00"},{"v":0,"d":"0.00"},{"v":0,"d":"0.00"},{"v":0,"d":"0.00"},{"$f":"M1722","v":{"v":0,"d":"0.00"}}]
[{"$nulls":6},{"$f":"G1723","v":"2-wheeler"},{"$f":"K1723","v":{"v":0,"d":"0.00"}},{"$f":"(I$23*$P1723)+$O1723","v":{"v":0,"d":"0.00"}},{"v":0,"d":"0.00"},{"v":0,"d":"0.00"},{"v":0,"d":"0.00"},{"v":0,"d":"0.00"},{"v":0,"d":"0.00"},{"v":0,"d":"0.00"},{"v":0,"d":"0.00"},{"$f":"L1723","v":{"v":0,"d":"0.00"}},{"$f":"(R$23*$R1723)+$Q1723","v":{"v":0,"d":"0.00"}},{"v":0,"d":"0.00"},{"v":0,"d":"0.00"},{"v":0,"d":"0.00"},{"v":0,"d":"0.00"},{"v":0,"d":"0.00"},{"v":0,"d":"0.00"},{"v":0,"d":"0.00"},{"v":0,"d":"0.00"},{"$f":"M1723","v":{"v":0,"d":"0.00"}}]
[{"$nulls":6},"Taxi",{"v":0,"d":"0.00"},{"$f":"(I$23*$P1724)+$O1724","v":{"v":0,"d":"0.00"}},{"v":0,"d":"0.00"},{"v":0,"d":"0.00"},{"v":0,"d":"0.00"},{"v":0,"d":"0.00"},{"v":0,"d":"0.00"},{"v":0,"d":"0.00"},{"v":0,"d":"0.00"},{"v":0,"d":"0.00"},{"$f":"(R$23*$R1724)+$Q1724","v":{"v":0,"d":"0.00"}},{"v":0,"d":"0.00"},{"v":0,"d":"0.00"},{"v":0,"d":"0.00"},{"v":0,"d":"0.00"},{"v":0,"d":"0.00"},{"v":0,"d":"0.00"},{"v":0,"d":"0.00"},{"v":0,"d":"0.00"},{"v":0,"d":"0.00"}]
[{"$nulls":6},"",{"v":0,"d":"0.00"},{"$f":"(I$23*$P1725)+$O1725","v":{"v":0,"d":"0.00"}},{"v":0,"d":"0.00"},{"v":0,"d":"0.00"},{"v":0,"d":"0.00"},{"v":0,"d":"0.00"},{"v":0,"d":"0.00"},{"v":0,"d":"0.00"},{"v":0,"d":"0.00"},{"v":0,"d":"0.00"},{"$f":"(R$23*$R1725)+$Q1725","v":{"v":0,"d":"0.00"}},{"v":0,"d":"0.00"},{"v":0,"d":"0.00"},{"v":0,"d":"0.00"},{"v":0,"d":"0.00"},{"v":0,"d":"0.00"},{"v":0,"d":"0.00"},{"v":0,"d":"0.00"},{"v":0,"d":"0.00"},{"v":0,"d":"0.00"}]
[{"$nulls":6},"",{"v":0,"d":"0.00"},{"$f":"(I$23*$P1726)+$O1726","v":{"v":0,"d":"0.00"}},{"v":0,"d":"0.00"},{"v":0,"d":"0.00"},{"v":0,"d":"0.00"},{"v":0,"d":"0.00"},{"v":0,"d":"0.00"},{"v":0,"d":"0.00"},{"v":0,"d":"0.00"},{"v":0,"d":"0.00"},{"$f":"(R$23*$R1726)+$Q1726","v":{"v":0,"d":"0.00"}},{"v":0,"d":"0.00"},{"v":0,"d":"0.00"},{"v":0,"d":"0.00"},{"v":0,"d":"0.00"},{"v":0,"d":"0.00"},{"v":0,"d":"0.00"},{"v":0,"d":"0.00"},{"v":0,"d":"0.00"},{"v":0,"d":"0.00"}]
[{"$nulls":6},"3-wheeler",{"v":0,"d":"0.00"},{"$f":"(I$23*$P1727)+$O1727","v":{"v":0,"d":"0.00"}},{"v":0,"d":"0.00"},{"v":0,"d":"0.00"},{"v":0,"d":"0.00"},{"v":0,"d":"0.00"},{"v":0,"d":"0.00"},{"v":0,"d":"0.00"},{"v":0,"d":"0.00"},{"v":0,"d":"0.00"},{"$f":"(R$23*$R1727)+$Q1727","v":{"v":0,"d":"0.00"}},{"v":0,"d":"0.00"},{"v":0,"d":"0.00"},{"v":0,"d":"0.00"},{"v":0,"d":"0.00"},{"v":0,"d":"0.00"},{"v":0,"d":"0.00"},{"v":0,"d":"0.00"},{"v":0,"d":"0.00"},{"v":0,"d":"0.00"}]
[{"$nulls":6},"Bus",{"v":0,"d":"0.00"},{"$f":"(I$23*$P1728)+$O1728","v":{"v":0,"d":"0.00"}},{"v":0,"d":"0.00"},{"v":0,"d":"0.00"},{"v":0,"d":"0.00"},{"v":0,"d":"0.00"},{"v":0,"d":"0.00"},{"v":0,"d":"0.00"},{"v":0,"d":"0.00"},{"v":0,"d":"0.00"},{"$f":"(R$23*$R1728)+$Q1728","v":{"v":0,"d":"0.00"}},{"v":0,"d":"0.00"},{"v":0,"d":"0.00"},{"v":0,"d":"0.00"},{"v":0,"d":"0.00"},{"v":0,"d":"0.00"},{"v":0,"d":"0.00"},{"v":0,"d":"0.00"},{"v":0,"d":"0.00"},{"v":0,"d":"0.00"}]
[{"$nulls":6},"Mini-bus",{"v":0,"d":"0.00"},{"$f":"(I$23*$P1729)+$O1729","v":{"v":0,"d":"0.00"}},{"v":0,"d":"0.00"},{"v":0,"d":"0.00"},{"v":0,"d":"0.00"},{"v":0,"d":"0.00"},{"v":0,"d":"0.00"},{"v":0,"d":"0.00"},{"v":0,"d":"0.00"},{"v":0,"d":"0.00"},{"$f":"(R$23*$R1729)+$Q1729","v":{"v":0,"d":"0.00"}},{"v":0,"d":"0.00"},{"v":0,"d":"0.00"},{"v":0,"d":"0.00"},{"v":0,"d":"0.00"},{"v":0,"d":"0.00"},{"v":0,"d":"0.00"},{"v":0,"d":"0.00"},{"v":0,"d":"0.00"},{"v":0,"d":"0.00"}]
[{"$nulls":6},"",{"v":0,"d":"0.00"},{"$f":"(I$23*$P1730)+$O1730","v":{"v":0,"d":"0.00"}},{"v":0,"d":"0.00"},{"v":0,"d":"0.00"},{"v":0,"d":"0.00"},{"v":0,"d":"0.00"},{"v":0,"d":"0.00"},{"v":0,"d":"0.00"},{"v":0,"d":"0.00"},{"v":0,"d":"0.00"},{"$f":"(R$23*$R1730)+$Q1730","v":{"v":0,"d":"0.00"}},{"v":0,"d":"0.00"},{"v":0,"d":"0.00"},{"v":0,"d":"0.00"},{"v":0,"d":"0.00"},{"v":0,"d":"0.00"},{"v":0,"d":"0.00"},{"v":0,"d":"0.00"},{"v":0,"d":"0.00"},{"v":0,"d":"0.00"}]
[{"$nulls":6},"",{"v":0,"d":"0.00"},{"$f":"(I$23*$P1731)+$O1731","v":{"v":0,"d":"0.00"}},{"v":0,"d":"0.00"},{"v":0,"d":"0.00"},{"v":0,"d":"0.00"},{"v":0,"d":"0.00"},{"v":0,"d":"0.00"},{"v":0,"d":"0.00"},{"v":0,"d":"0.00"},{"v":0,"d":"0.00"},{"$f":"(R$23*$R1731)+$Q1731","v":{"v":0,"d":"0.00"}},{"v":0,"d":"0.00"},{"v":0,"d":"0.00"},{"v":0,"d":"0.00"},{"v":0,"d":"0.00"},{"v":0,"d":"0.00"},{"v":0,"d":"0.00"},{"v":0,"d":"0.00"},{"v":0,"d":"0.00"},{"v":0,"d":"0.00"}]
[{"$nulls":6},"BRT",{"v":0,"d":"0.00"},{"$f":"(I$23*$P1732)+$O1732","v":{"v":0,"d":"0.00"}},{"v":0,"d":"0.00"},{"v":0,"d":"0.00"},{"v":0,"d":"0.00"},{"v":0,"d":"0.00"},{"v":0,"d":"0.00"},{"v":0,"d":"0.00"},{"v":0,"d":"0.00"},{"v":0,"d":"0.00"},{"$f":"(R$23*$R1732)+$Q1732","v":{"v":0,"d":"0.00"}},{"v":0,"d":"0.00"},{"v":0,"d":"0.00"},{"v":0,"d":"0.00"},{"v":0,"d":"0.00"},{"v":0,"d":"0.00"},{"v":0,"d":"0.00"},{"v":0,"d":"0.00"},{"v":0,"d":"0.00"},{"v":0,"d":"0.00"}]
[]
[{"$nulls":6},"Adjusted CO2 Emission Factor",null,{"$f":"I1736","v":0}]
[{"$nulls":7},{"$f":"H1737","v":0},{"$f":"I1737","v":1},2,3,4,5,6,7,8,9,10,11,12,13,14,15,16,17,18,19]
[{"$nulls":5},"NO BRT",{"$f":"G1738","v":"Cars"}]
[{"$nulls":6},{"$f":"G1739","v":"2-wheeler"}]
[{"$nulls":6},"Taxi"]
[{"$nulls":6},""]
[{"$nulls":6},""]
[{"$nulls":6},"3-wheeler"]
[{"$nulls":6},"Bus"]
[{"$nulls":6},"Mini-bus"]
[{"$nulls":6},""]
[{"$nulls":6},""]
[{"$nulls":6},"BRT"]
[]
[]
[{"$nulls":6},"EMISSIONS (DAILY VALUES -GRAMS)"]
[{"$nulls":6},"Gasoline PM"]
[{"$nulls":7},{"$f":"H23","v":0},{"$f":"I23","v":1},2,3,4,5,6,7,8,9,10,11,12,13,14,15,16,17,18,19]
[{"$nulls":5},"NO BRT",{"$f":"G1752","v":"Cars"},{"$f":"H203*H953","v":0},0,0,0,0,0,0,0,0,0,0,0,0,0,0,0,0,0,0,0]
[{"$nulls":6},{"$f":"G1753","v":"2-wheeler"},{"$f":"H204*H954","v":0},0,0,0,0,0,0,0,0,0,0,0,0,0,0,0,0,0,0,0]
[{"$nulls":6},"Taxi",{"$f":"H205*H955","v":0},0,0,0,0,0,0,0,0,0,0,0,0,0,0,0,0,0,0,0]
[{"$nulls":6},"",{"$f":"H206*H956","v":0},0,0,0,0,0,0,0,0,0,0,0,0,0,0,0,0,0,0,0]
[{"$nulls":6},"",{"$f":"H207*H957","v":0},0,0,0,0,0,0,0,0,0,0,0,0,0,0,0,0,0,0,0]
[{"$nulls":6},"3-wheeler",{"$f":"H208*H958","v":0},0,0,0,0,0,0,0,0,0,0,0,0,0,0,0,0,0,0,0]
[{"$nulls":6},"Bus",{"$f":"H209*H959","v":0},0,0,0,0,0,0,0,0,0,0,0,0,0,0,0,0,0,0,0]
[{"$nulls":6},"Mini-bus",{"$f":"H210*H960","v":0},0,0,0,0,0,0,0,0,0,0,0,0,0,0,0,0,0,0,0]
[{"$nulls":6},"",{"$f":"H211*H961","v":0},0,0,0,0,0,0,0,0,0,0,0,0,0,0,0,0,0,0,0]
[{"$nulls":6},"",{"$f":"H212*H962","v":0},0,0,0,0,0,0,0,0,0,0,0,0,0,0,0,0,0,0,0]
[{"$nulls":6},"BRT",{"$f":"H213*H963","v":0},0,0,0,0,0,0,0,0,0,0,0,0,0,0,0,0,0,0,0]
[]
[]
[{"$nulls":6},"Diesel PM"]
[{"$nulls":7},{"$f":"H1767","v":0},{"$f":"I1767","v":1},2,3,4,5,6,7,8,9,10,11,12,13,14,15,16,17,18,19]
[{"$nulls":5},"NO BRT",{"$f":"G1768","v":"Cars"},{"$f":"H250*H1000","v":0},0,0,0,0,0,0,0,0,0,0,0,0,0,0,0,0,0,0,0]
[{"$nulls":6},{"$f":"G1769","v":"2-wheeler"},{"$f":"H251*H1001","v":0},0,0,0,0,0,0,0,0,0,0,0,0,0,0,0,0,0,0,0]
[{"$nulls":6},"Taxi",{"$f":"H252*H1002","v":0},0,0,0,0,0,0,0,0,0,0,0,0,0,0,0,0,0,0,0]
[{"$nulls":6},"",{"$f":"H253*H1003","v":0},0,0,0,0,0,0,0,0,0,0,0,0,0,0,0,0,0,0,0]
[{"$nulls":6},"",{"$f":"H254*H1004","v":0},0,0,0,0,0,0,0,0,0,0,0,0,0,0,0,0,0,0,0]
[{"$nulls":6},"3-wheeler",{"$f":"H255*H1005","v":0},0,0,0,0,0,0,0,0,0,0,0,0,0,0,0,0,0,0,0]
[{"$nulls":6},"Bus",{"$f":"H256*H1006","v":0},0,0,0,0,0,0,0,0,0,0,0,0,0,0,0,0,0,0,0]
[{"$nulls":6},"Mini-bus",{"$f":"H257*H1007","v":0},0,0,0,0,0,0,0,0,0,0,0,0,0,0,0,0,0,0,0]
[{"$nulls":6},"",{"$f":"H258*H1008","v":0},0,0,0,0,0,0,0,0,0,0,0,0,0,0,0,0,0,0,0]
[{"$nulls":6},"",{"$f":"H259*H1009","v":0},0,0,0,0,0,0,0,0,0,0,0,0,0,0,0,0,0,0,0]
[{"$nulls":6},"BRT",{"$f":"H260*H1010","v":0},0,0,0,0,0,0,0,0,0,0,0,0,0,0,0,0,0,0,0]
[]
[]
[{"$nulls":6},"LPG PM"]
[{"$nulls":7},{"$f":"H1782","v":0},{"$f":"I1782","v":1},2,3,4,5,6,7,8,9,10,11,12,13,14,15,16,17,18,19]
[{"$nulls":5},"NO BRT",{"$f":"G1783","v":"Cars"},{"$f":"H297*H1047","v":0},0,0,0,0,0,0,0,0,0,0,0,0,0,0,0,0,0,0,0]
[{"$nulls":6},{"$f":"G1784","v":"2-wheeler"},{"$f":"H298*H1048","v":0},0,0,0,0,0,0,0,0,0,0,0,0,0,0,0,0,0,0,0]
[{"$nulls":6},"Taxi",{"$f":"H299*H1049","v":0},0,0,0,0,0,0,0,0,0,0,0,0,0,0,0,0,0,0,0]
[{"$nulls":6},"",{"$f":"H300*H1050","v":0},0,0,0,0,0,0,0,0,0,0,0,0,0,0,0,0,0,0,0]
[{"$nulls":6},"",{"$f":"H301*H1051","v":0},0,0,0,0,0,0,0,0,0,0,0,0,0,0,0,0,0,0,0]
[{"$nulls":6},"3-wheeler",{"$f":"H302*H1052","v":0},0,0,0,0,0,0,0,0,0,0,0,0,0,0,0,0,0,0,0]
[{"$nulls":6},"Bus",{"$f":"H303*H1053","v":0},0,0,0,0,0,0,0,0,0,0,0,0,0,0,0,0,0,0,0]
[{"$nulls":6},"Mini-bus",{"$f":"H304*H1054","v":0},0,0,0,0,0,0,0,0,0,0,0,0,0,0,0,0,0,0,0]
[{"$nulls":6},"",{"$f":"H305*H1055","v":0},0,0,0,0,0,0,0,0,0,0,0,0,0,0,0,0,0,0,0]
[{"$nulls":6},"",{"$f":"H306*H1056","v":0},0,0,0,0,0,0,0,0,0,0,0,0,0,0,0,0,0,0,0]
[{"$nulls":6},"BRT",{"$f":"H307*H1057","v":0},0,0,0,0,0,0,0,0,0,0,0,0,0,0,0,0,0,0,0]
[]
[]
[{"$nulls":6},"CNG PM"]
[{"$nulls":7},{"$f":"H1797","v":0},{"$f":"I1797","v":1},2,3,4,5,6,7,8,9,10,11,12,13,14,15,16,17,18,19]
[{"$nulls":5},"NO BRT",{"$f":"G1798","v":"Cars"},{"$f":"H344*H1094","v":0},0,0,0,0,0,0,0,0,0,0,0,0,0,0,0,0,0,0,0]
[{"$nulls":6},{"$f":"G1799","v":"2-wheeler"},{"$f":"H345*H1095","v":0},0,0,0,0,0,0,0,0,0,0,0,0,0,0,0,0,0,0,0]
[{"$nulls":6},"Taxi",{"$f":"H346*H1096","v":0},0,0,0,0,0,0,0,0,0,0,0,0,0,0,0,0,0,0,0]
[{"$nulls":6},"",{"$f":"H347*H1097","v":0},0,0,0,0,0,0,0,0,0,0,0,0,0,0,0,0,0,0,0]
[{"$nulls":6},"",{"$f":"H348*H1098","v":0},0,0,0,0,0,0,0,0,0,0,0,0,0,0,0,0,0,0,0]
[{"$nulls":6},"3-wheeler",{"$f":"H349*H1099","v":0},0,0,0,0,0,0,0,0,0,0,0,0,0,0,0,0,0,0,0]
[{"$nulls":6},"Bus",{"$f":"H350*H1100","v":0},0,0,0,0,0,0,0,0,0,0,0,0,0,0,0,0,0,0,0]
[{"$nulls":6},"Mini-bus",{"$f":"H351*H1101","v":0},0,0,0,0,0,0,0,0,0,0,0,0,0,0,0,0,0,0,0]
[{"$nulls":6},"",{"$f":"H352*H1102","v":0},0,0,0,0,0,0,0,0,0,0,0,0,0,0,0,0,0,0,0]
[{"$nulls":6},"",{"$f":"H353*H1103","v":0},0,0,0,0,0,0,0,0,0,0,0,0,0,0,0,0,0,0,0]
[{"$nulls":6},"BRT",{"$f":"H354*H1104","v":0},0,0,0,0,0,0,0,0,0,0,0,0,0,0,0,0,0,0,0]
[]
[]
[{"$nulls":6},"Electric PM"]
[{"$nulls":7},{"$f":"H1812","v":0},{"$f":"I1812","v":1},2,3,4,5,6,7,8,9,10,11,12,13,14,15,16,17,18,19]
[{"$nulls":5},"NO BRT",{"$f":"G1813","v":"Cars"},{"$f":"H391*H1141","v":0},0,0,0,0,0,0,0,0,0,0,0,0,0,0,0,0,0,0,0]
[{"$nulls":6},{"$f":"G1814","v":"2-wheeler"},{"$f":"H392*H1142","v":0},0,0,0,0,0,0,0,0,0,0,0,0,0,0,0,0,0,0,0]
[{"$nulls":6},"Taxi",{"$f":"H393*H1143","v":0},0,0,0,0,0,0,0,0,0,0,0,0,0,0,0,0,0,0,0]
[{"$nulls":6},"",{"$f":"H394*H1144","v":0},0,0,0,0,0,0,0,0,0,0,0,0,0,0,0,0,0,0,0]
[{"$nulls":6},"",{"$f":"H395*H1145","v":0},0,0,0,0,0,0,0,0,0,0,0,0,0,0,0,0,0,0,0]
[{"$nulls":6},"3-wheeler",{"$f":"H396*H1146","v":0},0,0,0,0,0,0,0,0,0,0,0,0,0,0,0,0,0,0,0]
[{"$nulls":6},"Bus",{"$f":"H397*H1147","v":0},0,0,0,0,0,0,0,0,0,0,0,0,0,0,0,0,0,0,0]
[{"$nulls":6},"Mini-bus",{"$f":"H398*H1148","v":0},0,0,0,0,0,0,0,0,0,0,0,0,0,0,0,0,0,0,0]
[{"$nulls":6},"",{"$f":"H399*H1149","v":0},0,0,0,0,0,0,0,0,0,0,0,0,0,0,0,0,0,0,0]
[{"$nulls":6},"",{"$f":"H400*H1150","v":0},0,0,0,0,0,0,0,0,0,0,0,0,0,0,0,0,0,0,0]
[{"$nulls":6},"BRT",{"$f":"H401*H1151","v":0},0,0,0,0,0,0,0,0,0,0,0,0,0,0,0,0,0,0,0]
[]
[]
[{"$nulls":6},"Other PM"]
[{"$nulls":7},{"$f":"H1827","v":0},{"$f":"I1827","v":1},2,3,4,5,6,7,8,9,10,11,12,13,14,15,16,17,18,19]
[{"$nulls":5},"NO BRT",{"$f":"G1828","v":"Cars"},{"$f":"H438*H1188","v":0},0,0,0,0,0,0,0,0,0,0,0,0,0,0,0,0,0,0,0]
[{"$nulls":6},{"$f":"G1829","v":"2-wheeler"},{"$f":"H439*H1189","v":0},0,0,0,0,0,0,0,0,0,0,0,0,0,0,0,0,0,0,0]
[{"$nulls":6},"Taxi",{"$f":"H440*H1190","v":0},0,0,0,0,0,0,0,0,0,0,0,0,0,0,0,0,0,0,0]
[{"$nulls":6},"",{"$f":"H441*H1191","v":0},0,0,0,0,0,0,0,0,0,0,0,0,0,0,0,0,0,0,0]
[{"$nulls":6},"",{"$f":"H442*H1192","v":0},0,0,0,0,0,0,0,0,0,0,0,0,0,0,0,0,0,0,0]
[{"$nulls":6},"3-wheeler",{"$f":"H443*H1193","v":0},0,0,0,0,0,0,0,0,0,0,0,0,0,0,0,0,0,0,0]
[{"$nulls":6},"Bus",{"$f":"H444*H1194","v":0},0,0,0,0,0,0,0,0,0,0,0,0,0,0,0,0,0,0,0]
[{"$nulls":6},"Mini-bus",{"$f":"H445*H1195","v":0},0,0,0,0,0,0,0,0,0,0,0,0,0,0,0,0,0,0,0]
[{"$nulls":6},"",{"$f":"H446*H1196","v":0},0,0,0,0,0,0,0,0,0,0,0,0,0,0,0,0,0,0,0]
[{"$nulls":6},"",{"$f":"H447*H1197","v":0},0,0,0,0,0,0,0,0,0,0,0,0,0,0,0,0,0,0,0]
[{"$nulls":6},"BRT",{"$f":"H448*H1198","v":0},0,0,0,0,0,0,0,0,0,0,0,0,0,0,0,0,0,0,0]
[]
[]
[]
[{"$nulls":6},"Gasoline NOx"]
[{"$nulls":7},{"$f":"H1842","v":0},{"$f":"I1842","v":1},2,3,4,5,6,7,8,9,10,11,12,13,14,15,16,17,18,19]
[{"$nulls":5},"NO BRT",{"$f":"G1843","v":"Cars"},{"$f":"H203*H1235","v":0},0,0,0,0,0,0,0,0,0,0,0,0,0,0,0,0,0,0,0]
[{"$nulls":6},{"$f":"G1844","v":"2-wheeler"},{"$f":"H204*H1236","v":0},0,0,0,0,0,0,0,0,0,0,0,0,0,0,0,0,0,0,0]
[{"$nulls":6},"Taxi",{"$f":"H205*H1237","v":0},0,0,0,0,0,0,0,0,0,0,0,0,0,0,0,0,0,0,0]
[{"$nulls":6},"",{"$f":"H206*H1238","v":0},0,0,0,0,0,0,0,0,0,0,0,0,0,0,0,0,0,0,0]
[{"$nulls":6},"",{"$f":"H207*H1239","v":0},0,0,0,0,0,0,0,0,0,0,0,0,0,0,0,0,0,0,0]
[{"$nulls":6},"3-wheeler",{"$f":"H208*H1240","v":0},0,0,0,0,0,0,0,0,0,0,0,0,0,0,0,0,0,0,0]
[{"$nulls":6},"Bus",{"$f":"H209*H1241","v":0},0,0,0,0,0,0,0,0,0,0,0,0,0,0,0,0,0,0,0]
[{"$nulls":6},"Mini-bus",{"$f":"H210*H1242","v":0},0,0,0,0,0,0,0,0,0,0,0,0,0,0,0,0,0,0,0]
[{"$nulls":6},"",{"$f":"H211*H1243","v":0},0,0,0,0,0,0,0,0,0,0,0,0,0,0,0,0,0,0,0]
[{"$nulls":6},"",{"$f":"H212*H1244","v":0},0,0,0,0,0,0,0,0,0,0,0,0,0,0,0,0,0,0,0]
[{"$nulls":6},"BRT",{"$f":"H213*H1245","v":0},0,0,0,0,0,0,0,0,0,0,0,0,0,0,0,0,0,0,0]
[]
[]
[{"$nulls":6},"Diesel NOx"]
[{"$nulls":7},{"$f":"H1858","v":0},{"$f":"I1858","v":1},2,3,4,5,6,7,8,9,10,11,12,13,14,15,16,17,18,19]
[{"$nulls":5},"NO BRT",{"$f":"G1859","v":"Cars"},{"$f":"H250*H1282","v":0},0,0,0,0,0,0,0,0,0,0,0,0,0,0,0,0,0,0,0]
[{"$nulls":6},{"$f":"G1860","v":"2-wheeler"},{"$f":"H251*H1283","v":0},0,0,0,0,0,0,0,0,0,0,0,0,0,0,0,0,0,0,0]
[{"$nulls":6},"Taxi",{"$f":"H252*H1284","v":0},0,0,0,0,0,0,0,0,0,0,0,0,0,0,0,0,0,0,0]
[{"$nulls":6},"",{"$f":"H253*H1285","v":0},0,0,0,0,0,0,0,0,0,0,0,0,0,0,0,0,0,0,0]
[{"$nulls":6},"",{"$f":"H254*H1286","v":0},0,0,0,0,0,0,0,0,0,0,0,0,0,0,0,0,0,0,0]
[{"$nulls":6},"3-wheeler",{"$f":"H255*H1287","v":0},0,0,0,0,0,0,0,0,0,0,0,0,0,0,0,0,0,0,0]
[{"$nulls":6},"Bus",{"$f":"H256*H1288","v":0},0,0,0,0,0,0,0,0,0,0,0,0,0,0,0,0,0,0,0]
[{"$nulls":6},"Mini-bus",{"$f":"H257*H1289","v":0},0,0,0,0,0,0,0,0,0,0,0,0,0,0,0,0,0,0,0]
[{"$nulls":6},"",{"$f":"H258*H1290","v":0},0,0,0,0,0,0,0,0,0,0,0,0,0,0,0,0,0,0,0]
[{"$nulls":6},"",{"$f":"H259*H1291","v":0},0,0,0,0,0,0,0,0,0,0,0,0,0,0,0,0,0,0,0]
[{"$nulls":6},"BRT",{"$f":"H260*H1292","v":0},0,0,0,0,0,0,0,0,0,0,0,0,0,0,0,0,0,0,0]
[]
[]
[{"$nulls":6},"LPG NOx"]
[{"$nulls":7},{"$f":"H1873","v":0},{"$f":"I1873","v":1},2,3,4,5,6,7,8,9,10,11,12,13,14,15,16,17,18,19]
[{"$nulls":5},"NO BRT",{"$f":"G1874","v":"Cars"},{"$f":"H297*H1329","v":0},0,0,0,0,0,0,0,0,0,0,0,0,0,0,0,0,0,0,0]
[{"$nulls":6},{"$f":"G1875","v":"2-wheeler"},{"$f":"H298*H1330","v":0},0,0,0,0,0,0,0,0,0,0,0,0,0,0,0,0,0,0,0]
[{"$nulls":6},"Taxi",{"$f":"H299*H1331","v":0},0,0,0,0,0,0,0,0,0,0,0,0,0,0,0,0,0,0,0]
[{"$nulls":6},"",{"$f":"H300*H1332","v":0},0,0,0,0,0,0,0,0,0,0,0,0,0,0,0,0,0,0,0]
[{"$nulls":6},"",{"$f":"H301*H1333","v":0},0,0,0,0,0,0,0,0,0,0,0,0,0,0,0,0,0,0,0]
[{"$nulls":6},"3-wheeler",{"$f":"H302*H1334","v":0},0,0,0,0,0,0,0,0,0,0,0,0,0,0,0,0,0,0,0]
[{"$nulls":6},"Bus",{"$f":"H303*H1335","v":0},0,0,0,0,0,0,0,0,0,0,0,0,0,0,0,0,0,0,0]
[{"$nulls":6},"Mini-bus",{"$f":"H304*H1336","v":0},0,0,0,0,0,0,0,0,0,0,0,0,0,0,0,0,0,0,0]
[{"$nulls":6},"",{"$f":"H305*H1337","v":0},0,0,0,0,0,0,0,0,0,0,0,0,0,0,0,0,0,0,0]
[{"$nulls":6},"",{"$f":"H306*H1338","v":0},0,0,0,0,0,0,0,0,0,0,0,0,0,0,0,0,0,0,0]
[{"$nulls":6},"BRT",{"$f":"H307*H1339","v":0},0,0,0,0,0,0,0,0,0,0,0,0,0,0,0,0,0,0,0]
[]
[]
[{"$nulls":6},"CNG NOx"]
[{"$nulls":7},{"$f":"H1888","v":0},{"$f":"I1888","v":1},2,3,4,5,6,7,8,9,10,11,12,13,14,15,16,17,18,19]
[{"$nulls":5},"NO BRT",{"$f":"G1889","v":"Cars"},{"$f":"H344*H1376","v":0},0,0,0,0,0,0,0,0,0,0,0,0,0,0,0,0,0,0,0]
[{"$nulls":6},{"$f":"G1890","v":"2-wheeler"},{"$f":"H345*H1377","v":0},0,0,0,0,0,0,0,0,0,0,0,0,0,0,0,0,0,0,0]
[{"$nulls":6},"Taxi",{"$f":"H346*H1378","v":0},0,0,0,0,0,0,0,0,0,0,0,0,0,0,0,0,0,0,0]
[{"$nulls":6},"",{"$f":"H347*H1379","v":0},0,0,0,0,0,0,0,0,0,0,0,0,0,0,0,0,0,0,0]
[{"$nulls":6},"",{"$f":"H348*H1380","v":0},0,0,0,0,0,0,0,0,0,0,0,0,0,0,0,0,0,0,0]
[{"$nulls":6},"3-wheeler",{"$f":"H349*H1381","v":0},0,0,0,0,0,0,0,0,0,0,0,0,0,0,0,0,0,0,0]
[{"$nulls":6},"Bus",{"$f":"H350*H1382","v":0},0,0,0,0,0,0,0,0,0,0,0,0,0,0,0,0,0,0,0]
[{"$nulls":6},"Mini-bus",{"$f":"H351*H1383","v":0},0,0,0,0,0,0,0,0,0,0,0,0,0,0,0,0,0,0,0]
[{"$nulls":6},"",{"$f":"H352*H1384","v":0},0,0,0,0,0,0,0,0,0,0,0,0,0,0,0,0,0,0,0]
[{"$nulls":6},"",{"$f":"H353*H1385","v":0},0,0,0,0,0,0,0,0,0,0,0,0,0,0,0,0,0,0,0]
[{"$nulls":6},"BRT",{"$f":"H354*H1386","v":0},0,0,0,0,0,0,0,0,0,0,0,0,0,0,0,0,0,0,0]
[]
[]
[{"$nulls":6},"Electric NOx"]
[{"$nulls":7},{"$f":"H1903","v":0},{"$f":"I1903","v":1},2,3,4,5,6,7,8,9,10,11,12,13,14,15,16,17,18,19]
[{"$nulls":5},"NO BRT",{"$f":"G1904","v":"Cars"},{"$f":"H391*H1423","v":0},0,0,0,0,0,0,0,0,0,0,0,0,0,0,0,0,0,0,0]
[{"$nulls":6},{"$f":"G1905","v":"2-wheeler"},{"$f":"H392*H1424","v":0},0,0,0,0,0,0,0,0,0,0,0,0,0,0,0,0,0,0,0]
[{"$nulls":6},"Taxi",{"$f":"H393*H1425","v":0},0,0,0,0,0,0,0,0,0,0,0,0,0,0,0,0,0,0,0]
[{"$nulls":6},"",{"$f":"H394*H1426","v":0},0,0,0,0,0,0,0,0,0,0,0,0,0,0,0,0,0,0,0]
[{"$nulls":6},"",{"$f":"H395*H1427","v":0},0,0,0,0,0,0,0,0,0,0,0,0,0,0,0,0,0,0,0]
[{"$nulls":6},"3-wheeler",{"$f":"H396*H1428","v":0},0,0,0,0,0,0,0,0,0,0,0,0,0,0,0,0,0,0,0]
[{"$nulls":6},"Bus",{"$f":"H397*H1429","v":0},0,0,0,0,0,0,0,0,0,0,0,0,0,0,0,0,0,0,0]
[{"$nulls":6},"Mini-bus",{"$f":"H398*H1430","v":0},0,0,0,0,0,0,0,0,0,0,0,0,0,0,0,0,0,0,0]
[{"$nulls":6},"",{"$f":"H399*H1431","v":0},0,0,0,0,0,0,0,0,0,0,0,0,0,0,0,0,0,0,0]
[{"$nulls":6},"",{"$f":"H400*H1432","v":0},0,0,0,0,0,0,0,0,0,0,0,0,0,0,0,0,0,0,0]
[{"$nulls":6},"BRT",{"$f":"H401*H1433","v":0},0,0,0,0,0,0,0,0,0,0,0,0,0,0,0,0,0,0,0]
[]
[]
[{"$nulls":6},"Other NOx"]
[{"$nulls":7},{"$f":"H1918","v":0},{"$f":"I1918","v":1},2,3,4,5,6,7,8,9,10,11,12,13,14,15,16,17,18,19]
[{"$nulls":5},"NO BRT",{"$f":"G1919","v":"Cars"},{"$f":"H438*H1470","v":0},0,0,0,0,0,0,0,0,0,0,0,0,0,0,0,0,0,0,0]
[{"$nulls":6},{"$f":"G1920","v":"2-wheeler"},{"$f":"H439*H1471","v":0},0,0,0,0,0,0,0,0,0,0,0,0,0,0,0,0,0,0,0]
[{"$nulls":6},"Taxi",{"$f":"H440*H1472","v":0},0,0,0,0,0,0,0,0,0,0,0,0,0,0,0,0,0,0,0]
[{"$nulls":6},"",{"$f":"H441*H1473","v":0},0,0,0,0,0,0,0,0,0,0,0,0,0,0,0,0,0,0,0]
[{"$nulls":6},"",{"$f":"H442*H1474","v":0},0,0,0,0,0,0,0,0,0,0,0,0,0,0,0,0,0,0,0]
[{"$nulls":6},"3-wheeler",{"$f":"H443*H1475","v":0},0,0,0,0,0,0,0,0,0,0,0,0,0,0,0,0,0,0,0]
[{"$nulls":6},"Bus",{"$f":"H444*H1476","v":0},0,0,0,0,0,0,0,0,0,0,0,0,0,0,0,0,0,0,0]
[{"$nulls":6},"Mini-bus",{"$f":"H445*H1477","v":0},0,0,0,0,0,0,0,0,0,0,0,0,0,0,0,0,0,0,0]
[{"$nulls":6},"",{"$f":"H446*H1478","v":0},0,0,0,0,0,0,0,0,0,0,0,0,0,0,0,0,0,0,0]
[{"$nulls":6},"",{"$f":"H447*H1479","v":0},0,0,0,0,0,0,0,0,0,0,0,0,0,0,0,0,0,0,0]
[{"$nulls":6},"BRT",{"$f":"H448*H1480","v":0},0,0,0,0,0,0,0,0,0,0,0,0,0,0,0,0,0,0,0]
[]
[]
[]
[{"$nulls":6},"Gasoline CO2"]
[{"$nulls":7},{"$f":"H1933","v":0},{"$f":"I1933","v":1},2,3,4,5,6,7,8,9,10,11,12,13,14,15,16,17,18,19]
[{"$nulls":5},"NO BRT",{"$f":"G1934","v":"Cars"},{"$f":"H831*H1503","v":0},{"$f":"I831*I1503","v":0},0,0,0,0,0,0,0,0,0,0,0,0,0,0,0,0,0,0]
[{"$nulls":6},{"$f":"G1935","v":"2-wheeler"},{"$f":"H832*H1504","v":0},0,0,0,0,0,0,0,0,0,0,0,0,0,0,0,0,0,0,0]
[{"$nulls":6},"Taxi",0,0,0,0,0,0,0,0,0,0,0,0,0,0,0,0,0,0,0,0]
[{"$nulls":6},"",0,0,0,0,0,0,0,0,0,0,0,0,0,0,0,0,0,0,0,0]
[{"$nulls":6},"",0,0,0,0,0,0,0,0,0,0,0,0,0,0,0,0,0,0,0,0]
[{"$nulls":6},"3-wheeler",0,0,0,0,0,0,0,0,0,0,0,0,0,0,0,0,0,0,0,0]
[{"$nulls":6},"Bus",0,0,0,0,0,0,0,0,0,0,0,0,0,0,0,0,0,0,0,0]
[{"$nulls":6},"Mini-bus",0,0,0,0,0,0,0,0,0,0,0,0,0,0,0,0,0,0,0,0]
[{"$nulls":6},"",0,0,0,0,0,0,0,0,0,0,0,0,0,0,0,0,0,0,0,0]
[{"$nulls":6},"",0,0,0,0,0,0,0,0,0,0,0,0,0,0,0,0,0,0,0,0]
[{"$nulls":6},"BRT",0,0,0,0,0,0,0,0,0,0,0,0,0,0,0,0,0,0,0,0]
[]
[]
[{"$nulls":6},"Diesel CO2"]
[{"$nulls":7},{"$f":"H1949","v":0},{"$f":"I1949","v":1},2,3,4,5,6,7,8,9,10,11,12,13,14,15,16,17,18,19]
[{"$nulls":5},"NO BRT",{"$f":"G1950","v":"Cars"},{"$f":"H846*H1550","v":0},{"$f":"I846*I1550","v":0},0,0,0,0,0,0,0,0,0,0,0,0,0,0,0,0,0,0]
[{"$nulls":6},{"$f":"G1951","v":"2-wheeler"},{"$f":"H847*H1551","v":0},0,0,0,0,0,0,0,0,0,0,0,0,0,0,0,0,0,0,0]
[{"$nulls":6},"Taxi",0,0,0,0,0,0,0,0,0,0,0,0,0,0,0,0,0,0,0,0]
[{"$nulls":6},"",0,0,0,0,0,0,0,0,0,0,0,0,0,0,0,0,0,0,0,0]
[{"$nulls":6},"",0,0,0,0,0,0,0,0,0,0,0,0,0,0,0,0,0,0,0,0]
[{"$nulls":6},"3-wheeler",0,0,0,0,0,0,0,0,0,0,0,0,0,0,0,0,0,0,0,0]
[{"$nulls":6},"Bus",0,0,0,0,0,0,0,0,0,0,0,0,0,0,0,0,0,0,0,0]
[{"$nulls":6},"Mini-bus",0,0,0,0,0,0,0,0,0,0,0,0,0,0,0,0,0,0,0,0]
[{"$nulls":6},"",0,0,0,0,0,0,0,0,0,0,0,0,0,0,0,0,0,0,0,0]
[{"$nulls":6},"",0,0,0,0,0,0,0,0,0,0,0,0,0,0,0,0,0,0,0,0]
[{"$nulls":6},"BRT",0,0,0,0,0,0,0,0,0,{"$f":"Q856*Q1560","v":0},0,0,0,0,0,0,0,0,0,0]
[]
[]
[{"$nulls":6},"LPG CO2"]
[{"$nulls":7},{"$f":"H1964","v":0},{"$f":"I1964","v":1},2,3,4,5,6,7,8,9,10,11,12,13,14,15,16,17,18,19]
[{"$nulls":5},"NO BRT",{"$f":"G1965","v":"Cars"},{"$f":"H861*H1597","v":0},{"$f":"I861*I1597","v":0},0,0,0,0,0,0,0,0,0,0,0,0,0,0,0,0,0,0]
[{"$nulls":6},{"$f":"G1966","v":"2-wheeler"},{"$f":"H862*H1598","v":0},0,0,0,0,0,0,0,0,0,0,0,0,0,0,0,0,0,0,0]
[{"$nulls":6},"Taxi",0,0,0,0,0,0,0,0,0,0,0,0,0,0,0,0,0,0,0,0]
[{"$nulls":6},"",0,0,0,0,0,0,0,0,0,0,0,0,0,0,0,0,0,0,0,0]
[{"$nulls":6},"",0,0,0,0,0,0,0,0,0,0,0,0,0,0,0,0,0,0,0,0]
[{"$nulls":6},"3-wheeler",0,0,0,0,0,0,0,0,0,0,0,0,0,0,0,0,0,0,0,0]
[{"$nulls":6},"Bus",0,0,0,0,0,0,0,0,0,0,0,0,0,0,0,0,0,0,0,0]
[{"$nulls":6},"Mini-bus",0,0,0,0,0,0,0,0,0,0,0,0,0,0,0,0,0,0,0,0]
[{"$nulls":6},"",0,0,0,0,0,0,0,0,0,0,0,0,0,0,0,0,0,0,0,0]
[{"$nulls":6},"",0,0,0,0,0,0,0,0,0,0,0,0,0,0,0,0,0,0,0,0]
[{"$nulls":6},"BRT",0,0,0,0,0,0,0,0,0,0,0,0,0,0,0,0,0,0,0,0]
[]
[]
[{"$nulls":6},"CNG CO2"]
[{"$nulls":7},{"$f":"H1979","v":0},{"$f":"I1979","v":1},2,3,4,5,6,7,8,9,10,11,12,13,14,15,16,17,18,19]
[{"$nulls":5},"NO BRT",{"$f":"G1980","v":"Cars"},{"$f":"H876*H1644","v":0},{"$f":"I876*I1644","v":0},0,0,0,0,0,0,0,0,0,0,0,0,0,0,0,0,0,0]
[{"$nulls":6},{"$f":"G1981","v":"2-wheeler"},{"$f":"H877*H1645","v":0},0,0,0,0,0,0,0,0,0,0,0,0,0,0,0,0,0,0,0]
[{"$nulls":6},"Taxi",0,0,0,0,0,0,0,0,0,0,0,0,0,0,0,0,0,0,0,0]
[{"$nulls":6},"",0,0,0,0,0,0,0,0,0,0,0,0,0,0,0,0,0,0,0,0]
[{"$nulls":6},"",0,0,0,0,0,0,0,0,0,0,0,0,0,0,0,0,0,0,0,0]
[{"$nulls":6},"3-wheeler",0,0,0,0,0,0,0,0,0,0,0,0,0,0,0,0,0,0,0,0]
[{"$nulls":6},"Bus",0,0,0,0,0,0,0,0,0,0,0,0,0,0,0,0,0,0,0,0]
[{"$nulls":6},"Mini-bus",0,0,0,0,0,0,0,0,0,0,0,0,0,0,0,0,0,0,0,0]
[{"$nulls":6},"",0,0,0,0,0,0,0,0,0,0,0,0,0,0,0,0,0,0,0,0]
[{"$nulls":6},"",0,0,0,0,0,0,0,0,0,0,0,0,0,0,0,0,0,0,0,0]
[{"$nulls":6},"BRT",0,0,0,0,0,0,0,0,0,0,0,0,0,0,0,0,0,0,0,0]
[]
[]
[{"$nulls":6},"Electric CO2"]
[{"$nulls":7},{"$f":"H1994","v":0},{"$f":"I1994","v":1},2,3,4,5,6,7,8,9,10,11,12,13,14,15,16,17,18,19]
[{"$nulls":5},"NO BRT",{"$f":"G1995","v":"Cars"},{"$f":"H891*H1691","v":0},{"$f":"I891*I1691","v":0},0,0,0,0,0,0,0,0,0,0,0,0,0,0,0,0,0,0]
[{"$nulls":6},{"$f":"G1996","v":"2-wheeler"},{"$f":"H892*H1692","v":0},0,0,0,0,0,0,0,0,0,0,0,0,0,0,0,0,0,0,0]
[{"$nulls":6},"Taxi",0,0,0,0,0,0,0,0,0,0,0,0,0,0,0,0,0,0,0,0]
[{"$nulls":6},"",0,0,0,0,0,0,0,0,0,0,0,0,0,0,0,0,0,0,0,0]
[{"$nulls":6},"",0,0,0,0,0,0,0,0,0,0,0,0,0,0,0,0,0,0,0,0]
[{"$nulls":6},"3-wheeler",0,0,0,0,0,0,0,0,0,0,0,0,0,0,0,0,0,0,0,0]
[{"$nulls":6},"Bus",0,0,0,0,0,0,0,0,0,0,0,0,0,0,0,0,0,0,0,0]
[{"$nulls":6},"Mini-bus",0,0,0,0,0,0,0,0,0,0,0,0,0,0,0,0,0,0,0,0]
[{"$nulls":6},"",0,0,0,0,0,0,0,0,0,0,0,0,0,0,0,0,0,0,0,0]
[{"$nulls":6},"",0,0,0,0,0,0,0,0,0,0,0,0,0,0,0,0,0,0,0,0]
[{"$nulls":6},"BRT",0,0,0,0,0,0,0,0,0,0,0,0,0,0,0,0,0,0,0,0]
[]
[]
[{"$nulls":6},"Other CO2"]
[{"$nulls":7},{"$f":"H2009","v":0},{"$f":"I2009","v":1},2,3,4,5,6,7,8,9,10,11,12,13,14,15,16,17,18,19]
[{"$nulls":5},"NO BRT",{"$f":"G2010","v":"Cars"},{"$f":"H906*H1738","v":0},{"$f":"I906*I1738","v":0},0,0,0,0,0,0,0,0,0,0,0,0,0,0,0,0,0,0]
[{"$nulls":6},{"$f":"G2011","v":"2-wheeler"},{"$f":"H907*H1739","v":0},0,0,0,0,0,0,0,0,0,0,0,0,0,0,0,0,0,0,0]
[{"$nulls":6},"Taxi",0,0,0,0,0,0,0,0,0,0,0,0,0,0,0,0,0,0,0,0]
[{"$nulls":6},"",0,0,0,0,0,0,0,0,0,0,0,0,0,0,0,0,0,0,0,0]
[{"$nulls":6},"",0,0,0,0,0,0,0,0,0,0,0,0,0,0,0,0,0,0,0,0]
[{"$nulls":6},"3-wheeler",0,0,0,0,0,0,0,0,0,0,0,0,0,0,0,0,0,0,0,0]
[{"$nulls":6},"Bus",0,0,0,0,0,0,0,0,0,0,0,0,0,0,0,0,0,0,0,0]
[{"$nulls":6},"Mini-bus",0,0,0,0,0,0,0,0,0,0,0,0,0,0,0,0,0,0,0,0]
[{"$nulls":6},"",0,0,0,0,0,0,0,0,0,0,0,0,0,0,0,0,0,0,0,0]
[{"$nulls":6},"",0,0,0,0,0,0,0,0,0,0,0,0,0,0,0,0,0,0,0,0]
[{"$nulls":6},"BRT",0,0,0,0,0,0,0,0,0,0,0,0,0,0,0,0,0,0,0,0]
[]
[{"$nulls":6},"TOTAL PM","GRAMS","Daily"]
[{"$nulls":7},{"$f":"H2024","v":0},{"$f":"I2024","v":1},2,3,4,5,6,7,8,9,10,11,12,13,14,15,16,17,18,19]
[{"$nulls":5},"NO BRT",{"$f":"G2025","v":"Cars"},{"$f":"SUM(H1768,H1783,H1798,H1813,H1828,H1843)","v":0},{"$f":"SUM(I1768,I1783,I1798,I1813,I1828,I1843)","v":0},0,0,0,0,0,0,0,0,0,0,0,0,0,0,0,0,0,0]
[{"$nulls":6},{"$f":"G2026","v":"2-wheeler"},{"$f":"SUM(H1769,H1784,H1799,H1814,H1829,H1844)","v":0},0,0,0,0,0,0,0,0,0,0,0,0,0,0,0,0,0,0,0]
[{"$nulls":6},"Taxi",{"$f":"SUM(H1770,H1785,H1800,H1815,H1830,H1845)","v":0},0,0,0,0,0,0,0,0,0,0,0,0,0,0,0,0,0,0,0]
[{"$nulls":6},"",{"$f":"SUM(H1771,H1786,H1801,H1816,H1831,H1846)","v":0},0,0,0,0,0,0,0,0,0,0,0,0,0,0,0,0,0,0,0]
[{"$nulls":6},"",{"$f":"SUM(H1772,H1787,H1802,H1817,H1832,H1847)","v":0},0,0,0,0,0,0,0,0,0,0,0,0,0,0,0,0,0,0,0]
[{"$nulls":6},"3-wheeler",{"$f":"SUM(H1773,H1788,H1803,H1818,H1833,H1848)","v":0},0,0,0,0,0,0,0,0,0,0,0,0,0,0,0,0,0,0,0]
[{"$nulls":6},"Bus",{"$f":"SUM(H1774,H1789,H1804,H1819,H1834,H1849)","v":0},0,0,0,0,0,0,0,0,0,0,0,0,0,0,0,0,0,0,0]
[{"$nulls":6},"Mini-bus",{"$f":"SUM(H1775,H1790,H1805,H1820,H1835,H1850)","v":0},0,0,0,0,0,0,0,0,0,0,0,0,0,0,0,0,0,0,0]
[{"$nulls":6},"",{"$f":"SUM(H1776,H1791,H1806,H1821,H1836,H1851)","v":0},0,0,0,0,0,0,0,0,0,0,0,0,0,0,0,0,0,0,0]
[{"$nulls":6},"",{"$f":"SUM(H1777,H1792,H1807,H1822,H1837,H1852)","v":0},0,0,0,0,0,0,0,0,0,0,0,0,0,0,0,0,0,0,0]
[{"$nulls":6},"BRT",{"$f":"SUM(H1778,H1793,H1808,H1823,H1838,H1853)","v":0},0,0,0,0,0,0,0,0,0,0,0,0,0,0,0,0,0,0,0]
[]
[{"$nulls":6},"TOTAL Nox","GRAMS","Daily"]
[{"$nulls":7},{"$f":"H2038","v":0},{"$f":"I2038","v":1},2,3,4,5,6,7,8,9,10,11,12,13,14,15,16,17,18,19]
[{"$nulls":5},"NO BRT",{"$f":"G2039","v":"Cars"},{"$f":"SUM(H1859,H1874,H1889,H1904,H1919,H1934)","v":0},{"$f":"SUM(I1859,I1874,I1889,I1904,I1919,I1934)","v":0},0,0,0,0,0,0,0,0,0,0,0,0,0,0,0,0,0,0]
[{"$nulls":6},{"$f":"G2040","v":"2-wheeler"},{"$f":"SUM(H1860,H1875,H1890,H1905,H1920,H1935)","v":0},0,0,0,0,0,0,0,0,0,0,0,0,0,0,0,0,0,0,0]
[{"$nulls":6},"Taxi",{"$f":"SUM(H1861,H1876,H1891,H1906,H1921,H1936)","v":0},0,0,0,0,0,0,0,0,0,0,0,0,0,0,0,0,0,0,0]
[{"$nulls":6},"",{"$f":"SUM(H1862,H1877,H1892,H1907,H1922,H1937)","v":0},0,0,0,0,0,0,0,0,0,0,0,0,0,0,0,0,0,0,0]
[{"$nulls":6},"",{"$f":"SUM(H1863,H1878,H1893,H1908,H1923,H1938)","v":0},0,0,0,0,0,0,0,0,0,0,0,0,0,0,0,0,0,0,0]
[{"$nulls":6},"3-wheeler",{"$f":"SUM(H1864,H1879,H1894,H1909,H1924,H1939)","v":0},0,0,0,0,0,0,0,0,0,0,0,0,0,0,0,0,0,0,0]
[{"$nulls":6},"Bus",{"$f":"SUM(H1865,H1880,H1895,H1910,H1925,H1940)","v":0},0,0,0,0,0,0,0,0,0,0,0,0,0,0,0,0,0,0,0]
[{"$nulls":6},"Mini-bus",{"$f":"SUM(H1866,H1881,H1896,H1911,H1926,H1941)","v":0},0,0,0,0,0,0,0,0,0,0,0,0,0,0,0,0,0,0,0]
[{"$nulls":6},"",{"$f":"SUM(H1867,H1882,H1897,H1912,H1927,H1942)","v":0},0,0,0,0,0,0,0,0,0,0,0,0,0,0,0,0,0,0,0]
[{"$nulls":6},"",{"$f":"SUM(H1868,H1883,H1898,H1913,H1928,H1943)","v":0},0,0,0,0,0,0,0,0,0,0,0,0,0,0,0,0,0,0,0]
[{"$nulls":6},"BRT",{"$f":"SUM(H1869,H1884,H1899,H1914,H1929,H1944)","v":0},0,0,0,0,0,0,0,0,0,0,0,0,0,0,0,0,0,0,0]
[]
[{"$nulls":6},"TOTAL CO2","KG","Daily"]
[{"$nulls":7},{"$f":"H2024","v":0},{"$f":"I2024","v":1},2,3,4,5,6,7,8,9,10,11,12,13,14,15,16,17,18,19]
[{"$nulls":5},"NO BRT",{"$f":"G2025","v":"Cars"},{"$f":"SUM(H2025,H2010,H1995,H1980,H1965,H1950)","v":0},{"$f":"SUM(I2025,I2010,I1995,I1980,I1965,I1950)","v":0},0,0,0,0,0,0,0,0,0,0,0,0,0,0,0,0,0,0]
[{"$nulls":6},"2-wheeler",{"$f":"SUM(H2026,H2011,H1996,H1981,H1966,H1951)","v":0},0,0,0,0,0,0,0,0,0,0,0,0,0,0,0,0,0,0,0]
[{"$nulls":6},"Taxi",0,0,0,0,0,0,0,0,0,0,0,0,0,0,0,0,0,0,0,0]
[{"$nulls":6},"",0,0,0,0,0,0,0,0,0,0,0,0,0,0,0,0,0,0,0,0]
[{"$nulls":6},"",0,0,0,0,0,0,0,0,0,0,0,0,0,0,0,0,0,0,0,0]
[{"$nulls":6},"3-wheeler",0,0,0,0,0,0,0,0,0,0,0,0,0,0,0,0,0,0,0,0]
[{"$nulls":6},"Bus",0,0,0,0,0,0,0,0,0,0,0,0,0,0,0,0,0,0,0,0]
[{"$nulls":6},"Mini-bus",0,0,0,0,0,0,0,0,0,0,0,0,0,0,0,0,0,0,0,0]
[{"$nulls":6},"",0,0,0,0,0,0,0,0,0,0,0,0,0,0,0,0,0,0,0,0]
[{"$nulls":6},"",0,0,0,0,0,0,0,0,0,0,0,0,0,0,0,0,0,0,0,0]
[{"$nulls":6},"BRT",0,0,0,0,0,0,0,0,0,0,0,0,0,0,0,0,0,0,0,0]
[]
[{"$nulls":6},"PM"]
[{"$nulls":7},{"$f":"H2066","v":0},{"$f":"I2066","v":1},2,3,4,5,6,7,8,9,10,11,12,13,14,15,16,17,18,19]
[{"$nulls":6},"Total other modes",{"$f":"SUM(H2039:H2048)","v":0},{"$f":"SUM(I2039:I2048)","v":0},0,0,0,0,0,0,0,0,0,0,0,0,0,0,0,0,0,0]
[{"$nulls":6},"Total Savings (Total others - BRT)",{"$f":"H2081-H2049","v":0},{"$f":"I2081-I2049","v":0},0,0,0,0,0,0,0,0,0,0,0,0,0,0,0,0,0,0]
[{"$nulls":6},"Yearly PM Savings or Increase (grams)",{"$f":"H2082*Full!$F$16","v":0},{"$f":"I2082*Full!$F$16","v":0},{"$f":"J2082*Full!$F$16","v":0},{"$f":"K2082*Full!$F$16","v":0},{"$f":"L2082*Full!$F$16","v":0},{"$f":"M2082*Full!$F$16","v":0},{"$f":"N2082*Full!$F$16","v":0},{"$f":"O2082*Full!$F$16","v":0},{"$f":"P2082*Full!$F$16","v":0},{"$f":"Q2082*Full!$F$16","v":0},{"$f":"R2082*Full!$F$16","v":0},{"$f":"S2082*Full!$F$16","v":0},{"$f":"T2082*Full!$F$16","v":0},{"$f":"U2082*Full!$F$16","v":0},{"$f":"V2082*Full!$F$16","v":0},{"$f":"W2082*Full!$F$16","v":0},{"$f":"X2082*Full!$F$16","v":0},{"$f":"Y2082*Full!$F$16","v":0},{"$f":"Z2082*Full!$F$16","v":0},{"$f":"AA2082*Full!$F$16","v":0}]
[{"$nulls":6},"Yearly PM Savings or Increase (tons)",{"$f":"H2083/1000000","v":0},{"$f":"I2083/1000000","v":0},0,0,0,0,0,0,0,0,0,0,0,0,0,0,0,0,0,0]
[]
[{"$nulls":6},"Nox"]
[{"$nulls":7},{"$f":"H2080","v":0},{"$f":"I2080","v":1},2,3,4,5,6,7,8,9,10,11,12,13,14,15,16,17,18,19]
[{"$nulls":6},"Total other modes",{"$f":"SUM(H2053:H2062)","v":0},{"$f":"SUM(I2053:I2062)","v":0},0,0,0,0,0,0,0,0,0,0,0,0,0,0,0,0,0,0]
[{"$nulls":6},"Total Savings (Total others - BRT)",{"$f":"H2088-H2063","v":0},{"$f":"I2088-I2063","v":0},0,0,0,0,0,0,0,0,0,0,0,0,0,0,0,0,0,0]
[{"$nulls":6},"Yearly NOx Savings or Increase (grams)",{"$f":"H2089*Full!$F$16","v":0},{"$f":"I2089*Full!$F$16","v":0},{"$f":"J2089*Full!$F$16","v":0},{"$f":"K2089*Full!$F$16","v":0},{"$f":"L2089*Full!$F$16","v":0},{"$f":"M2089*Full!$F$16","v":0},{"$f":"N2089*Full!$F$16","v":0},{"$f":"O2089*Full!$F$16","v":0},{"$f":"P2089*Full!$F$16","v":0},{"$f":"Q2089*Full!$F$16","v":0},{"$f":"R2089*Full!$F$16","v":0},{"$f":"S2089*Full!$F$16","v":0},{"$f":"T2089*Full!$F$16","v":0},{"$f":"U2089*Full!$F$16","v":0},{"$f":"V2089*Full!$F$16","v":0},{"$f":"W2089*Full!$F$16","v":0},{"$f":"X2089*Full!$F$16","v":0},{"$f":"Y2089*Full!$F$16","v":0},{"$f":"Z2089*Full!$F$16","v":0},{"$f":"AA2089*Full!$F$16","v":0}]
[{"$nulls":6},"Yearly NOx Savings or Increase (tons)",{"$f":"H2090/1000000","v":0},{"$f":"I2090/1000000","v":0},0,0,0,0,0,0,0,0,0,0,0,0,0,0,0,0,0,0]
[]
[{"$nulls":6},"CO2"]
[{"$nulls":7},{"$f":"H2087","v":0},{"$f":"I2087","v":1},2,3,4,5,6,7,8,9,10,11,12,13,14,15,16,17,18,19]
[{"$nulls":6},"Total other modes",{"$f":"SUM(H2067:H2076)","v":0},{"$f":"SUM(I2067:I2076)","v":0},0,0,0,0,0,0,0,0,0,0,0,0,0,0,0,0,0,0]
[{"$nulls":6},"Total Savings (Total others - BRT)",{"$f":"H2095-H2077","v":0},{"$f":"I2095-I2077","v":0},0,0,0,0,0,0,0,0,0,0,0,0,0,0,0,0,0,0]
[{"$nulls":6},"Yearly CO2 Savings or Increase (kg)",{"$f":"H2096*Full!$F$16","v":0},{"$f":"I2096*Full!$F$16","v":0},{"$f":"J2096*Full!$F$16","v":0},{"$f":"K2096*Full!$F$16","v":0},{"$f":"L2096*Full!$F$16","v":0},{"$f":"M2096*Full!$F$16","v":0},{"$f":"N2096*Full!$F$16","v":0},{"$f":"O2096*Full!$F$16","v":0},{"$f":"P2096*Full!$F$16","v":0},{"$f":"Q2096*Full!$F$16","v":0},{"$f":"R2096*Full!$F$16","v":0},{"$f":"S2096*Full!$F$16","v":0},{"$f":"T2096*Full!$F$16","v":0},{"$f":"U2096*Full!$F$16","v":0},{"$f":"V2096*Full!$F$16","v":0},{"$f":"W2096*Full!$F$16","v":0},{"$f":"X2096*Full!$F$16","v":0},{"$f":"Y2096*Full!$F$16","v":0},{"$f":"Z2096*Full!$F$16","v":0},{"$f":"AA2096*Full!$F$16","v":0}]
[{"$nulls":6},"Yearly CO2 Savings or Increase (tons)",{"$f":"H2097/1000","v":0},{"$f":"I2097/1000","v":0},0,0,0,0,0,0,0,0,0,0,0,0,0,0,0,0,0,0]
[]
[{"$nulls":6},"Construction CO2 Emissions"]
[{"$nulls":7},{"$f":"Full!G42","v":0},{"$f":"Full!H42","v":9},{"$f":"Full!I42","v":19}]
[{"$nulls":6},"Cumulative length",{"$f":"Full!G43","v":0},{"$f":"Full!H43","v":0},{"$f":"Full!I43","v":0}]
[{"$nulls":6},"Difference in length",{"$f":"H2102","v":0},{"$f":"I2102-H2102","v":0},{"$f":"J2102-I2102","v":0}]
[{"$nulls":6},"Quantity"]
[{"$nulls":6},{"$f":"Full!F219","v":"Cement"},{"$f":"Full!G219","v":737.8},{"$f":"Full!H219","v":737.8},{"$f":"Full!I219","v":737.8}]
[{"$nulls":6},{"$f":"Full!F220","v":"Bitumen"},{"$f":"Full!G220","v":403.5},{"$f":"Full!H220","v":403.5},{"$f":"Full!I220","v":403.5}]
[{"$nulls":6},{"$f":"Full!F221","v":"Steel"},{"$f":"Full!G221","v":143.2},{"$f":"Full!H221","v":143.2},{"$f":"Full!I221","v":143.2}]
[{"$nulls":6},{"$f":"CONCATENATE(\"CO2 EF \",G2105)","v":"CO2 EF Cement"},{"$f":"Full!J219","v":0.99},{"$f":"H2108","v":0.99},0.99]
[{"$nulls":6},{"$f":"CONCATENATE(\"CO2 EF \",G2106)","v":"CO2 EF Bitumen"},{"$f":"Full!J220","v":0.03},0.03,0.03]
[{"$nulls":6},"CO2 EF Steel",{"$f":"Full!J221","v":2.5},2.5,2.5]
[]
[{"$nulls":6},"Total CO2 Emissions (tons)",{"$f":"((H2105*H2108)+(H2106*H2109)+(H2107*H2110))*H2103","v":0},{"$f":"((I2105*I2108)+(I2106*I2109)+(I2107*I2110))*I2103","v":0},{"$f":"((J2105*J2108)+(J2106*J2109)+(J2107*J2110))*J2103","v":0}]
[]
[{"$nulls":6},"Yearly PM","tons"]
[{"$nulls":7},{"$f":"H2094","v":0},{"$f":"I2094","v":1},2,3,4,5,6,7,8,9,10,11,12,13,14,15,16,17,18,19]
[{"$nulls":5},"NO BRT",{"$f":"G2067","v":"Cars"},{"$f":"(H1768+H1783+H1798+H1813+H1828+H1843)*Full!$F$16/10^6","v":0},{"$f":"(I1768+I1783+I1798+I1813+I1828+I1843)*Full!$F$16/10^6","v":0},{"$f":"(J1768+J1783+J1798+J1813+J1828+J1843)*Full!$F$16/10^6","v":0},{"$f":"(K1768+K1783+K1798+K1813+K1828+K1843)*Full!$F$16/10^6","v":0},{"$f":"(L1768+L1783+L1798+L1813+L1828+L1843)*Full!$F$16/10^6","v":0},{"$f":"(M1768+M1783+M1798+M1813+M1828+M1843)*Full!$F$16/10^6","v":0},{"$f":"(N1768+N1783+N1798+N1813+N1828+N1843)*Full!$F$16/10^6","v":0},{"$f":"(O1768+O1783+O1798+O1813+O1828+O1843)*Full!$F$16/10^6","v":0},{"$f":"(P1768+P1783+P1798+P1813+P1828+P1843)*Full!$F$16/10^6","v":0},{"$f":"(Q1768+Q1783+Q1798+Q1813+Q1828+Q1843)*Full!$F$16/10^6","v":0},{"$f":"(R1768+R1783+R1798+R1813+R1828+R1843)*Full!$F$16/10^6","v":0},{"$f":"(S1768+S1783+S1798+S1813+S1828+S1843)*Full!$F$16/10^6","v":0},{"$f":"(T1768+T1783+T1798+T1813+T1828+T1843)*Full!$F$16/10^6","v":0},{"$f":"(U1768+U1783+U1798+U1813+U1828+U1843)*Full!$F$16/10^6","v":0},{"$f":"(V1768+V1783+V1798+V1813+V1828+V1843)*Full!$F$16/10^6","v":0},{"$f":"(W1768+W1783+W1798+W1813+W1828+W1843)*Full!$F$16/10^6","v":0},{"$f":"(X1768+X1783+X1798+X1813+X1828+X1843)*Full!$F$16/10^6","v":0},{"$f":"(Y1768+Y1783+Y1798+Y1813+Y1828+Y1843)*Full!$F$16/10^6","v":0},{"$f":"(Z1768+Z1783+Z1798+Z1813+Z1828+Z1843)*Full!$F$16/10^6","v":0},{"$f":"(AA1768+AA1783+AA1798+AA1813+AA1828+AA1843)*Full!$F$16/10^6","v":0}]
[{"$nulls":6},{"$f":"G2068","v":"2-wheeler"},{"$f":"(H1769+H1784+H1799+H1814+H1829+H1844)*Full!$F$16/10^6","v":0},{"$f":"(I1769+I1784+I1799+I1814+I1829+I1844)*Full!$F$16/10^6","v":0},{"$f":"(J1769+J1784+J1799+J1814+J1829+J1844)*Full!$F$16/10^6","v":0},{"$f":"(K1769+K1784+K1799+K1814+K1829+K1844)*Full!$F$16/10^6","v":0},{"$f":"(L1769+L1784+L1799+L1814+L1829+L1844)*Full!$F$16/10^6","v":0},{"$f":"(M1769+M1784+M1799+M1814+M1829+M1844)*Full!$F$16/10^6","v":0},{"$f":"(N1769+N1784+N1799+N1814+N1829+N1844)*Full!$F$16/10^6","v":0},{"$f":"(O1769+O1784+O1799+O1814+O1829+O1844)*Full!$F$16/10^6","v":0},{"$f":"(P1769+P1784+P1799+P1814+P1829+P1844)*Full!$F$16/10^6","v":0},{"$f":"(Q1769+Q1784+Q1799+Q1814+Q1829+Q1844)*Full!$F$16/10^6","v":0},{"$f":"(R1769+R1784+R1799+R1814+R1829+R1844)*Full!$F$16/10^6","v":0},{"$f":"(S1769+S1784+S1799+S1814+S1829+S1844)*Full!$F$16/10^6","v":0},{"$f":"(T1769+T1784+T1799+T1814+T1829+T1844)*Full!$F$16/10^6","v":0},{"$f":"(U1769+U1784+U1799+U1814+U1829+U1844)*Full!$F$16/10^6","v":0},{"$f":"(V1769+V1784+V1799+V1814+V1829+V1844)*Full!$F$16/10^6","v":0},{"$f":"(W1769+W1784+W1799+W1814+W1829+W1844)*Full!$F$16/10^6","v":0},{"$f":"(X1769+X1784+X1799+X1814+X1829+X1844)*Full!$F$16/10^6","v":0},{"$f":"(Y1769+Y1784+Y1799+Y1814+Y1829+Y1844)*Full!$F$16/10^6","v":0},{"$f":"(Z1769+Z1784+Z1799+Z1814+Z1829+Z1844)*Full!$F$16/10^6","v":0},{"$f":"(AA1769+AA1784+AA1799+AA1814+AA1829+AA1844)*Full!$F$16/10^6","v":0}]
[{"$nulls":6},"Taxi",{"$f":"(H1770+H1785+H1800+H1815+H1830+H1845)*Full!$F$16/10^6","v":0},{"$f":"(I1770+I1785+I1800+I1815+I1830+I1845)*Full!$F$16/10^6","v":0},{"$f":"(J1770+J1785+J1800+J1815+J1830+J1845)*Full!$F$16/10^6","v":0},{"$f":"(K1770+K1785+K1800+K1815+K1830+K1845)*Full!$F$16/10^6","v":0},{"$f":"(L1770+L1785+L1800+L1815+L1830+L1845)*Full!$F$16/10^6","v":0},{"$f":"(M1770+M1785+M1800+M1815+M1830+M1845)*Full!$F$16/10^6","v":0},{"$f":"(N1770+N1785+N1800+N1815+N1830+N1845)*Full!$F$16/10^6","v":0},{"$f":"(O1770+O1785+O1800+O1815+O1830+O1845)*Full!$F$16/10^6","v":0},{"$f":"(P1770+P1785+P1800+P1815+P1830+P1845)*Full!$F$16/10^6","v":0},{"$f":"(Q1770+Q1785+Q1800+Q1815+Q1830+Q1845)*Full!$F$16/10^6","v":0},{"$f":"(R1770+R1785+R1800+R1815+R1830+R1845)*Full!$F$16/10^6","v":0},{"$f":"(S1770+S1785+S1800+S1815+S1830+S1845)*Full!$F$16/10^6","v":0},{"$f":"(T1770+T1785+T1800+T1815+T1830+T1845)*Full!$F$16/10^6","v":0},{"$f":"(U1770+U1785+U1800+U1815+U1830+U1845)*Full!$F$16/10^6","v":0},{"$f":"(V1770+V1785+V1800+V1815+V1830+V1845)*Full!$F$16/10^6","v":0},{"$f":"(W1770+W1785+W1800+W1815+W1830+W1845)*Full!$F$16/10^6","v":0},{"$f":"(X1770+X1785+X1800+X1815+X1830+X1845)*Full!$F$16/10^6","v":0},{"$f":"(Y1770+Y1785+Y1800+Y1815+Y1830+Y1845)*Full!$F$16/10^6","v":0},{"$f":"(Z1770+Z1785+Z1800+Z1815+Z1830+Z1845)*Full!$F$16/10^6","v":0},{"$f":"(AA1770+AA1785+AA1800+AA1815+AA1830+AA1845)*Full!$F$16/10^6","v":0}]
[{"$nulls":6},"",{"$f":"(H1771+H1786+H1801+H1816+H1831+H1846)*Full!$F$16/10^6","v":0},{"$f":"(I1771+I1786+I1801+I1816+I1831+I1846)*Full!$F$16/10^6","v":0},{"$f":"(J1771+J1786+J1801+J1816+J1831+J1846)*Full!$F$16/10^6","v":0},{"$f":"(K1771+K1786+K1801+K1816+K1831+K1846)*Full!$F$16/10^6","v":0},{"$f":"(L1771+L1786+L1801+L1816+L1831+L1846)*Full!$F$16/10^6","v":0},{"$f":"(M1771+M1786+M1801+M1816+M1831+M1846)*Full!$F$16/10^6","v":0},{"$f":"(N1771+N1786+N1801+N1816+N1831+N1846)*Full!$F$16/10^6","v":0},{"$f":"(O1771+O1786+O1801+O1816+O1831+O1846)*Full!$F$16/10^6","v":0},{"$f":"(P1771+P1786+P1801+P1816+P1831+P1846)*Full!$F$16/10^6","v":0},{"$f":"(Q1771+Q1786+Q1801+Q1816+Q1831+Q1846)*Full!$F$16/10^6","v":0},{"$f":"(R1771+R1786+R1801+R1816+R1831+R1846)*Full!$F$16/10^6","v":0},{"$f":"(S1771+S1786+S1801+S1816+S1831+S1846)*Full!$F$16/10^6","v":0},{"$f":"(T1771+T1786+T1801+T1816+T1831+T1846)*Full!$F$16/10^6","v":0},{"$f":"(U1771+U1786+U1801+U1816+U1831+U1846)*Full!$F$16/10^6","v":0},{"$f":"(V1771+V1786+V1801+V1816+V1831+V1846)*Full!$F$16/10^6","v":0},{"$f":"(W1771+W1786+W1801+W1816+W1831+W1846)*Full!$F$16/10^6","v":0},{"$f":"(X1771+X1786+X1801+X1816+X1831+X1846)*Full!$F$16/10^6","v":0},{"$f":"(Y1771+Y1786+Y1801+Y1816+Y1831+Y1846)*Full!$F$16/10^6","v":0},{"$f":"(Z1771+Z1786+Z1801+Z1816+Z1831+Z1846)*Full!$F$16/10^6","v":0},{"$f":"(AA1771+AA1786+AA1801+AA1816+AA1831+AA1846)*Full!$F$16/10^6","v":0}]
[{"$nulls":6},"",{"$f":"(H1772+H1787+H1802+H1817+H1832+H1847)*Full!$F$16/10^6","v":0},{"$f":"(I1772+I1787+I1802+I1817+I1832+I1847)*Full!$F$16/10^6","v":0},{"$f":"(J1772+J1787+J1802+J1817+J1832+J1847)*Full!$F$16/10^6","v":0},{"$f":"(K1772+K1787+K1802+K1817+K1832+K1847)*Full!$F$16/10^6","v":0},{"$f":"(L1772+L1787+L1802+L1817+L1832+L1847)*Full!$F$16/10^6","v":0},{"$f":"(M1772+M1787+M1802+M1817+M1832+M1847)*Full!$F$16/10^6","v":0},{"$f":"(N1772+N1787+N1802+N1817+N1832+N1847)*Full!$F$16/10^6","v":0},{"$f":"(O1772+O1787+O1802+O1817+O1832+O1847)*Full!$F$16/10^6","v":0},{"$f":"(P1772+P1787+P1802+P1817+P1832+P1847)*Full!$F$16/10^6","v":0},{"$f":"(Q1772+Q1787+Q1802+Q1817+Q1832+Q1847)*Full!$F$16/10^6","v":0},{"$f":"(R1772+R1787+R1802+R1817+R1832+R1847)*Full!$F$16/10^6","v":0},{"$f":"(S1772+S1787+S1802+S1817+S1832+S1847)*Full!$F$16/10^6","v":0},{"$f":"(T1772+T1787+T1802+T1817+T1832+T1847)*Full!$F$16/10^6","v":0},{"$f":"(U1772+U1787+U1802+U1817+U1832+U1847)*Full!$F$16/10^6","v":0},{"$f":"(V1772+V1787+V1802+V1817+V1832+V1847)*Full!$F$16/10^6","v":0},{"$f":"(W1772+W1787+W1802+W1817+W1832+W1847)*Full!$F$16/10^6","v":0},{"$f":"(X1772+X1787+X1802+X1817+X1832+X1847)*Full!$F$16/10^6","v":0},{"$f":"(Y1772+Y1787+Y1802+Y1817+Y1832+Y1847)*Full!$F$16/10^6","v":0},{"$f":"(Z1772+Z1787+Z1802+Z1817+Z1832+Z1847)*Full!$F$16/10^6","v":0},{"$f":"(AA1772+AA1787+AA1802+AA1817+AA1832+AA1847)*Full!$F$16/10^6","v":0}]
[{"$nulls":6},"3-wheeler",{"$f":"(H1773+H1788+H1803+H1818+H1833+H1848)*Full!$F$16/10^6","v":0},{"$f":"(I1773+I1788+I1803+I1818+I1833+I1848)*Full!$F$16/10^6","v":0},{"$f":"(J1773+J1788+J1803+J1818+J1833+J1848)*Full!$F$16/10^6","v":0},{"$f":"(K1773+K1788+K1803+K1818+K1833+K1848)*Full!$F$16/10^6","v":0},{"$f":"(L1773+L1788+L1803+L1818+L1833+L1848)*Full!$F$16/10^6","v":0},{"$f":"(M1773+M1788+M1803+M1818+M1833+M1848)*Full!$F$16/10^6","v":0},{"$f":"(N1773+N1788+N1803+N1818+N1833+N1848)*Full!$F$16/10^6","v":0},{"$f":"(O1773+O1788+O1803+O1818+O1833+O1848)*Full!$F$16/10^6","v":0},{"$f":"(P1773+P1788+P1803+P1818+P1833+P1848)*Full!$F$16/10^6","v":0},{"$f":"(Q1773+Q1788+Q1803+Q1818+Q1833+Q1848)*Full!$F$16/10^6","v":0},{"$f":"(R1773+R1788+R1803+R1818+R1833+R1848)*Full!$F$16/10^6","v":0},{"$f":"(S1773+S1788+S1803+S1818+S1833+S1848)*Full!$F$16/10^6","v":0},{"$f":"(T1773+T1788+T1803+T1818+T1833+T1848)*Full!$F$16/10^6","v":0},{"$f":"(U1773+U1788+U1803+U1818+U1833+U1848)*Full!$F$16/10^6","v":0},{"$f":"(V1773+V1788+V1803+V1818+V1833+V1848)*Full!$F$16/10^6","v":0},{"$f":"(W1773+W1788+W1803+W1818+W1833+W1848)*Full!$F$16/10^6","v":0},{"$f":"(X1773+X1788+X1803+X1818+X1833+X1848)*Full!$F$16/10^6","v":0},{"$f":"(Y1773+Y1788+Y1803+Y1818+Y1833+Y1848)*Full!$F$16/10^6","v":0},{"$f":"(Z1773+Z1788+Z1803+Z1818+Z1833+Z1848)*Full!$F$16/10^6","v":0},{"$f":"(AA1773+AA1788+AA1803+AA1818+AA1833+AA1848)*Full!$F$16/10^6","v":0}]
[{"$nulls":6},"Bus",{"$f":"(H1774+H1789+H1804+H1819+H1834+H1849)*Full!$F$16/10^6","v":0},{"$f":"(I1774+I1789+I1804+I1819+I1834+I1849)*Full!$F$16/10^6","v":0},{"$f":"(J1774+J1789+J1804+J1819+J1834+J1849)*Full!$F$16/10^6","v":0},{"$f":"(K1774+K1789+K1804+K1819+K1834+K1849)*Full!$F$16/10^6","v":0},{"$f":"(L1774+L1789+L1804+L1819+L1834+L1849)*Full!$F$16/10^6","v":0},{"$f":"(M1774+M1789+M1804+M1819+M1834+M1849)*Full!$F$16/10^6","v":0},{"$f":"(N1774+N1789+N1804+N1819+N1834+N1849)*Full!$F$16/10^6","v":0},{"$f":"(O1774+O1789+O1804+O1819+O1834+O1849)*Full!$F$16/10^6","v":0},{"$f":"(P1774+P1789+P1804+P1819+P1834+P1849)*Full!$F$16/10^6","v":0},{"$f":"(Q1774+Q1789+Q1804+Q1819+Q1834+Q1849)*Full!$F$16/10^6","v":0},{"$f":"(R1774+R1789+R1804+R1819+R1834+R1849)*Full!$F$16/10^6","v":0},{"$f":"(S1774+S1789+S1804+S1819+S1834+S1849)*Full!$F$16/10^6","v":0},{"$f":"(T1774+T1789+T1804+T1819+T1834+T1849)*Full!$F$16/10^6","v":0},{"$f":"(U1774+U1789+U1804+U1819+U1834+U1849)*Full!$F$16/10^6","v":0},{"$f":"(V1774+V1789+V1804+V1819+V1834+V1849)*Full!$F$16/10^6","v":0},{"$f":"(W1774+W1789+W1804+W1819+W1834+W1849)*Full!$F$16/10^6","v":0},{"$f":"(X1774+X1789+X1804+X1819+X1834+X1849)*Full!$F$16/10^6","v":0},{"$f":"(Y1774+Y1789+Y1804+Y1819+Y1834+Y1849)*Full!$F$16/10^6","v":0},{"$f":"(Z1774+Z1789+Z1804+Z1819+Z1834+Z1849)*Full!$F$16/10^6","v":0},{"$f":"(AA1774+AA1789+AA1804+AA1819+AA1834+AA1849)*Full!$F$16/10^6","v":0}]
[{"$nulls":6},"Mini-bus",{"$f":"(H1775+H1790+H1805+H1820+H1835+H1850)*Full!$F$16/10^6","v":0},{"$f":"(I1775+I1790+I1805+I1820+I1835+I1850)*Full!$F$16/10^6","v":0},{"$f":"(J1775+J1790+J1805+J1820+J1835+J1850)*Full!$F$16/10^6","v":0},{"$f":"(K1775+K1790+K1805+K1820+K1835+K1850)*Full!$F$16/10^6","v":0},{"$f":"(L1775+L1790+L1805+L1820+L1835+L1850)*Full!$F$16/10^6","v":0},{"$f":"(M1775+M1790+M1805+M1820+M1835+M1850)*Full!$F$16/10^6","v":0},{"$f":"(N1775+N1790+N1805+N1820+N1835+N1850)*Full!$F$16/10^6","v":0},{"$f":"(O1775+O1790+O1805+O1820+O1835+O1850)*Full!$F$16/10^6","v":0},{"$f":"(P1775+P1790+P1805+P1820+P1835+P1850)*Full!$F$16/10^6","v":0},{"$f":"(Q1775+Q1790+Q1805+Q1820+Q1835+Q1850)*Full!$F$16/10^6","v":0},{"$f":"(R1775+R1790+R1805+R1820+R1835+R1850)*Full!$F$16/10^6","v":0},{"$f":"(S1775+S1790+S1805+S1820+S1835+S1850)*Full!$F$16/10^6","v":0},{"$f":"(T1775+T1790+T1805+T1820+T1835+T1850)*Full!$F$16/10^6","v":0},{"$f":"(U1775+U1790+U1805+U1820+U1835+U1850)*Full!$F$16/10^6","v":0},{"$f":"(V1775+V1790+V1805+V1820+V1835+V1850)*Full!$F$16/10^6","v":0},{"$f":"(W1775+W1790+W1805+W1820+W1835+W1850)*Full!$F$16/10^6","v":0},{"$f":"(X1775+X1790+X1805+X1820+X1835+X1850)*Full!$F$16/10^6","v":0},{"$f":"(Y1775+Y1790+Y1805+Y1820+Y1835+Y1850)*Full!$F$16/10^6","v":0},{"$f":"(Z1775+Z1790+Z1805+Z1820+Z1835+Z1850)*Full!$F$16/10^6","v":0},{"$f":"(AA1775+AA1790+AA1805+AA1820+AA1835+AA1850)*Full!$F$16/10^6","v":0}]
[{"$nulls":6},"",{"$f":"(H1776+H1791+H1806+H1821+H1836+H1851)*Full!$F$16/10^6","v":0},{"$f":"(I1776+I1791+I1806+I1821+I1836+I1851)*Full!$F$16/10^6","v":0},{"$f":"(J1776+J1791+J1806+J1821+J1836+J1851)*Full!$F$16/10^6","v":0},{"$f":"(K1776+K1791+K1806+K1821+K1836+K1851)*Full!$F$16/10^6","v":0},{"$f":"(L1776+L1791+L1806+L1821+L1836+L1851)*Full!$F$16/10^6","v":0},{"$f":"(M1776+M1791+M1806+M1821+M1836+M1851)*Full!$F$16/10^6","v":0},{"$f":"(N1776+N1791+N1806+N1821+N1836+N1851)*Full!$F$16/10^6","v":0},{"$f":"(O1776+O1791+O1806+O1821+O1836+O1851)*Full!$F$16/10^6","v":0},{"$f":"(P1776+P1791+P1806+P1821+P1836+P1851)*Full!$F$16/10^6","v":0},{"$f":"(Q1776+Q1791+Q1806+Q1821+Q1836+Q1851)*Full!$F$16/10^6","v":0},{"$f":"(R1776+R1791+R1806+R1821+R1836+R1851)*Full!$F$16/10^6","v":0},{"$f":"(S1776+S1791+S1806+S1821+S1836+S1851)*Full!$F$16/10^6","v":0},{"$f":"(T1776+T1791+T1806+T1821+T1836+T1851)*Full!$F$16/10^6","v":0},{"$f":"(U1776+U1791+U1806+U1821+U1836+U1851)*Full!$F$16/10^6","v":0},{"$f":"(V1776+V1791+V1806+V1821+V1836+V1851)*Full!$F$16/10^6","v":0},{"$f":"(W1776+W1791+W1806+W1821+W1836+W1851)*Full!$F$16/10^6","v":0},{"$f":"(X1776+X1791+X1806+X1821+X1836+X1851)*Full!$F$16/10^6","v":0},{"$f":"(Y1776+Y1791+Y1806+Y1821+Y1836+Y1851)*Full!$F$16/10^6","v":0},{"$f":"(Z1776+Z1791+Z1806+Z1821+Z1836+Z1851)*Full!$F$16/10^6","v":0},{"$f":"(AA1776+AA1791+AA1806+AA1821+AA1836+AA1851)*Full!$F$16/10^6","v":0}]
[{"$nulls":6},"",{"$f":"(H1777+H1792+H1807+H1822+H1837+H1852)*Full!$F$16/10^6","v":0},{"$f":"(I1777+I1792+I1807+I1822+I1837+I1852)*Full!$F$16/10^6","v":0},{"$f":"(J1777+J1792+J1807+J1822+J1837+J1852)*Full!$F$16/10^6","v":0},{"$f":"(K1777+K1792+K1807+K1822+K1837+K1852)*Full!$F$16/10^6","v":0},{"$f":"(L1777+L1792+L1807+L1822+L1837+L1852)*Full!$F$16/10^6","v":0},{"$f":"(M1777+M1792+M1807+M1822+M1837+M1852)*Full!$F$16/10^6","v":0},{"$f":"(N1777+N1792+N1807+N1822+N1837+N1852)*Full!$F$16/10^6","v":0},{"$f":"(O1777+O1792+O1807+O1822+O1837+O1852)*Full!$F$16/10^6","v":0},{"$f":"(P1777+P1792+P1807+P1822+P1837+P1852)*Full!$F$16/10^6","v":0},{"$f":"(Q1777+Q1792+Q1807+Q1822+Q1837+Q1852)*Full!$F$16/10^6","v":0},{"$f":"(R1777+R1792+R1807+R1822+R1837+R1852)*Full!$F$16/10^6","v":0},{"$f":"(S1777+S1792+S1807+S1822+S1837+S1852)*Full!$F$16/10^6","v":0},{"$f":"(T1777+T1792+T1807+T1822+T1837+T1852)*Full!$F$16/10^6","v":0},{"$f":"(U1777+U1792+U1807+U1822+U1837+U1852)*Full!$F$16/10^6","v":0},{"$f":"(V1777+V1792+V1807+V1822+V1837+V1852)*Full!$F$16/10^6","v":0},{"$f":"(W1777+W1792+W1807+W1822+W1837+W1852)*Full!$F$16/10^6","v":0},{"$f":"(X1777+X1792+X1807+X1822+X1837+X1852)*Full!$F$16/10^6","v":0},{"$f":"(Y1777+Y1792+Y1807+Y1822+Y1837+Y1852)*Full!$F$16/10^6","v":0},{"$f":"(Z1777+Z1792+Z1807+Z1822+Z1837+Z1852)*Full!$F$16/10^6","v":0},{"$f":"(AA1777+AA1792+AA1807+AA1822+AA1837+AA1852)*Full!$F$16/10^6","v":0}]
[{"$nulls":6},"BRT",{"$f":"(H1778+H1793+H1808+H1823+H1838+H1853)*Full!$F$16/10^6","v":0},{"$f":"(I1778+I1793+I1808+I1823+I1838+I1853)*Full!$F$16/10^6","v":0},{"$f":"(J1778+J1793+J1808+J1823+J1838+J1853)*Full!$F$16/10^6","v":0},{"$f":"(K1778+K1793+K1808+K1823+K1838+K1853)*Full!$F$16/10^6","v":0},{"$f":"(L1778+L1793+L1808+L1823+L1838+L1853)*Full!$F$16/10^6","v":0},{"$f":"(M1778+M1793+M1808+M1823+M1838+M1853)*Full!$F$16/10^6","v":0},{"$f":"(N1778+N1793+N1808+N1823+N1838+N1853)*Full!$F$16/10^6","v":0},{"$f":"(O1778+O1793+O1808+O1823+O1838+O1853)*Full!$F$16/10^6","v":0},{"$f":"(P1778+P1793+P1808+P1823+P1838+P1853)*Full!$F$16/10^6","v":0},{"$f":"(Q1778+Q1793+Q1808+Q1823+Q1838+Q1853)*Full!$F$16/10^6","v":0},{"$f":"(R1778+R1793+R1808+R1823+R1838+R1853)*Full!$F$16/10^6","v":0},{"$f":"(S1778+S1793+S1808+S1823+S1838+S1853)*Full!$F$16/10^6","v":0},{"$f":"(T1778+T1793+T1808+T1823+T1838+T1853)*Full!$F$16/10^6","v":0},{"$f":"(U1778+U1793+U1808+U1823+U1838+U1853)*Full!$F$16/10^6","v":0},{"$f":"(V1778+V1793+V1808+V1823+V1838+V1853)*Full!$F$16/10^6","v":0},{"$f":"(W1778+W1793+W1808+W1823+W1838+W1853)*Full!$F$16/10^6","v":0},{"$f":"(X1778+X1793+X1808+X1823+X1838+X1853)*Full!$F$16/10^6","v":0},{"$f":"(Y1778+Y1793+Y1808+Y1823+Y1838+Y1853)*Full!$F$16/10^6","v":0},{"$f":"(Z1778+Z1793+Z1808+Z1823+Z1838+Z1853)*Full!$F$16/10^6","v":0},{"$f":"(AA1778+AA1793+AA1808+AA1823+AA1838+AA1853)*Full!$F$16/10^6","v":0}]
[]
[{"$nulls":6},"Yearly Nox ","tons"]
[{"$nulls":7},{"$f":"H2115","v":0},{"$f":"I2115","v":1},2,3,4,5,6,7,8,9,10,11,12,13,14,15,16,17,18,19]
[{"$nulls":5},"NO BRT",{"$f":"G2116","v":"Cars"},{"$f":"SUM(H1859,H1874,H1889,H1904,H1919,H1934)*Full!$F$16/10^6","v":0},{"$f":"SUM(I1859,I1874,I1889,I1904,I1919,I1934)*Full!$F$16/10^6","v":0},{"$f":"SUM(J1859,J1874,J1889,J1904,J1919,J1934)*Full!$F$16/10^6","v":0},{"$f":"SUM(K1859,K1874,K1889,K1904,K1919,K1934)*Full!$F$16/10^6","v":0},{"$f":"SUM(L1859,L1874,L1889,L1904,L1919,L1934)*Full!$F$16/10^6","v":0},{"$f":"SUM(M1859,M1874,M1889,M1904,M1919,M1934)*Full!$F$16/10^6","v":0},{"$f":"SUM(N1859,N1874,N1889,N1904,N1919,N1934)*Full!$F$16/10^6","v":0},{"$f":"SUM(O1859,O1874,O1889,O1904,O1919,O1934)*Full!$F$16/10^6","v":0},{"$f":"SUM(P1859,P1874,P1889,P1904,P1919,P1934)*Full!$F$16/10^6","v":0},{"$f":"SUM(Q1859,Q1874,Q1889,Q1904,Q1919,Q1934)*Full!$F$16/10^6","v":0},{"$f":"SUM(R1859,R1874,R1889,R1904,R1919,R1934)*Full!$F$16/10^6","v":0},{"$f":"SUM(S1859,S1874,S1889,S1904,S1919,S1934)*Full!$F$16/10^6","v":0},{"$f":"SUM(T1859,T1874,T1889,T1904,T1919,T1934)*Full!$F$16/10^6","v":0},{"$f":"SUM(U1859,U1874,U1889,U1904,U1919,U1934)*Full!$F$16/10^6","v":0},{"$f":"SUM(V1859,V1874,V1889,V1904,V1919,V1934)*Full!$F$16/10^6","v":0},{"$f":"SUM(W1859,W1874,W1889,W1904,W1919,W1934)*Full!$F$16/10^6","v":0},{"$f":"SUM(X1859,X1874,X1889,X1904,X1919,X1934)*Full!$F$16/10^6","v":0},{"$f":"SUM(Y1859,Y1874,Y1889,Y1904,Y1919,Y1934)*Full!$F$16/10^6","v":0},{"$f":"SUM(Z1859,Z1874,Z1889,Z1904,Z1919,Z1934)*Full!$F$16/10^6","v":0},{"$f":"SUM(AA1859,AA1874,AA1889,AA1904,AA1919,AA1934)*Full!$F$16/10^6","v":0}]
[{"$nulls":6},{"$f":"G2117","v":"2-wheeler"},{"$f":"SUM(H1860,H1875,H1890,H1905,H1920,H1935)*Full!$F$16/10^6","v":0},{"$f":"SUM(I1860,I1875,I1890,I1905,I1920,I1935)*Full!$F$16/10^6","v":0},{"$f":"SUM(J1860,J1875,J1890,J1905,J1920,J1935)*Full!$F$16/10^6","v":0},{"$f":"SUM(K1860,K1875,K1890,K1905,K1920,K1935)*Full!$F$16/10^6","v":0},{"$f":"SUM(L1860,L1875,L1890,L1905,L1920,L1935)*Full!$F$16/10^6","v":0},{"$f":"SUM(M1860,M1875,M1890,M1905,M1920,M1935)*Full!$F$16/10^6","v":0},{"$f":"SUM(N1860,N1875,N1890,N1905,N1920,N1935)*Full!$F$16/10^6","v":0},{"$f":"SUM(O1860,O1875,O1890,O1905,O1920,O1935)*Full!$F$16/10^6","v":0},{"$f":"SUM(P1860,P1875,P1890,P1905,P1920,P1935)*Full!$F$16/10^6","v":0},{"$f":"SUM(Q1860,Q1875,Q1890,Q1905,Q1920,Q1935)*Full!$F$16/10^6","v":0},{"$f":"SUM(R1860,R1875,R1890,R1905,R1920,R1935)*Full!$F$16/10^6","v":0},{"$f":"SUM(S1860,S1875,S1890,S1905,S1920,S1935)*Full!$F$16/10^6","v":0},{"$f":"SUM(T1860,T1875,T1890,T1905,T1920,T1935)*Full!$F$16/10^6","v":0},{"$f":"SUM(U1860,U1875,U1890,U1905,U1920,U1935)*Full!$F$16/10^6","v":0},{"$f":"SUM(V1860,V1875,V1890,V1905,V1920,V1935)*Full!$F$16/10^6","v":0},{"$f":"SUM(W1860,W1875,W1890,W1905,W1920,W1935)*Full!$F$16/10^6","v":0},{"$f":"SUM(X1860,X1875,X1890,X1905,X1920,X1935)*Full!$F$16/10^6","v":0},{"$f":"SUM(Y1860,Y1875,Y1890,Y1905,Y1920,Y1935)*Full!$F$16/10^6","v":0},{"$f":"SUM(Z1860,Z1875,Z1890,Z1905,Z1920,Z1935)*Full!$F$16/10^6","v":0},{"$f":"SUM(AA1860,AA1875,AA1890,AA1905,AA1920,AA1935)*Full!$F$16/10^6","v":0}]
[{"$nulls":6},"Taxi",{"$f":"SUM(H1861,H1876,H1891,H1906,H1921,H1936)*Full!$F$16/10^6","v":0},{"$f":"SUM(I1861,I1876,I1891,I1906,I1921,I1936)*Full!$F$16/10^6","v":0},{"$f":"SUM(J1861,J1876,J1891,J1906,J1921,J1936)*Full!$F$16/10^6","v":0},{"$f":"SUM(K1861,K1876,K1891,K1906,K1921,K1936)*Full!$F$16/10^6","v":0},{"$f":"SUM(L1861,L1876,L1891,L1906,L1921,L1936)*Full!$F$16/10^6","v":0},{"$f":"SUM(M1861,M1876,M1891,M1906,M1921,M1936)*Full!$F$16/10^6","v":0},{"$f":"SUM(N1861,N1876,N1891,N1906,N1921,N1936)*Full!$F$16/10^6","v":0},{"$f":"SUM(O1861,O1876,O1891,O1906,O1921,O1936)*Full!$F$16/10^6","v":0},{"$f":"SUM(P1861,P1876,P1891,P1906,P1921,P1936)*Full!$F$16/10^6","v":0},{"$f":"SUM(Q1861,Q1876,Q1891,Q1906,Q1921,Q1936)*Full!$F$16/10^6","v":0},{"$f":"SUM(R1861,R1876,R1891,R1906,R1921,R1936)*Full!$F$16/10^6","v":0},{"$f":"SUM(S1861,S1876,S1891,S1906,S1921,S1936)*Full!$F$16/10^6","v":0},{"$f":"SUM(T1861,T1876,T1891,T1906,T1921,T1936)*Full!$F$16/10^6","v":0},{"$f":"SUM(U1861,U1876,U1891,U1906,U1921,U1936)*Full!$F$16/10^6","v":0},{"$f":"SUM(V1861,V1876,V1891,V1906,V1921,V1936)*Full!$F$16/10^6","v":0},{"$f":"SUM(W1861,W1876,W1891,W1906,W1921,W1936)*Full!$F$16/10^6","v":0},{"$f":"SUM(X1861,X1876,X1891,X1906,X1921,X1936)*Full!$F$16/10^6","v":0},{"$f":"SUM(Y1861,Y1876,Y1891,Y1906,Y1921,Y1936)*Full!$F$16/10^6","v":0},{"$f":"SUM(Z1861,Z1876,Z1891,Z1906,Z1921,Z1936)*Full!$F$16/10^6","v":0},{"$f":"SUM(AA1861,AA1876,AA1891,AA1906,AA1921,AA1936)*Full!$F$16/10^6","v":0}]
[{"$nulls":6},"",{"$f":"SUM(H1862,H1877,H1892,H1907,H1922,H1937)*Full!$F$16/10^6","v":0},{"$f":"SUM(I1862,I1877,I1892,I1907,I1922,I1937)*Full!$F$16/10^6","v":0},{"$f":"SUM(J1862,J1877,J1892,J1907,J1922,J1937)*Full!$F$16/10^6","v":0},{"$f":"SUM(K1862,K1877,K1892,K1907,K1922,K1937)*Full!$F$16/10^6","v":0},{"$f":"SUM(L1862,L1877,L1892,L1907,L1922,L1937)*Full!$F$16/10^6","v":0},{"$f":"SUM(M1862,M1877,M1892,M1907,M1922,M1937)*Full!$F$16/10^6","v":0},{"$f":"SUM(N1862,N1877,N1892,N1907,N1922,N1937)*Full!$F$16/10^6","v":0},{"$f":"SUM(O1862,O1877,O1892,O1907,O1922,O1937)*Full!$F$16/10^6","v":0},{"$f":"SUM(P1862,P1877,P1892,P1907,P1922,P1937)*Full!$F$16/10^6","v":0},{"$f":"SUM(Q1862,Q1877,Q1892,Q1907,Q1922,Q1937)*Full!$F$16/10^6","v":0},{"$f":"SUM(R1862,R1877,R1892,R1907,R1922,R1937)*Full!$F$16/10^6","v":0},{"$f":"SUM(S1862,S1877,S1892,S1907,S1922,S1937)*Full!$F$16/10^6","v":0},{"$f":"SUM(T1862,T1877,T1892,T1907,T1922,T1937)*Full!$F$16/10^6","v":0},{"$f":"SUM(U1862,U1877,U1892,U1907,U1922,U1937)*Full!$F$16/10^6","v":0},{"$f":"SUM(V1862,V1877,V1892,V1907,V1922,V1937)*Full!$F$16/10^6","v":0},{"$f":"SUM(W1862,W1877,W1892,W1907,W1922,W1937)*Full!$F$16/10^6","v":0},{"$f":"SUM(X1862,X1877,X1892,X1907,X1922,X1937)*Full!$F$16/10^6","v":0},{"$f":"SUM(Y1862,Y1877,Y1892,Y1907,Y1922,Y1937)*Full!$F$16/10^6","v":0},{"$f":"SUM(Z1862,Z1877,Z1892,Z1907,Z1922,Z1937)*Full!$F$16/10^6","v":0},{"$f":"SUM(AA1862,AA1877,AA1892,AA1907,AA1922,AA1937)*Full!$F$16/10^6","v":0}]
[{"$nulls":6},"",{"$f":"SUM(H1863,H1878,H1893,H1908,H1923,H1938)*Full!$F$16/10^6","v":0},{"$f":"SUM(I1863,I1878,I1893,I1908,I1923,I1938)*Full!$F$16/10^6","v":0},{"$f":"SUM(J1863,J1878,J1893,J1908,J1923,J1938)*Full!$F$16/10^6","v":0},{"$f":"SUM(K1863,K1878,K1893,K1908,K1923,K1938)*Full!$F$16/10^6","v":0},{"$f":"SUM(L1863,L1878,L1893,L1908,L1923,L1938)*Full!$F$16/10^6","v":0},{"$f":"SUM(M1863,M1878,M1893,M1908,M1923,M1938)*Full!$F$16/10^6","v":0},{"$f":"SUM(N1863,N1878,N1893,N1908,N1923,N1938)*Full!$F$16/10^6","v":0},{"$f":"SUM(O1863,O1878,O1893,O1908,O1923,O1938)*Full!$F$16/10^6","v":0},{"$f":"SUM(P1863,P1878,P1893,P1908,P1923,P1938)*Full!$F$16/10^6","v":0},{"$f":"SUM(Q1863,Q1878,Q1893,Q1908,Q1923,Q1938)*Full!$F$16/10^6","v":0},{"$f":"SUM(R1863,R1878,R1893,R1908,R1923,R1938)*Full!$F$16/10^6","v":0},{"$f":"SUM(S1863,S1878,S1893,S1908,S1923,S1938)*Full!$F$16/10^6","v":0},{"$f":"SUM(T1863,T1878,T1893,T1908,T1923,T1938)*Full!$F$16/10^6","v":0},{"$f":"SUM(U1863,U1878,U1893,U1908,U1923,U1938)*Full!$F$16/10^6","v":0},{"$f":"SUM(V1863,V1878,V1893,V1908,V1923,V1938)*Full!$F$16/10^6","v":0},{"$f":"SUM(W1863,W1878,W1893,W1908,W1923,W1938)*Full!$F$16/10^6","v":0},{"$f":"SUM(X1863,X1878,X1893,X1908,X1923,X1938)*Full!$F$16/10^6","v":0},{"$f":"SUM(Y1863,Y1878,Y1893,Y1908,Y1923,Y1938)*Full!$F$16/10^6","v":0},{"$f":"SUM(Z1863,Z1878,Z1893,Z1908,Z1923,Z1938)*Full!$F$16/10^6","v":0},{"$f":"SUM(AA1863,AA1878,AA1893,AA1908,AA1923,AA1938)*Full!$F$16/10^6","v":0}]
[{"$nulls":6},"3-wheeler",{"$f":"SUM(H1864,H1879,H1894,H1909,H1924,H1939)*Full!$F$16/10^6","v":0},{"$f":"SUM(I1864,I1879,I1894,I1909,I1924,I1939)*Full!$F$16/10^6","v":0},{"$f":"SUM(J1864,J1879,J1894,J1909,J1924,J1939)*Full!$F$16/10^6","v":0},{"$f":"SUM(K1864,K1879,K1894,K1909,K1924,K1939)*Full!$F$16/10^6","v":0},{"$f":"SUM(L1864,L1879,L1894,L1909,L1924,L1939)*Full!$F$16/10^6","v":0},{"$f":"SUM(M1864,M1879,M1894,M1909,M1924,M1939)*Full!$F$16/10^6","v":0},{"$f":"SUM(N1864,N1879,N1894,N1909,N1924,N1939)*Full!$F$16/10^6","v":0},{"$f":"SUM(O1864,O1879,O1894,O1909,O1924,O1939)*Full!$F$16/10^6","v":0},{"$f":"SUM(P1864,P1879,P1894,P1909,P1924,P1939)*Full!$F$16/10^6","v":0},{"$f":"SUM(Q1864,Q1879,Q1894,Q1909,Q1924,Q1939)*Full!$F$16/10^6","v":0},{"$f":"SUM(R1864,R1879,R1894,R1909,R1924,R1939)*Full!$F$16/10^6","v":0},{"$f":"SUM(S1864,S1879,S1894,S1909,S1924,S1939)*Full!$F$16/10^6","v":0},{"$f":"SUM(T1864,T1879,T1894,T1909,T1924,T1939)*Full!$F$16/10^6","v":0},{"$f":"SUM(U1864,U1879,U1894,U1909,U1924,U1939)*Full!$F$16/10^6","v":0},{"$f":"SUM(V1864,V1879,V1894,V1909,V1924,V1939)*Full!$F$16/10^6","v":0},{"$f":"SUM(W1864,W1879,W1894,W1909,W1924,W1939)*Full!$F$16/10^6","v":0},{"$f":"SUM(X1864,X1879,X1894,X1909,X1924,X1939)*Full!$F$16/10^6","v":0},{"$f":"SUM(Y1864,Y1879,Y1894,Y1909,Y1924,Y1939)*Full!$F$16/10^6","v":0},{"$f":"SUM(Z1864,Z1879,Z1894,Z1909,Z1924,Z1939)*Full!$F$16/10^6","v":0},{"$f":"SUM(AA1864,AA1879,AA1894,AA1909,AA1924,AA1939)*Full!$F$16/10^6","v":0}]
[{"$nulls":6},"Bus",{"$f":"SUM(H1865,H1880,H1895,H1910,H1925,H1940)*Full!$F$16/10^6","v":0},{"$f":"SUM(I1865,I1880,I1895,I1910,I1925,I1940)*Full!$F$16/10^6","v":0},{"$f":"SUM(J1865,J1880,J1895,J1910,J1925,J1940)*Full!$F$16/10^6","v":0},{"$f":"SUM(K1865,K1880,K1895,K1910,K1925,K1940)*Full!$F$16/10^6","v":0},{"$f":"SUM(L1865,L1880,L1895,L1910,L1925,L1940)*Full!$F$16/10^6","v":0},{"$f":"SUM(M1865,M1880,M1895,M1910,M1925,M1940)*Full!$F$16/10^6","v":0},{"$f":"SUM(N1865,N1880,N1895,N1910,N1925,N1940)*Full!$F$16/10^6","v":0},{"$f":"SUM(O1865,O1880,O1895,O1910,O1925,O1940)*Full!$F$16/10^6","v":0},{"$f":"SUM(P1865,P1880,P1895,P1910,P1925,P1940)*Full!$F$16/10^6","v":0},{"$f":"SUM(Q1865,Q1880,Q1895,Q1910,Q1925,Q1940)*Full!$F$16/10^6","v":0},{"$f":"SUM(R1865,R1880,R1895,R1910,R1925,R1940)*Full!$F$16/10^6","v":0},{"$f":"SUM(S1865,S1880,S1895,S1910,S1925,S1940)*Full!$F$16/10^6","v":0},{"$f":"SUM(T1865,T1880,T1895,T1910,T1925,T1940)*Full!$F$16/10^6","v":0},{"$f":"SUM(U1865,U1880,U1895,U1910,U1925,U1940)*Full!$F$16/10^6","v":0},{"$f":"SUM(V1865,V1880,V1895,V1910,V1925,V1940)*Full!$F$16/10^6","v":0},{"$f":"SUM(W1865,W1880,W1895,W1910,W1925,W1940)*Full!$F$16/10^6","v":0},{"$f":"SUM(X1865,X1880,X1895,X1910,X1925,X1940)*Full!$F$16/10^6","v":0},{"$f":"SUM(Y1865,Y1880,Y1895,Y1910,Y1925,Y1940)*Full!$F$16/10^6","v":0},{"$f":"SUM(Z1865,Z1880,Z1895,Z1910,Z1925,Z1940)*Full!$F$16/10^6","v":0},{"$f":"SUM(AA1865,AA1880,AA1895,AA1910,AA1925,AA1940)*Full!$F$16/10^6","v":0}]
[{"$nulls":6},"Mini-bus",{"$f":"SUM(H1866,H1881,H1896,H1911,H1926,H1941)*Full!$F$16/10^6","v":0},{"$f":"SUM(I1866,I1881,I1896,I1911,I1926,I1941)*Full!$F$16/10^6","v":0},{"$f":"SUM(J1866,J1881,J1896,J1911,J1926,J1941)*Full!$F$16/10^6","v":0},{"$f":"SUM(K1866,K1881,K1896,K1911,K1926,K1941)*Full!$F$16/10^6","v":0},{"$f":"SUM(L1866,L1881,L1896,L1911,L1926,L1941)*Full!$F$16/10^6","v":0},{"$f":"SUM(M1866,M1881,M1896,M1911,M1926,M1941)*Full!$F$16/10^6","v":0},{"$f":"SUM(N1866,N1881,N1896,N1911,N1926,N1941)*Full!$F$16/10^6","v":0},{"$f":"SUM(O1866,O1881,O1896,O1911,O1926,O1941)*Full!$F$16/10^6","v":0},{"$f":"SUM(P1866,P1881,P1896,P1911,P1926,P1941)*Full!$F$16/10^6","v":0},{"$f":"SUM(Q1866,Q1881,Q1896,Q1911,Q1926,Q1941)*Full!$F$16/10^6","v":0},{"$f":"SUM(R1866,R1881,R1896,R1911,R1926,R1941)*Full!$F$16/10^6","v":0},{"$f":"SUM(S1866,S1881,S1896,S1911,S1926,S1941)*Full!$F$16/10^6","v":0},{"$f":"SUM(T1866,T1881,T1896,T1911,T1926,T1941)*Full!$F$16/10^6","v":0},{"$f":"SUM(U1866,U1881,U1896,U1911,U1926,U1941)*Full!$F$16/10^6","v":0},{"$f":"SUM(V1866,V1881,V1896,V1911,V1926,V1941)*Full!$F$16/10^6","v":0},{"$f":"SUM(W1866,W1881,W1896,W1911,W1926,W1941)*Full!$F$16/10^6","v":0},{"$f":"SUM(X1866,X1881,X1896,X1911,X1926,X1941)*Full!$F$16/10^6","v":0},{"$f":"SUM(Y1866,Y1881,Y1896,Y1911,Y1926,Y1941)*Full!$F$16/10^6","v":0},{"$f":"SUM(Z1866,Z1881,Z1896,Z1911,Z1926,Z1941)*Full!$F$16/10^6","v":0},{"$f":"SUM(AA1866,AA1881,AA1896,AA1911,AA1926,AA1941)*Full!$F$16/10^6","v":0}]
[{"$nulls":6},"",{"$f":"SUM(H1867,H1882,H1897,H1912,H1927,H1942)*Full!$F$16/10^6","v":0},{"$f":"SUM(I1867,I1882,I1897,I1912,I1927,I1942)*Full!$F$16/10^6","v":0},{"$f":"SUM(J1867,J1882,J1897,J1912,J1927,J1942)*Full!$F$16/10^6","v":0},{"$f":"SUM(K1867,K1882,K1897,K1912,K1927,K1942)*Full!$F$16/10^6","v":0},{"$f":"SUM(L1867,L1882,L1897,L1912,L1927,L1942)*Full!$F$16/10^6","v":0},{"$f":"SUM(M1867,M1882,M1897,M1912,M1927,M1942)*Full!$F$16/10^6","v":0},{"$f":"SUM(N1867,N1882,N1897,N1912,N1927,N1942)*Full!$F$16/10^6","v":0},{"$f":"SUM(O1867,O1882,O1897,O1912,O1927,O1942)*Full!$F$16/10^6","v":0},{"$f":"SUM(P1867,P1882,P1897,P1912,P1927,P1942)*Full!$F$16/10^6","v":0},{"$f":"SUM(Q1867,Q1882,Q1897,Q1912,Q1927,Q1942)*Full!$F$16/10^6","v":0},{"$f":"SUM(R1867,R1882,R1897,R1912,R1927,R1942)*Full!$F$16/10^6","v":0},{"$f":"SUM(S1867,S1882,S1897,S1912,S1927,S1942)*Full!$F$16/10^6","v":0},{"$f":"SUM(T1867,T1882,T1897,T1912,T1927,T1942)*Full!$F$16/10^6","v":0},{"$f":"SUM(U1867,U1882,U1897,U1912,U1927,U1942)*Full!$F$16/10^6","v":0},{"$f":"SUM(V1867,V1882,V1897,V1912,V1927,V1942)*Full!$F$16/10^6","v":0},{"$f":"SUM(W1867,W1882,W1897,W1912,W1927,W1942)*Full!$F$16/10^6","v":0},{"$f":"SUM(X1867,X1882,X1897,X1912,X1927,X1942)*Full!$F$16/10^6","v":0},{"$f":"SUM(Y1867,Y1882,Y1897,Y1912,Y1927,Y1942)*Full!$F$16/10^6","v":0},{"$f":"SUM(Z1867,Z1882,Z1897,Z1912,Z1927,Z1942)*Full!$F$16/10^6","v":0},{"$f":"SUM(AA1867,AA1882,AA1897,AA1912,AA1927,AA1942)*Full!$F$16/10^6","v":0}]
[{"$nulls":6},"",{"$f":"SUM(H1868,H1883,H1898,H1913,H1928,H1943)*Full!$F$16/10^6","v":0},{"$f":"SUM(I1868,I1883,I1898,I1913,I1928,I1943)*Full!$F$16/10^6","v":0},{"$f":"SUM(J1868,J1883,J1898,J1913,J1928,J1943)*Full!$F$16/10^6","v":0},{"$f":"SUM(K1868,K1883,K1898,K1913,K1928,K1943)*Full!$F$16/10^6","v":0},{"$f":"SUM(L1868,L1883,L1898,L1913,L1928,L1943)*Full!$F$16/10^6","v":0},{"$f":"SUM(M1868,M1883,M1898,M1913,M1928,M1943)*Full!$F$16/10^6","v":0},{"$f":"SUM(N1868,N1883,N1898,N1913,N1928,N1943)*Full!$F$16/10^6","v":0},{"$f":"SUM(O1868,O1883,O1898,O1913,O1928,O1943)*Full!$F$16/10^6","v":0},{"$f":"SUM(P1868,P1883,P1898,P1913,P1928,P1943)*Full!$F$16/10^6","v":0},{"$f":"SUM(Q1868,Q1883,Q1898,Q1913,Q1928,Q1943)*Full!$F$16/10^6","v":0},{"$f":"SUM(R1868,R1883,R1898,R1913,R1928,R1943)*Full!$F$16/10^6","v":0},{"$f":"SUM(S1868,S1883,S1898,S1913,S1928,S1943)*Full!$F$16/10^6","v":0},{"$f":"SUM(T1868,T1883,T1898,T1913,T1928,T1943)*Full!$F$16/10^6","v":0},{"$f":"SUM(U1868,U1883,U1898,U1913,U1928,U1943)*Full!$F$16/10^6","v":0},{"$f":"SUM(V1868,V1883,V1898,V1913,V1928,V1943)*Full!$F$16/10^6","v":0},{"$f":"SUM(W1868,W1883,W1898,W1913,W1928,W1943)*Full!$F$16/10^6","v":0},{"$f":"SUM(X1868,X1883,X1898,X1913,X1928,X1943)*Full!$F$16/10^6","v":0},{"$f":"SUM(Y1868,Y1883,Y1898,Y1913,Y1928,Y1943)*Full!$F$16/10^6","v":0},{"$f":"SUM(Z1868,Z1883,Z1898,Z1913,Z1928,Z1943)*Full!$F$16/10^6","v":0},{"$f":"SUM(AA1868,AA1883,AA1898,AA1913,AA1928,AA1943)*Full!$F$16/10^6","v":0}]
[{"$nulls":6},"BRT",{"$f":"SUM(H1869,H1884,H1899,H1914,H1929,H1944)*Full!$F$16/10^6","v":0},{"$f":"SUM(I1869,I1884,I1899,I1914,I1929,I1944)*Full!$F$16/10^6","v":0},{"$f":"SUM(J1869,J1884,J1899,J1914,J1929,J1944)*Full!$F$16/10^6","v":0},{"$f":"SUM(K1869,K1884,K1899,K1914,K1929,K1944)*Full!$F$16/10^6","v":0},{"$f":"SUM(L1869,L1884,L1899,L1914,L1929,L1944)*Full!$F$16/10^6","v":0},{"$f":"SUM(M1869,M1884,M1899,M1914,M1929,M1944)*Full!$F$16/10^6","v":0},{"$f":"SUM(N1869,N1884,N1899,N1914,N1929,N1944)*Full!$F$16/10^6","v":0},{"$f":"SUM(O1869,O1884,O1899,O1914,O1929,O1944)*Full!$F$16/10^6","v":0},{"$f":"SUM(P1869,P1884,P1899,P1914,P1929,P1944)*Full!$F$16/10^6","v":0},{"$f":"SUM(Q1869,Q1884,Q1899,Q1914,Q1929,Q1944)*Full!$F$16/10^6","v":0},{"$f":"SUM(R1869,R1884,R1899,R1914,R1929,R1944)*Full!$F$16/10^6","v":0},{"$f":"SUM(S1869,S1884,S1899,S1914,S1929,S1944)*Full!$F$16/10^6","v":0},{"$f":"SUM(T1869,T1884,T1899,T1914,T1929,T1944)*Full!$F$16/10^6","v":0},{"$f":"SUM(U1869,U1884,U1899,U1914,U1929,U1944)*Full!$F$16/10^6","v":0},{"$f":"SUM(V1869,V1884,V1899,V1914,V1929,V1944)*Full!$F$16/10^6","v":0},{"$f":"SUM(W1869,W1884,W1899,W1914,W1929,W1944)*Full!$F$16/10^6","v":0},{"$f":"SUM(X1869,X1884,X1899,X1914,X1929,X1944)*Full!$F$16/10^6","v":0},{"$f":"SUM(Y1869,Y1884,Y1899,Y1914,Y1929,Y1944)*Full!$F$16/10^6","v":0},{"$f":"SUM(Z1869,Z1884,Z1899,Z1914,Z1929,Z1944)*Full!$F$16/10^6","v":0},{"$f":"SUM(AA1869,AA1884,AA1899,AA1914,AA1929,AA1944)*Full!$F$16/10^6","v":0}]
[]
[{"$nulls":6},"Yearly CO2 ","tons"]
[{"$nulls":7},{"$f":"H2129","v":0},{"$f":"I2129","v":1},2,3,4,5,6,7,8,9,10,11,12,13,14,15,16,17,18,19]
[{"$nulls":5},"NO BRT",{"$f":"G2130","v":"Cars"},{"$f":"SUM(H1950,H1965,H1980,H1995,H2010,H2025)*Full!$F$16/10^3","v":0},{"$f":"SUM(I1950,I1965,I1980,I1995,I2010,I2025)*Full!$F$16/10^3","v":0},{"$f":"SUM(J1950,J1965,J1980,J1995,J2010,J2025)*Full!$F$16/10^3","v":0},{"$f":"SUM(K1950,K1965,K1980,K1995,K2010,K2025)*Full!$F$16/10^3","v":0},{"$f":"SUM(L1950,L1965,L1980,L1995,L2010,L2025)*Full!$F$16/10^3","v":0},{"$f":"SUM(M1950,M1965,M1980,M1995,M2010,M2025)*Full!$F$16/10^3","v":0},{"$f":"SUM(N1950,N1965,N1980,N1995,N2010,N2025)*Full!$F$16/10^3","v":0},{"$f":"SUM(O1950,O1965,O1980,O1995,O2010,O2025)*Full!$F$16/10^3","v":0},{"$f":"SUM(P1950,P1965,P1980,P1995,P2010,P2025)*Full!$F$16/10^3","v":0},{"$f":"SUM(Q1950,Q1965,Q1980,Q1995,Q2010,Q2025)*Full!$F$16/10^3","v":0},{"$f":"SUM(R1950,R1965,R1980,R1995,R2010,R2025)*Full!$F$16/10^3","v":0},{"$f":"SUM(S1950,S1965,S1980,S1995,S2010,S2025)*Full!$F$16/10^3","v":0},{"$f":"SUM(T1950,T1965,T1980,T1995,T2010,T2025)*Full!$F$16/10^3","v":0},{"$f":"SUM(U1950,U1965,U1980,U1995,U2010,U2025)*Full!$F$16/10^3","v":0},{"$f":"SUM(V1950,V1965,V1980,V1995,V2010,V2025)*Full!$F$16/10^3","v":0},{"$f":"SUM(W1950,W1965,W1980,W1995,W2010,W2025)*Full!$F$16/10^3","v":0},{"$f":"SUM(X1950,X1965,X1980,X1995,X2010,X2025)*Full!$F$16/10^3","v":0},{"$f":"SUM(Y1950,Y1965,Y1980,Y1995,Y2010,Y2025)*Full!$F$16/10^3","v":0},{"$f":"SUM(Z1950,Z1965,Z1980,Z1995,Z2010,Z2025)*Full!$F$16/10^3","v":0},{"$f":"SUM(AA1950,AA1965,AA1980,AA1995,AA2010,AA2025)*Full!$F$16/10^3","v":0}]
[{"$nulls":6},{"$f":"G2131","v":"2-wheeler"},{"$f":"SUM(H1951,H1966,H1981,H1996,H2011,H2026)*Full!$F$16/10^3","v":0},{"$f":"SUM(I1951,I1966,I1981,I1996,I2011,I2026)*Full!$F$16/10^3","v":0},{"$f":"SUM(J1951,J1966,J1981,J1996,J2011,J2026)*Full!$F$16/10^3","v":0},{"$f":"SUM(K1951,K1966,K1981,K1996,K2011,K2026)*Full!$F$16/10^3","v":0},{"$f":"SUM(L1951,L1966,L1981,L1996,L2011,L2026)*Full!$F$16/10^3","v":0},{"$f":"SUM(M1951,M1966,M1981,M1996,M2011,M2026)*Full!$F$16/10^3","v":0},{"$f":"SUM(N1951,N1966,N1981,N1996,N2011,N2026)*Full!$F$16/10^3","v":0},{"$f":"SUM(O1951,O1966,O1981,O1996,O2011,O2026)*Full!$F$16/10^3","v":0},{"$f":"SUM(P1951,P1966,P1981,P1996,P2011,P2026)*Full!$F$16/10^3","v":0},{"$f":"SUM(Q1951,Q1966,Q1981,Q1996,Q2011,Q2026)*Full!$F$16/10^3","v":0},{"$f":"SUM(R1951,R1966,R1981,R1996,R2011,R2026)*Full!$F$16/10^3","v":0},{"$f":"SUM(S1951,S1966,S1981,S1996,S2011,S2026)*Full!$F$16/10^3","v":0},{"$f":"SUM(T1951,T1966,T1981,T1996,T2011,T2026)*Full!$F$16/10^3","v":0},{"$f":"SUM(U1951,U1966,U1981,U1996,U2011,U2026)*Full!$F$16/10^3","v":0},{"$f":"SUM(V1951,V1966,V1981,V1996,V2011,V2026)*Full!$F$16/10^3","v":0},{"$f":"SUM(W1951,W1966,W1981,W1996,W2011,W2026)*Full!$F$16/10^3","v":0},{"$f":"SUM(X1951,X1966,X1981,X1996,X2011,X2026)*Full!$F$16/10^3","v":0},{"$f":"SUM(Y1951,Y1966,Y1981,Y1996,Y2011,Y2026)*Full!$F$16/10^3","v":0},{"$f":"SUM(Z1951,Z1966,Z1981,Z1996,Z2011,Z2026)*Full!$F$16/10^3","v":0},{"$f":"SUM(AA1951,AA1966,AA1981,AA1996,AA2011,AA2026)*Full!$F$16/10^3","v":0}]
[{"$nulls":6},"Taxi",{"$f":"SUM(H1952,H1967,H1982,H1997,H2012,H2027)*Full!$F$16/10^3","v":0},{"$f":"SUM(I1952,I1967,I1982,I1997,I2012,I2027)*Full!$F$16/10^3","v":0},{"$f":"SUM(J1952,J1967,J1982,J1997,J2012,J2027)*Full!$F$16/10^3","v":0},{"$f":"SUM(K1952,K1967,K1982,K1997,K2012,K2027)*Full!$F$16/10^3","v":0},{"$f":"SUM(L1952,L1967,L1982,L1997,L2012,L2027)*Full!$F$16/10^3","v":0},{"$f":"SUM(M1952,M1967,M1982,M1997,M2012,M2027)*Full!$F$16/10^3","v":0},{"$f":"SUM(N1952,N1967,N1982,N1997,N2012,N2027)*Full!$F$16/10^3","v":0},{"$f":"SUM(O1952,O1967,O1982,O1997,O2012,O2027)*Full!$F$16/10^3","v":0},{"$f":"SUM(P1952,P1967,P1982,P1997,P2012,P2027)*Full!$F$16/10^3","v":0},{"$f":"SUM(Q1952,Q1967,Q1982,Q1997,Q2012,Q2027)*Full!$F$16/10^3","v":0},{"$f":"SUM(R1952,R1967,R1982,R1997,R2012,R2027)*Full!$F$16/10^3","v":0},{"$f":"SUM(S1952,S1967,S1982,S1997,S2012,S2027)*Full!$F$16/10^3","v":0},{"$f":"SUM(T1952,T1967,T1982,T1997,T2012,T2027)*Full!$F$16/10^3","v":0},{"$f":"SUM(U1952,U1967,U1982,U1997,U2012,U2027)*Full!$F$16/10^3","v":0},{"$f":"SUM(V1952,V1967,V1982,V1997,V2012,V2027)*Full!$F$16/10^3","v":0},{"$f":"SUM(W1952,W1967,W1982,W1997,W2012,W2027)*Full!$F$16/10^3","v":0},{"$f":"SUM(X1952,X1967,X1982,X1997,X2012,X2027)*Full!$F$16/10^3","v":0},{"$f":"SUM(Y1952,Y1967,Y1982,Y1997,Y2012,Y2027)*Full!$F$16/10^3","v":0},{"$f":"SUM(Z1952,Z1967,Z1982,Z1997,Z2012,Z2027)*Full!$F$16/10^3","v":0},{"$f":"SUM(AA1952,AA1967,AA1982,AA1997,AA2012,AA2027)*Full!$F$16/10^3","v":0}]
[{"$nulls":6},"",{"$f":"SUM(H1953,H1968,H1983,H1998,H2013,H2028)*Full!$F$16/10^3","v":0},{"$f":"SUM(I1953,I1968,I1983,I1998,I2013,I2028)*Full!$F$16/10^3","v":0},{"$f":"SUM(J1953,J1968,J1983,J1998,J2013,J2028)*Full!$F$16/10^3","v":0},{"$f":"SUM(K1953,K1968,K1983,K1998,K2013,K2028)*Full!$F$16/10^3","v":0},{"$f":"SUM(L1953,L1968,L1983,L1998,L2013,L2028)*Full!$F$16/10^3","v":0},{"$f":"SUM(M1953,M1968,M1983,M1998,M2013,M2028)*Full!$F$16/10^3","v":0},{"$f":"SUM(N1953,N1968,N1983,N1998,N2013,N2028)*Full!$F$16/10^3","v":0},{"$f":"SUM(O1953,O1968,O1983,O1998,O2013,O2028)*Full!$F$16/10^3","v":0},{"$f":"SUM(P1953,P1968,P1983,P1998,P2013,P2028)*Full!$F$16/10^3","v":0},{"$f":"SUM(Q1953,Q1968,Q1983,Q1998,Q2013,Q2028)*Full!$F$16/10^3","v":0},{"$f":"SUM(R1953,R1968,R1983,R1998,R2013,R2028)*Full!$F$16/10^3","v":0},{"$f":"SUM(S1953,S1968,S1983,S1998,S2013,S2028)*Full!$F$16/10^3","v":0},{"$f":"SUM(T1953,T1968,T1983,T1998,T2013,T2028)*Full!$F$16/10^3","v":0},{"$f":"SUM(U1953,U1968,U1983,U1998,U2013,U2028)*Full!$F$16/10^3","v":0},{"$f":"SUM(V1953,V1968,V1983,V1998,V2013,V2028)*Full!$F$16/10^3","v":0},{"$f":"SUM(W1953,W1968,W1983,W1998,W2013,W2028)*Full!$F$16/10^3","v":0},{"$f":"SUM(X1953,X1968,X1983,X1998,X2013,X2028)*Full!$F$16/10^3","v":0},{"$f":"SUM(Y1953,Y1968,Y1983,Y1998,Y2013,Y2028)*Full!$F$16/10^3","v":0},{"$f":"SUM(Z1953,Z1968,Z1983,Z1998,Z2013,Z2028)*Full!$F$16/10^3","v":0},{"$f":"SUM(AA1953,AA1968,AA1983,AA1998,AA2013,AA2028)*Full!$F$16/10^3","v":0}]
[{"$nulls":6},"",{"$f":"SUM(H1954,H1969,H1984,H1999,H2014,H2029)*Full!$F$16/10^3","v":0},{"$f":"SUM(I1954,I1969,I1984,I1999,I2014,I2029)*Full!$F$16/10^3","v":0},{"$f":"SUM(J1954,J1969,J1984,J1999,J2014,J2029)*Full!$F$16/10^3","v":0},{"$f":"SUM(K1954,K1969,K1984,K1999,K2014,K2029)*Full!$F$16/10^3","v":0},{"$f":"SUM(L1954,L1969,L1984,L1999,L2014,L2029)*Full!$F$16/10^3","v":0},{"$f":"SUM(M1954,M1969,M1984,M1999,M2014,M2029)*Full!$F$16/10^3","v":0},{"$f":"SUM(N1954,N1969,N1984,N1999,N2014,N2029)*Full!$F$16/10^3","v":0},{"$f":"SUM(O1954,O1969,O1984,O1999,O2014,O2029)*Full!$F$16/10^3","v":0},{"$f":"SUM(P1954,P1969,P1984,P1999,P2014,P2029)*Full!$F$16/10^3","v":0},{"$f":"SUM(Q1954,Q1969,Q1984,Q1999,Q2014,Q2029)*Full!$F$16/10^3","v":0},{"$f":"SUM(R1954,R1969,R1984,R1999,R2014,R2029)*Full!$F$16/10^3","v":0},{"$f":"SUM(S1954,S1969,S1984,S1999,S2014,S2029)*Full!$F$16/10^3","v":0},{"$f":"SUM(T1954,T1969,T1984,T1999,T2014,T2029)*Full!$F$16/10^3","v":0},{"$f":"SUM(U1954,U1969,U1984,U1999,U2014,U2029)*Full!$F$16/10^3","v":0},{"$f":"SUM(V1954,V1969,V1984,V1999,V2014,V2029)*Full!$F$16/10^3","v":0},{"$f":"SUM(W1954,W1969,W1984,W1999,W2014,W2029)*Full!$F$16/10^3","v":0},{"$f":"SUM(X1954,X1969,X1984,X1999,X2014,X2029)*Full!$F$16/10^3","v":0},{"$f":"SUM(Y1954,Y1969,Y1984,Y1999,Y2014,Y2029)*Full!$F$16/10^3","v":0},{"$f":"SUM(Z1954,Z1969,Z1984,Z1999,Z2014,Z2029)*Full!$F$16/10^3","v":0},{"$f":"SUM(AA1954,AA1969,AA1984,AA1999,AA2014,AA2029)*Full!$F$16/10^3","v":0}]
[{"$nulls":6},"3-wheeler",{"$f":"SUM(H1955,H1970,H1985,H2000,H2015,H2030)*Full!$F$16/10^3","v":0},{"$f":"SUM(I1955,I1970,I1985,I2000,I2015,I2030)*Full!$F$16/10^3","v":0},{"$f":"SUM(J1955,J1970,J1985,J2000,J2015,J2030)*Full!$F$16/10^3","v":0},{"$f":"SUM(K1955,K1970,K1985,K2000,K2015,K2030)*Full!$F$16/10^3","v":0},{"$f":"SUM(L1955,L1970,L1985,L2000,L2015,L2030)*Full!$F$16/10^3","v":0},{"$f":"SUM(M1955,M1970,M1985,M2000,M2015,M2030)*Full!$F$16/10^3","v":0},{"$f":"SUM(N1955,N1970,N1985,N2000,N2015,N2030)*Full!$F$16/10^3","v":0},{"$f":"SUM(O1955,O1970,O1985,O2000,O2015,O2030)*Full!$F$16/10^3","v":0},{"$f":"SUM(P1955,P1970,P1985,P2000,P2015,P2030)*Full!$F$16/10^3","v":0},{"$f":"SUM(Q1955,Q1970,Q1985,Q2000,Q2015,Q2030)*Full!$F$16/10^3","v":0},{"$f":"SUM(R1955,R1970,R1985,R2000,R2015,R2030)*Full!$F$16/10^3","v":0},{"$f":"SUM(S1955,S1970,S1985,S2000,S2015,S2030)*Full!$F$16/10^3","v":0},{"$f":"SUM(T1955,T1970,T1985,T2000,T2015,T2030)*Full!$F$16/10^3","v":0},{"$f":"SUM(U1955,U1970,U1985,U2000,U2015,U2030)*Full!$F$16/10^3","v":0},{"$f":"SUM(V1955,V1970,V1985,V2000,V2015,V2030)*Full!$F$16/10^3","v":0},{"$f":"SUM(W1955,W1970,W1985,W2000,W2015,W2030)*Full!$F$16/10^3","v":0},{"$f":"SUM(X1955,X1970,X1985,X2000,X2015,X2030)*Full!$F$16/10^3","v":0},{"$f":"SUM(Y1955,Y1970,Y1985,Y2000,Y2015,Y2030)*Full!$F$16/10^3","v":0},{"$f":"SUM(Z1955,Z1970,Z1985,Z2000,Z2015,Z2030)*Full!$F$16/10^3","v":0},{"$f":"SUM(AA1955,AA1970,AA1985,AA2000,AA2015,AA2030)*Full!$F$16/10^3","v":0}]
[{"$nulls":6},"Bus",{"$f":"SUM(H1956,H1971,H1986,H2001,H2016,H2031)*Full!$F$16/10^3","v":0},{"$f":"SUM(I1956,I1971,I1986,I2001,I2016,I2031)*Full!$F$16/10^3","v":0},{"$f":"SUM(J1956,J1971,J1986,J2001,J2016,J2031)*Full!$F$16/10^3","v":0},{"$f":"SUM(K1956,K1971,K1986,K2001,K2016,K2031)*Full!$F$16/10^3","v":0},{"$f":"SUM(L1956,L1971,L1986,L2001,L2016,L2031)*Full!$F$16/10^3","v":0},{"$f":"SUM(M1956,M1971,M1986,M2001,M2016,M2031)*Full!$F$16/10^3","v":0},{"$f":"SUM(N1956,N1971,N1986,N2001,N2016,N2031)*Full!$F$16/10^3","v":0},{"$f":"SUM(O1956,O1971,O1986,O2001,O2016,O2031)*Full!$F$16/10^3","v":0},{"$f":"SUM(P1956,P1971,P1986,P2001,P2016,P2031)*Full!$F$16/10^3","v":0},{"$f":"SUM(Q1956,Q1971,Q1986,Q2001,Q2016,Q2031)*Full!$F$16/10^3","v":0},{"$f":"SUM(R1956,R1971,R1986,R2001,R2016,R2031)*Full!$F$16/10^3","v":0},{"$f":"SUM(S1956,S1971,S1986,S2001,S2016,S2031)*Full!$F$16/10^3","v":0},{"$f":"SUM(T1956,T1971,T1986,T2001,T2016,T2031)*Full!$F$16/10^3","v":0},{"$f":"SUM(U1956,U1971,U1986,U2001,U2016,U2031)*Full!$F$16/10^3","v":0},{"$f":"SUM(V1956,V1971,V1986,V2001,V2016,V2031)*Full!$F$16/10^3","v":0},{"$f":"SUM(W1956,W1971,W1986,W2001,W2016,W2031)*Full!$F$16/10^3","v":0},{"$f":"SUM(X1956,X1971,X1986,X2001,X2016,X2031)*Full!$F$16/10^3","v":0},{"$f":"SUM(Y1956,Y1971,Y1986,Y2001,Y2016,Y2031)*Full!$F$16/10^3","v":0},{"$f":"SUM(Z1956,Z1971,Z1986,Z2001,Z2016,Z2031)*Full!$F$16/10^3","v":0},{"$f":"SUM(AA1956,AA1971,AA1986,AA2001,AA2016,AA2031)*Full!$F$16/10^3","v":0}]
[{"$nulls":6},"Mini-bus",{"$f":"SUM(H1957,H1972,H1987,H2002,H2017,H2032)*Full!$F$16/10^3","v":0},{"$f":"SUM(I1957,I1972,I1987,I2002,I2017,I2032)*Full!$F$16/10^3","v":0},{"$f":"SUM(J1957,J1972,J1987,J2002,J2017,J2032)*Full!$F$16/10^3","v":0},{"$f":"SUM(K1957,K1972,K1987,K2002,K2017,K2032)*Full!$F$16/10^3","v":0},{"$f":"SUM(L1957,L1972,L1987,L2002,L2017,L2032)*Full!$F$16/10^3","v":0},{"$f":"SUM(M1957,M1972,M1987,M2002,M2017,M2032)*Full!$F$16/10^3","v":0},{"$f":"SUM(N1957,N1972,N1987,N2002,N2017,N2032)*Full!$F$16/10^3","v":0},{"$f":"SUM(O1957,O1972,O1987,O2002,O2017,O2032)*Full!$F$16/10^3","v":0},{"$f":"SUM(P1957,P1972,P1987,P2002,P2017,P2032)*Full!$F$16/10^3","v":0},{"$f":"SUM(Q1957,Q1972,Q1987,Q2002,Q2017,Q2032)*Full!$F$16/10^3","v":0},{"$f":"SUM(R1957,R1972,R1987,R2002,R2017,R2032)*Full!$F$16/10^3","v":0},{"$f":"SUM(S1957,S1972,S1987,S2002,S2017,S2032)*Full!$F$16/10^3","v":0},{"$f":"SUM(T1957,T1972,T1987,T2002,T2017,T2032)*Full!$F$16/10^3","v":0},{"$f":"SUM(U1957,U1972,U1987,U2002,U2017,U2032)*Full!$F$16/10^3","v":0},{"$f":"SUM(V1957,V1972,V1987,V2002,V2017,V2032)*Full!$F$16/10^3","v":0},{"$f":"SUM(W1957,W1972,W1987,W2002,W2017,W2032)*Full!$F$16/10^3","v":0},{"$f":"SUM(X1957,X1972,X1987,X2002,X2017,X2032)*Full!$F$16/10^3","v":0},{"$f":"SUM(Y1957,Y1972,Y1987,Y2002,Y2017,Y2032)*Full!$F$16/10^3","v":0},{"$f":"SUM(Z1957,Z1972,Z1987,Z2002,Z2017,Z2032)*Full!$F$16/10^3","v":0},{"$f":"SUM(AA1957,AA1972,AA1987,AA2002,AA2017,AA2032)*Full!$F$16/10^3","v":0}]
[{"$nulls":6},"",{"$f":"SUM(H1958,H1973,H1988,H2003,H2018,H2033)*Full!$F$16/10^3","v":0},{"$f":"SUM(I1958,I1973,I1988,I2003,I2018,I2033)*Full!$F$16/10^3","v":0},{"$f":"SUM(J1958,J1973,J1988,J2003,J2018,J2033)*Full!$F$16/10^3","v":0},{"$f":"SUM(K1958,K1973,K1988,K2003,K2018,K2033)*Full!$F$16/10^3","v":0},{"$f":"SUM(L1958,L1973,L1988,L2003,L2018,L2033)*Full!$F$16/10^3","v":0},{"$f":"SUM(M1958,M1973,M1988,M2003,M2018,M2033)*Full!$F$16/10^3","v":0},{"$f":"SUM(N1958,N1973,N1988,N2003,N2018,N2033)*Full!$F$16/10^3","v":0},{"$f":"SUM(O1958,O1973,O1988,O2003,O2018,O2033)*Full!$F$16/10^3","v":0},{"$f":"SUM(P1958,P1973,P1988,P2003,P2018,P2033)*Full!$F$16/10^3","v":0},{"$f":"SUM(Q1958,Q1973,Q1988,Q2003,Q2018,Q2033)*Full!$F$16/10^3","v":0},{"$f":"SUM(R1958,R1973,R1988,R2003,R2018,R2033)*Full!$F$16/10^3","v":0},{"$f":"SUM(S1958,S1973,S1988,S2003,S2018,S2033)*Full!$F$16/10^3","v":0},{"$f":"SUM(T1958,T1973,T1988,T2003,T2018,T2033)*Full!$F$16/10^3","v":0},{"$f":"SUM(U1958,U1973,U1988,U2003,U2018,U2033)*Full!$F$16/10^3","v":0},{"$f":"SUM(V1958,V1973,V1988,V2003,V2018,V2033)*Full!$F$16/10^3","v":0},{"$f":"SUM(W1958,W1973,W1988,W2003,W2018,W2033)*Full!$F$16/10^3","v":0},{"$f":"SUM(X1958,X1973,X1988,X2003,X2018,X2033)*Full!$F$16/10^3","v":0},{"$f":"SUM(Y1958,Y1973,Y1988,Y2003,Y2018,Y2033)*Full!$F$16/10^3","v":0},{"$f":"SUM(Z1958,Z1973,Z1988,Z2003,Z2018,Z2033)*Full!$F$16/10^3","v":0},{"$f":"SUM(AA1958,AA1973,AA1988,AA2003,AA2018,AA2033)*Full!$F$16/10^3","v":0}]
[{"$nulls":6},"",{"$f":"SUM(H1959,H1974,H1989,H2004,H2019,H2034)*Full!$F$16/10^3","v":0},{"$f":"SUM(I1959,I1974,I1989,I2004,I2019,I2034)*Full!$F$16/10^3","v":0},{"$f":"SUM(J1959,J1974,J1989,J2004,J2019,J2034)*Full!$F$16/10^3","v":0},{"$f":"SUM(K1959,K1974,K1989,K2004,K2019,K2034)*Full!$F$16/10^3","v":0},{"$f":"SUM(L1959,L1974,L1989,L2004,L2019,L2034)*Full!$F$16/10^3","v":0},{"$f":"SUM(M1959,M1974,M1989,M2004,M2019,M2034)*Full!$F$16/10^3","v":0},{"$f":"SUM(N1959,N1974,N1989,N2004,N2019,N2034)*Full!$F$16/10^3","v":0},{"$f":"SUM(O1959,O1974,O1989,O2004,O2019,O2034)*Full!$F$16/10^3","v":0},{"$f":"SUM(P1959,P1974,P1989,P2004,P2019,P2034)*Full!$F$16/10^3","v":0},{"$f":"SUM(Q1959,Q1974,Q1989,Q2004,Q2019,Q2034)*Full!$F$16/10^3","v":0},{"$f":"SUM(R1959,R1974,R1989,R2004,R2019,R2034)*Full!$F$16/10^3","v":0},{"$f":"SUM(S1959,S1974,S1989,S2004,S2019,S2034)*Full!$F$16/10^3","v":0},{"$f":"SUM(T1959,T1974,T1989,T2004,T2019,T2034)*Full!$F$16/10^3","v":0},{"$f":"SUM(U1959,U1974,U1989,U2004,U2019,U2034)*Full!$F$16/10^3","v":0},{"$f":"SUM(V1959,V1974,V1989,V2004,V2019,V2034)*Full!$F$16/10^3","v":0},{"$f":"SUM(W1959,W1974,W1989,W2004,W2019,W2034)*Full!$F$16/10^3","v":0},{"$f":"SUM(X1959,X1974,X1989,X2004,X2019,X2034)*Full!$F$16/10^3","v":0},{"$f":"SUM(Y1959,Y1974,Y1989,Y2004,Y2019,Y2034)*Full!$F$16/10^3","v":0},{"$f":"SUM(Z1959,Z1974,Z1989,Z2004,Z2019,Z2034)*Full!$F$16/10^3","v":0},{"$f":"SUM(AA1959,AA1974,AA1989,AA2004,AA2019,AA2034)*Full!$F$16/10^3","v":0}]
[{"$nulls":6},"BRT",{"$f":"SUM(H1960,H1975,H1990,H2005,H2020,H2035)*Full!$F$16/10^3","v":0},{"$f":"SUM(I1960,I1975,I1990,I2005,I2020,I2035)*Full!$F$16/10^3","v":0},{"$f":"SUM(J1960,J1975,J1990,J2005,J2020,J2035)*Full!$F$16/10^3","v":0},{"$f":"SUM(K1960,K1975,K1990,K2005,K2020,K2035)*Full!$F$16/10^3","v":0},{"$f":"SUM(L1960,L1975,L1990,L2005,L2020,L2035)*Full!$F$16/10^3","v":0},{"$f":"SUM(M1960,M1975,M1990,M2005,M2020,M2035)*Full!$F$16/10^3","v":0},{"$f":"SUM(N1960,N1975,N1990,N2005,N2020,N2035)*Full!$F$16/10^3","v":0},{"$f":"SUM(O1960,O1975,O1990,O2005,O2020,O2035)*Full!$F$16/10^3","v":0},{"$f":"SUM(P1960,P1975,P1990,P2005,P2020,P2035)*Full!$F$16/10^3","v":0},{"$f":"SUM(Q1960,Q1975,Q1990,Q2005,Q2020,Q2035)*Full!$F$16/10^3","v":0},{"$f":"SUM(R1960,R1975,R1990,R2005,R2020,R2035)*Full!$F$16/10^3","v":0},{"$f":"SUM(S1960,S1975,S1990,S2005,S2020,S2035)*Full!$F$16/10^3","v":0},{"$f":"SUM(T1960,T1975,T1990,T2005,T2020,T2035)*Full!$F$16/10^3","v":0},{"$f":"SUM(U1960,U1975,U1990,U2005,U2020,U2035)*Full!$F$16/10^3","v":0},{"$f":"SUM(V1960,V1975,V1990,V2005,V2020,V2035)*Full!$F$16/10^3","v":0},{"$f":"SUM(W1960,W1975,W1990,W2005,W2020,W2035)*Full!$F$16/10^3","v":0},{"$f":"SUM(X1960,X1975,X1990,X2005,X2020,X2035)*Full!$F$16/10^3","v":0},{"$f":"SUM(Y1960,Y1975,Y1990,Y2005,Y2020,Y2035)*Full!$F$16/10^3","v":0},{"$f":"SUM(Z1960,Z1975,Z1990,Z2005,Z2020,Z2035)*Full!$F$16/10^3","v":0},{"$f":"SUM(AA1960,AA1975,AA1990,AA2005,AA2020,AA2035)*Full!$F$16/10^3","v":0}]
[]
[{"$nulls":6},"Yearly VKT","(million VKT)"]
[{"$nulls":7},{"$f":"H2143","v":0},{"$f":"I2143","v":1},2,3,4,5,6,7,8,9,10,11,12,13,14,15,16,17,18,19]
[{"$nulls":5},"NO BRT",{"$f":"G2144","v":"Cars"},{"$f":"H123*Full!$F$16/10^6","v":0},{"$f":"I123*Full!$F$16/10^6","v":0},{"$f":"J123*Full!$F$16/10^6","v":0},{"$f":"K123*Full!$F$16/10^6","v":0},{"$f":"L123*Full!$F$16/10^6","v":0},{"$f":"M123*Full!$F$16/10^6","v":0},{"$f":"N123*Full!$F$16/10^6","v":0},{"$f":"O123*Full!$F$16/10^6","v":0},{"$f":"P123*Full!$F$16/10^6","v":0},{"$f":"Q123*Full!$F$16/10^6","v":0},{"$f":"R123*Full!$F$16/10^6","v":0},{"$f":"S123*Full!$F$16/10^6","v":0},{"$f":"T123*Full!$F$16/10^6","v":0},{"$f":"U123*Full!$F$16/10^6","v":0},{"$f":"V123*Full!$F$16/10^6","v":0},{"$f":"W123*Full!$F$16/10^6","v":0},{"$f":"X123*Full!$F$16/10^6","v":0},{"$f":"Y123*Full!$F$16/10^6","v":0},{"$f":"Z123*Full!$F$16/10^6","v":0},{"$f":"AA123*Full!$F$16/10^6","v":0}]
[{"$nulls":6},{"$f":"G2145","v":"2-wheeler"},{"$f":"H124*Full!$F$16/10^6","v":0},{"$f":"I124*Full!$F$16/10^6","v":0},{"$f":"J124*Full!$F$16/10^6","v":0},{"$f":"K124*Full!$F$16/10^6","v":0},{"$f":"L124*Full!$F$16/10^6","v":0},{"$f":"M124*Full!$F$16/10^6","v":0},{"$f":"N124*Full!$F$16/10^6","v":0},{"$f":"O124*Full!$F$16/10^6","v":0},{"$f":"P124*Full!$F$16/10^6","v":0},{"$f":"Q124*Full!$F$16/10^6","v":0},{"$f":"R124*Full!$F$16/10^6","v":0},{"$f":"S124*Full!$F$16/10^6","v":0},{"$f":"T124*Full!$F$16/10^6","v":0},{"$f":"U124*Full!$F$16/10^6","v":0},{"$f":"V124*Full!$F$16/10^6","v":0},{"$f":"W124*Full!$F$16/10^6","v":0},{"$f":"X124*Full!$F$16/10^6","v":0},{"$f":"Y124*Full!$F$16/10^6","v":0},{"$f":"Z124*Full!$F$16/10^6","v":0},{"$f":"AA124*Full!$F$16/10^6","v":0}]
[{"$nulls":6},"Taxi",{"$f":"H125*Full!$F$16/10^6","v":0},{"$f":"I125*Full!$F$16/10^6","v":0},{"$f":"J125*Full!$F$16/10^6","v":0},{"$f":"K125*Full!$F$16/10^6","v":0},{"$f":"L125*Full!$F$16/10^6","v":0},{"$f":"M125*Full!$F$16/10^6","v":0},{"$f":"N125*Full!$F$16/10^6","v":0},{"$f":"O125*Full!$F$16/10^6","v":0},{"$f":"P125*Full!$F$16/10^6","v":0},{"$f":"Q125*Full!$F$16/10^6","v":0},{"$f":"R125*Full!$F$16/10^6","v":0},{"$f":"S125*Full!$F$16/10^6","v":0},{"$f":"T125*Full!$F$16/10^6","v":0},{"$f":"U125*Full!$F$16/10^6","v":0},{"$f":"V125*Full!$F$16/10^6","v":0},{"$f":"W125*Full!$F$16/10^6","v":0},{"$f":"X125*Full!$F$16/10^6","v":0},{"$f":"Y125*Full!$F$16/10^6","v":0},{"$f":"Z125*Full!$F$16/10^6","v":0},{"$f":"AA125*Full!$F$16/10^6","v":0}]
[{"$nulls":6},"",{"$f":"H126*Full!$F$16/10^6","v":0},{"$f":"I126*Full!$F$16/10^6","v":0},{"$f":"J126*Full!$F$16/10^6","v":0},{"$f":"K126*Full!$F$16/10^6","v":0},{"$f":"L126*Full!$F$16/10^6","v":0},{"$f":"M126*Full!$F$16/10^6","v":0},{"$f":"N126*Full!$F$16/10^6","v":0},{"$f":"O126*Full!$F$16/10^6","v":0},{"$f":"P126*Full!$F$16/10^6","v":0},{"$f":"Q126*Full!$F$16/10^6","v":0},{"$f":"R126*Full!$F$16/10^6","v":0},{"$f":"S126*Full!$F$16/10^6","v":0},{"$f":"T126*Full!$F$16/10^6","v":0},{"$f":"U126*Full!$F$16/10^6","v":0},{"$f":"V126*Full!$F$16/10^6","v":0},{"$f":"W126*Full!$F$16/10^6","v":0},{"$f":"X126*Full!$F$16/10^6","v":0},{"$f":"Y126*Full!$F$16/10^6","v":0},{"$f":"Z126*Full!$F$16/10^6","v":0},{"$f":"AA126*Full!$F$16/10^6","v":0}]
[{"$nulls":6},"",{"$f":"H127*Full!$F$16/10^6","v":0},{"$f":"I127*Full!$F$16/10^6","v":0},{"$f":"J127*Full!$F$16/10^6","v":0},{"$f":"K127*Full!$F$16/10^6","v":0},{"$f":"L127*Full!$F$16/10^6","v":0},{"$f":"M127*Full!$F$16/10^6","v":0},{"$f":"N127*Full!$F$16/10^6","v":0},{"$f":"O127*Full!$F$16/10^6","v":0},{"$f":"P127*Full!$F$16/10^6","v":0},{"$f":"Q127*Full!$F$16/10^6","v":0},{"$f":"R127*Full!$F$16/10^6","v":0},{"$f":"S127*Full!$F$16/10^6","v":0},{"$f":"T127*Full!$F$16/10^6","v":0},{"$f":"U127*Full!$F$16/10^6","v":0},{"$f":"V127*Full!$F$16/10^6","v":0},{"$f":"W127*Full!$F$16/10^6","v":0},{"$f":"X127*Full!$F$16/10^6","v":0},{"$f":"Y127*Full!$F$16/10^6","v":0},{"$f":"Z127*Full!$F$16/10^6","v":0},{"$f":"AA127*Full!$F$16/10^6","v":0}]
[{"$nulls":6},"3-wheeler",{"$f":"H128*Full!$F$16/10^6","v":0},{"$f":"I128*Full!$F$16/10^6","v":0},{"$f":"J128*Full!$F$16/10^6","v":0},{"$f":"K128*Full!$F$16/10^6","v":0},{"$f":"L128*Full!$F$16/10^6","v":0},{"$f":"M128*Full!$F$16/10^6","v":0},{"$f":"N128*Full!$F$16/10^6","v":0},{"$f":"O128*Full!$F$16/10^6","v":0},{"$f":"P128*Full!$F$16/10^6","v":0},{"$f":"Q128*Full!$F$16/10^6","v":0},{"$f":"R128*Full!$F$16/10^6","v":0},{"$f":"S128*Full!$F$16/10^6","v":0},{"$f":"T128*Full!$F$16/10^6","v":0},{"$f":"U128*Full!$F$16/10^6","v":0},{"$f":"V128*Full!$F$16/10^6","v":0},{"$f":"W128*Full!$F$16/10^6","v":0},{"$f":"X128*Full!$F$16/10^6","v":0},{"$f":"Y128*Full!$F$16/10^6","v":0},{"$f":"Z128*Full!$F$16/10^6","v":0},{"$f":"AA128*Full!$F$16/10^6","v":0}]
[{"$nulls":6},"Bus",{"$f":"H129*Full!$F$16/10^6","v":0},{"$f":"I129*Full!$F$16/10^6","v":0},{"$f":"J129*Full!$F$16/10^6","v":0},{"$f":"K129*Full!$F$16/10^6","v":0},{"$f":"L129*Full!$F$16/10^6","v":0},{"$f":"M129*Full!$F$16/10^6","v":0},{"$f":"N129*Full!$F$16/10^6","v":0},{"$f":"O129*Full!$F$16/10^6","v":0},{"$f":"P129*Full!$F$16/10^6","v":0},{"$f":"Q129*Full!$F$16/10^6","v":0},{"$f":"R129*Full!$F$16/10^6","v":0},{"$f":"S129*Full!$F$16/10^6","v":0},{"$f":"T129*Full!$F$16/10^6","v":0},{"$f":"U129*Full!$F$16/10^6","v":0},{"$f":"V129*Full!$F$16/10^6","v":0},{"$f":"W129*Full!$F$16/10^6","v":0},{"$f":"X129*Full!$F$16/10^6","v":0},{"$f":"Y129*Full!$F$16/10^6","v":0},{"$f":"Z129*Full!$F$16/10^6","v":0},{"$f":"AA129*Full!$F$16/10^6","v":0}]
[{"$nulls":6},"Mini-bus",{"$f":"H130*Full!$F$16/10^6","v":0},{"$f":"I130*Full!$F$16/10^6","v":0},{"$f":"J130*Full!$F$16/10^6","v":0},{"$f":"K130*Full!$F$16/10^6","v":0},{"$f":"L130*Full!$F$16/10^6","v":0},{"$f":"M130*Full!$F$16/10^6","v":0},{"$f":"N130*Full!$F$16/10^6","v":0},{"$f":"O130*Full!$F$16/10^6","v":0},{"$f":"P130*Full!$F$16/10^6","v":0},{"$f":"Q130*Full!$F$16/10^6","v":0},{"$f":"R130*Full!$F$16/10^6","v":0},{"$f":"S130*Full!$F$16/10^6","v":0},{"$f":"T130*Full!$F$16/10^6","v":0},{"$f":"U130*Full!$F$16/10^6","v":0},{"$f":"V130*Full!$F$16/10^6","v":0},{"$f":"W130*Full!$F$16/10^6","v":0},{"$f":"X130*Full!$F$16/10^6","v":0},{"$f":"Y130*Full!$F$16/10^6","v":0},{"$f":"Z130*Full!$F$16/10^6","v":0},{"$f":"AA130*Full!$F$16/10^6","v":0}]
[{"$nulls":6},"",{"$f":"H131*Full!$F$16/10^6","v":0},{"$f":"I131*Full!$F$16/10^6","v":0},{"$f":"J131*Full!$F$16/10^6","v":0},{"$f":"K131*Full!$F$16/10^6","v":0},{"$f":"L131*Full!$F$16/10^6","v":0},{"$f":"M131*Full!$F$16/10^6","v":0},{"$f":"N131*Full!$F$16/10^6","v":0},{"$f":"O131*Full!$F$16/10^6","v":0},{"$f":"P131*Full!$F$16/10^6","v":0},{"$f":"Q131*Full!$F$16/10^6","v":0},{"$f":"R131*Full!$F$16/10^6","v":0},{"$f":"S131*Full!$F$16/10^6","v":0},{"$f":"T131*Full!$F$16/10^6","v":0},{"$f":"U131*Full!$F$16/10^6","v":0},{"$f":"V131*Full!$F$16/10^6","v":0},{"$f":"W131*Full!$F$16/10^6","v":0},{"$f":"X131*Full!$F$16/10^6","v":0},{"$f":"Y131*Full!$F$16/10^6","v":0},{"$f":"Z131*Full!$F$16/10^6","v":0},{"$f":"AA131*Full!$F$16/10^6","v":0}]
[{"$nulls":6},"",{"$f":"H132*Full!$F$16/10^6","v":0},{"$f":"I132*Full!$F$16/10^6","v":0},{"$f":"J132*Full!$F$16/10^6","v":0},{"$f":"K132*Full!$F$16/10^6","v":0},{"$f":"L132*Full!$F$16/10^6","v":0},{"$f":"M132*Full!$F$16/10^6","v":0},{"$f":"N132*Full!$F$16/10^6","v":0},{"$f":"O132*Full!$F$16/10^6","v":0},{"$f":"P132*Full!$F$16/10^6","v":0},{"$f":"Q132*Full!$F$16/10^6","v":0},{"$f":"R132*Full!$F$16/10^6","v":0},{"$f":"S132*Full!$F$16/10^6","v":0},{"$f":"T132*Full!$F$16/10^6","v":0},{"$f":"U132*Full!$F$16/10^6","v":0},{"$f":"V132*Full!$F$16/10^6","v":0},{"$f":"W132*Full!$F$16/10^6","v":0},{"$f":"X132*Full!$F$16/10^6","v":0},{"$f":"Y132*Full!$F$16/10^6","v":0},{"$f":"Z132*Full!$F$16/10^6","v":0},{"$f":"AA132*Full!$F$16/10^6","v":0}]
[{"$nulls":6},"BRT",{"$f":"H133*Full!$F$16/10^6","v":0},{"$f":"I133*Full!$F$16/10^6","v":0},{"$f":"J133*Full!$F$16/10^6","v":0},{"$f":"K133*Full!$F$16/10^6","v":0},{"$f":"L133*Full!$F$16/10^6","v":0},{"$f":"M133*Full!$F$16/10^6","v":0},{"$f":"N133*Full!$F$16/10^6","v":0},{"$f":"O133*Full!$F$16/10^6","v":0},{"$f":"P133*Full!$F$16/10^6","v":0},{"$f":"Q133*Full!$F$16/10^6","v":0},{"$f":"R133*Full!$F$16/10^6","v":0},{"$f":"S133*Full!$F$16/10^6","v":0},{"$f":"T133*Full!$F$16/10^6","v":0},{"$f":"U133*Full!$F$16/10^6","v":0},{"$f":"V133*Full!$F$16/10^6","v":0},{"$f":"W133*Full!$F$16/10^6","v":0},{"$f":"X133*Full!$F$16/10^6","v":0},{"$f":"Y133*Full!$F$16/10^6","v":0},{"$f":"Z133*Full!$F$16/10^6","v":0},{"$f":"AA133*Full!$F$16/10^6","v":0}]
[{"$nulls":7},{"$f":"SUM(H2158:H2167)-H2168","v":0}]

{"sheet":"ridership calculator","index":7,"n_rows":60,"n_cols":23,"rows_kept":60,"hidden":true,"merged":[[3,19,3,20],[13,19,13,20],[14,0,16,0],[14,1,16,1],[14,2,16,2],[14,3,16,3],[14,4,16,4],[14,5,14,10],[14,11,15,17],[15,5,15,7],[15,8,15,10],[22,19,22,20],[23,3,23,6],[28,19,28,20],[31,19,31,20]]}
[]
[null,null,"Year",2012,{"$nulls":15},"Scorecard"]
[null,null,"Existing Bus (+IPT) Ridership in the Corridor/day  ",50000,{"$nulls":16},"Max","Score of Existing System say Ahmedabad","Score of Ahmedabad BRT"]
[null,null,"Annual growth rates in PT ridership","%",{"$nulls":15},"Service Planning",null,0,4]
[null,null,"Next 5 years",5,{"$nulls":15},"Off-vehicle fare collection and fare verification",7,0,0]
[null,null,"Next 5- 10 years",6,{"$nulls":15},"Multiple routes use same BRT infrastructure\n",4,1,3]
[null,null,"Next 10-15 Years",8,{"$nulls":15},"Peak period frequency\n",4,1,1]
[null,null,"Next - 15-20 Years",9,{"$nulls":15},"Off-peak frequency\n",3,1,1]
[{"$nulls":19},"Limited and local stop services\n",3,0,7]
[null,null,"Score before improvement",{"$f":"V40","v":7},{"$nulls":15},"System control center\n",3,0,1]
[null,null,"Score after improvement",{"$f":"W40","v":79},{"$nulls":15},"Routes in top 10 demand corridors\n",2,0,2]
[null,null,"Bonus factor",{"$f":"((D11-D10)*0.01/5)+1","v":1.144},{"$nulls":15},"Operates late nights and weekends\n",2,0,2]
[{"$nulls":19},"Part of (planned) multi-corridor BRT network\n",2,0,1]
[{"$nulls":19},"infrastructure",null,0,0]
[null,"Year","Existing Ridership","Proposed Ridership","New Riders to BRT","Modesplit (%)",{"$nulls":5},"Trips/day",{"$nulls":7},"Bus lanes in central verge of the road",7,4,4]
[{"$nulls":5},"New Ridership",null,null,"Existing Ridership",{"$nulls":10},"Physically-separated right-of-way\n",7,0,3]
[{"$nulls":5},"Cars","2-Wheeler","Taxi","3-Wheeler","Bus","Mini Bus","Cars","2-Wheeler","Taxi","3-Wheeler","Bus","Mini Bus","Total",null,"Intersection  treatments\n",6,0,7]
[1,{"$f":"D2","v":2012},{"$f":"D3","v":50000},{"$f":"C18*D$12","v":{"v":57199.99999999999,"d":"57200"}},{"$f":"D18-C18","v":{"v":7199.999999999993,"d":"7200"}},30,50,20,10,90,0,{"$f":"F18*E18/100","v":{"v":2159.9999999999977,"d":"2160"}},{"$f":"G18*E18/100","v":{"v":3599.9999999999964,"d":"3600"}},{"$f":"H18*E18/100","v":{"v":1439.9999999999986,"d":"1440"}},{"$f":"I18*C18/100","v":5000},{"$f":"J18*C18/100","v":45000},{"$f":"K18*D18/100","v":0},{"$f":"SUM(L18:Q18)","v":{"v":57199.99999999999,"d":"57200"}},null,"Physically-separated passing lanes at station stops\n",4,0,7]
[10,{"$f":"C50","v":2021},{"$f":"D50","v":{"v":81331.077674133,"d":"81331"}},{"$f":"C19*D$12","v":{"v":93042.75285920815,"d":"93043"}},{"$f":"D19-C19","v":{"v":11711.675185075146,"d":"11712"}},30,50,20,10,90,0,{"$f":"F19*E19/100","v":{"v":3513.502555522544,"d":"3514"}},{"$f":"G19*E19/100","v":{"v":5855.837592537573,"d":"5856"}},{"$f":"H19*E19/100","v":{"v":2342.3350370150292,"d":"2342"}},{"$f":"I19*D19/100","v":{"v":9304.275285920816,"d":"9304"}},{"$f":"J19*D19/100","v":{"v":83738.47757328734,"d":"83738"}},{"$f":"K19*D19/100","v":0},{"$f":"SUM(L19:Q19)","v":{"v":104754.4280442833,"d":"104754"}},null,"Stations  set back from intersections\n",3,0,2]
[20,{"$f":"C60","v":2031},{"$f":"D60","v":{"v":183868.6951612287,"d":"183869"}},{"$f":"C20*D$12","v":{"v":210345.78726444562,"d":"210346"}},{"$f":"D20-C20","v":{"v":26477.092103216914,"d":"26477"}},30,50,20,10,90,0,{"$f":"F20*E20/100","v":{"v":7943.127630965074,"d":"7943"}},{"$f":"G20*E20/100","v":{"v":13238.546051608457,"d":"13239"}},{"$f":"H20*E20/100","v":{"v":5295.418420643383,"d":"5295"}},{"$f":"I20*D20/100","v":{"v":21034.57872644456,"d":"21035"}},{"$f":"J20*D20/100","v":{"v":189311.20853800105,"d":"189311"}},{"$f":"K20*D20/100","v":0},{"$f":"SUM(L20:Q20)","v":{"v":236822.87936766254,"d":"236823"}},null,"Stations  are in center and shared by both directions of service\n",3,0,4]
[{"$nulls":19},"Emissions standards\n",3,0,3]
[{"$nulls":19},"Pavement quality\n",2,0,4]
[{"$nulls":19},"Station Design and Station-Bus interface",null,0,3]
[{"$nulls":3},"Final Mode Share",{"$nulls":15},"Platform-level boarding",6]
[{"$nulls":4},{"$f":"B18","v":2012},{"$f":"C50","v":2021},{"$f":"C60","v":2031},null,null,{"$f":"B18","v":2012},{"$f":"B19","v":2021},{"$f":"B20","v":2031},{"$nulls":7},"Safe, wide, attractive weather-protected stations\n",4]
[{"$nulls":3},"Cars",{"$f":"L18*100/R18","v":{"v":3.7762237762237727,"d":"3.78"}},{"$f":"L19*100/R19","v":{"v":3.3540372670807437,"d":"3.35"}},{"$f":"L20*100/R20","v":{"v":3.3540372670807432,"d":"3.35"}},null,"Proposed Ridership",{"$f":"D18","v":{"v":57199.99999999999,"d":"57200"}},{"$f":"D19","v":{"v":93042.75285920815,"d":"93043"}},{"$f":"D20","v":{"v":210345.78726444562,"d":"210346"}},{"$nulls":7},"3+ doors on articulated  buses  or 2+ very wide doors on standard buses\n",3]
[{"$nulls":3},"2-Wheeler",{"$f":"M18*100/R18","v":{"v":6.293706293706288,"d":"6.29"}},{"$f":"M19*100/R19","v":{"v":5.59006211180124,"d":"5.59"}},{"$f":"M20*100/R20","v":{"v":5.590062111801239,"d":"5.59"}},{"$nulls":12},"Multiple docking bays and sub-stops\n",2]
[{"$nulls":3},"3-Wheeler",{"$f":"O18*100/R18","v":{"v":8.741258741258742,"d":"8.74"}},{"$f":"O19*100/R19","v":{"v":8.881987577639753,"d":"8.88"}},{"$f":"O20*100/R20","v":{"v":8.881987577639752,"d":"8.88"}},{"$nulls":12},"Sliding doors at BRT stations\n",1]
[{"$nulls":3},"Taxi",{"$f":"N18*100/R18","v":{"v":2.5174825174825153,"d":"2.52"}},{"$f":"N19*100/R19","v":{"v":2.236024844720496,"d":"2.24"}},{"$f":"N20*100/R20","v":{"v":2.2360248447204953,"d":"2.24"}},{"$nulls":12},"Quality of Service and Passenger information Systems"]
[{"$nulls":3},"Bus",{"$f":"P18*100/R18","v":{"v":78.67132867132868,"d":"78.67"}},{"$f":"P19*100/R19","v":{"v":79.93788819875778,"d":"79.94"}},{"$f":"P20*100/R20","v":{"v":79.93788819875778,"d":"79.94"}},{"$nulls":12},"Branding of vehicles and system\n",3]
[{"$nulls":3},"Mini Bus",{"$f":"Q18*100/R18","v":{"v":0,"d":"0.00"}},{"$f":"Q19*100/R19","v":{"v":0,"d":"0.00"}},{"$f":"Q20*100/R20","v":{"v":0,"d":"0.00"}},{"$nulls":12},"Passenger information at stops and on vehicles\n",2]
[{"$nulls":19},"integration and access",null,0,3]
[{"$nulls":19},"Universal access",3,0,4]
[{"$nulls":19},"Integration with other public transport\n",3,0,5]
[{"$nulls":19},"Improved safe and attractive pedestrian access system and corridor environment\n",2,0,1]
[{"$nulls":19},"Secure bicycle parking at station stops\n",2,0,3]
[{"$nulls":19},"Bike lanes on corridor or on parallel streets\n",2,0,3]
[{"$nulls":19},"Bicycles permitted on vehicles\n",1,0,1]
[{"$nulls":19},"Bicycle sharing systems  at BRT stations\n",1,0,0]
[{"$nulls":20},{"$f":"(SUM(U5:U13)+SUM(U15:U22)+SUM(U24:U28)+SUM(U30:U31)+SUM(U33:U39))","v":100},{"$f":"SUM(V4:V39)","v":7},{"$f":"SUM(W4:W39)","v":79}]
[null,1,2012,{"$f":"C18","v":50000}]
[null,2,{"$f":"C41+1","v":2013},{"$f":"D41+0.01*D$5*D41","v":52500},{"$nulls":15},"Gold = 85-100"]
[null,3,{"$f":"C42+1","v":2014},{"$f":"D42+0.01*D$5*D42","v":55125},{"$nulls":15},"Silver = 70-84"]
[null,4,2015,{"v":57881.25,"d":"57881"},{"$nulls":15},"Bronze = 50-69"]
[null,5,2016,{"$f":"D44+0.01*D$5*D44","v":{"v":60775.3125,"d":"60775"}},{"$nulls":15},"Not BRT = 0-49"]
[null,6,2017,{"$f":"D45+0.01*D$6*D45","v":{"v":64421.83125,"d":"64422"}}]
[null,7,2018,{"$f":"D46+0.01*D$6*D46","v":{"v":68287.14112500001,"d":"68287"}}]
[null,8,2019,{"v":72384.3695925,"d":"72384"}]
[null,9,2020,{"v":76727.43176805001,"d":"76727"}]
[null,10,2021,{"v":81331.077674133,"d":"81331"}]
[null,11,2022,{"$f":"D50+0.01*D$7*D50","v":{"v":87837.56388806364,"d":"87838"}}]
[null,12,2023,{"$f":"D51+0.01*D$7*D51","v":{"v":94864.56899910873,"d":"94865"}}]
[null,13,2024,{"v":102453.73451903742,"d":"102454"}]
[null,14,2025,{"v":110650.03328056041,"d":"110650"}]
[null,15,2026,{"v":119502.03594300525,"d":"119502"}]
[null,16,2027,{"$f":"D55+0.01*D$8*D55","v":{"v":130257.21917787573,"d":"130257"}}]
[null,17,2028,{"$f":"D56+0.01*D$8*D56","v":{"v":141980.36890388455,"d":"141980"}}]
[null,18,2029,{"v":154758.60210523417,"d":"154759"}]
[null,19,2030,{"v":168686.87629470523,"d":"168687"}]
[null,20,2031,{"$f":"D59+0.01*D$8*D59","v":{"v":183868.6951612287,"d":"183869"}}]

{"sheet":"Calculations2","index":8,"n_rows":2169,"n_cols":29,"rows_kept":2169,"merged":[[7,5,16,5],[23,5,32,5],[40,5,49,5],[56,5,65,5],[73,5,82,5],[89,5,98,5],[106,5,115,5],[122,5,131,5],[139,5,148,5],[155,5,164,5],[172,5,181,5],[188,5,197,5],[202,5,211,5],[219,5,228,5],[235,5,244,5],[249,5,258,5],[266,5,275,5],[282,5,291,5],[296,5,305,5],[313,5,322,5],[329,5,338,5],[343,5,352,5],[360,5,369,5],[376,5,385,5],[390,5,399,5],[407,5,416,5],[423,5,432,5],[437,5,446,5],[454,5,463,5],[470,5,479,5],[487,5,496,5],[503,5,512,5],[520,5,529,5],[536,5,545,5],[553,5,562,5],[569,5,578,5],[586,5,595,5],[602,5,611,5],[619,5,628,5],[635,5,644,5],[652,5,661,5],[668,5,677,5],[786,5,795,5],[830,5,839,5],[845,5,854,5],[860,5,869,5],[875,5,884,5],[890,5,899,5],[905,5,914,5],[922,5,931,5],[938,5,947,5],[952,5,961,5],[969,5,978,5],[985,5,994,5],[999,5,1008,5],[1016,5,1025,5],[1032,5,1041,5],[1046,5,1055,5],[1063,5,1072,5],[1079,5,1088,5],[1093,5,1102,5],[1110,5,1119,5],[1126,5,1135,5],[1140,5,1149,5],[1157,5,1166,5],[1173,5,1182,5],[1187,5,1196,5],[1204,5,1213,5],[1220,5,1229,5],[1234,5,1243,5],[1251,5,1260,5],[1267,5,1276,5],[1281,5,1290,5],[1298,5,1307,5],[1314,5,1323,5],[1328,5,1337,5],[1345,5,1354,5],[1361,5,1370,5],[1375,5,1384,5],[1392,5,1401,5],[1408,5,1417,5],[1422,5,1431,5],[1439,5,1448,5],[1455,5,1464,5],[1469,5,1478,5],[1486,5,1495,5],[1502,5,1511,5],[1533,5,1542,5],[1549,5,1558,5],[1563,5,1572,5],[1580,5,1589,5],[1596,5,1605,5],[1610,5,1619,5],[1627,5,1636,5],[1643,5,1652,5],[1674,5,1683,5],[1690,5,1699,5],[1721,5,1730,5],[1737,5,1746,5],[1751,5,1760,5],[1767,5,1776,5],[1782,5,1791,5],[1797,5,1806,5],[1812,5,1821,5],[1827,5,1836,5],[1842,5,1851,5],[1858,5,1867,5],[1873,5,1882,5],[1888,5,1897,5],[1903,5,1912,5],[1918,5,1927,5],[1933,5,1942,5],[1949,5,1958,5],[1964,5,1973,5],[1979,5,1988,5],[1994,5,2003,5],[2009,5,2018,5],[2024,5,2033,5],[2038,5,2047,5],[2052,5,2061,5],[2066,5,2075,5],[2115,5,2124,5],[2129,5,2138,5],[2143,5,2152,5],[2157,5,2166,5]]}
[]
[]
[]
[]
[]
[{"$nulls":6},"No. of Trips",{"$nulls":3},"No. of trips",{"$nulls":3},"1st",null,"2nd"]
[{"$nulls":10},{"$f":"H23","v":0},{"$f":"Q23","v":9},{"$f":"AA23","v":19},null,"intercept","slope","intercept","slope",null,{"$f":"K7","v":0},{"$f":"L7","v":9},{"$f":"M7","v":19},null,"1st","2nd"]
[{"$nulls":5},"NO BRT",{"$f":"'IF Factors'!D9","v":"Car"},{"$nulls":3},{"$f":"Full!G174","v":{"$error":"#DIV/0!"}},{"$f":"Full!H174","v":{"$error":"#DIV/0!"}},{"$f":"Full!I174","v":{"$error":"#DIV/0!"}},null,{"$f":"INTERCEPT(K8:L8,$K$7:$L$7)","v":{"$error":"#DIV/0!"}},{"$f":"SLOPE(K8:L8,$K$7:$L$7)","v":{"$error":"#DIV/0!"}},{"$f":"INTERCEPT(L8:M8,$L$7:$M$7)","v":{"$error":"#DIV/0!"}},{"$f":"SLOPE(L8:M8,$L$7:$M$7)","v":{"$error":"#DIV/0!"}},null,{"$f":"IF(K8<>0,0,1)","v":{"$error":"#DIV/0!"}},{"$f":"IF(L8<>0,0,1)","v":{"$error":"#DIV/0!"}},{"$f":"IF(M8<>0,0,1)","v":{"$error":"#DIV/0!"}},null,{"$f":"IF(T8+U8=1,1,0)","v":{"$error":"#DIV/0!"}},{"$f":"IF(U8+V8=1,1,0)","v":{"$error":"#DIV/0!"}}]
[{"$nulls":6},{"$f":"'IF Factors'!D10","v":"2-wheeler"},{"$nulls":3},{"$f":"Full!G175","v":{"$error":"#DIV/0!"}},{"$f":"Full!H175","v":{"$error":"#DIV/0!"}},{"$f":"Full!I175","v":{"$error":"#DIV/0!"}},null,{"$f":"INTERCEPT(K9:L9,$K$7:$L$7)","v":{"$error":"#DIV/0!"}},{"$f":"SLOPE(K9:L9,$K$7:$L$7)","v":{"$error":"#DIV/0!"}},{"$f":"INTERCEPT(L9:M9,$L$7:$M$7)","v":{"$error":"#DIV/0!"}},{"$f":"SLOPE(L9:M9,$L$7:$M$7)","v":{"$error":"#DIV/0!"}},null,{"$f":"IF(K9<>0,0,1)","v":{"$error":"#DIV/0!"}},{"$error":"#DIV/0!"},{"$error":"#DIV/0!"},null,{"$f":"IF(T9+U9=1,1,0)","v":{"$error":"#DIV/0!"}},{"$error":"#DIV/0!"}]
[{"$nulls":6},{"$f":"'IF Factors'!D11","v":"Taxi"},{"$nulls":3},{"$f":"Full!G176","v":{"$error":"#DIV/0!"}},{"$f":"Full!H176","v":{"$error":"#DIV/0!"}},{"$f":"Full!I176","v":{"$error":"#DIV/0!"}},null,{"$error":"#DIV/0!"},{"$error":"#DIV/0!"},{"$error":"#DIV/0!"},{"$error":"#DIV/0!"},null,{"$error":"#DIV/0!"},{"$error":"#DIV/0!"},{"$error":"#DIV/0!"},null,{"$error":"#DIV/0!"},{"$error":"#DIV/0!"}]
[{"$nulls":6},{"$f":"'IF Factors'!D12","v":""},{"$nulls":3},{"$f":"Full!G177","v":{"$error":"#DIV/0!"}},{"$f":"Full!H177","v":{"$error":"#DIV/0!"}},{"$f":"Full!I177","v":{"$error":"#DIV/0!"}},null,{"$error":"#DIV/0!"},{"$error":"#DIV/0!"},{"$error":"#DIV/0!"},{"$error":"#DIV/0!"},null,{"$error":"#DIV/0!"},{"$error":"#DIV/0!"},{"$error":"#DIV/0!"},null,{"$error":"#DIV/0!"},{"$error":"#DIV/0!"}]
[{"$nulls":6},{"$f":"'IF Factors'!D13","v":""},{"$nulls":3},{"$f":"Full!G178","v":{"$error":"#DIV/0!"}},{"$f":"Full!H178","v":{"$error":"#DIV/0!"}},{"$f":"Full!I178","v":{"$error":"#DIV/0!"}},null,{"$error":"#DIV/0!"},{"$error":"#DIV/0!"},{"$error":"#DIV/0!"},{"$error":"#DIV/0!"},null,{"$error":"#DIV/0!"},{"$error":"#DIV/0!"},{"$error":"#DIV/0!"},null,{"$error":"#DIV/0!"},{"$error":"#DIV/0!"}]
[{"$nulls":6},{"$f":"'IF Factors'!D14","v":"3-wheeler"},{"$nulls":3},{"$f":"Full!G179","v":{"$error":"#DIV/0!"}},{"$f":"Full!H179","v":{"$error":"#DIV/0!"}},{"$f":"Full!I179","v":{"$error":"#DIV/0!"}},null,{"$error":"#DIV/0!"},{"$error":"#DIV/0!"},{"$error":"#DIV/0!"},{"$error":"#DIV/0!"},null,{"$error":"#DIV/0!"},{"$error":"#DIV/0!"},{"$error":"#DIV/0!"},null,{"$error":"#DIV/0!"},{"$error":"#DIV/0!"}]
[{"$nulls":6},{"$f":"'IF Factors'!D15","v":"Bus"},{"$nulls":3},{"$f":"Full!G180","v":{"$error":"#DIV/0!"}},{"$f":"Full!H180","v":{"$error":"#DIV/0!"}},{"$f":"Full!I180","v":{"$error":"#DIV/0!"}},null,{"$error":"#DIV/0!"},{"$error":"#DIV/0!"},{"$error":"#DIV/0!"},{"$error":"#DIV/0!"},null,{"$error":"#DIV/0!"},{"$error":"#DIV/0!"},{"$error":"#DIV/0!"},null,{"$error":"#DIV/0!"},{"$error":"#DIV/0!"}]
[{"$nulls":6},{"$f":"'IF Factors'!D16","v":"Mini-bus"},{"$nulls":3},{"$f":"Full!G181","v":{"$error":"#DIV/0!"}},{"$f":"Full!H181","v":{"$error":"#DIV/0!"}},{"$f":"Full!I181","v":{"$error":"#DIV/0!"}},null,{"$error":"#DIV/0!"},{"$error":"#DIV/0!"},{"$error":"#DIV/0!"},{"$error":"#DIV/0!"},null,{"$error":"#DIV/0!"},{"$error":"#DIV/0!"},{"$error":"#DIV/0!"},null,{"$error":"#DIV/0!"},{"$error":"#DIV/0!"}]
[{"$nulls":6},{"$f":"'IF Factors'!D17","v":""},{"$nulls":3},{"$f":"Full!G182","v":{"$error":"#DIV/0!"}},{"$f":"Full!H182","v":{"$error":"#DIV/0!"}},{"$f":"Full!I182","v":{"$error":"#DIV/0!"}},null,{"$error":"#DIV/0!"},{"$error":"#DIV/0!"},{"$error":"#DIV/0!"},{"$error":"#DIV/0!"},null,{"$error":"#DIV/0!"},{"$error":"#DIV/0!"},{"$error":"#DIV/0!"},null,{"$error":"#DIV/0!"},{"$error":"#DIV/0!"}]
[{"$nulls":6},{"$f":"'IF Factors'!D18","v":""},{"$nulls":3},{"$f":"Full!G183","v":{"$error":"#DIV/0!"}},{"$f":"Full!H183","v":{"$error":"#DIV/0!"}},{"$f":"Full!I183","v":{"$error":"#DIV/0!"}},null,{"$error":"#DIV/0!"},{"$error":"#DIV/0!"},{"$error":"#DIV/0!"},{"$error":"#DIV/0!"},null,{"$error":"#DIV/0!"},{"$error":"#DIV/0!"},{"$error":"#DIV/0!"},null,{"$error":"#DIV/0!"},{"$error":"#DIV/0!"}]
[{"$nulls":6},"Total",{"$nulls":3},{"$f":"Full!G184","v":{"$error":"#DIV/0!"}},{"$f":"Full!H184","v":{"$error":"#DIV/0!"}},{"$f":"Full!I184","v":{"$error":"#DIV/0!"}},null,{"$error":"#DIV/0!"},{"$error":"#DIV/0!"},{"$error":"#DIV/0!"},{"$error":"#DIV/0!"},null,{"$error":"#DIV/0!"},{"$error":"#DIV/0!"},{"$error":"#DIV/0!"},null,{"$error":"#DIV/0!"},{"$error":"#DIV/0!"}]
[]
[]
[]
[]
[{"$nulls":7},{"$f":"Full!F12","v":0},{"$f":"H23+1","v":1},2,3,4,5,6,7,8,{"$f":"Full!F13","v":9},{"$f":"Q23+1","v":10},11,12,13,14,15,16,17,18,{"$f":"Full!F14","v":19}]
[{"$nulls":5},"NO BRT",{"$f":"G8","v":"Car"},{"$f":"K8","v":{"$error":"#DIV/0!"}},{"$f":"(I$23*$P8)+$O8","v":{"$error":"#DIV/0!"}},{"$f":"(J$23*$P8)+$O8","v":{"$error":"#DIV/0!"}},{"$error":"#DIV/0!"},{"$error":"#DIV/0!"},{"$error":"#DIV/0!"},{"$error":"#DIV/0!"},{"$error":"#DIV/0!"},{"$error":"#DIV/0!"},{"$f":"L8","v":{"$error":"#DIV/0!"}},{"$f":"(R$23*$R8)+$Q8","v":{"$error":"#DIV/0!"}},{"$f":"(S$23*$R8)+$Q8","v":{"$error":"#DIV/0!"}},{"$error":"#DIV/0!"},{"$error":"#DIV/0!"},{"$error":"#DIV/0!"},{"$error":"#DIV/0!"},{"$error":"#DIV/0!"},{"$error":"#DIV/0!"},{"$error":"#DIV/0!"},{"$f":"M8","v":{"$error":"#DIV/0!"}}]
[{"$nulls":6},"2-wheeler",{"$f":"K9","v":{"$error":"#DIV/0!"}},{"$f":"(I$23*$P9)+$O9","v":{"$error":"#DIV/0!"}},{"$error":"#DIV/0!"},{"$error":"#DIV/0!"},{"$error":"#DIV/0!"},{"$error":"#DIV/0!"},{"$error":"#DIV/0!"},{"$error":"#DIV/0!"},{"$error":"#DIV/0!"},{"$f":"L9","v":{"$error":"#DIV/0!"}},{"$f":"(R$23*$R9)+$Q9","v":{"$error":"#DIV/0!"}},{"$error":"#DIV/0!"},{"$error":"#DIV/0!"},{"$error":"#DIV/0!"},{"$error":"#DIV/0!"},{"$error":"#DIV/0!"},{"$error":"#DIV/0!"},{"$error":"#DIV/0!"},{"$error":"#DIV/0!"},{"$f":"M9","v":{"$error":"#DIV/0!"}}]
[{"$nulls":6},"Taxi",{"$error":"#DIV/0!"},{"$error":"#DIV/0!"},{"$error":"#DIV/0!"},{"$error":"#DIV/0!"},{"$error":"#DIV/0!"},{"$error":"#DIV/0!"},{"$error":"#DIV/0!"},{"$error":"#DIV/0!"},{"$error":"#DIV/0!"},{"$error":"#DIV/0!"},{"$error":"#DIV/0!"},{"$error":"#DIV/0!"},{"$error":"#DIV/0!"},{"$error":"#DIV/0!"},{"$error":"#DIV/0!"},{"$error":"#DIV/0!"},{"$error":"#DIV/0!"},{"$error":"#DIV/0!"},{"$error":"#DIV/0!"},{"$error":"#DIV/0!"}]
[{"$nulls":6},"",{"$error":"#DIV/0!"},{"$error":"#DIV/0!"},{"$error":"#DIV/0!"},{"$error":"#DIV/0!"},{"$error":"#DIV/0!"},{"$error":"#DIV/0!"},{"$error":"#DIV/0!"},{"$error":"#DIV/0!"},{"$error":"#DIV/0!"},{"$error":"#DIV/0!"},{"$error":"#DIV/0!"},{"$error":"#DIV/0!"},{"$error":"#DIV/0!"},{"$error":"#DIV/0!"},{"$error":"#DIV/0!"},{"$error":"#DIV/0!"},{"$error":"#DIV/0!"},{"$error":"#DIV/0!"},{"$error":"#DIV/0!"},{"$error":"#DIV/0!"}]
[{"$nulls":6},"",{"$error":"#DIV/0!"},{"$error":"#DIV/0!"},{"$error":"#DIV/0!"},{"$error":"#DIV/0!"},{"$error":"#DIV/0!"},{"$error":"#DIV/0!"},{"$error":"#DIV/0!"},{"$error":"#DIV/0!"},{"$error":"#DIV/0!"},{"$error":"#DIV/0!"},{"$error":"#DIV/0!"},{"$error":"#DIV/0!"},{"$error":"#DIV/0!"},{"$error":"#DIV/0!"},{"$error":"#DIV/0!"},{"$error":"#DIV/0!"},{"$error":"#DIV/0!"},{"$error":"#DIV/0!"},{"$error":"#DIV/0!"},{"$error":"#DIV/0!"}]
[{"$nulls":6},"3-wheeler",{"$error":"#DIV/0!"},{"$error":"#DIV/0!"},{"$error":"#DIV/0!"},{"$error":"#DIV/0!"},{"$error":"#DIV/0!"},{"$error":"#DIV/0!"},{"$error":"#DIV/0!"},{"$error":"#DIV/0!"},{"$error":"#DIV/0!"},{"$error":"#DIV/0!"},{"$error":"#DIV/0!"},{"$error":"#DIV/0!"},{"$error":"#DIV/0!"},{"$error":"#DIV/0!"},{"$error":"#DIV/0!"},{"$error":"#DIV/0!"},{"$error":"#DIV/0!"},{"$error":"#DIV/0!"},{"$error":"#DIV/0!"},{"$error":"#DIV/0!"}]
[{"$nulls":6},"Bus",{"$error":"#DIV/0!"},{"$error":"#DIV/0!"},{"$error":"#DIV/0!"},{"$error":"#DIV/0!"},{"$error":"#DIV/0!"},{"$error":"#DIV/0!"},{"$error":"#DIV/0!"},{"$error":"#DIV/0!"},{"$error":"#DIV/0!"},{"$error":"#DIV/0!"},{"$error":"#DIV/0!"},{"$error":"#DIV/0!"},{"$error":"#DIV/0!"},{"$error":"#DIV/0!"},{"$error":"#DIV/0!"},{"$error":"#DIV/0!"},{"$error":"#DIV/0!"},{"$error":"#DIV/0!"},{"$error":"#DIV/0!"},{"$error":"#DIV/0!"}]
[{"$nulls":6},"Mini-bus",{"$error":"#DIV/0!"},{"$error":"#DIV/0!"},{"$error":"#DIV/0!"},{"$error":"#DIV/0!"},{"$error":"#DIV/0!"},{"$error":"#DIV/0!"},{"$error":"#DIV/0!"},{"$error":"#DIV/0!"},{"$error":"#DIV/0!"},{"$error":"#DIV/0!"},{"$error":"#DIV/0!"},{"$error":"#DIV/0!"},{"$error":"#DIV/0!"},{"$error":"#DIV/0!"},{"$error":"#DIV/0!"},{"$error":"#DIV/0!"},{"$error":"#DIV/0!"},{"$error":"#DIV/0!"},{"$error":"#DIV/0!"},{"$error":"#DIV/0!"}]
[{"$nulls":6},"",{"$error":"#DIV/0!"},{"$error":"#DIV/0!"},{"$error":"#DIV/0!"},{"$error":"#DIV/0!"},{"$error":"#DIV/0!"},{"$error":"#DIV/0!"},{"$error":"#DIV/0!"},{"$error":"#DIV/0!"},{"$error":"#DIV/0!"},{"$error":"#DIV/0!"},{"$error":"#DIV/0!"},{"$error":"#DIV/0!"},{"$error":"#DIV/0!"},{"$error":"#DIV/0!"},{"$error":"#DIV/0!"},{"$error":"#DIV/0!"},{"$error":"#DIV/0!"},{"$error":"#DIV/0!"},{"$error":"#DIV/0!"},{"$error":"#DIV/0!"}]
[{"$nulls":6},"",{"$error":"#DIV/0!"},{"$error":"#DIV/0!"},{"$error":"#DIV/0!"},{"$error":"#DIV/0!"},{"$error":"#DIV/0!"},{"$error":"#DIV/0!"},{"$error":"#DIV/0!"},{"$error":"#DIV/0!"},{"$error":"#DIV/0!"},{"$error":"#DIV/0!"},{"$error":"#DIV/0!"},{"$error":"#DIV/0!"},{"$error":"#DIV/0!"},{"$error":"#DIV/0!"},{"$error":"#DIV/0!"},{"$error":"#DIV/0!"},{"$error":"#DIV/0!"},{"$error":"#DIV/0!"},{"$error":"#DIV/0!"},{"$error":"#DIV/0!"}]
[{"$nulls":6},"Total",{"$error":"#DIV/0!"},{"$error":"#DIV/0!"},{"$error":"#DIV/0!"},{"$error":"#DIV/0!"},{"$error":"#DIV/0!"},{"$error":"#DIV/0!"},{"$error":"#DIV/0!"},{"$error":"#DIV/0!"},{"$error":"#DIV/0!"},{"$error":"#DIV/0!"},{"$error":"#DIV/0!"},{"$error":"#DIV/0!"},{"$error":"#DIV/0!"},{"$error":"#DIV/0!"},{"$error":"#DIV/0!"},{"$error":"#DIV/0!"},{"$error":"#DIV/0!"},{"$error":"#DIV/0!"},{"$error":"#DIV/0!"},{"$error":"#DIV/0!"}]
[]
[]
[]
[]
[{"$nulls":6},"Average Trip Length",{"$nulls":3},"No. of trips",{"$nulls":3},"1st",null,"2nd"]
[{"$nulls":10},{"$f":"H56","v":0},{"$f":"Q56","v":9},{"$f":"AA56","v":19},null,"intercept","slope","intercept","slope",null,{"$f":"K40","v":0},{"$f":"L40","v":9},{"$f":"M40","v":19},null,"1st","2nd"]
[{"$nulls":5},"NO BRT",{"$f":"G8","v":"Car"},{"$nulls":3},{"$f":"'IF Factors'!K233","v":0},{"$f":"'IF Factors'!L233","v":0},{"$f":"'IF Factors'!M233","v":0},null,{"$f":"INTERCEPT(K41:L41,$K$7:$L$7)","v":0},{"$f":"SLOPE(K41:L41,$K$7:$L$7)","v":0},{"$f":"INTERCEPT(L41:M41,$L$7:$M$7)","v":0},{"$f":"SLOPE(L41:M41,$L$7:$M$7)","v":0},null,{"$f":"IF(K41<>0,0,1)","v":1},{"$f":"IF(L41<>0,0,1)","v":1},{"$f":"IF(M41<>0,0,1)","v":1},null,{"$f":"IF(T41+U41=1,1,0)","v":0},{"$f":"IF(U41+V41=1,1,0)","v":0}]
[{"$nulls":6},"2-wheeler",{"$nulls":3},{"$f":"'IF Factors'!K234","v":0},{"$f":"'IF Factors'!L234","v":0},{"$f":"'IF Factors'!M234","v":0},null,{"$f":"INTERCEPT(K42:L42,$K$7:$L$7)","v":0},{"$f":"SLOPE(K42:L42,$K$7:$L$7)","v":0},{"$f":"INTERCEPT(L42:M42,$L$7:$M$7)","v":0},{"$f":"SLOPE(L42:M42,$L$7:$M$7)","v":0},null,{"$f":"IF(K42<>0,0,1)","v":1},1,1,null,{"$f":"IF(T42+U42=1,1,0)","v":0},0]
[{"$nulls":6},"Taxi",{"$nulls":3},{"$f":"'IF Factors'!K235","v":0},{"$f":"'IF Factors'!L235","v":0},{"$f":"'IF Factors'!M235","v":0},null,0,0,0,0,null,1,1,1,null,0,0]
[{"$nulls":6},"",{"$nulls":3},{"$f":"'IF Factors'!K236","v":0},{"$f":"'IF Factors'!L236","v":0},{"$f":"'IF Factors'!M236","v":0},null,0,0,0,0,null,1,1,1,null,0,0]
[{"$nulls":6},"",{"$nulls":3},{"$f":"'IF Factors'!K237","v":0},{"$f":"'IF Factors'!L237","v":0},{"$f":"'IF Factors'!M237","v":0},null,0,0,0,0,null,1,1,1,null,0,0]
[{"$nulls":6},"3-wheeler",{"$nulls":3},{"$f":"'IF Factors'!K238","v":0},{"$f":"'IF Factors'!L238","v":0},{"$f":"'IF Factors'!M238","v":0},null,0,0,0,0,null,1,1,1,null,0,0]
[{"$nulls":6},"Bus",{"$nulls":3},{"$f":"'IF Factors'!K239","v":0},{"$f":"'IF Factors'!L239","v":0},{"$f":"'IF Factors'!M239","v":0},null,0,0,0,0,null,1,1,1,null,0,0]
[{"$nulls":6},"Mini-bus",{"$nulls":3},{"$f":"'IF Factors'!K240","v":0},{"$f":"'IF Factors'!L240","v":0},{"$f":"'IF Factors'!M240","v":0},null,0,0,0,0,null,1,1,1,null,0,0]
[{"$nulls":6},"",{"$nulls":3},{"$f":"'IF Factors'!K241","v":0},{"$f":"'IF Factors'!L241","v":0},{"$f":"'IF Factors'!M241","v":0},null,0,0,0,0,null,1,1,1,null,0,0]
[{"$nulls":6},"",{"$nulls":3},{"$f":"'IF Factors'!K242","v":0},{"$f":"'IF Factors'!L242","v":0},{"$f":"'IF Factors'!M242","v":0},null,0,0,0,0,null,1,1,1,null,0,0]
[{"$nulls":6},"BRT",{"$nulls":3},{"$f":"'IF Factors'!K243","v":0},{"$f":"'IF Factors'!L243","v":0},{"$f":"'IF Factors'!M243","v":0},null,0,0,0,0,null,1,1,1,null,0,0]
[]
[]
[]
[]
[{"$nulls":7},{"$f":"H23","v":0},{"$f":"I23","v":1},2,3,4,5,6,7,8,9,10,11,12,13,14,15,16,17,18,19]
[{"$nulls":5},"NO BRT",{"$f":"'IF Factors'!D233","v":"Cars"},{"$f":"K41","v":0},{"$f":"(I$23*$P41)+$O41","v":0},{"$f":"(J$23*$P41)+$O41","v":0},0,0,0,0,0,0,{"$f":"L41","v":0},{"$f":"(R$23*$R41)+$Q41","v":0},{"$f":"(S$23*$R41)+$Q41","v":0},0,0,0,0,0,0,0,{"$f":"M41","v":0}]
[{"$nulls":6},{"$f":"Full!F187","v":"2-wheeler"},{"$f":"K42","v":0},{"$f":"(I$23*$P42)+$O42","v":0},0,0,0,0,0,0,0,{"$f":"L42","v":0},{"$f":"(R$23*$R42)+$Q42","v":0},0,0,0,0,0,0,0,0,{"$f":"M42","v":0}]
[{"$nulls":6},{"$f":"Full!F188","v":"Taxi"},0,0,0,0,0,0,0,0,0,0,0,0,0,0,0,0,0,0,0,0]
[{"$nulls":6},{"$f":"Full!F189","v":""},0,0,0,0,0,0,0,0,0,0,0,0,0,0,0,0,0,0,0,0]
[{"$nulls":6},{"$f":"Full!F190","v":""},0,0,0,0,0,0,0,0,0,0,0,0,0,0,0,0,0,0,0,0]
[{"$nulls":6},{"$f":"Full!F191","v":"3-wheeler"},0,0,0,0,0,0,0,0,0,0,0,0,0,0,0,0,0,0,0,0]
[{"$nulls":6},{"$f":"Full!F192","v":"Bus"},0,0,0,0,0,0,0,0,0,0,0,0,0,0,0,0,0,0,0,0]
[{"$nulls":6},{"$f":"Full!F193","v":"Mini-bus"},0,0,0,0,0,0,0,0,0,0,0,0,0,0,0,0,0,0,0,0]
[{"$nulls":6},{"$f":"Full!F194","v":""},0,0,0,0,0,0,0,0,0,0,0,0,0,0,0,0,0,0,0,0]
[{"$nulls":6},{"$f":"Full!F195","v":""},0,0,0,0,0,0,0,0,0,0,0,0,0,0,0,0,0,0,0,0]
[{"$nulls":6},"BRT",0,0,0,0,0,0,0,0,0,0,0,0,0,0,0,0,0,0,0,0]
[]
[]
[]
[]
[{"$nulls":6},"Average Occupancy",{"$nulls":7},"1st",null,"2nd"]
[{"$nulls":10},{"$f":"H89","v":0},{"$f":"Q89","v":9},{"$f":"AA89","v":19},null,"intercept","slope","intercept","slope",null,{"$f":"K73","v":0},{"$f":"L73","v":9},{"$f":"M73","v":19},null,"1st","2nd"]
[{"$nulls":5},"NO BRT",{"$f":"G41","v":"Car"},{"$nulls":3},{"$f":"'IF Factors'!H233","v":0},{"$f":"'IF Factors'!I233","v":0},{"$f":"'IF Factors'!J233","v":0},null,{"$f":"INTERCEPT(K74:L74,$K$7:$L$7)","v":0},{"$f":"SLOPE(K74:L74,$K$7:$L$7)","v":0},{"$f":"INTERCEPT(L74:M74,$L$7:$M$7)","v":0},{"$f":"SLOPE(L74:M74,$L$7:$M$7)","v":0},null,{"$f":"IF(K74<>0,0,1)","v":1},{"$f":"IF(L74<>0,0,1)","v":1},{"$f":"IF(M74<>0,0,1)","v":1},null,{"$f":"IF(T74+U74=1,1,0)","v":0},{"$f":"IF(U74+V74=1,1,0)","v":0}]
[{"$nulls":6},{"$f":"G42","v":"2-wheeler"},{"$nulls":3},{"$f":"'IF Factors'!H234","v":0},{"$f":"'IF Factors'!I234","v":0},{"$f":"'IF Factors'!J234","v":0},null,{"$f":"INTERCEPT(K75:L75,$K$7:$L$7)","v":0},{"$f":"SLOPE(K75:L75,$K$7:$L$7)","v":0},{"$f":"INTERCEPT(L75:M75,$L$7:$M$7)","v":0},{"$f":"SLOPE(L75:M75,$L$7:$M$7)","v":0},null,{"$f":"IF(K75<>0,0,1)","v":1},1,1,null,{"$f":"IF(T75+U75=1,1,0)","v":0},0]
[{"$nulls":6},"Taxi",{"$nulls":3},{"$f":"'IF Factors'!H235","v":0},{"$f":"'IF Factors'!I235","v":0},{"$f":"'IF Factors'!J235","v":0},null,0,0,0,0,null,1,1,1,null,0,0]
[{"$nulls":6},"",{"$nulls":3},{"$f":"'IF Factors'!H236","v":0},{"$f":"'IF Factors'!I236","v":0},{"$f":"'IF Factors'!J236","v":0},null,0,0,0,0,null,1,1,1,null,0,0]
[{"$nulls":6},"",{"$nulls":3},{"$f":"'IF Factors'!H237","v":0},{"$f":"'IF Factors'!I237","v":0},{"$f":"'IF Factors'!J237","v":0},null,0,0,0,0,null,1,1,1,null,0,0]
[{"$nulls":6},"3-wheeler",{"$nulls":3},{"$f":"'IF Factors'!H238","v":0},{"$f":"'IF Factors'!I238","v":0},{"$f":"'IF Factors'!J238","v":0},null,0,0,0,0,null,1,1,1,null,0,0]
[{"$nulls":6},"Bus",{"$nulls":3},{"$f":"'IF Factors'!H239","v":0},{"$f":"'IF Factors'!I239","v":0},{"$f":"'IF Factors'!J239","v":0},null,0,0,0,0,null,1,1,1,null,0,0]
[{"$nulls":6},"Mini-bus",{"$nulls":3},{"$f":"'IF Factors'!H240","v":0},{"$f":"'IF Factors'!I240","v":0},{"$f":"'IF Factors'!J240","v":0},null,0,0,0,0,null,1,1,1,null,0,0]
[{"$nulls":6},"",{"$nulls":3},{"$f":"'IF Factors'!H241","v":0},{"$f":"'IF Factors'!I241","v":0},{"$f":"'IF Factors'!J241","v":0},null,0,0,0,0,null,1,1,1,null,0,0]
[{"$nulls":6},"",{"$nulls":3},{"$f":"'IF Factors'!H242","v":0},{"$f":"'IF Factors'!I242","v":0},{"$f":"'IF Factors'!J242","v":0},null,0,0,0,0,null,1,1,1,null,0,0]
[{"$nulls":6},"BRT",{"$nulls":3},{"$f":"'IF Factors'!H243","v":0},{"$f":"'IF Factors'!I243","v":0},{"$f":"'IF Factors'!J243","v":0},null,0,0,0,0,null,1,1,1,null,0,0]
[]
[]
[]
[]
[{"$nulls":7},{"$f":"H56","v":0},{"$f":"I56","v":1},2,3,4,5,6,7,8,9,10,11,12,13,14,15,16,17,18,19]
[{"$nulls":5},"NO BRT",{"$f":"G57","v":"Cars"},{"$f":"K74","v":0},{"$f":"(I$23*$P74)+$O74","v":0},{"$f":"(J$23*$P74)+$O74","v":0},0,0,0,0,0,0,{"$f":"L74","v":0},{"$f":"(R$23*$R74)+$Q74","v":0},{"$f":"(S$23*$R74)+$Q74","v":0},0,0,0,0,0,0,0,{"$f":"M74","v":0}]
[{"$nulls":6},{"$f":"G58","v":"2-wheeler"},{"$f":"K75","v":0},{"$f":"(I$23*$P75)+$O75","v":0},0,0,0,0,0,0,0,{"$f":"L75","v":0},{"$f":"(R$23*$R75)+$Q75","v":0},0,0,0,0,0,0,0,0,{"$f":"M75","v":0}]
[{"$nulls":6},"Taxi",0,0,0,0,0,0,0,0,0,0,0,0,0,0,0,0,0,0,0,0]
[{"$nulls":6},"",0,0,0,0,0,0,0,0,0,0,0,0,0,0,0,0,0,0,0,0]
[{"$nulls":6},"",0,0,0,0,0,0,0,0,0,0,0,0,0,0,0,0,0,0,0,0]
[{"$nulls":6},"3-wheeler",0,0,0,0,0,0,0,0,0,0,0,0,0,0,0,0,0,0,0,0]
[{"$nulls":6},"Bus",0,0,0,0,0,0,0,0,0,0,0,0,0,0,0,0,0,0,0,0]
[{"$nulls":6},"Mini-bus",0,0,0,0,0,0,0,0,0,0,0,0,0,0,0,0,0,0,0,0]
[{"$nulls":6},"",0,0,0,0,0,0,0,0,0,0,0,0,0,0,0,0,0,0,0,0]
[{"$nulls":6},"",0,0,0,0,0,0,0,0,0,0,0,0,0,0,0,0,0,0,0,0]
[{"$nulls":6},"BRT",0,0,0,0,0,0,0,0,0,0,0,0,0,0,0,0,0,0,0,0]
[]
[]
[]
[]
[{"$nulls":6},"VKT/Day"]
[]
[{"$nulls":5},"NO BRT",{"$f":"G74","v":"Car"}]
[{"$nulls":6},{"$f":"G75","v":"2-wheeler"}]
[{"$nulls":6},"Taxi"]
[{"$nulls":6},""]
[{"$nulls":6},""]
[{"$nulls":6},"3-wheeler"]
[{"$nulls":6},"Bus"]
[{"$nulls":6},"Mini-bus"]
[{"$nulls":6},""]
[{"$nulls":6},""]
[{"$nulls":6},"BRT"]
[]
[]
[{"$nulls":6},"Land Use Impact Factor",{"$f":"Full!G332","v":{"v":1,"d":"1.00"}}]
[]
[{"$nulls":7},{"$f":"H89","v":0},{"$f":"I89","v":1},2,3,4,5,6,7,8,9,10,11,12,13,14,15,16,17,18,19]
[{"$nulls":5},"NO BRT",{"$f":"G90","v":"Cars"},{"$f":"IF(ISERROR(H24*H57/H90*$H$120),0,(H24*H57/H90*$H$120))","v":0},{"$f":"IF(ISERROR(I24*I57/I90*$H$120),0,(I24*I57/I90*$H$120))","v":0},0,0,0,0,0,0,0,0,0,0,0,0,0,0,0,0,0,0,null,{"$f":"SUM(H123:AA123)","v":0}]
[{"$nulls":6},{"$f":"G91","v":"2-wheeler"},{"$f":"IF(ISERROR(H25*H58/H91*$H$120),0,(H25*H58/H91*$H$120))","v":0},0,0,0,0,0,0,0,0,0,0,0,0,0,0,0,0,0,0,0,null,{"$f":"SUM(H124:AA124)","v":0}]
[{"$nulls":6},"Taxi",{"$f":"IF(ISERROR(H26*H59/H92*$H$120),0,(H26*H59/H92*$H$120))","v":0},0,0,0,0,0,0,0,0,0,0,0,0,0,0,0,0,0,0,0,null,"great"]
[{"$nulls":6},"",{"$f":"IF(ISERROR(H27*H60/H93*$H$120),0,(H27*H60/H93*$H$120))","v":0},0,0,0,0,0,0,0,0,0,0,0,0,0,0,0,0,0,0,0,null,0]
[{"$nulls":6},"",{"$f":"IF(ISERROR(H28*H61/H94*$H$120),0,(H28*H61/H94*$H$120))","v":0},0,0,0,0,0,0,0,0,0,0,0,0,0,0,0,0,0,0,0,null,0]
[{"$nulls":6},"3-wheeler",{"$f":"IF(ISERROR(H29*H62/H95*$H$120),0,(H29*H62/H95*$H$120))","v":0},0,0,0,0,0,0,0,0,0,0,0,0,0,0,0,0,0,0,0,null,0]
[{"$nulls":6},"Bus",{"$f":"IF(ISERROR(H30*H63/H96*$H$120),0,(H30*H63/H96*$H$120))","v":0},0,0,0,0,0,0,0,0,0,0,0,0,0,0,0,0,0,0,0,null,0]
[{"$nulls":6},"Mini-bus",{"$f":"IF(ISERROR(H31*H64/H97*$H$120),0,(H31*H64/H97*$H$120))","v":0},0,0,0,0,0,0,0,0,0,0,0,0,0,0,0,0,0,0,0,null,0]
[{"$nulls":6},"",{"$f":"IF(ISERROR(H32*H65/H98*$H$120),0,(H32*H65/H98*$H$120))","v":0},0,0,0,0,0,0,0,0,0,0,0,0,0,0,0,0,0,0,0,null,0]
[{"$nulls":6},"",{"$f":"IF(ISERROR(H33*H66/H99*$H$120),0,(H33*H66/H99*$H$120))","v":0},0,0,0,0,0,0,0,0,0,0,0,0,0,0,0,0,0,0,0,null,0]
[{"$nulls":6},"BRT",{"$f":"IF(ISERROR(H34*H67/H100),0,(H34*H67/H100))","v":0},{"$f":"IF(ISERROR(I34*I67/I100),0,(I34*I67/I100))","v":0},0,0,0,0,0,0,0,0,0,0,0,0,0,0,0,0,0,0,null,0]
[]
[]
[]
[]
[{"$nulls":6},"PKT/Day"]
[]
[{"$nulls":5},"NO BRT",{"$f":"G107","v":"Car"}]
[{"$nulls":6},{"$f":"G108","v":"2-wheeler"}]
[{"$nulls":6},"Taxi"]
[{"$nulls":6},""]
[{"$nulls":6},""]
[{"$nulls":6},"3-wheeler"]
[{"$nulls":6},"Bus"]
[{"$nulls":6},"Mini-bus"]
[{"$nulls":6},""]
[{"$nulls":6},""]
[{"$nulls":6},"BRT"]
[]
[]
[]
[]
[{"$nulls":7},{"$f":"H122","v":0},{"$f":"I122","v":1},2,3,4,5,6,7,8,9,10,11,12,13,14,15,16,17,18,19]
[{"$nulls":5},"NO BRT",{"$f":"G123","v":"Cars"},{"$f":"H123*H90","v":0},{"$f":"I123*I90","v":0},0,0,0,0,0,0,0,0,0,0,0,0,0,0,0,0,0,0]
[{"$nulls":6},{"$f":"G124","v":"2-wheeler"},{"$f":"H124*H91","v":0},0,0,0,0,0,0,0,0,0,0,0,0,0,0,0,0,0,0,0]
[{"$nulls":6},"Taxi",0,0,0,0,0,0,0,0,0,0,0,0,0,0,0,0,0,0,0,0]
[{"$nulls":6},"",0,0,0,0,0,0,0,0,0,0,0,0,0,0,0,0,0,0,0,0]
[{"$nulls":6},"",0,0,0,0,0,0,0,0,0,0,0,0,0,0,0,0,0,0,0,0]
[{"$nulls":6},"3-wheeler",0,0,0,0,0,0,0,0,0,0,0,0,0,0,0,0,0,0,0,0]
[{"$nulls":6},"Bus",0,0,0,0,0,0,0,0,0,0,0,0,0,0,0,0,0,0,0,0]
[{"$nulls":6},"Mini-bus",0,0,0,0,0,0,0,0,0,0,0,0,0,0,0,0,0,0,0,0]
[{"$nulls":6},"",0,0,0,0,0,0,0,0,0,0,0,0,0,0,0,0,0,0,0,0]
[{"$nulls":6},"",0,0,0,0,0,0,0,0,0,0,0,0,0,0,0,0,0,0,0,0]
[{"$nulls":6},"BRT",{"$f":"H133*H100","v":0},0,0,0,0,0,0,0,0,0,0,0,0,0,0,0,0,0,0,0]
[]
[]
[{"$nulls":6},"Gasoline VKT"]
[{"$nulls":10},"Fuel Split"]
[{"$nulls":10},"Column",7,14,null,"1st",null,"2nd"]
[{"$nulls":10},{"$f":"H188","v":0},{"$f":"Q188","v":9},{"$f":"AA188","v":19},null,"intercept","slope","intercept","slope",null,{"$f":"K172","v":0},{"$f":"L172","v":9},{"$f":"M172","v":19},null,"1st","2nd"]
[{"$nulls":5},"NO BRT",{"$f":"G140","v":"Car"},{"$nulls":3},{"$f":"'IF Factors'!E9","v":{"v":0,"d":"0%"}},{"$f":"OFFSET('IF Factors'!E9,0,$L$171)","v":{"v":0,"d":"0%"}},{"$f":"OFFSET('IF Factors'!E9,0,$M$171)","v":{"v":0,"d":"0%"}},null,{"$f":"INTERCEPT(K173:L173,$K$7:$L$7)","v":0},{"$f":"SLOPE(K173:L173,$K$7:$L$7)","v":0},{"$f":"INTERCEPT(L173:M173,$L$7:$M$7)","v":0},{"$f":"SLOPE(L173:M173,$L$7:$M$7)","v":0},null,{"$f":"IF(K173<>0,0,1)","v":1},{"$f":"IF(L173<>0,0,1)","v":1},{"$f":"IF(M173<>0,0,1)","v":1},null,{"$f":"IF(T173+U173=1,1,0)","v":0},{"$f":"IF(U173+V173=1,1,0)","v":0}]
[{"$nulls":6},{"$f":"G141","v":"2-wheeler"},{"$nulls":3},{"$f":"'IF Factors'!E10","v":{"v":0,"d":"0%"}},{"$f":"OFFSET('IF Factors'!E10,0,$L$171)","v":{"v":0,"d":"0%"}},{"$f":"OFFSET('IF Factors'!E10,0,$M$171)","v":{"v":0,"d":"0%"}},null,{"$f":"INTERCEPT(K174:L174,$K$7:$L$7)","v":0},{"$f":"SLOPE(K174:L174,$K$7:$L$7)","v":0},{"$f":"INTERCEPT(L174:M174,$L$7:$M$7)","v":0},{"$f":"SLOPE(L174:M174,$L$7:$M$7)","v":0},null,{"$f":"IF(K174<>0,0,1)","v":1},1,1,null,{"$f":"IF(T174+U174=1,1,0)","v":0},0]
[{"$nulls":6},"Taxi",{"$nulls":3},{"$f":"'IF Factors'!E11","v":{"v":0,"d":"0%"}},{"$f":"OFFSET('IF Factors'!E11,0,$L$171)","v":{"v":0,"d":"0%"}},{"$f":"OFFSET('IF Factors'!E11,0,$M$171)","v":{"v":0,"d":"0%"}},null,0,0,0,0,null,1,1,1,null,0,0]
[{"$nulls":6},"",{"$nulls":3},{"$f":"'IF Factors'!E12","v":{"v":0,"d":"0%"}},{"$f":"OFFSET('IF Factors'!E12,0,$L$171)","v":{"v":0,"d":"0%"}},{"$f":"OFFSET('IF Factors'!E12,0,$M$171)","v":{"v":0,"d":"0%"}},null,0,0,0,0,null,1,1,1,null,0,0]
[{"$nulls":6},"",{"$nulls":3},{"$f":"'IF Factors'!E13","v":{"v":0,"d":"0%"}},{"$f":"OFFSET('IF Factors'!E13,0,$L$171)","v":{"v":0,"d":"0%"}},{"$f":"OFFSET('IF Factors'!E13,0,$M$171)","v":{"v":0,"d":"0%"}},null,0,0,0,0,null,1,1,1,null,0,0]
[{"$nulls":6},"3-wheeler",{"$nulls":3},{"$f":"'IF Factors'!E14","v":{"v":0,"d":"0%"}},{"$f":"OFFSET('IF Factors'!E14,0,$L$171)","v":{"v":0,"d":"0%"}},{"$f":"OFFSET('IF Factors'!E14,0,$M$171)","v":{"v":0,"d":"0%"}},null,0,0,0,0,null,1,1,1,null,0,0]
[{"$nulls":6},"Bus",{"$nulls":3},{"$f":"'IF Factors'!E15","v":{"v":0,"d":"0%"}},{"$f":"OFFSET('IF Factors'!E15,0,$L$171)","v":{"v":0,"d":"0%"}},{"$f":"OFFSET('IF Factors'!E15,0,$M$171)","v":{"v":0,"d":"0%"}},null,0,0,0,0,null,1,1,1,null,0,0]
[{"$nulls":6},"Mini-bus",{"$nulls":3},{"$f":"'IF Factors'!E16","v":{"v":0,"d":"0%"}},{"$f":"OFFSET('IF Factors'!E16,0,$L$171)","v":{"v":0,"d":"0%"}},{"$f":"OFFSET('IF Factors'!E16,0,$M$171)","v":{"v":0,"d":"0%"}},null,0,0,0,0,null,1,1,1,null,0,0]
[{"$nulls":6},"",{"$nulls":3},{"$f":"'IF Factors'!E17","v":{"v":0,"d":"0%"}},{"$f":"OFFSET('IF Factors'!E17,0,$L$171)","v":{"v":0,"d":"0%"}},{"$f":"OFFSET('IF Factors'!E17,0,$M$171)","v":{"v":0,"d":"0%"}},null,0,0,0,0,null,1,1,1,null,0,0]
[{"$nulls":6},"",{"$nulls":3},{"$f":"'IF Factors'!E18","v":{"v":0,"d":"0%"}},{"$f":"OFFSET('IF Factors'!E18,0,$L$171)","v":{"v":0,"d":"0%"}},{"$f":"OFFSET('IF Factors'!E18,0,$M$171)","v":{"v":0,"d":"0%"}},null,0,0,0,0,null,1,1,1,null,0,0]
[{"$nulls":6},"BRT",{"$nulls":3},{"$f":"'IF Factors'!E19","v":{"v":0,"d":"0%"}},{"$f":"OFFSET('IF Factors'!E19,0,$L$171)","v":{"v":0,"d":"0%"}},{"$f":"OFFSET('IF Factors'!E19,0,$M$171)","v":{"v":0,"d":"0%"}},null,0,0,0,0,null,1,1,1,null,0,0]
[]
[]
[]
[{"$nulls":6},"%"]
[{"$nulls":7},{"$f":"H155","v":0},{"$f":"I155","v":1},2,3,4,5,6,7,8,9,10,11,12,13,14,15,16,17,18,19]
[{"$nulls":5},"NO BRT",{"$f":"G156","v":"Cars"},{"$f":"K173","v":{"v":0,"d":"0%"}},{"$f":"(I$23*$P173)+$O173","v":{"v":0,"d":"0%"}},{"$f":"(J$23*$P173)+$O173","v":{"v":0,"d":"0%"}},{"v":0,"d":"0%"},{"v":0,"d":"0%"},{"v":0,"d":"0%"},{"v":0,"d":"0%"},{"v":0,"d":"0%"},{"v":0,"d":"0%"},{"$f":"L173","v":{"v":0,"d":"0%"}},{"$f":"(R$23*$R173)+$Q173","v":{"v":0,"d":"0%"}},{"$f":"(S$23*$R173)+$Q173","v":{"v":0,"d":"0%"}},{"v":0,"d":"0%"},{"v":0,"d":"0%"},{"v":0,"d":"0%"},{"v":0,"d":"0%"},{"v":0,"d":"0%"},{"v":0,"d":"0%"},{"v":0,"d":"0%"},{"$f":"M173","v":{"v":0,"d":"0%"}}]
[{"$nulls":6},{"$f":"G157","v":"2-wheeler"},{"$f":"K174","v":{"v":0,"d":"0%"}},{"$f":"(I$23*$P174)+$O174","v":{"v":0,"d":"0%"}},{"v":0,"d":"0%"},{"v":0,"d":"0%"},{"v":0,"d":"0%"},{"v":0,"d":"0%"},{"v":0,"d":"0%"},{"v":0,"d":"0%"},{"v":0,"d":"0%"},{"$f":"L174","v":{"v":0,"d":"0%"}},{"$f":"(R$23*$R174)+$Q174","v":{"v":0,"d":"0%"}},{"v":0,"d":"0%"},{"v":0,"d":"0%"},{"v":0,"d":"0%"},{"v":0,"d":"0%"},{"v":0,"d":"0%"},{"v":0,"d":"0%"},{"v":0,"d":"0%"},{"v":0,"d":"0%"},{"$f":"M174","v":{"v":0,"d":"0%"}}]
[{"$nulls":6},"Taxi",{"v":0,"d":"0%"},{"v":0,"d":"0%"},{"v":0,"d":"0%"},{"v":0,"d":"0%"},{"v":0,"d":"0%"},{"v":0,"d":"0%"},{"v":0,"d":"0%"},{"v":0,"d":"0%"},{"v":0,"d":"0%"},{"v":0,"d":"0%"},{"v":0,"d":"0%"},{"v":0,"d":"0%"},{"v":0,"d":"0%"},{"v":0,"d":"0%"},{"v":0,"d":"0%"},{"v":0,"d":"0%"},{"v":0,"d":"0%"},{"v":0,"d":"0%"},{"v":0,"d":"0%"},{"v":0,"d":"0%"}]
[{"$nulls":6},"",{"v":0,"d":"0%"},{"v":0,"d":"0%"},{"v":0,"d":"0%"},{"v":0,"d":"0%"},{"v":0,"d":"0%"},{"v":0,"d":"0%"},{"v":0,"d":"0%"},{"v":0,"d":"0%"},{"v":0,"d":"0%"},{"v":0,"d":"0%"},{"v":0,"d":"0%"},{"v":0,"d":"0%"},{"v":0,"d":"0%"},{"v":0,"d":"0%"},{"v":0,"d":"0%"},{"v":0,"d":"0%"},{"v":0,"d":"0%"},{"v":0,"d":"0%"},{"v":0,"d":"0%"},{"v":0,"d":"0%"}]
[{"$nulls":6},"",{"v":0,"d":"0%"},{"v":0,"d":"0%"},{"v":0,"d":"0%"},{"v":0,"d":"0%"},{"v":0,"d":"0%"},{"v":0,"d":"0%"},{"v":0,"d":"0%"},{"v":0,"d":"0%"},{"v":0,"d":"0%"},{"v":0,"d":"0%"},{"v":0,"d":"0%"},{"v":0,"d":"0%"},{"v":0,"d":"0%"},{"v":0,"d":"0%"},{"v":0,"d":"0%"},{"v":0,"d":"0%"},{"v":0,"d":"0%"},{"v":0,"d":"0%"},{"v":0,"d":"0%"},{"v":0,"d":"0%"}]
[{"$nulls":6},"3-wheeler",{"v":0,"d":"0%"},{"v":0,"d":"0%"},{"v":0,"d":"0%"},{"v":0,"d":"0%"},{"v":0,"d":"0%"},{"v":0,"d":"0%"},{"v":0,"d":"0%"},{"v":0,"d":"0%"},{"v":0,"d":"0%"},{"v":0,"d":"0%"},{"v":0,"d":"0%"},{"v":0,"d":"0%"},{"v":0,"d":"0%"},{"v":0,"d":"0%"},{"v":0,"d":"0%"},{"v":0,"d":"0%"},{"v":0,"d":"0%"},{"v":0,"d":"0%"},{"v":0,"d":"0%"},{"v":0,"d":"0%"}]
[{"$nulls":6},"Bus",{"v":0,"d":"0%"},{"v":0,"d":"0%"},{"v":0,"d":"0%"},{"v":0,"d":"0%"},{"v":0,"d":"0%"},{"v":0,"d":"0%"},{"v":0,"d":"0%"},{"v":0,"d":"0%"},{"v":0,"d":"0%"},{"v":0,"d":"0%"},{"v":0,"d":"0%"},{"v":0,"d":"0%"},{"v":0,"d":"0%"},{"v":0,"d":"0%"},{"v":0,"d":"0%"},{"v":0,"d":"0%"},{"v":0,"d":"0%"},{"v":0,"d":"0%"},{"v":0,"d":"0%"},{"v":0,"d":"0%"}]
[{"$nulls":6},"Mini-bus",{"v":0,"d":"0%"},{"v":0,"d":"0%"},{"v":0,"d":"0%"},{"v":0,"d":"0%"},{"v":0,"d":"0%"},{"v":0,"d":"0%"},{"v":0,"d":"0%"},{"v":0,"d":"0%"},{"v":0,"d":"0%"},{"v":0,"d":"0%"},{"v":0,"d":"0%"},{"v":0,"d":"0%"},{"v":0,"d":"0%"},{"v":0,"d":"0%"},{"v":0,"d":"0%"},{"v":0,"d":"0%"},{"v":0,"d":"0%"},{"v":0,"d":"0%"},{"v":0,"d":"0%"},{"v":0,"d":"0%"}]
[{"$nulls":6},"",{"v":0,"d":"0%"},{"v":0,"d":"0%"},{"v":0,"d":"0%"},{"v":0,"d":"0%"},{"v":0,"d":"0%"},{"v":0,"d":"0%"},{"v":0,"d":"0%"},{"v":0,"d":"0%"},{"v":0,"d":"0%"},{"v":0,"d":"0%"},{"v":0,"d":"0%"},{"v":0,"d":"0%"},{"v":0,"d":"0%"},{"v":0,"d":"0%"},{"v":0,"d":"0%"},{"v":0,"d":"0%"},{"v":0,"d":"0%"},{"v":0,"d":"0%"},{"v":0,"d":"0%"},{"v":0,"d":"0%"}]
[{"$nulls":6},"",{"v":0,"d":"0%"},{"v":0,"d":"0%"},{"v":0,"d":"0%"},{"v":0,"d":"0%"},{"v":0,"d":"0%"},{"v":0,"d":"0%"},{"v":0,"d":"0%"},{"v":0,"d":"0%"},{"v":0,"d":"0%"},{"v":0,"d":"0%"},{"v":0,"d":"0%"},{"v":0,"d":"0%"},{"v":0,"d":"0%"},{"v":0,"d":"0%"},{"v":0,"d":"0%"},{"v":0,"d":"0%"},{"v":0,"d":"0%"},{"v":0,"d":"0%"},{"v":0,"d":"0%"},{"v":0,"d":"0%"}]
[{"$nulls":6},"BRT",{"v":0,"d":"0%"},{"v":0,"d":"0%"},{"v":0,"d":"0%"},{"v":0,"d":"0%"},{"v":0,"d":"0%"},{"v":0,"d":"0%"},{"v":0,"d":"0%"},{"v":0,"d":"0%"},{"v":0,"d":"0%"},{"v":0,"d":"0%"},{"v":0,"d":"0%"},{"v":0,"d":"0%"},{"v":0,"d":"0%"},{"v":0,"d":"0%"},{"v":0,"d":"0%"},{"v":0,"d":"0%"},{"v":0,"d":"0%"},{"v":0,"d":"0%"},{"v":0,"d":"0%"},{"v":0,"d":"0%"}]
[]
[{"$nulls":6},"Gasoline VKT"]
[{"$nulls":7},{"$f":"H188","v":0},{"$f":"I188","v":1},2,3,4,5,6,7,8,9,10,11,12,13,14,15,16,17,18,19]
[{"$nulls":5},"NO BRT",{"$f":"G189","v":"Cars"},{"$f":"H123*H189","v":0},{"$f":"I123*I189","v":0},0,0,0,0,0,0,0,0,0,0,0,0,0,0,0,0,0,0]
[{"$nulls":6},{"$f":"G190","v":"2-wheeler"},{"$f":"H124*H190","v":0},0,0,0,0,0,0,0,0,0,0,0,0,0,0,0,0,0,0,0]
[{"$nulls":6},"Taxi",0,0,0,0,0,0,0,0,0,0,0,0,0,0,0,0,0,0,0,0]
[{"$nulls":6},"",0,0,0,0,0,0,0,0,0,0,0,0,0,0,0,0,0,0,0,0]
[{"$nulls":6},"",0,0,0,0,0,0,0,0,0,0,0,0,0,0,0,0,0,0,0,0]
[{"$nulls":6},"3-wheeler",0,0,0,0,0,0,0,0,0,0,0,0,0,0,0,0,0,0,0,0]
[{"$nulls":6},"Bus",0,0,0,0,0,0,0,0,0,0,0,0,0,0,0,0,0,0,0,0]
[{"$nulls":6},"Mini-bus",0,0,0,0,0,0,0,0,0,0,0,0,0,0,0,0,0,0,0,0]
[{"$nulls":6},"",0,0,0,0,0,0,0,0,0,0,0,0,0,0,0,0,0,0,0,0]
[{"$nulls":6},"",0,0,0,0,0,0,0,0,0,0,0,0,0,0,0,0,0,0,0,0]
[{"$nulls":6},"BRT",0,0,0,0,0,0,0,0,0,0,0,0,0,0,0,0,0,0,0,0]
[]
[]
[{"$nulls":6},"Diesel VKT"]
[{"$nulls":10},"Fuel Split"]
[{"$nulls":10},"Column",7,14,null,"1st",null,"2nd"]
[{"$nulls":10},{"$f":"H235","v":0},{"$f":"Q235","v":9},{"$f":"AA235","v":19},null,"intercept","slope","intercept","slope",null,{"$f":"K219","v":0},{"$f":"L219","v":9},{"$f":"M219","v":19},null,"1st","2nd"]
[{"$nulls":5},"NO BRT",{"$f":"G173","v":"Car"},{"$nulls":3},{"$f":"'IF Factors'!F9","v":{"v":0,"d":"0%"}},{"$f":"OFFSET('IF Factors'!F9,0,$L$171)","v":{"v":0,"d":"0%"}},{"$f":"OFFSET('IF Factors'!F9,0,$M$171)","v":{"v":0,"d":"0%"}},null,{"$f":"INTERCEPT(K220:L220,$K$7:$L$7)","v":0},{"$f":"SLOPE(K220:L220,$K$7:$L$7)","v":0},{"$f":"INTERCEPT(L220:M220,$L$7:$M$7)","v":0},{"$f":"SLOPE(L220:M220,$L$7:$M$7)","v":0},null,{"$f":"IF(K220<>0,0,1)","v":1},{"$f":"IF(L220<>0,0,1)","v":1},{"$f":"IF(M220<>0,0,1)","v":1},null,{"$f":"IF(T220+U220=1,1,0)","v":0},{"$f":"IF(U220+V220=1,1,0)","v":0}]
[{"$nulls":6},{"$f":"G174","v":"2-wheeler"},{"$nulls":3},{"$f":"'IF Factors'!F10","v":{"v":0,"d":"0%"}},{"$f":"OFFSET('IF Factors'!F10,0,$L$171)","v":{"v":0,"d":"0%"}},{"$f":"OFFSET('IF Factors'!F10,0,$M$171)","v":{"v":0,"d":"0%"}},null,{"$f":"INTERCEPT(K221:L221,$K$7:$L$7)","v":0},{"$f":"SLOPE(K221:L221,$K$7:$L$7)","v":0},{"$f":"INTERCEPT(L221:M221,$L$7:$M$7)","v":0},{"$f":"SLOPE(L221:M221,$L$7:$M$7)","v":0},null,{"$f":"IF(K221<>0,0,1)","v":1},1,1,null,{"$f":"IF(T221+U221=1,1,0)","v":0},0]
[{"$nulls":6},"Taxi",{"$nulls":3},{"$f":"'IF Factors'!F11","v":{"v":0,"d":"0%"}},{"$f":"OFFSET('IF Factors'!F11,0,$L$171)","v":{"v":0,"d":"0%"}},{"$f":"OFFSET('IF Factors'!F11,0,$M$171)","v":{"v":0,"d":"0%"}},null,0,0,0,0,null,1,1,1,null,0,0]
[{"$nulls":6},"",{"$nulls":3},{"$f":"'IF Factors'!F12","v":{"v":0,"d":"0%"}},{"$f":"OFFSET('IF Factors'!F12,0,$L$171)","v":{"v":0,"d":"0%"}},{"$f":"OFFSET('IF Factors'!F12,0,$M$171)","v":{"v":0,"d":"0%"}},null,0,0,0,0,null,1,1,1,null,0,0]
[{"$nulls":6},"",{"$nulls":3},{"$f":"'IF Factors'!F13","v":{"v":0,"d":"0%"}},{"$f":"OFFSET('IF Factors'!F13,0,$L$171)","v":{"v":0,"d":"0%"}},{"$f":"OFFSET('IF Factors'!F13,0,$M$171)","v":{"v":0,"d":"0%"}},null,0,0,0,0,null,1,1,1,null,0,0]
[{"$nulls":6},"3-wheeler",{"$nulls":3},{"$f":"'IF Factors'!F14","v":{"v":0,"d":"0%"}},{"$f":"OFFSET('IF Factors'!F14,0,$L$171)","v":{"v":0,"d":"0%"}},{"$f":"OFFSET('IF Factors'!F14,0,$M$171)","v":{"v":0,"d":"0%"}},null,0,0,0,0,null,1,1,1,null,0,0]
[{"$nulls":6},"Bus",{"$nulls":3},{"$f":"'IF Factors'!F15","v":{"v":0,"d":"0%"}},{"$f":"OFFSET('IF Factors'!F15,0,$L$171)","v":{"v":0,"d":"0%"}},{"$f":"OFFSET('IF Factors'!F15,0,$M$171)","v":{"v":0,"d":"0%"}},null,0,0,0,0,null,1,1,1,null,0,0]
[{"$nulls":6},"Mini-bus",{"$nulls":3},{"$f":"'IF Factors'!F16","v":{"v":0,"d":"0%"}},{"$f":"OFFSET('IF Factors'!F16,0,$L$171)","v":{"v":0,"d":"0%"}},{"$f":"OFFSET('IF Factors'!F16,0,$M$171)","v":{"v":0,"d":"0%"}},null,0,0,0,0,null,1,1,1,null,0,0]
[{"$nulls":6},"",{"$nulls":3},{"$f":"'IF Factors'!F17","v":{"v":0,"d":"0%"}},{"$f":"OFFSET('IF Factors'!F17,0,$L$171)","v":{"v":0,"d":"0%"}},{"$f":"OFFSET('IF Factors'!F17,0,$M$171)","v":{"v":0,"d":"0%"}},null,0,0,0,0,null,1,1,1,null,0,0]
[{"$nulls":6},"",{"$nulls":3},{"$f":"'IF Factors'!F18","v":{"v":0,"d":"0%"}},{"$f":"OFFSET('IF Factors'!F18,0,$L$171)","v":{"v":0,"d":"0%"}},{"$f":"OFFSET('IF Factors'!F18,0,$M$171)","v":{"v":0,"d":"0%"}},null,0,0,0,0,null,1,1,1,null,0,0]
[{"$nulls":6},"BRT",{"$nulls":3},{"$f":"'IF Factors'!F19","v":{"v":0,"d":"0%"}},{"$f":"OFFSET('IF Factors'!F19,0,$L$171)","v":{"v":0,"d":"0%"}},{"$f":"OFFSET('IF Factors'!F19,0,$M$171)","v":{"v":0,"d":"0%"}},null,0,0,0,0,null,1,1,1,null,0,0]
[]
[]
[]
[{"$nulls":6},"%"]
[{"$nulls":7},{"$f":"H202","v":0},{"$f":"I202","v":1},2,3,4,5,6,7,8,9,10,11,12,13,14,15,16,17,18,19]
[{"$nulls":5},"NO BRT",{"$f":"G203","v":"Cars"},{"$f":"K220","v":{"v":0,"d":"0%"}},{"$f":"(I$23*$P220)+$O220","v":{"v":0,"d":"0%"}},{"$f":"(J$23*$P220)+$O220","v":{"v":0,"d":"0%"}},{"v":0,"d":"0%"},{"v":0,"d":"0%"},{"v":0,"d":"0%"},{"v":0,"d":"0%"},{"v":0,"d":"0%"},{"v":0,"d":"0%"},{"$f":"L220","v":{"v":0,"d":"0%"}},{"$f":"(R$23*$R220)+$Q220","v":{"v":0,"d":"0%"}},{"$f":"(S$23*$R220)+$Q220","v":{"v":0,"d":"0%"}},{"v":0,"d":"0%"},{"v":0,"d":"0%"},{"v":0,"d":"0%"},{"v":0,"d":"0%"},{"v":0,"d":"0%"},{"v":0,"d":"0%"},{"v":0,"d":"0%"},{"$f":"M220","v":{"v":0,"d":"0%"}}]
[{"$nulls":6},{"$f":"G204","v":"2-wheeler"},{"$f":"K221","v":{"v":0,"d":"0%"}},{"$f":"(I$23*$P221)+$O221","v":{"v":0,"d":"0%"}},{"v":0,"d":"0%"},{"v":0,"d":"0%"},{"v":0,"d":"0%"},{"v":0,"d":"0%"},{"v":0,"d":"0%"},{"v":0,"d":"0%"},{"v":0,"d":"0%"},{"$f":"L221","v":{"v":0,"d":"0%"}},{"$f":"(R$23*$R221)+$Q221","v":{"v":0,"d":"0%"}},{"v":0,"d":"0%"},{"v":0,"d":"0%"},{"v":0,"d":"0%"},{"v":0,"d":"0%"},{"v":0,"d":"0%"},{"v":0,"d":"0%"},{"v":0,"d":"0%"},{"v":0,"d":"0%"},{"$f":"M221","v":{"v":0,"d":"0%"}}]
[{"$nulls":6},"Taxi",{"v":0,"d":"0%"},{"v":0,"d":"0%"},{"v":0,"d":"0%"},{"v":0,"d":"0%"},{"v":0,"d":"0%"},{"v":0,"d":"0%"},{"v":0,"d":"0%"},{"v":0,"d":"0%"},{"v":0,"d":"0%"},{"v":0,"d":"0%"},{"v":0,"d":"0%"},{"v":0,"d":"0%"},{"v":0,"d":"0%"},{"v":0,"d":"0%"},{"v":0,"d":"0%"},{"v":0,"d":"0%"},{"v":0,"d":"0%"},{"v":0,"d":"0%"},{"v":0,"d":"0%"},{"v":0,"d":"0%"}]
[{"$nulls":6},"",{"v":0,"d":"0%"},{"v":0,"d":"0%"},{"v":0,"d":"0%"},{"v":0,"d":"0%"},{"v":0,"d":"0%"},{"v":0,"d":"0%"},{"v":0,"d":"0%"},{"v":0,"d":"0%"},{"v":0,"d":"0%"},{"v":0,"d":"0%"},{"v":0,"d":"0%"},{"v":0,"d":"0%"},{"v":0,"d":"0%"},{"v":0,"d":"0%"},{"v":0,"d":"0%"},{"v":0,"d":"0%"},{"v":0,"d":"0%"},{"v":0,"d":"0%"},{"v":0,"d":"0%"},{"v":0,"d":"0%"}]
[{"$nulls":6},"",{"v":0,"d":"0%"},{"v":0,"d":"0%"},{"v":0,"d":"0%"},{"v":0,"d":"0%"},{"v":0,"d":"0%"},{"v":0,"d":"0%"},{"v":0,"d":"0%"},{"v":0,"d":"0%"},{"v":0,"d":"0%"},{"v":0,"d":"0%"},{"v":0,"d":"0%"},{"v":0,"d":"0%"},{"v":0,"d":"0%"},{"v":0,"d":"0%"},{"v":0,"d":"0%"},{"v":0,"d":"0%"},{"v":0,"d":"0%"},{"v":0,"d":"0%"},{"v":0,"d":"0%"},{"v":0,"d":"0%"}]
[{"$nulls":6},"3-wheeler",{"v":0,"d":"0%"},{"v":0,"d":"0%"},{"v":0,"d":"0%"},{"v":0,"d":"0%"},{"v":0,"d":"0%"},{"v":0,"d":"0%"},{"v":0,"d":"0%"},{"v":0,"d":"0%"},{"v":0,"d":"0%"},{"v":0,"d":"0%"},{"v":0,"d":"0%"},{"v":0,"d":"0%"},{"v":0,"d":"0%"},{"v":0,"d":"0%"},{"v":0,"d":"0%"},{"v":0,"d":"0%"},{"v":0,"d":"0%"},{"v":0,"d":"0%"},{"v":0,"d":"0%"},{"v":0,"d":"0%"}]
[{"$nulls":6},"Bus",{"v":0,"d":"0%"},{"v":0,"d":"0%"},{"v":0,"d":"0%"},{"v":0,"d":"0%"},{"v":0,"d":"0%"},{"v":0,"d":"0%"},{"v":0,"d":"0%"},{"v":0,"d":"0%"},{"v":0,"d":"0%"},{"v":0,"d":"0%"},{"v":0,"d":"0%"},{"v":0,"d":"0%"},{"v":0,"d":"0%"},{"v":0,"d":"0%"},{"v":0,"d":"0%"},{"v":0,"d":"0%"},{"v":0,"d":"0%"},{"v":0,"d":"0%"},{"v":0,"d":"0%"},{"v":0,"d":"0%"}]
[{"$nulls":6},"Mini-bus",{"v":0,"d":"0%"},{"v":0,"d":"0%"},{"v":0,"d":"0%"},{"v":0,"d":"0%"},{"v":0,"d":"0%"},{"v":0,"d":"0%"},{"v":0,"d":"0%"},{"v":0,"d":"0%"},{"v":0,"d":"0%"},{"v":0,"d":"0%"},{"v":0,"d":"0%"},{"v":0,"d":"0%"},{"v":0,"d":"0%"},{"v":0,"d":"0%"},{"v":0,"d":"0%"},{"v":0,"d":"0%"},{"v":0,"d":"0%"},{"v":0,"d":"0%"},{"v":0,"d":"0%"},{"v":0,"d":"0%"}]
[{"$nulls":6},"",{"v":0,"d":"0%"},{"v":0,"d":"0%"},{"v":0,"d":"0%"},{"v":0,"d":"0%"},{"v":0,"d":"0%"},{"v":0,"d":"0%"},{"v":0,"d":"0%"},{"v":0,"d":"0%"},{"v":0,"d":"0%"},{"v":0,"d":"0%"},{"v":0,"d":"0%"},{"v":0,"d":"0%"},{"v":0,"d":"0%"},{"v":0,"d":"0%"},{"v":0,"d":"0%"},{"v":0,"d":"0%"},{"v":0,"d":"0%"},{"v":0,"d":"0%"},{"v":0,"d":"0%"},{"v":0,"d":"0%"}]
[{"$nulls":6},"",{"v":0,"d":"0%"},{"v":0,"d":"0%"},{"v":0,"d":"0%"},{"v":0,"d":"0%"},{"v":0,"d":"0%"},{"v":0,"d":"0%"},{"v":0,"d":"0%"},{"v":0,"d":"0%"},{"v":0,"d":"0%"},{"v":0,"d":"0%"},{"v":0,"d":"0%"},{"v":0,"d":"0%"},{"v":0,"d":"0%"},{"v":0,"d":"0%"},{"v":0,"d":"0%"},{"v":0,"d":"0%"},{"v":0,"d":"0%"},{"v":0,"d":"0%"},{"v":0,"d":"0%"},{"v":0,"d":"0%"}]
[{"$nulls":6},"BRT",{"v":0,"d":"0%"},{"v":0,"d":"0%"},{"v":0,"d":"0%"},{"v":0,"d":"0%"},{"v":0,"d":"0%"},{"v":0,"d":"0%"},{"v":0,"d":"0%"},{"v":0,"d":"0%"},{"v":0,"d":"0%"},{"v":0,"d":"0%"},{"v":0,"d":"0%"},{"v":0,"d":"0%"},{"v":0,"d":"0%"},{"v":0,"d":"0%"},{"v":0,"d":"0%"},{"v":0,"d":"0%"},{"v":0,"d":"0%"},{"v":0,"d":"0%"},{"v":0,"d":"0%"},{"v":0,"d":"0%"}]
[]
[{"$nulls":6},"Diesel VKT"]
[{"$nulls":7},{"$f":"H235","v":0},{"$f":"I235","v":1},2,3,4,5,6,7,8,9,10,11,12,13,14,15,16,17,18,19]
[{"$nulls":5},"NO BRT",{"$f":"G236","v":"Cars"},{"$f":"H123*H236","v":0},{"$f":"I123*I236","v":0},0,0,0,0,0,0,0,0,0,0,0,0,0,0,0,0,0,0]
[{"$nulls":6},{"$f":"G237","v":"2-wheeler"},{"$f":"H124*H237","v":0},0,0,0,0,0,0,0,0,0,0,0,0,0,0,0,0,0,0,0]
[{"$nulls":6},"Taxi",0,0,0,0,0,0,0,0,0,0,0,0,0,0,0,0,0,0,0,0]
[{"$nulls":6},"",0,0,0,0,0,0,0,0,0,0,0,0,0,0,0,0,0,0,0,0]
[{"$nulls":6},"",0,0,0,0,0,0,0,0,0,0,0,0,0,0,0,0,0,0,0,0]
[{"$nulls":6},"3-wheeler",0,0,0,0,0,0,0,0,0,0,0,0,0,0,0,0,0,0,0,0]
[{"$nulls":6},"Bus",0,0,0,0,0,0,0,0,0,0,0,0,0,0,0,0,0,0,0,0]
[{"$nulls":6},"Mini-bus",0,0,0,0,0,0,0,0,0,0,0,0,0,0,0,0,0,0,0,0]
[{"$nulls":6},"",0,0,0,0,0,0,0,0,0,0,0,0,0,0,0,0,0,0,0,0]
[{"$nulls":6},"",0,0,0,0,0,0,0,0,0,0,0,0,0,0,0,0,0,0,0,0]
[{"$nulls":6},"BRT",0,0,0,0,0,0,0,0,0,0,0,0,0,0,0,0,0,0,0,0]
[]
[]
[{"$nulls":6},"LPG VKT"]
[{"$nulls":10},"Fuel Split"]
[{"$nulls":10},"Column",7,14,null,"1st",null,"2nd"]
[{"$nulls":10},{"$f":"H282","v":0},{"$f":"Q282","v":9},{"$f":"AA282","v":19},null,"intercept","slope","intercept","slope",null,{"$f":"K266","v":0},{"$f":"L266","v":9},{"$f":"M266","v":19},null,"1st","2nd"]
[{"$nulls":5},"NO BRT",{"$f":"G220","v":"Car"},{"$nulls":3},{"$f":"'IF Factors'!G9","v":{"v":0,"d":"0%"}},{"$f":"OFFSET('IF Factors'!G9,0,$L$171)","v":{"v":0,"d":"0%"}},{"$f":"OFFSET('IF Factors'!G9,0,$M$171)","v":{"v":0,"d":"0%"}},null,{"$f":"INTERCEPT(K267:L267,$K$7:$L$7)","v":0},{"$f":"SLOPE(K267:L267,$K$7:$L$7)","v":0},{"$f":"INTERCEPT(L267:M267,$L$7:$M$7)","v":0},{"$f":"SLOPE(L267:M267,$L$7:$M$7)","v":0},null,{"$f":"IF(K267<>0,0,1)","v":1},{"$f":"IF(L267<>0,0,1)","v":1},{"$f":"IF(M267<>0,0,1)","v":1},null,{"$f":"IF(T267+U267=1,1,0)","v":0},{"$f":"IF(U267+V267=1,1,0)","v":0}]
[{"$nulls":6},{"$f":"G221","v":"2-wheeler"},{"$nulls":3},{"$f":"'IF Factors'!G10","v":{"v":0,"d":"0%"}},{"$f":"OFFSET('IF Factors'!G10,0,$L$171)","v":{"v":0,"d":"0%"}},{"$f":"OFFSET('IF Factors'!G10,0,$M$171)","v":{"v":0,"d":"0%"}},null,{"$f":"INTERCEPT(K268:L268,$K$7:$L$7)","v":0},{"$f":"SLOPE(K268:L268,$K$7:$L$7)","v":0},{"$f":"INTERCEPT(L268:M268,$L$7:$M$7)","v":0},{"$f":"SLOPE(L268:M268,$L$7:$M$7)","v":0},null,{"$f":"IF(K268<>0,0,1)","v":1},1,1,null,{"$f":"IF(T268+U268=1,1,0)","v":0},0]
[{"$nulls":6},"Taxi",{"$nulls":3},{"$f":"'IF Factors'!G11","v":{"v":0,"d":"0%"}},{"$f":"OFFSET('IF Factors'!G11,0,$L$171)","v":{"v":0,"d":"0%"}},{"$f":"OFFSET('IF Factors'!G11,0,$M$171)","v":{"v":0,"d":"0%"}},null,0,0,0,0,null,1,1,1,null,0,0]
[{"$nulls":6},"",{"$nulls":3},{"$f":"'IF Factors'!G12","v":{"v":0,"d":"0%"}},{"$f":"OFFSET('IF Factors'!G12,0,$L$171)","v":{"v":0,"d":"0%"}},{"$f":"OFFSET('IF Factors'!G12,0,$M$171)","v":{"v":0,"d":"0%"}},null,0,0,0,0,null,1,1,1,null,0,0]
[{"$nulls":6},"",{"$nulls":3},{"$f":"'IF Factors'!G13","v":{"v":0,"d":"0%"}},{"$f":"OFFSET('IF Factors'!G13,0,$L$171)","v":{"v":0,"d":"0%"}},{"$f":"OFFSET('IF Factors'!G13,0,$M$171)","v":{"v":0,"d":"0%"}},null,0,0,0,0,null,1,1,1,null,0,0]
[{"$nulls":6},"3-wheeler",{"$nulls":3},{"$f":"'IF Factors'!G14","v":{"v":0,"d":"0%"}},{"$f":"OFFSET('IF Factors'!G14,0,$L$171)","v":{"v":0,"d":"0%"}},{"$f":"OFFSET('IF Factors'!G14,0,$M$171)","v":{"v":0,"d":"0%"}},null,0,0,0,0,null,1,1,1,null,0,0]
[{"$nulls":6},"Bus",{"$nulls":3},{"$f":"'IF Factors'!G15","v":{"v":0,"d":"0%"}},{"$f":"OFFSET('IF Factors'!G15,0,$L$171)","v":{"v":0,"d":"0%"}},{"$f":"OFFSET('IF Factors'!G15,0,$M$171)","v":{"v":0,"d":"0%"}},null,0,0,0,0,null,1,1,1,null,0,0]
[{"$nulls":6},"Mini-bus",{"$nulls":3},{"$f":"'IF Factors'!G16","v":{"v":0,"d":"0%"}},{"$f":"OFFSET('IF Factors'!G16,0,$L$171)","v":{"v":0,"d":"0%"}},{"$f":"OFFSET('IF Factors'!G16,0,$M$171)","v":{"v":0,"d":"0%"}},null,0,0,0,0,null,1,1,1,null,0,0]
[{"$nulls":6},"",{"$nulls":3},{"$f":"'IF Factors'!G17","v":{"v":0,"d":"0%"}},{"$f":"OFFSET('IF Factors'!G17,0,$L$171)","v":{"v":0,"d":"0%"}},{"$f":"OFFSET('IF Factors'!G17,0,$M$171)","v":{"v":0,"d":"0%"}},null,0,0,0,0,null,1,1,1,null,0,0]
[{"$nulls":6},"",{"$nulls":3},{"$f":"'IF Factors'!G18","v":{"v":0,"d":"0%"}},{"$f":"OFFSET('IF Factors'!G18,0,$L$171)","v":{"v":0,"d":"0%"}},{"$f":"OFFSET('IF Factors'!G18,0,$M$171)","v":{"v":0,"d":"0%"}},null,0,0,0,0,null,1,1,1,null,0,0]
[{"$nulls":6},"BRT",{"$nulls":3},{"$f":"'IF Factors'!G19","v":{"v":0,"d":"0%"}},{"$f":"OFFSET('IF Factors'!G19,0,$L$171)","v":{"v":0,"d":"0%"}},{"$f":"OFFSET('IF Factors'!G19,0,$M$171)","v":{"v":0,"d":"0%"}},null,0,0,0,0,null,1,1,1,null,0,0]
[]
[]
[]
[{"$nulls":6},"%"]
[{"$nulls":7},{"$f":"H249","v":0},{"$f":"I249","v":1},2,3,4,5,6,7,8,9,10,11,12,13,14,15,16,17,18,19]
[{"$nulls":5},"NO BRT",{"$f":"G250","v":"Cars"},{"$f":"K267","v":{"v":0,"d":"0%"}},{"$f":"(I$23*$P267)+$O267","v":{"v":0,"d":"0%"}},{"$f":"(J$23*$P267)+$O267","v":{"v":0,"d":"0%"}},{"v":0,"d":"0%"},{"v":0,"d":"0%"},{"v":0,"d":"0%"},{"v":0,"d":"0%"},{"v":0,"d":"0%"},{"v":0,"d":"0%"},{"$f":"L267","v":{"v":0,"d":"0%"}},{"$f":"(R$23*$R267)+$Q267","v":{"v":0,"d":"0%"}},{"$f":"(S$23*$R267)+$Q267","v":{"v":0,"d":"0%"}},{"v":0,"d":"0%"},{"v":0,"d":"0%"},{"v":0,"d":"0%"},{"v":0,"d":"0%"},{"v":0,"d":"0%"},{"v":0,"d":"0%"},{"v":0,"d":"0%"},{"$f":"M267","v":{"v":0,"d":"0%"}}]
[{"$nulls":6},{"$f":"G251","v":"2-wheeler"},{"$f":"K268","v":{"v":0,"d":"0%"}},{"$f":"(I$23*$P268)+$O268","v":{"v":0,"d":"0%"}},{"v":0,"d":"0%"},{"v":0,"d":"0%"},{"v":0,"d":"0%"},{"v":0,"d":"0%"},{"v":0,"d":"0%"},{"v":0,"d":"0%"},{"v":0,"d":"0%"},{"$f":"L268","v":{"v":0,"d":"0%"}},{"$f":"(R$23*$R268)+$Q268","v":{"v":0,"d":"0%"}},{"v":0,"d":"0%"},{"v":0,"d":"0%"},{"v":0,"d":"0%"},{"v":0,"d":"0%"},{"v":0,"d":"0%"},{"v":0,"d":"0%"},{"v":0,"d":"0%"},{"v":0,"d":"0%"},{"$f":"M268","v":{"v":0,"d":"0%"}}]
[{"$nulls":6},"Taxi",{"v":0,"d":"0%"},{"v":0,"d":"0%"},{"v":0,"d":"0%"},{"v":0,"d":"0%"},{"v":0,"d":"0%"},{"v":0,"d":"0%"},{"v":0,"d":"0%"},{"v":0,"d":"0%"},{"v":0,"d":"0%"},{"v":0,"d":"0%"},{"v":0,"d":"0%"},{"v":0,"d":"0%"},{"v":0,"d":"0%"},{"v":0,"d":"0%"},{"v":0,"d":"0%"},{"v":0,"d":"0%"},{"v":0,"d":"0%"},{"v":0,"d":"0%"},{"v":0,"d":"0%"},{"v":0,"d":"0%"}]
[{"$nulls":6},"",{"v":0,"d":"0%"},{"v":0,"d":"0%"},{"v":0,"d":"0%"},{"v":0,"d":"0%"},{"v":0,"d":"0%"},{"v":0,"d":"0%"},{"v":0,"d":"0%"},{"v":0,"d":"0%"},{"v":0,"d":"0%"},{"v":0,"d":"0%"},{"v":0,"d":"0%"},{"v":0,"d":"0%"},{"v":0,"d":"0%"},{"v":0,"d":"0%"},{"v":0,"d":"0%"},{"v":0,"d":"0%"},{"v":0,"d":"0%"},{"v":0,"d":"0%"},{"v":0,"d":"0%"},{"v":0,"d":"0%"}]
[{"$nulls":6},"",{"v":0,"d":"0%"},{"v":0,"d":"0%"},{"v":0,"d":"0%"},{"v":0,"d":"0%"},{"v":0,"d":"0%"},{"v":0,"d":"0%"},{"v":0,"d":"0%"},{"v":0,"d":"0%"},{"v":0,"d":"0%"},{"v":0,"d":"0%"},{"v":0,"d":"0%"},{"v":0,"d":"0%"},{"v":0,"d":"0%"},{"v":0,"d":"0%"},{"v":0,"d":"0%"},{"v":0,"d":"0%"},{"v":0,"d":"0%"},{"v":0,"d":"0%"},{"v":0,"d":"0%"},{"v":0,"d":"0%"}]
[{"$nulls":6},"3-wheeler",{"v":0,"d":"0%"},{"v":0,"d":"0%"},{"v":0,"d":"0%"},{"v":0,"d":"0%"},{"v":0,"d":"0%"},{"v":0,"d":"0%"},{"v":0,"d":"0%"},{"v":0,"d":"0%"},{"v":0,"d":"0%"},{"v":0,"d":"0%"},{"v":0,"d":"0%"},{"v":0,"d":"0%"},{"v":0,"d":"0%"},{"v":0,"d":"0%"},{"v":0,"d":"0%"},{"v":0,"d":"0%"},{"v":0,"d":"0%"},{"v":0,"d":"0%"},{"v":0,"d":"0%"},{"v":0,"d":"0%"}]
[{"$nulls":6},"Bus",{"v":0,"d":"0%"},{"v":0,"d":"0%"},{"v":0,"d":"0%"},{"v":0,"d":"0%"},{"v":0,"d":"0%"},{"v":0,"d":"0%"},{"v":0,"d":"0%"},{"v":0,"d":"0%"},{"v":0,"d":"0%"},{"v":0,"d":"0%"},{"v":0,"d":"0%"},{"v":0,"d":"0%"},{"v":0,"d":"0%"},{"v":0,"d":"0%"},{"v":0,"d":"0%"},{"v":0,"d":"0%"},{"v":0,"d":"0%"},{"v":0,"d":"0%"},{"v":0,"d":"0%"},{"v":0,"d":"0%"}]
[{"$nulls":6},"Mini-bus",{"v":0,"d":"0%"},{"v":0,"d":"0%"},{"v":0,"d":"0%"},{"v":0,"d":"0%"},{"v":0,"d":"0%"},{"v":0,"d":"0%"},{"v":0,"d":"0%"},{"v":0,"d":"0%"},{"v":0,"d":"0%"},{"v":0,"d":"0%"},{"v":0,"d":"0%"},{"v":0,"d":"0%"},{"v":0,"d":"0%"},{"v":0,"d":"0%"},{"v":0,"d":"0%"},{"v":0,"d":"0%"},{"v":0,"d":"0%"},{"v":0,"d":"0%"},{"v":0,"d":"0%"},{"v":0,"d":"0%"}]
[{"$nulls":6},"",{"v":0,"d":"0%"},{"v":0,"d":"0%"},{"v":0,"d":"0%"},{"v":0,"d":"0%"},{"v":0,"d":"0%"},{"v":0,"d":"0%"},{"v":0,"d":"0%"},{"v":0,"d":"0%"},{"v":0,"d":"0%"},{"v":0,"d":"0%"},{"v":0,"d":"0%"},{"v":0,"d":"0%"},{"v":0,"d":"0%"},{"v":0,"d":"0%"},{"v":0,"d":"0%"},{"v":0,"d":"0%"},{"v":0,"d":"0%"},{"v":0,"d":"0%"},{"v":0,"d":"0%"},{"v":0,"d":"0%"}]
[{"$nulls":6},"",{"v":0,"d":"0%"},{"v":0,"d":"0%"},{"v":0,"d":"0%"},{"v":0,"d":"0%"},{"v":0,"d":"0%"},{"v":0,"d":"0%"},{"v":0,"d":"0%"},{"v":0,"d":"0%"},{"v":0,"d":"0%"},{"v":0,"d":"0%"},{"v":0,"d":"0%"},{"v":0,"d":"0%"},{"v":0,"d":"0%"},{"v":0,"d":"0%"},{"v":0,"d":"0%"},{"v":0,"d":"0%"},{"v":0,"d":"0%"},{"v":0,"d":"0%"},{"v":0,"d":"0%"},{"v":0,"d":"0%"}]
[{"$nulls":6},"BRT",{"v":0,"d":"0%"},{"v":0,"d":"0%"},{"v":0,"d":"0%"},{"v":0,"d":"0%"},{"v":0,"d":"0%"},{"v":0,"d":"0%"},{"v":0,"d":"0%"},{"v":0,"d":"0%"},{"v":0,"d":"0%"},{"v":0,"d":"0%"},{"v":0,"d":"0%"},{"v":0,"d":"0%"},{"v":0,"d":"0%"},{"v":0,"d":"0%"},{"v":0,"d":"0%"},{"v":0,"d":"0%"},{"v":0,"d":"0%"},{"v":0,"d":"0%"},{"v":0,"d":"0%"},{"v":0,"d":"0%"}]
[]
[{"$nulls":6},"LPG VKT"]
[{"$nulls":7},{"$f":"H282","v":0},{"$f":"I282","v":1},2,3,4,5,6,7,8,9,10,11,12,13,14,15,16,17,18,19]
[{"$nulls":5},"NO BRT",{"$f":"G283","v":"Cars"},{"$f":"H123*H283","v":0},{"$f":"I123*I283","v":0},0,0,0,0,0,0,0,0,0,0,0,0,0,0,0,0,0,0]
[{"$nulls":6},{"$f":"G284","v":"2-wheeler"},{"$f":"H124*H284","v":0},0,0,0,0,0,0,0,0,0,0,0,0,0,0,0,0,0,0,0]
[{"$nulls":6},"Taxi",0,0,0,0,0,0,0,0,0,0,0,0,0,0,0,0,0,0,0,0]
[{"$nulls":6},"",0,0,0,0,0,0,0,0,0,0,0,0,0,0,0,0,0,0,0,0]
[{"$nulls":6},"",0,0,0,0,0,0,0,0,0,0,0,0,0,0,0,0,0,0,0,0]
[{"$nulls":6},"3-wheeler",0,0,0,0,0,0,0,0,0,0,0,0,0,0,0,0,0,0,0,0]
[{"$nulls":6},"Bus",0,0,0,0,0,0,0,0,0,0,0,0,0,0,0,0,0,0,0,0]
[{"$nulls":6},"Mini-bus",0,0,0,0,0,0,0,0,0,0,0,0,0,0,0,0,0,0,0,0]
[{"$nulls":6},"",0,0,0,0,0,0,0,0,0,0,0,0,0,0,0,0,0,0,0,0]
[{"$nulls":6},"",0,0,0,0,0,0,0,0,0,0,0,0,0,0,0,0,0,0,0,0]
[{"$nulls":6},"BRT",0,0,0,0,0,0,0,0,0,0,0,0,0,0,0,0,0,0,0,0]
[]
[]
[{"$nulls":6},"CNG VKT"]
[{"$nulls":10},"Fuel Split"]
[{"$nulls":10},"Column",7,14,null,"1st",null,"2nd"]
[{"$nulls":10},{"$f":"H329","v":0},{"$f":"Q329","v":9},{"$f":"AA329","v":19},null,"intercept","slope","intercept","slope",null,{"$f":"K313","v":0},{"$f":"L313","v":9},{"$f":"M313","v":19},null,"1st","2nd"]
[{"$nulls":5},"NO BRT",{"$f":"G267","v":"Car"},{"$nulls":3},{"$f":"'IF Factors'!H9","v":{"v":0,"d":"0%"}},{"$f":"OFFSET('IF Factors'!H9,0,$L$171)","v":{"v":0,"d":"0%"}},{"$f":"OFFSET('IF Factors'!H9,0,$M$171)","v":{"v":0,"d":"0%"}},null,{"$f":"INTERCEPT(K314:L314,$K$7:$L$7)","v":0},{"$f":"SLOPE(K314:L314,$K$7:$L$7)","v":0},{"$f":"INTERCEPT(L314:M314,$L$7:$M$7)","v":0},{"$f":"SLOPE(L314:M314,$L$7:$M$7)","v":0},null,{"$f":"IF(K314<>0,0,1)","v":1},{"$f":"IF(L314<>0,0,1)","v":1},{"$f":"IF(M314<>0,0,1)","v":1},null,{"$f":"IF(T314+U314=1,1,0)","v":0},{"$f":"IF(U314+V314=1,1,0)","v":0}]
[{"$nulls":6},{"$f":"G268","v":"2-wheeler"},{"$nulls":3},{"$f":"'IF Factors'!H10","v":{"v":0,"d":"0%"}},{"$f":"OFFSET('IF Factors'!H10,0,$L$171)","v":{"v":0,"d":"0%"}},{"$f":"OFFSET('IF Factors'!H10,0,$M$171)","v":{"v":0,"d":"0%"}},null,{"$f":"INTERCEPT(K315:L315,$K$7:$L$7)","v":0},{"$f":"SLOPE(K315:L315,$K$7:$L$7)","v":0},{"$f":"INTERCEPT(L315:M315,$L$7:$M$7)","v":0},{"$f":"SLOPE(L315:M315,$L$7:$M$7)","v":0},null,{"$f":"IF(K315<>0,0,1)","v":1},1,1,null,{"$f":"IF(T315+U315=1,1,0)","v":0},0]
[{"$nulls":6},"Taxi",{"$nulls":3},{"$f":"'IF Factors'!H11","v":{"v":0,"d":"0%"}},{"$f":"OFFSET('IF Factors'!H11,0,$L$171)","v":{"v":0,"d":"0%"}},{"$f":"OFFSET('IF Factors'!H11,0,$M$171)","v":{"v":0,"d":"0%"}},null,0,0,0,0,null,1,1,1,null,0,0]
[{"$nulls":6},"",{"$nulls":3},{"$f":"'IF Factors'!H12","v":{"v":0,"d":"0%"}},{"$f":"OFFSET('IF Factors'!H12,0,$L$171)","v":{"v":0,"d":"0%"}},{"$f":"OFFSET('IF Factors'!H12,0,$M$171)","v":{"v":0,"d":"0%"}},null,0,0,0,0,null,1,1,1,null,0,0]
[{"$nulls":6},"",{"$nulls":3},{"$f":"'IF Factors'!H13","v":{"v":0,"d":"0%"}},{"$f":"OFFSET('IF Factors'!H13,0,$L$171)","v":{"v":0,"d":"0%"}},{"$f":"OFFSET('IF Factors'!H13,0,$M$171)","v":{"v":0,"d":"0%"}},null,0,0,0,0,null,1,1,1,null,0,0]
[{"$nulls":6},"3-wheeler",{"$nulls":3},{"$f":"'IF Factors'!H14","v":{"v":0,"d":"0%"}},{"$f":"OFFSET('IF Factors'!H14,0,$L$171)","v":{"v":0,"d":"0%"}},{"$f":"OFFSET('IF Factors'!H14,0,$M$171)","v":{"v":0,"d":"0%"}},null,0,0,0,0,null,1,1,1,null,0,0]
[{"$nulls":6},"Bus",{"$nulls":3},{"$f":"'IF Factors'!H15","v":{"v":0,"d":"0%"}},{"$f":"OFFSET('IF Factors'!H15,0,$L$171)","v":{"v":0,"d":"0%"}},{"$f":"OFFSET('IF Factors'!H15,0,$M$171)","v":{"v":0,"d":"0%"}},null,0,0,0,0,null,1,1,1,null,0,0]
[{"$nulls":6},"Mini-bus",{"$nulls":3},{"$f":"'IF Factors'!H16","v":{"v":0,"d":"0%"}},{"$f":"OFFSET('IF Factors'!H16,0,$L$171)","v":{"v":0,"d":"0%"}},{"$f":"OFFSET('IF Factors'!H16,0,$M$171)","v":{"v":0,"d":"0%"}},null,0,0,0,0,null,1,1,1,null,0,0]
[{"$nulls":6},"",{"$nulls":3},{"$f":"'IF Factors'!H17","v":{"v":0,"d":"0%"}},{"$f":"OFFSET('IF Factors'!H17,0,$L$171)","v":{"v":0,"d":"0%"}},{"$f":"OFFSET('IF Factors'!H17,0,$M$171)","v":{"v":0,"d":"0%"}},null,0,0,0,0,null,1,1,1,null,0,0]
[{"$nulls":6},"",{"$nulls":3},{"$f":"'IF Factors'!H18","v":{"v":0,"d":"0%"}},{"$f":"OFFSET('IF Factors'!H18,0,$L$171)","v":{"v":0,"d":"0%"}},{"$f":"OFFSET('IF Factors'!H18,0,$M$171)","v":{"v":0,"d":"0%"}},null,0,0,0,0,null,1,1,1,null,0,0]
[{"$nulls":6},"BRT",{"$nulls":3},{"$f":"'IF Factors'!H19","v":{"v":0,"d":"0%"}},{"$f":"OFFSET('IF Factors'!H19,0,$L$171)","v":{"v":0,"d":"0%"}},{"$f":"OFFSET('IF Factors'!H19,0,$M$171)","v":{"v":0,"d":"0%"}},null,0,0,0,0,null,1,1,1,null,0,0]
[]
[]
[]
[{"$nulls":6},"%"]
[{"$nulls":7},{"$f":"H296","v":0},{"$f":"I296","v":1},2,3,4,5,6,7,8,9,10,11,12,13,14,15,16,17,18,19]
[{"$nulls":5},"NO BRT",{"$f":"G297","v":"Cars"},{"$f":"K314","v":{"v":0,"d":"0%"}},{"$f":"(I$23*$P314)+$O314","v":{"v":0,"d":"0%"}},{"$f":"(J$23*$P314)+$O314","v":{"v":0,"d":"0%"}},{"v":0,"d":"0%"},{"v":0,"d":"0%"},{"v":0,"d":"0%"},{"v":0,"d":"0%"},{"v":0,"d":"0%"},{"v":0,"d":"0%"},{"$f":"L314","v":{"v":0,"d":"0%"}},{"$f":"(R$23*$R314)+$Q314","v":{"v":0,"d":"0%"}},{"$f":"(S$23*$R314)+$Q314","v":{"v":0,"d":"0%"}},{"v":0,"d":"0%"},{"v":0,"d":"0%"},{"v":0,"d":"0%"},{"v":0,"d":"0%"},{"v":0,"d":"0%"},{"v":0,"d":"0%"},{"v":0,"d":"0%"},{"$f":"M314","v":{"v":0,"d":"0%"}}]
[{"$nulls":6},{"$f":"G298","v":"2-wheeler"},{"$f":"K315","v":{"v":0,"d":"0%"}},{"$f":"(I$23*$P315)+$O315","v":{"v":0,"d":"0%"}},{"v":0,"d":"0%"},{"v":0,"d":"0%"},{"v":0,"d":"0%"},{"v":0,"d":"0%"},{"v":0,"d":"0%"},{"v":0,"d":"0%"},{"v":0,"d":"0%"},{"$f":"L315","v":{"v":0,"d":"0%"}},{"$f":"(R$23*$R315)+$Q315","v":{"v":0,"d":"0%"}},{"v":0,"d":"0%"},{"v":0,"d":"0%"},{"v":0,"d":"0%"},{"v":0,"d":"0%"},{"v":0,"d":"0%"},{"v":0,"d":"0%"},{"v":0,"d":"0%"},{"v":0,"d":"0%"},{"$f":"M315","v":{"v":0,"d":"0%"}}]
[{"$nulls":6},"Taxi",{"v":0,"d":"0%"},{"v":0,"d":"0%"},{"v":0,"d":"0%"},{"v":0,"d":"0%"},{"v":0,"d":"0%"},{"v":0,"d":"0%"},{"v":0,"d":"0%"},{"v":0,"d":"0%"},{"v":0,"d":"0%"},{"v":0,"d":"0%"},{"v":0,"d":"0%"},{"v":0,"d":"0%"},{"v":0,"d":"0%"},{"v":0,"d":"0%"},{"v":0,"d":"0%"},{"v":0,"d":"0%"},{"v":0,"d":"0%"},{"v":0,"d":"0%"},{"v":0,"d":"0%"},{"v":0,"d":"0%"}]
[{"$nulls":6},"",{"v":0,"d":"0%"},{"v":0,"d":"0%"},{"v":0,"d":"0%"},{"v":0,"d":"0%"},{"v":0,"d":"0%"},{"v":0,"d":"0%"},{"v":0,"d":"0%"},{"v":0,"d":"0%"},{"v":0,"d":"0%"},{"v":0,"d":"0%"},{"v":0,"d":"0%"},{"v":0,"d":"0%"},{"v":0,"d":"0%"},{"v":0,"d":"0%"},{"v":0,"d":"0%"},{"v":0,"d":"0%"},{"v":0,"d":"0%"},{"v":0,"d":"0%"},{"v":0,"d":"0%"},{"v":0,"d":"0%"}]
[{"$nulls":6},"",{"v":0,"d":"0%"},{"v":0,"d":"0%"},{"v":0,"d":"0%"},{"v":0,"d":"0%"},{"v":0,"d":"0%"},{"v":0,"d":"0%"},{"v":0,"d":"0%"},{"v":0,"d":"0%"},{"v":0,"d":"0%"},{"v":0,"d":"0%"},{"v":0,"d":"0%"},{"v":0,"d":"0%"},{"v":0,"d":"0%"},{"v":0,"d":"0%"},{"v":0,"d":"0%"},{"v":0,"d":"0%"},{"v":0,"d":"0%"},{"v":0,"d":"0%"},{"v":0,"d":"0%"},{"v":0,"d":"0%"}]
[{"$nulls":6},"3-wheeler",{"v":0,"d":"0%"},{"v":0,"d":"0%"},{"v":0,"d":"0%"},{"v":0,"d":"0%"},{"v":0,"d":"0%"},{"v":0,"d":"0%"},{"v":0,"d":"0%"},{"v":0,"d":"0%"},{"v":0,"d":"0%"},{"v":0,"d":"0%"},{"v":0,"d":"0%"},{"v":0,"d":"0%"},{"v":0,"d":"0%"},{"v":0,"d":"0%"},{"v":0,"d":"0%"},{"v":0,"d":"0%"},{"v":0,"d":"0%"},{"v":0,"d":"0%"},{"v":0,"d":"0%"},{"v":0,"d":"0%"}]
[{"$nulls":6},"Bus",{"v":0,"d":"0%"},{"v":0,"d":"0%"},{"v":0,"d":"0%"},{"v":0,"d":"0%"},{"v":0,"d":"0%"},{"v":0,"d":"0%"},{"v":0,"d":"0%"},{"v":0,"d":"0%"},{"v":0,"d":"0%"},{"v":0,"d":"0%"},{"v":0,"d":"0%"},{"v":0,"d":"0%"},{"v":0,"d":"0%"},{"v":0,"d":"0%"},{"v":0,"d":"0%"},{"v":0,"d":"0%"},{"v":0,"d":"0%"},{"v":0,"d":"0%"},{"v":0,"d":"0%"},{"v":0,"d":"0%"}]
[{"$nulls":6},"Mini-bus",{"v":0,"d":"0%"},{"v":0,"d":"0%"},{"v":0,"d":"0%"},{"v":0,"d":"0%"},{"v":0,"d":"0%"},{"v":0,"d":"0%"},{"v":0,"d":"0%"},{"v":0,"d":"0%"},{"v":0,"d":"0%"},{"v":0,"d":"0%"},{"v":0,"d":"0%"},{"v":0,"d":"0%"},{"v":0,"d":"0%"},{"v":0,"d":"0%"},{"v":0,"d":"0%"},{"v":0,"d":"0%"},{"v":0,"d":"0%"},{"v":0,"d":"0%"},{"v":0,"d":"0%"},{"v":0,"d":"0%"}]
[{"$nulls":6},"",{"v":0,"d":"0%"},{"v":0,"d":"0%"},{"v":0,"d":"0%"},{"v":0,"d":"0%"},{"v":0,"d":"0%"},{"v":0,"d":"0%"},{"v":0,"d":"0%"},{"v":0,"d":"0%"},{"v":0,"d":"0%"},{"v":0,"d":"0%"},{"v":0,"d":"0%"},{"v":0,"d":"0%"},{"v":0,"d":"0%"},{"v":0,"d":"0%"},{"v":0,"d":"0%"},{"v":0,"d":"0%"},{"v":0,"d":"0%"},{"v":0,"d":"0%"},{"v":0,"d":"0%"},{"v":0,"d":"0%"}]
[{"$nulls":6},"",{"v":0,"d":"0%"},{"v":0,"d":"0%"},{"v":0,"d":"0%"},{"v":0,"d":"0%"},{"v":0,"d":"0%"},{"v":0,"d":"0%"},{"v":0,"d":"0%"},{"v":0,"d":"0%"},{"v":0,"d":"0%"},{"v":0,"d":"0%"},{"v":0,"d":"0%"},{"v":0,"d":"0%"},{"v":0,"d":"0%"},{"v":0,"d":"0%"},{"v":0,"d":"0%"},{"v":0,"d":"0%"},{"v":0,"d":"0%"},{"v":0,"d":"0%"},{"v":0,"d":"0%"},{"v":0,"d":"0%"}]
[{"$nulls":6},"BRT",{"v":0,"d":"0%"},{"v":0,"d":"0%"},{"v":0,"d":"0%"},{"v":0,"d":"0%"},{"v":0,"d":"0%"},{"v":0,"d":"0%"},{"v":0,"d":"0%"},{"v":0,"d":"0%"},{"v":0,"d":"0%"},{"v":0,"d":"0%"},{"v":0,"d":"0%"},{"v":0,"d":"0%"},{"v":0,"d":"0%"},{"v":0,"d":"0%"},{"v":0,"d":"0%"},{"v":0,"d":"0%"},{"v":0,"d":"0%"},{"v":0,"d":"0%"},{"v":0,"d":"0%"},{"v":0,"d":"0%"}]
[]
[{"$nulls":6},"CNG VKT"]
[{"$nulls":7},{"$f":"H329","v":0},{"$f":"I329","v":1},2,3,4,5,6,7,8,9,10,11,12,13,14,15,16,17,18,19]
[{"$nulls":5},"NO BRT",{"$f":"G330","v":"Cars"},{"$f":"H123*H330","v":0},{"$f":"I123*I330","v":0},0,0,0,0,0,0,0,0,0,0,0,0,0,0,0,0,0,0]
[{"$nulls":6},{"$f":"G331","v":"2-wheeler"},{"$f":"H124*H331","v":0},0,0,0,0,0,0,0,0,0,0,0,0,0,0,0,0,0,0,0]
[{"$nulls":6},"Taxi",0,0,0,0,0,0,0,0,0,0,0,0,0,0,0,0,0,0,0,0]
[{"$nulls":6},"",0,0,0,0,0,0,0,0,0,0,0,0,0,0,0,0,0,0,0,0]
[{"$nulls":6},"",0,0,0,0,0,0,0,0,0,0,0,0,0,0,0,0,0,0,0,0]
[{"$nulls":6},"3-wheeler",0,0,0,0,0,0,0,0,0,0,0,0,0,0,0,0,0,0,0,0]
[{"$nulls":6},"Bus",0,0,0,0,0,0,0,0,0,0,0,0,0,0,0,0,0,0,0,0]
[{"$nulls":6},"Mini-bus",0,0,0,0,0,0,0,0,0,0,0,0,0,0,0,0,0,0,0,0]
[{"$nulls":6},"",0,0,0,0,0,0,0,0,0,0,0,0,0,0,0,0,0,0,0,0]
[{"$nulls":6},"",0,0,0,0,0,0,0,0,0,0,0,0,0,0,0,0,0,0,0,0]
[{"$nulls":6},"BRT",0,0,0,0,0,0,0,0,0,0,0,0,0,0,0,0,0,0,0,0]
[]
[]
[{"$nulls":6},"Electric VKT"]
[{"$nulls":10},"Fuel Split"]
[{"$nulls":10},"Column",7,14,null,"1st",null,"2nd"]
[{"$nulls":10},{"$f":"H376","v":0},{"$f":"Q376","v":9},{"$f":"AA376","v":19},null,"intercept","slope","intercept","slope",null,{"$f":"K360","v":0},{"$f":"L360","v":9},{"$f":"M360","v":19},null,"1st","2nd"]
[{"$nulls":5},"NO BRT",{"$f":"G314","v":"Car"},{"$nulls":3},{"$f":"'IF Factors'!I9","v":{"v":0,"d":"0%"}},{"$f":"OFFSET('IF Factors'!I9,0,$L$171)","v":{"v":0,"d":"0%"}},{"$f":"OFFSET('IF Factors'!I9,0,$M$171)","v":{"v":0,"d":"0%"}},null,{"$f":"INTERCEPT(K361:L361,$K$7:$L$7)","v":0},{"$f":"SLOPE(K361:L361,$K$7:$L$7)","v":0},{"$f":"INTERCEPT(L361:M361,$L$7:$M$7)","v":0},{"$f":"SLOPE(L361:M361,$L$7:$M$7)","v":0},null,{"$f":"IF(K361<>0,0,1)","v":1},{"$f":"IF(L361<>0,0,1)","v":1},{"$f":"IF(M361<>0,0,1)","v":1},null,{"$f":"IF(T361+U361=1,1,0)","v":0},{"$f":"IF(U361+V361=1,1,0)","v":0}]
[{"$nulls":6},{"$f":"G315","v":"2-wheeler"},{"$nulls":3},{"$f":"'IF Factors'!I10","v":{"v":0,"d":"0%"}},{"$f":"OFFSET('IF Factors'!I10,0,$L$171)","v":{"v":0,"d":"0%"}},{"$f":"OFFSET('IF Factors'!I10,0,$M$171)","v":{"v":0,"d":"0%"}},null,{"$f":"INTERCEPT(K362:L362,$K$7:$L$7)","v":0},{"$f":"SLOPE(K362:L362,$K$7:$L$7)","v":0},{"$f":"INTERCEPT(L362:M362,$L$7:$M$7)","v":0},{"$f":"SLOPE(L362:M362,$L$7:$M$7)","v":0},null,{"$f":"IF(K362<>0,0,1)","v":1},1,1,null,{"$f":"IF(T362+U362=1,1,0)","v":0},0]
[{"$nulls":6},"Taxi",{"$nulls":3},{"$f":"'IF Factors'!I11","v":{"v":0,"d":"0%"}},{"$f":"OFFSET('IF Factors'!I11,0,$L$171)","v":{"v":0,"d":"0%"}},{"$f":"OFFSET('IF Factors'!I11,0,$M$171)","v":{"v":0,"d":"0%"}},null,0,0,0,0,null,1,1,1,null,0,0]
[{"$nulls":6},"",{"$nulls":3},{"$f":"'IF Factors'!I12","v":{"v":0,"d":"0%"}},{"$f":"OFFSET('IF Factors'!I12,0,$L$171)","v":{"v":0,"d":"0%"}},{"$f":"OFFSET('IF Factors'!I12,0,$M$171)","v":{"v":0,"d":"0%"}},null,0,0,0,0,null,1,1,1,null,0,0]
[{"$nulls":6},"",{"$nulls":3},{"$f":"'IF Factors'!I13","v":{"v":0,"d":"0%"}},{"$f":"OFFSET('IF Factors'!I13,0,$L$171)","v":{"v":0,"d":"0%"}},{"$f":"OFFSET('IF Factors'!I13,0,$M$171)","v":{"v":0,"d":"0%"}},null,0,0,0,0,null,1,1,1,null,0,0]
[{"$nulls":6},"3-wheeler",{"$nulls":3},{"$f":"'IF Factors'!I14","v":{"v":0,"d":"0%"}},{"$f":"OFFSET('IF Factors'!I14,0,$L$171)","v":{"v":0,"d":"0%"}},{"$f":"OFFSET('IF Factors'!I14,0,$M$171)","v":{"v":0,"d":"0%"}},null,0,0,0,0,null,1,1,1,null,0,0]
[{"$nulls":6},"Bus",{"$nulls":3},{"$f":"'IF Factors'!I15","v":{"v":0,"d":"0%"}},{"$f":"OFFSET('IF Factors'!I15,0,$L$171)","v":{"v":0,"d":"0%"}},{"$f":"OFFSET('IF Factors'!I15,0,$M$171)","v":{"v":0,"d":"0%"}},null,0,0,0,0,null,1,1,1,null,0,0]
[{"$nulls":6},"Mini-bus",{"$nulls":3},{"$f":"'IF Factors'!I16","v":{"v":0,"d":"0%"}},{"$f":"OFFSET('IF Factors'!I16,0,$L$171)","v":{"v":0,"d":"0%"}},{"$f":"OFFSET('IF Factors'!I16,0,$M$171)","v":{"v":0,"d":"0%"}},null,0,0,0,0,null,1,1,1,null,0,0]
[{"$nulls":6},"",{"$nulls":3},{"$f":"'IF Factors'!I17","v":{"v":0,"d":"0%"}},{"$f":"OFFSET('IF Factors'!I17,0,$L$171)","v":{"v":0,"d":"0%"}},{"$f":"OFFSET('IF Factors'!I17,0,$M$171)","v":{"v":0,"d":"0%"}},null,0,0,0,0,null,1,1,1,null,0,0]
[{"$nulls":6},"",{"$nulls":3},{"$f":"'IF Factors'!I18","v":{"v":0,"d":"0%"}},{"$f":"OFFSET('IF Factors'!I18,0,$L$171)","v":{"v":0,"d":"0%"}},{"$f":"OFFSET('IF Factors'!I18,0,$M$171)","v":{"v":0,"d":"0%"}},null,0,0,0,0,null,1,1,1,null,0,0]
[{"$nulls":6},"BRT",{"$nulls":3},{"$f":"'IF Factors'!I19","v":{"v":0,"d":"0%"}},{"$f":"OFFSET('IF Factors'!I19,0,$L$171)","v":{"v":0,"d":"0%"}},{"$f":"OFFSET('IF Factors'!I19,0,$M$171)","v":{"v":0,"d":"0%"}},null,0,0,0,0,null,1,1,1,null,0,0]
[]
[]
[]
[{"$nulls":6},"%"]
[{"$nulls":7},{"$f":"H343","v":0},{"$f":"I343","v":1},2,3,4,5,6,7,8,9,10,11,12,13,14,15,16,17,18,19]
[{"$nulls":5},"NO BRT",{"$f":"G344","v":"Cars"},{"$f":"K361","v":{"v":0,"d":"0%"}},{"$f":"(I$23*$P361)+$O361","v":{"v":0,"d":"0%"}},{"$f":"(J$23*$P361)+$O361","v":{"v":0,"d":"0%"}},{"v":0,"d":"0%"},{"v":0,"d":"0%"},{"v":0,"d":"0%"},{"v":0,"d":"0%"},{"v":0,"d":"0%"},{"v":0,"d":"0%"},{"$f":"L361","v":{"v":0,"d":"0%"}},{"$f":"(R$23*$R361)+$Q361","v":{"v":0,"d":"0%"}},{"$f":"(S$23*$R361)+$Q361","v":{"v":0,"d":"0%"}},{"v":0,"d":"0%"},{"v":0,"d":"0%"},{"v":0,"d":"0%"},{"v":0,"d":"0%"},{"v":0,"d":"0%"},{"v":0,"d":"0%"},{"v":0,"d":"0%"},{"$f":"M361","v":{"v":0,"d":"0%"}}]
[{"$nulls":6},{"$f":"G345","v":"2-wheeler"},{"$f":"K362","v":{"v":0,"d":"0%"}},{"$f":"(I$23*$P362)+$O362","v":{"v":0,"d":"0%"}},{"v":0,"d":"0%"},{"v":0,"d":"0%"},{"v":0,"d":"0%"},{"v":0,"d":"0%"},{"v":0,"d":"0%"},{"v":0,"d":"0%"},{"v":0,"d":"0%"},{"$f":"L362","v":{"v":0,"d":"0%"}},{"$f":"(R$23*$R362)+$Q362","v":{"v":0,"d":"0%"}},{"v":0,"d":"0%"},{"v":0,"d":"0%"},{"v":0,"d":"0%"},{"v":0,"d":"0%"},{"v":0,"d":"0%"},{"v":0,"d":"0%"},{"v":0,"d":"0%"},{"v":0,"d":"0%"},{"$f":"M362","v":{"v":0,"d":"0%"}}]
[{"$nulls":6},"Taxi",{"v":0,"d":"0%"},{"v":0,"d":"0%"},{"v":0,"d":"0%"},{"v":0,"d":"0%"},{"v":0,"d":"0%"},{"v":0,"d":"0%"},{"v":0,"d":"0%"},{"v":0,"d":"0%"},{"v":0,"d":"0%"},{"v":0,"d":"0%"},{"v":0,"d":"0%"},{"v":0,"d":"0%"},{"v":0,"d":"0%"},{"v":0,"d":"0%"},{"v":0,"d":"0%"},{"v":0,"d":"0%"},{"v":0,"d":"0%"},{"v":0,"d":"0%"},{"v":0,"d":"0%"},{"v":0,"d":"0%"}]
[{"$nulls":6},"",{"v":0,"d":"0%"},{"v":0,"d":"0%"},{"v":0,"d":"0%"},{"v":0,"d":"0%"},{"v":0,"d":"0%"},{"v":0,"d":"0%"},{"v":0,"d":"0%"},{"v":0,"d":"0%"},{"v":0,"d":"0%"},{"v":0,"d":"0%"},{"v":0,"d":"0%"},{"v":0,"d":"0%"},{"v":0,"d":"0%"},{"v":0,"d":"0%"},{"v":0,"d":"0%"},{"v":0,"d":"0%"},{"v":0,"d":"0%"},{"v":0,"d":"0%"},{"v":0,"d":"0%"},{"v":0,"d":"0%"}]
[{"$nulls":6},"",{"v":0,"d":"0%"},{"v":0,"d":"0%"},{"v":0,"d":"0%"},{"v":0,"d":"0%"},{"v":0,"d":"0%"},{"v":0,"d":"0%"},{"v":0,"d":"0%"},{"v":0,"d":"0%"},{"v":0,"d":"0%"},{"v":0,"d":"0%"},{"v":0,"d":"0%"},{"v":0,"d":"0%"},{"v":0,"d":"0%"},{"v":0,"d":"0%"},{"v":0,"d":"0%"},{"v":0,"d":"0%"},{"v":0,"d":"0%"},{"v":0,"d":"0%"},{"v":0,"d":"0%"},{"v":0,"d":"0%"}]
[{"$nulls":6},"3-wheeler",{"v":0,"d":"0%"},{"v":0,"d":"0%"},{"v":0,"d":"0%"},{"v":0,"d":"0%"},{"v":0,"d":"0%"},{"v":0,"d":"0%"},{"v":0,"d":"0%"},{"v":0,"d":"0%"},{"v":0,"d":"0%"},{"v":0,"d":"0%"},{"v":0,"d":"0%"},{"v":0,"d":"0%"},{"v":0,"d":"0%"},{"v":0,"d":"0%"},{"v":0,"d":"0%"},{"v":0,"d":"0%"},{"v":0,"d":"0%"},{"v":0,"d":"0%"},{"v":0,"d":"0%"},{"v":0,"d":"0%"}]
[{"$nulls":6},"Bus",{"v":0,"d":"0%"},{"v":0,"d":"0%"},{"v":0,"d":"0%"},{"v":0,"d":"0%"},{"v":0,"d":"0%"},{"v":0,"d":"0%"},{"v":0,"d":"0%"},{"v":0,"d":"0%"},{"v":0,"d":"0%"},{"v":0,"d":"0%"},{"v":0,"d":"0%"},{"v":0,"d":"0%"},{"v":0,"d":"0%"},{"v":0,"d":"0%"},{"v":0,"d":"0%"},{"v":0,"d":"0%"},{"v":0,"d":"0%"},{"v":0,"d":"0%"},{"v":0,"d":"0%"},{"v":0,"d":"0%"}]
[{"$nulls":6},"Mini-bus",{"v":0,"d":"0%"},{"v":0,"d":"0%"},{"v":0,"d":"0%"},{"v":0,"d":"0%"},{"v":0,"d":"0%"},{"v":0,"d":"0%"},{"v":0,"d":"0%"},{"v":0,"d":"0%"},{"v":0,"d":"0%"},{"v":0,"d":"0%"},{"v":0,"d":"0%"},{"v":0,"d":"0%"},{"v":0,"d":"0%"},{"v":0,"d":"0%"},{"v":0,"d":"0%"},{"v":0,"d":"0%"},{"v":0,"d":"0%"},{"v":0,"d":"0%"},{"v":0,"d":"0%"},{"v":0,"d":"0%"}]
[{"$nulls":6},"",{"v":0,"d":"0%"},{"v":0,"d":"0%"},{"v":0,"d":"0%"},{"v":0,"d":"0%"},{"v":0,"d":"0%"},{"v":0,"d":"0%"},{"v":0,"d":"0%"},{"v":0,"d":"0%"},{"v":0,"d":"0%"},{"v":0,"d":"0%"},{"v":0,"d":"0%"},{"v":0,"d":"0%"},{"v":0,"d":"0%"},{"v":0,"d":"0%"},{"v":0,"d":"0%"},{"v":0,"d":"0%"},{"v":0,"d":"0%"},{"v":0,"d":"0%"},{"v":0,"d":"0%"},{"v":0,"d":"0%"}]
[{"$nulls":6},"",{"v":0,"d":"0%"},{"v":0,"d":"0%"},{"v":0,"d":"0%"},{"v":0,"d":"0%"},{"v":0,"d":"0%"},{"v":0,"d":"0%"},{"v":0,"d":"0%"},{"v":0,"d":"0%"},{"v":0,"d":"0%"},{"v":0,"d":"0%"},{"v":0,"d":"0%"},{"v":0,"d":"0%"},{"v":0,"d":"0%"},{"v":0,"d":"0%"},{"v":0,"d":"0%"},{"v":0,"d":"0%"},{"v":0,"d":"0%"},{"v":0,"d":"0%"},{"v":0,"d":"0%"},{"v":0,"d":"0%"}]
[{"$nulls":6},"BRT",{"v":0,"d":"0%"},{"v":0,"d":"0%"},{"v":0,"d":"0%"},{"v":0,"d":"0%"},{"v":0,"d":"0%"},{"v":0,"d":"0%"},{"v":0,"d":"0%"},{"v":0,"d":"0%"},{"v":0,"d":"0%"},{"v":0,"d":"0%"},{"v":0,"d":"0%"},{"v":0,"d":"0%"},{"v":0,"d":"0%"},{"v":0,"d":"0%"},{"v":0,"d":"0%"},{"v":0,"d":"0%"},{"v":0,"d":"0%"},{"v":0,"d":"0%"},{"v":0,"d":"0%"},{"v":0,"d":"0%"}]
[]
[{"$nulls":6},"Electric VKT"]
[{"$nulls":7},{"$f":"H376","v":0},{"$f":"I376","v":1},2,3,4,5,6,7,8,9,10,11,12,13,14,15,16,17,18,19]
[{"$nulls":5},"NO BRT",{"$f":"G377","v":"Cars"},{"$f":"H123*H377","v":0},{"$f":"I123*I377","v":0},0,0,0,0,0,0,0,0,0,0,0,0,0,0,0,0,0,0]
[{"$nulls":6},{"$f":"G378","v":"2-wheeler"},{"$f":"H124*H378","v":0},0,0,0,0,0,0,0,0,0,0,0,0,0,0,0,0,0,0,0]
[{"$nulls":6},"Taxi",0,0,0,0,0,0,0,0,0,0,0,0,0,0,0,0,0,0,0,0]
[{"$nulls":6},"",0,0,0,0,0,0,0,0,0,0,0,0,0,0,0,0,0,0,0,0]
[{"$nulls":6},"",0,0,0,0,0,0,0,0,0,0,0,0,0,0,0,0,0,0,0,0]
[{"$nulls":6},"3-wheeler",0,0,0,0,0,0,0,0,0,0,0,0,0,0,0,0,0,0,0,0]
[{"$nulls":6},"Bus",0,0,0,0,0,0,0,0,0,0,0,0,0,0,0,0,0,0,0,0]
[{"$nulls":6},"Mini-bus",0,0,0,0,0,0,0,0,0,0,0,0,0,0,0,0,0,0,0,0]
[{"$nulls":6},"",0,0,0,0,0,0,0,0,0,0,0,0,0,0,0,0,0,0,0,0]
[{"$nulls":6},"",0,0,0,0,0,0,0,0,0,0,0,0,0,0,0,0,0,0,0,0]
[{"$nulls":6},"BRT",0,0,0,0,0,0,0,0,0,0,0,0,0,0,0,0,0,0,0,0]
[]
[]
[{"$nulls":6},{"$f":"IF('IF Factors'!J8=\"\",\"not included\",CONCATENATE('IF Factors'!J8,\"VKT\"))","v":"EthanolVKT"}]
[{"$nulls":10},"Fuel Split"]
[{"$nulls":10},"Column",7,14,null,"1st",null,"2nd"]
[{"$nulls":10},{"$f":"H423","v":0},{"$f":"Q423","v":9},{"$f":"AA423","v":19},null,"intercept","slope","intercept","slope",null,{"$f":"K407","v":0},{"$f":"L407","v":9},{"$f":"M407","v":19},null,"1st","2nd"]
[{"$nulls":5},"NO BRT",{"$f":"G361","v":"Car"},{"$nulls":3},{"$f":"'IF Factors'!J9","v":{"v":0,"d":"0%"}},{"$f":"OFFSET('IF Factors'!J9,0,$L$171)","v":{"v":0,"d":"0%"}},{"$f":"OFFSET('IF Factors'!J9,0,$M$171)","v":{"v":0,"d":"0%"}},null,{"$f":"INTERCEPT(K408:L408,$K$7:$L$7)","v":0},{"$f":"SLOPE(K408:L408,$K$7:$L$7)","v":0},{"$f":"INTERCEPT(L408:M408,$L$7:$M$7)","v":0},{"$f":"SLOPE(L408:M408,$L$7:$M$7)","v":0},null,{"$f":"IF(K408<>0,0,1)","v":1},{"$f":"IF(L408<>0,0,1)","v":1},{"$f":"IF(M408<>0,0,1)","v":1},null,{"$f":"IF(T408+U408=1,1,0)","v":0},{"$f":"IF(U408+V408=1,1,0)","v":0}]
[{"$nulls":6},{"$f":"G362","v":"2-wheeler"},{"$nulls":3},{"$f":"'IF Factors'!J10","v":{"v":0,"d":"0%"}},{"$f":"OFFSET('IF Factors'!J10,0,$L$171)","v":{"v":0,"d":"0%"}},{"$f":"OFFSET('IF Factors'!J10,0,$M$171)","v":{"v":0,"d":"0%"}},null,{"$f":"INTERCEPT(K409:L409,$K$7:$L$7)","v":0},{"$f":"SLOPE(K409:L409,$K$7:$L$7)","v":0},{"$f":"INTERCEPT(L409:M409,$L$7:$M$7)","v":0},{"$f":"SLOPE(L409:M409,$L$7:$M$7)","v":0},null,{"$f":"IF(K409<>0,0,1)","v":1},1,1,null,{"$f":"IF(T409+U409=1,1,0)","v":0},0]
[{"$nulls":6},"Taxi",{"$nulls":3},{"$f":"'IF Factors'!J11","v":{"v":0,"d":"0%"}},{"$f":"OFFSET('IF Factors'!J11,0,$L$171)","v":{"v":0,"d":"0%"}},{"$f":"OFFSET('IF Factors'!J11,0,$M$171)","v":{"v":0,"d":"0%"}},null,0,0,0,0,null,1,1,1,null,0,0]
[{"$nulls":6},"",{"$nulls":3},{"$f":"'IF Factors'!J12","v":{"v":0,"d":"0%"}},{"$f":"OFFSET('IF Factors'!J12,0,$L$171)","v":{"v":0,"d":"0%"}},{"$f":"OFFSET('IF Factors'!J12,0,$M$171)","v":{"v":0,"d":"0%"}},null,0,0,0,0,null,1,1,1,null,0,0]
[{"$nulls":6},"",{"$nulls":3},{"$f":"'IF Factors'!J13","v":{"v":0,"d":"0%"}},{"$f":"OFFSET('IF Factors'!J13,0,$L$171)","v":{"v":0,"d":"0%"}},{"$f":"OFFSET('IF Factors'!J13,0,$M$171)","v":{"v":0,"d":"0%"}},null,0,0,0,0,null,1,1,1,null,0,0]
[{"$nulls":6},"3-wheeler",{"$nulls":3},{"$f":"'IF Factors'!J14","v":{"v":0,"d":"0%"}},{"$f":"OFFSET('IF Factors'!J14,0,$L$171)","v":{"v":0,"d":"0%"}},{"$f":"OFFSET('IF Factors'!J14,0,$M$171)","v":{"v":0,"d":"0%"}},null,0,0,0,0,null,1,1,1,null,0,0]
[{"$nulls":6},"Bus",{"$nulls":3},{"$f":"'IF Factors'!J15","v":{"v":0,"d":"0%"}},{"$f":"OFFSET('IF Factors'!J15,0,$L$171)","v":{"v":0,"d":"0%"}},{"$f":"OFFSET('IF Factors'!J15,0,$M$171)","v":{"v":0,"d":"0%"}},null,0,0,0,0,null,1,1,1,null,0,0]
[{"$nulls":6},"Mini-bus",{"$nulls":3},{"$f":"'IF Factors'!J16","v":{"v":0,"d":"0%"}},{"$f":"OFFSET('IF Factors'!J16,0,$L$171)","v":{"v":0,"d":"0%"}},{"$f":"OFFSET('IF Factors'!J16,0,$M$171)","v":{"v":0,"d":"0%"}},null,0,0,0,0,null,1,1,1,null,0,0]
[{"$nulls":6},"",{"$nulls":3},{"$f":"'IF Factors'!J17","v":{"v":0,"d":"0%"}},{"$f":"OFFSET('IF Factors'!J17,0,$L$171)","v":{"v":0,"d":"0%"}},{"$f":"OFFSET('IF Factors'!J17,0,$M$171)","v":{"v":0,"d":"0%"}},null,0,0,0,0,null,1,1,1,null,0,0]
[{"$nulls":6},"",{"$nulls":3},{"$f":"'IF Factors'!J18","v":{"v":0,"d":"0%"}},{"$f":"OFFSET('IF Factors'!J18,0,$L$171)","v":{"v":0,"d":"0%"}},{"$f":"OFFSET('IF Factors'!J18,0,$M$171)","v":{"v":0,"d":"0%"}},null,0,0,0,0,null,1,1,1,null,0,0]
[{"$nulls":6},"BRT",{"$nulls":3},{"$f":"'IF Factors'!J19","v":{"v":0,"d":"0%"}},{"$f":"OFFSET('IF Factors'!J19,0,$L$171)","v":{"v":0,"d":"0%"}},{"$f":"OFFSET('IF Factors'!J19,0,$M$171)","v":{"v":0,"d":"0%"}},null,0,0,0,0,null,1,1,1,null,0,0]
[]
[]
[]
[{"$nulls":6},"%"]
[{"$nulls":7},{"$f":"H390","v":0},{"$f":"I390","v":1},2,3,4,5,6,7,8,9,10,11,12,13,14,15,16,17,18,19]
[{"$nulls":5},"NO BRT",{"$f":"G391","v":"Cars"},{"$f":"K408","v":{"v":0,"d":"0%"}},{"$f":"(I$23*$P408)+$O408","v":{"v":0,"d":"0%"}},{"$f":"(J$23*$P408)+$O408","v":{"v":0,"d":"0%"}},{"v":0,"d":"0%"},{"v":0,"d":"0%"},{"v":0,"d":"0%"},{"v":0,"d":"0%"},{"v":0,"d":"0%"},{"v":0,"d":"0%"},{"$f":"L408","v":{"v":0,"d":"0%"}},{"$f":"(R$23*$R408)+$Q408","v":{"v":0,"d":"0%"}},{"$f":"(S$23*$R408)+$Q408","v":{"v":0,"d":"0%"}},{"v":0,"d":"0%"},{"v":0,"d":"0%"},{"v":0,"d":"0%"},{"v":0,"d":"0%"},{"v":0,"d":"0%"},{"v":0,"d":"0%"},{"v":0,"d":"0%"},{"$f":"M408","v":{"v":0,"d":"0%"}}]
[{"$nulls":6},{"$f":"G392","v":"2-wheeler"},{"$f":"K409","v":{"v":0,"d":"0%"}},{"$f":"(I$23*$P409)+$O409","v":{"v":0,"d":"0%"}},{"v":0,"d":"0%"},{"v":0,"d":"0%"},{"v":0,"d":"0%"},{"v":0,"d":"0%"},{"v":0,"d":"0%"},{"v":0,"d":"0%"},{"v":0,"d":"0%"},{"$f":"L409","v":{"v":0,"d":"0%"}},{"$f":"(R$23*$R409)+$Q409","v":{"v":0,"d":"0%"}},{"v":0,"d":"0%"},{"v":0,"d":"0%"},{"v":0,"d":"0%"},{"v":0,"d":"0%"},{"v":0,"d":"0%"},{"v":0,"d":"0%"},{"v":0,"d":"0%"},{"v":0,"d":"0%"},{"$f":"M409","v":{"v":0,"d":"0%"}}]
[{"$nulls":6},"Taxi",{"v":0,"d":"0%"},{"v":0,"d":"0%"},{"v":0,"d":"0%"},{"v":0,"d":"0%"},{"v":0,"d":"0%"},{"v":0,"d":"0%"},{"v":0,"d":"0%"},{"v":0,"d":"0%"},{"v":0,"d":"0%"},{"v":0,"d":"0%"},{"v":0,"d":"0%"},{"v":0,"d":"0%"},{"v":0,"d":"0%"},{"v":0,"d":"0%"},{"v":0,"d":"0%"},{"v":0,"d":"0%"},{"v":0,"d":"0%"},{"v":0,"d":"0%"},{"v":0,"d":"0%"},{"v":0,"d":"0%"}]
[{"$nulls":6},"",{"v":0,"d":"0%"},{"v":0,"d":"0%"},{"v":0,"d":"0%"},{"v":0,"d":"0%"},{"v":0,"d":"0%"},{"v":0,"d":"0%"},{"v":0,"d":"0%"},{"v":0,"d":"0%"},{"v":0,"d":"0%"},{"v":0,"d":"0%"},{"v":0,"d":"0%"},{"v":0,"d":"0%"},{"v":0,"d":"0%"},{"v":0,"d":"0%"},{"v":0,"d":"0%"},{"v":0,"d":"0%"},{"v":0,"d":"0%"},{"v":0,"d":"0%"},{"v":0,"d":"0%"},{"v":0,"d":"0%"}]
[{"$nulls":6},"",{"v":0,"d":"0%"},{"v":0,"d":"0%"},{"v":0,"d":"0%"},{"v":0,"d":"0%"},{"v":0,"d":"0%"},{"v":0,"d":"0%"},{"v":0,"d":"0%"},{"v":0,"d":"0%"},{"v":0,"d":"0%"},{"v":0,"d":"0%"},{"v":0,"d":"0%"},{"v":0,"d":"0%"},{"v":0,"d":"0%"},{"v":0,"d":"0%"},{"v":0,"d":"0%"},{"v":0,"d":"0%"},{"v":0,"d":"0%"},{"v":0,"d":"0%"},{"v":0,"d":"0%"},{"v":0,"d":"0%"}]
[{"$nulls":6},"3-wheeler",{"v":0,"d":"0%"},{"v":0,"d":"0%"},{"v":0,"d":"0%"},{"v":0,"d":"0%"},{"v":0,"d":"0%"},{"v":0,"d":"0%"},{"v":0,"d":"0%"},{"v":0,"d":"0%"},{"v":0,"d":"0%"},{"v":0,"d":"0%"},{"v":0,"d":"0%"},{"v":0,"d":"0%"},{"v":0,"d":"0%"},{"v":0,"d":"0%"},{"v":0,"d":"0%"},{"v":0,"d":"0%"},{"v":0,"d":"0%"},{"v":0,"d":"0%"},{"v":0,"d":"0%"},{"v":0,"d":"0%"}]
[{"$nulls":6},"Bus",{"v":0,"d":"0%"},{"v":0,"d":"0%"},{"v":0,"d":"0%"},{"v":0,"d":"0%"},{"v":0,"d":"0%"},{"v":0,"d":"0%"},{"v":0,"d":"0%"},{"v":0,"d":"0%"},{"v":0,"d":"0%"},{"v":0,"d":"0%"},{"v":0,"d":"0%"},{"v":0,"d":"0%"},{"v":0,"d":"0%"},{"v":0,"d":"0%"},{"v":0,"d":"0%"},{"v":0,"d":"0%"},{"v":0,"d":"0%"},{"v":0,"d":"0%"},{"v":0,"d":"0%"},{"v":0,"d":"0%"}]
[{"$nulls":6},"Mini-bus",{"v":0,"d":"0%"},{"v":0,"d":"0%"},{"v":0,"d":"0%"},{"v":0,"d":"0%"},{"v":0,"d":"0%"},{"v":0,"d":"0%"},{"v":0,"d":"0%"},{"v":0,"d":"0%"},{"v":0,"d":"0%"},{"v":0,"d":"0%"},{"v":0,"d":"0%"},{"v":0,"d":"0%"},{"v":0,"d":"0%"},{"v":0,"d":"0%"},{"v":0,"d":"0%"},{"v":0,"d":"0%"},{"v":0,"d":"0%"},{"v":0,"d":"0%"},{"v":0,"d":"0%"},{"v":0,"d":"0%"}]
[{"$nulls":6},"",{"v":0,"d":"0%"},{"v":0,"d":"0%"},{"v":0,"d":"0%"},{"v":0,"d":"0%"},{"v":0,"d":"0%"},{"v":0,"d":"0%"},{"v":0,"d":"0%"},{"v":0,"d":"0%"},{"v":0,"d":"0%"},{"v":0,"d":"0%"},{"v":0,"d":"0%"},{"v":0,"d":"0%"},{"v":0,"d":"0%"},{"v":0,"d":"0%"},{"v":0,"d":"0%"},{"v":0,"d":"0%"},{"v":0,"d":"0%"},{"v":0,"d":"0%"},{"v":0,"d":"0%"},{"v":0,"d":"0%"}]
[{"$nulls":6},"",{"v":0,"d":"0%"},{"v":0,"d":"0%"},{"v":0,"d":"0%"},{"v":0,"d":"0%"},{"v":0,"d":"0%"},{"v":0,"d":"0%"},{"v":0,"d":"0%"},{"v":0,"d":"0%"},{"v":0,"d":"0%"},{"v":0,"d":"0%"},{"v":0,"d":"0%"},{"v":0,"d":"0%"},{"v":0,"d":"0%"},{"v":0,"d":"0%"},{"v":0,"d":"0%"},{"v":0,"d":"0%"},{"v":0,"d":"0%"},{"v":0,"d":"0%"},{"v":0,"d":"0%"},{"v":0,"d":"0%"}]
[{"$nulls":6},"BRT",{"v":0,"d":"0%"},{"v":0,"d":"0%"},{"v":0,"d":"0%"},{"v":0,"d":"0%"},{"v":0,"d":"0%"},{"v":0,"d":"0%"},{"v":0,"d":"0%"},{"v":0,"d":"0%"},{"v":0,"d":"0%"},{"v":0,"d":"0%"},{"v":0,"d":"0%"},{"v":0,"d":"0%"},{"v":0,"d":"0%"},{"v":0,"d":"0%"},{"v":0,"d":"0%"},{"v":0,"d":"0%"},{"v":0,"d":"0%"},{"v":0,"d":"0%"},{"v":0,"d":"0%"},{"v":0,"d":"0%"}]
[]
[{"$nulls":6},{"$f":"IF('IF Factors'!J8=\"\",\"not included\",CONCATENATE('IF Factors'!J8,\"VKT\"))","v":"EthanolVKT"}]
[{"$nulls":7},{"$f":"H423","v":0},{"$f":"I423","v":1},2,3,4,5,6,7,8,9,10,11,12,13,14,15,16,17,18,19]
[{"$nulls":5},"NO BRT",{"$f":"G424","v":"Cars"},{"$f":"H123*H424","v":0},{"$f":"I123*I424","v":0},0,0,0,0,0,0,0,0,0,0,0,0,0,0,0,0,0,0]
[{"$nulls":6},{"$f":"G425","v":"2-wheeler"},{"$f":"H124*H425","v":0},0,0,0,0,0,0,0,0,0,0,0,0,0,0,0,0,0,0,0]
[{"$nulls":6},"Taxi",0,0,0,0,0,0,0,0,0,0,0,0,0,0,0,0,0,0,0,0]
[{"$nulls":6},"",0,0,0,0,0,0,0,0,0,0,0,0,0,0,0,0,0,0,0,0]
[{"$nulls":6},"",0,0,0,0,0,0,0,0,0,0,0,0,0,0,0,0,0,0,0,0]
[{"$nulls":6},"3-wheeler",0,0,0,0,0,0,0,0,0,0,0,0,0,0,0,0,0,0,0,0]
[{"$nulls":6},"Bus",0,0,0,0,0,0,0,0,0,0,0,0,0,0,0,0,0,0,0,0]
[{"$nulls":6},"Mini-bus",0,0,0,0,0,0,0,0,0,0,0,0,0,0,0,0,0,0,0,0]
[{"$nulls":6},"",0,0,0,0,0,0,0,0,0,0,0,0,0,0,0,0,0,0,0,0]
[{"$nulls":6},"",0,0,0,0,0,0,0,0,0,0,0,0,0,0,0,0,0,0,0,0]
[{"$nulls":6},"BRT",0,0,0,0,0,0,0,0,0,0,0,0,0,0,0,0,0,0,0,0]
[]
[]
[{"$nulls":6},"Gasoline Fuel Efficiency "]
[{"$nulls":10},"Fuel Efficiency (km/unit of consumption)"]
[{"$nulls":10},"Column",7,14,null,"1st",null,"2nd"]
[{"$nulls":10},{"$f":"H470","v":0},{"$f":"Q470","v":9},{"$f":"AA470","v":19},null,"intercept","slope","intercept","slope",null,{"$f":"K454","v":0},{"$f":"L454","v":9},{"$f":"M454","v":19},null,"1st","2nd"]
[{"$nulls":5},"NO BRT",{"$f":"G438","v":"Cars"},{"$nulls":3},{"$f":"'IF Factors'!E195","v":0},{"$f":"OFFSET('IF Factors'!E195,0,$L$171)","v":0},{"$f":"OFFSET('IF Factors'!E195,0,$M$171)","v":0},null,{"$f":"INTERCEPT(K455:L455,$K$7:$L$7)","v":0},{"$f":"SLOPE(K455:L455,$K$7:$L$7)","v":0},{"$f":"INTERCEPT(L455:M455,$L$7:$M$7)","v":0},{"$f":"SLOPE(L455:M455,$L$7:$M$7)","v":0},null,{"$f":"IF(K455<>0,0,1)","v":1},{"$f":"IF(L455<>0,0,1)","v":1},{"$f":"IF(M455<>0,0,1)","v":1},null,{"$f":"IF(T455+U455=1,1,0)","v":0},{"$f":"IF(U455+V455=1,1,0)","v":0}]
[{"$nulls":6},{"$f":"G439","v":"2-wheeler"},{"$nulls":3},{"$f":"'IF Factors'!E196","v":0},{"$f":"OFFSET('IF Factors'!E196,0,$L$171)","v":0},{"$f":"OFFSET('IF Factors'!E196,0,$M$171)","v":0},null,{"$f":"INTERCEPT(K456:L456,$K$7:$L$7)","v":0},{"$f":"SLOPE(K456:L456,$K$7:$L$7)","v":0},{"$f":"INTERCEPT(L456:M456,$L$7:$M$7)","v":0},{"$f":"SLOPE(L456:M456,$L$7:$M$7)","v":0},null,{"$f":"IF(K456<>0,0,1)","v":1},1,1,null,{"$f":"IF(T456+U456=1,1,0)","v":0},0]
[{"$nulls":6},"Taxi",{"$nulls":3},{"$f":"'IF Factors'!E197","v":0},{"$f":"OFFSET('IF Factors'!E197,0,$L$171)","v":0},{"$f":"OFFSET('IF Factors'!E197,0,$M$171)","v":0},null,0,0,0,0,null,1,1,1,null,0,0]
[{"$nulls":6},"",{"$nulls":3},{"$f":"'IF Factors'!E198","v":0},{"$f":"OFFSET('IF Factors'!E198,0,$L$171)","v":0},{"$f":"OFFSET('IF Factors'!E198,0,$M$171)","v":0},null,0,0,0,0,null,1,1,1,null,0,0]
[{"$nulls":6},"",{"$nulls":3},{"$f":"'IF Factors'!E199","v":0},{"$f":"OFFSET('IF Factors'!E199,0,$L$171)","v":0},{"$f":"OFFSET('IF Factors'!E199,0,$M$171)","v":0},null,0,0,0,0,null,1,1,1,null,0,0]
[{"$nulls":6},"3-wheeler",{"$nulls":3},{"$f":"'IF Factors'!E200","v":0},{"$f":"OFFSET('IF Factors'!E200,0,$L$171)","v":0},{"$f":"OFFSET('IF Factors'!E200,0,$M$171)","v":0},null,0,0,0,0,null,1,1,1,null,0,0]
[{"$nulls":6},"Bus",{"$nulls":3},{"$f":"'IF Factors'!E201","v":0},{"$f":"OFFSET('IF Factors'!E201,0,$L$171)","v":0},{"$f":"OFFSET('IF Factors'!E201,0,$M$171)","v":0},null,0,0,0,0,null,1,1,1,null,0,0]
[{"$nulls":6},"Mini-bus",{"$nulls":3},{"$f":"'IF Factors'!E202","v":0},{"$f":"OFFSET('IF Factors'!E202,0,$L$171)","v":0},{"$f":"OFFSET('IF Factors'!E202,0,$M$171)","v":0},null,0,0,0,0,null,1,1,1,null,0,0]
[{"$nulls":6},"",{"$nulls":3},{"$f":"'IF Factors'!E203","v":0},{"$f":"OFFSET('IF Factors'!E203,0,$L$171)","v":0},{"$f":"OFFSET('IF Factors'!E203,0,$M$171)","v":0},null,0,0,0,0,null,1,1,1,null,0,0]
[{"$nulls":6},"",{"$nulls":3},{"$f":"'IF Factors'!E204","v":0},{"$f":"OFFSET('IF Factors'!E204,0,$L$171)","v":0},{"$f":"OFFSET('IF Factors'!E204,0,$M$171)","v":0},null,0,0,0,0,null,1,1,1,null,0,0]
[{"$nulls":6},"BRT",{"$nulls":3},{"$f":"'IF Factors'!E205","v":0},{"$f":"OFFSET('IF Factors'!E205,0,$L$171)","v":0},{"$f":"OFFSET('IF Factors'!E205,0,$M$171)","v":0},null,0,0,0,0,null,1,1,1,null,0,0]
[]
[]
[]
[{"$nulls":6},"Gasoline Fuel Efficiency"]
[{"$nulls":7},{"$f":"H437","v":0},{"$f":"I437","v":1},2,3,4,5,6,7,8,9,10,11,12,13,14,15,16,17,18,19]
[{"$nulls":5},"NO BRT",{"$f":"G438","v":"Cars"},{"$f":"K455","v":{"v":0,"d":"0.00"}},{"$f":"(I$23*$P455)+$O455","v":{"v":0,"d":"0.00"}},{"$f":"(J$23*$P455)+$O455","v":{"v":0,"d":"0.00"}},{"v":0,"d":"0.00"},{"v":0,"d":"0.00"},{"v":0,"d":"0.00"},{"v":0,"d":"0.00"},{"v":0,"d":"0.00"},{"v":0,"d":"0.00"},{"$f":"L455","v":{"v":0,"d":"0.00"}},{"$f":"(R$23*$R455)+$Q455","v":{"v":0,"d":"0.00"}},{"$f":"(S$23*$R455)+$Q455","v":{"v":0,"d":"0.00"}},{"v":0,"d":"0.00"},{"v":0,"d":"0.00"},{"v":0,"d":"0.00"},{"v":0,"d":"0.00"},{"v":0,"d":"0.00"},{"v":0,"d":"0.00"},{"v":0,"d":"0.00"},{"$f":"M455","v":{"v":0,"d":"0.00"}}]
[{"$nulls":6},{"$f":"G439","v":"2-wheeler"},{"$f":"K456","v":{"v":0,"d":"0.00"}},{"$f":"(I$23*$P456)+$O456","v":{"v":0,"d":"0.00"}},{"v":0,"d":"0.00"},{"v":0,"d":"0.00"},{"v":0,"d":"0.00"},{"v":0,"d":"0.00"},{"v":0,"d":"0.00"},{"v":0,"d":"0.00"},{"v":0,"d":"0.00"},{"$f":"L456","v":{"v":0,"d":"0.00"}},{"$f":"(R$23*$R456)+$Q456","v":{"v":0,"d":"0.00"}},{"v":0,"d":"0.00"},{"v":0,"d":"0.00"},{"v":0,"d":"0.00"},{"v":0,"d":"0.00"},{"v":0,"d":"0.00"},{"v":0,"d":"0.00"},{"v":0,"d":"0.00"},{"v":0,"d":"0.00"},{"$f":"M456","v":{"v":0,"d":"0.00"}}]
[{"$nulls":6},"Taxi",{"v":0,"d":"0.00"},{"v":0,"d":"0.00"},{"v":0,"d":"0.00"},{"v":0,"d":"0.00"},{"v":0,"d":"0.00"},{"v":0,"d":"0.00"},{"v":0,"d":"0.00"},{"v":0,"d":"0.00"},{"v":0,"d":"0.00"},{"v":0,"d":"0.00"},{"v":0,"d":"0.00"},{"v":0,"d":"0.00"},{"v":0,"d":"0.00"},{"v":0,"d":"0.00"},{"v":0,"d":"0.00"},{"v":0,"d":"0.00"},{"v":0,"d":"0.00"},{"v":0,"d":"0.00"},{"v":0,"d":"0.00"},{"v":0,"d":"0.00"}]
[{"$nulls":6},"",{"v":0,"d":"0.00"},{"v":0,"d":"0.00"},{"v":0,"d":"0.00"},{"v":0,"d":"0.00"},{"v":0,"d":"0.00"},{"v":0,"d":"0.00"},{"v":0,"d":"0.00"},{"v":0,"d":"0.00"},{"v":0,"d":"0.00"},{"v":0,"d":"0.00"},{"v":0,"d":"0.00"},{"v":0,"d":"0.00"},{"v":0,"d":"0.00"},{"v":0,"d":"0.00"},{"v":0,"d":"0.00"},{"v":0,"d":"0.00"},{"v":0,"d":"0.00"},{"v":0,"d":"0.00"},{"v":0,"d":"0.00"},{"v":0,"d":"0.00"}]
[{"$nulls":6},"",{"v":0,"d":"0.00"},{"v":0,"d":"0.00"},{"v":0,"d":"0.00"},{"v":0,"d":"0.00"},{"v":0,"d":"0.00"},{"v":0,"d":"0.00"},{"v":0,"d":"0.00"},{"v":0,"d":"0.00"},{"v":0,"d":"0.00"},{"v":0,"d":"0.00"},{"v":0,"d":"0.00"},{"v":0,"d":"0.00"},{"v":0,"d":"0.00"},{"v":0,"d":"0.00"},{"v":0,"d":"0.00"},{"v":0,"d":"0.00"},{"v":0,"d":"0.00"},{"v":0,"d":"0.00"},{"v":0,"d":"0.00"},{"v":0,"d":"0.00"}]
[{"$nulls":6},"3-wheeler",{"v":0,"d":"0.00"},{"v":0,"d":"0.00"},{"v":0,"d":"0.00"},{"v":0,"d":"0.00"},{"v":0,"d":"0.00"},{"v":0,"d":"0.00"},{"v":0,"d":"0.00"},{"v":0,"d":"0.00"},{"v":0,"d":"0.00"},{"v":0,"d":"0.00"},{"v":0,"d":"0.00"},{"v":0,"d":"0.00"},{"v":0,"d":"0.00"},{"v":0,"d":"0.00"},{"v":0,"d":"0.00"},{"v":0,"d":"0.00"},{"v":0,"d":"0.00"},{"v":0,"d":"0.00"},{"v":0,"d":"0.00"},{"v":0,"d":"0.00"}]
[{"$nulls":6},"Bus",{"v":0,"d":"0.00"},{"v":0,"d":"0.00"},{"v":0,"d":"0.00"},{"v":0,"d":"0.00"},{"v":0,"d":"0.00"},{"v":0,"d":"0.00"},{"v":0,"d":"0.00"},{"v":0,"d":"0.00"},{"v":0,"d":"0.00"},{"v":0,"d":"0.00"},{"v":0,"d":"0.00"},{"v":0,"d":"0.00"},{"v":0,"d":"0.00"},{"v":0,"d":"0.00"},{"v":0,"d":"0.00"},{"v":0,"d":"0.00"},{"v":0,"d":"0.00"},{"v":0,"d":"0.00"},{"v":0,"d":"0.00"},{"v":0,"d":"0.00"}]
[{"$nulls":6},"Mini-bus",{"v":0,"d":"0.00"},{"v":0,"d":"0.00"},{"v":0,"d":"0.00"},{"v":0,"d":"0.00"},{"v":0,"d":"0.00"},{"v":0,"d":"0.00"},{"v":0,"d":"0.00"},{"v":0,"d":"0.00"},{"v":0,"d":"0.00"},{"v":0,"d":"0.00"},{"v":0,"d":"0.00"},{"v":0,"d":"0.00"},{"v":0,"d":"0.00"},{"v":0,"d":"0.00"},{"v":0,"d":"0.00"},{"v":0,"d":"0.00"},{"v":0,"d":"0.00"},{"v":0,"d":"0.00"},{"v":0,"d":"0.00"},{"v":0,"d":"0.00"}]
[{"$nulls":6},"",{"v":0,"d":"0.00"},{"v":0,"d":"0.00"},{"v":0,"d":"0.00"},{"v":0,"d":"0.00"},{"v":0,"d":"0.00"},{"v":0,"d":"0.00"},{"v":0,"d":"0.00"},{"v":0,"d":"0.00"},{"v":0,"d":"0.00"},{"v":0,"d":"0.00"},{"v":0,"d":"0.00"},{"v":0,"d":"0.00"},{"v":0,"d":"0.00"},{"v":0,"d":"0.00"},{"v":0,"d":"0.00"},{"v":0,"d":"0.00"},{"v":0,"d":"0.00"},{"v":0,"d":"0.00"},{"v":0,"d":"0.00"},{"v":0,"d":"0.00"}]
[{"$nulls":6},"",{"v":0,"d":"0.00"},{"v":0,"d":"0.00"},{"v":0,"d":"0.00"},{"v":0,"d":"0.00"},{"v":0,"d":"0.00"},{"v":0,"d":"0.00"},{"v":0,"d":"0.00"},{"v":0,"d":"0.00"},{"v":0,"d":"0.00"},{"v":0,"d":"0.00"},{"v":0,"d":"0.00"},{"v":0,"d":"0.00"},{"v":0,"d":"0.00"},{"v":0,"d":"0.00"},{"v":0,"d":"0.00"},{"v":0,"d":"0.00"},{"v":0,"d":"0.00"},{"v":0,"d":"0.00"},{"v":0,"d":"0.00"},{"v":0,"d":"0.00"}]
[{"$nulls":6},"BRT",{"v":0,"d":"0.00"},{"v":0,"d":"0.00"},{"v":0,"d":"0.00"},{"v":0,"d":"0.00"},{"v":0,"d":"0.00"},{"v":0,"d":"0.00"},{"v":0,"d":"0.00"},{"v":0,"d":"0.00"},{"v":0,"d":"0.00"},{"v":0,"d":"0.00"},{"v":0,"d":"0.00"},{"v":0,"d":"0.00"},{"v":0,"d":"0.00"},{"v":0,"d":"0.00"},{"v":0,"d":"0.00"},{"v":0,"d":"0.00"},{"v":0,"d":"0.00"},{"v":0,"d":"0.00"},{"v":0,"d":"0.00"},{"v":0,"d":"0.00"}]
[]
[]
[{"$nulls":6},"Diesel fuel efficiency"]
[{"$nulls":10},"Fuel Efficiency (km/unit of consumption)"]
[{"$nulls":10},"Column",7,14,null,"1st",null,"2nd"]
[{"$nulls":10},{"$f":"H503","v":0},{"$f":"Q503","v":9},{"$f":"AA503","v":19},null,"intercept","slope","intercept","slope",null,{"$f":"K487","v":0},{"$f":"L487","v":9},{"$f":"M487","v":19},null,"1st","2nd"]
[{"$nulls":5},"NO BRT",{"$f":"G455","v":"Cars"},{"$nulls":3},{"$f":"'IF Factors'!F195","v":0},{"$f":"OFFSET('IF Factors'!F195,0,$L$171)","v":0},{"$f":"OFFSET('IF Factors'!F195,0,$M$171)","v":0},null,{"$f":"INTERCEPT(K488:L488,$K$7:$L$7)","v":0},{"$f":"SLOPE(K488:L488,$K$7:$L$7)","v":0},{"$f":"INTERCEPT(L488:M488,$L$7:$M$7)","v":0},{"$f":"SLOPE(L488:M488,$L$7:$M$7)","v":0},null,{"$f":"IF(K488<>0,0,1)","v":1},{"$f":"IF(L488<>0,0,1)","v":1},{"$f":"IF(M488<>0,0,1)","v":1},null,{"$f":"IF(T488+U488=1,1,0)","v":0},{"$f":"IF(U488+V488=1,1,0)","v":0}]
[{"$nulls":6},{"$f":"G456","v":"2-wheeler"},{"$nulls":3},{"$f":"'IF Factors'!F196","v":0},{"$f":"OFFSET('IF Factors'!F196,0,$L$171)","v":0},{"$f":"OFFSET('IF Factors'!F196,0,$M$171)","v":0},null,{"$f":"INTERCEPT(K489:L489,$K$7:$L$7)","v":0},{"$f":"SLOPE(K489:L489,$K$7:$L$7)","v":0},{"$f":"INTERCEPT(L489:M489,$L$7:$M$7)","v":0},{"$f":"SLOPE(L489:M489,$L$7:$M$7)","v":0},null,{"$f":"IF(K489<>0,0,1)","v":1},1,1,null,{"$f":"IF(T489+U489=1,1,0)","v":0},0]
[{"$nulls":6},"Taxi",{"$nulls":3},{"$f":"'IF Factors'!F197","v":0},{"$f":"OFFSET('IF Factors'!F197,0,$L$171)","v":0},{"$f":"OFFSET('IF Factors'!F197,0,$M$171)","v":0},null,0,0,0,0,null,1,1,1,null,0,0]
[{"$nulls":6},"",{"$nulls":3},{"$f":"'IF Factors'!F198","v":0},{"$f":"OFFSET('IF Factors'!F198,0,$L$171)","v":0},{"$f":"OFFSET('IF Factors'!F198,0,$M$171)","v":0},null,0,0,0,0,null,1,1,1,null,0,0]
[{"$nulls":6},"",{"$nulls":3},{"$f":"'IF Factors'!F199","v":0},{"$f":"OFFSET('IF Factors'!F199,0,$L$171)","v":0},{"$f":"OFFSET('IF Factors'!F199,0,$M$171)","v":0},null,0,0,0,0,null,1,1,1,null,0,0]
[{"$nulls":6},"3-wheeler",{"$nulls":3},{"$f":"'IF Factors'!F200","v":0},{"$f":"OFFSET('IF Factors'!F200,0,$L$171)","v":0},{"$f":"OFFSET('IF Factors'!F200,0,$M$171)","v":0},null,0,0,0,0,null,1,1,1,null,0,0]
[{"$nulls":6},"Bus",{"$nulls":3},{"$f":"'IF Factors'!F201","v":0},{"$f":"OFFSET('IF Factors'!F201,0,$L$171)","v":0},{"$f":"OFFSET('IF Factors'!F201,0,$M$171)","v":0},null,0,0,0,0,null,1,1,1,null,0,0]
[{"$nulls":6},"Mini-bus",{"$nulls":3},{"$f":"'IF Factors'!F202","v":0},{"$f":"OFFSET('IF Factors'!F202,0,$L$171)","v":0},{"$f":"OFFSET('IF Factors'!F202,0,$M$171)","v":0},null,0,0,0,0,null,1,1,1,null,0,0]
[{"$nulls":6},"",{"$nulls":3},{"$f":"'IF Factors'!F203","v":0},{"$f":"OFFSET('IF Factors'!F203,0,$L$171)","v":0},{"$f":"OFFSET('IF Factors'!F203,0,$M$171)","v":0},null,0,0,0,0,null,1,1,1,null,0,0]
[{"$nulls":6},"",{"$nulls":3},{"$f":"'IF Factors'!F204","v":0},{"$f":"OFFSET('IF Factors'!F204,0,$L$171)","v":0},{"$f":"OFFSET('IF Factors'!F204,0,$M$171)","v":0},null,0,0,0,0,null,1,1,1,null,0,0]
[{"$nulls":6},"BRT",{"$nulls":3},{"$f":"'IF Factors'!F205","v":0},{"$f":"OFFSET('IF Factors'!F205,0,$L$171)","v":0},{"$f":"OFFSET('IF Factors'!F205,0,$M$171)","v":0},null,0,0,0,0,null,1,1,1,null,0,0]
[]
[]
[]
[{"$nulls":6},"Diesel fuel efficiency"]
[{"$nulls":7},{"$f":"H470","v":0},{"$f":"I470","v":1},2,3,4,5,6,7,8,9,10,11,12,13,14,15,16,17,18,19]
[{"$nulls":5},"NO BRT",{"$f":"G471","v":"Cars"},{"$f":"K488","v":{"v":0,"d":"0.00"}},{"$f":"(I$23*$P488)+$O488","v":{"v":0,"d":"0.00"}},{"$f":"(J$23*$P488)+$O488","v":{"v":0,"d":"0.00"}},{"v":0,"d":"0.00"},{"v":0,"d":"0.00"},{"v":0,"d":"0.00"},{"v":0,"d":"0.00"},{"v":0,"d":"0.00"},{"v":0,"d":"0.00"},{"$f":"L488","v":{"v":0,"d":"0.00"}},{"$f":"(R$23*$R488)+$Q488","v":{"v":0,"d":"0.00"}},{"$f":"(S$23*$R488)+$Q488","v":{"v":0,"d":"0.00"}},{"v":0,"d":"0.00"},{"v":0,"d":"0.00"},{"v":0,"d":"0.00"},{"v":0,"d":"0.00"},{"v":0,"d":"0.00"},{"v":0,"d":"0.00"},{"v":0,"d":"0.00"},{"$f":"M488","v":{"v":0,"d":"0.00"}}]
[{"$nulls":6},{"$f":"G472","v":"2-wheeler"},{"$f":"K489","v":{"v":0,"d":"0.00"}},{"$f":"(I$23*$P489)+$O489","v":{"v":0,"d":"0.00"}},{"v":0,"d":"0.00"},{"v":0,"d":"0.00"},{"v":0,"d":"0.00"},{"v":0,"d":"0.00"},{"v":0,"d":"0.00"},{"v":0,"d":"0.00"},{"v":0,"d":"0.00"},{"$f":"L489","v":{"v":0,"d":"0.00"}},{"$f":"(R$23*$R489)+$Q489","v":{"v":0,"d":"0.00"}},{"v":0,"d":"0.00"},{"v":0,"d":"0.00"},{"v":0,"d":"0.00"},{"v":0,"d":"0.00"},{"v":0,"d":"0.00"},{"v":0,"d":"0.00"},{"v":0,"d":"0.00"},{"v":0,"d":"0.00"},{"$f":"M489","v":{"v":0,"d":"0.00"}}]
[{"$nulls":6},"Taxi",{"v":0,"d":"0.00"},{"v":0,"d":"0.00"},{"v":0,"d":"0.00"},{"v":0,"d":"0.00"},{"v":0,"d":"0.00"},{"v":0,"d":"0.00"},{"v":0,"d":"0.00"},{"v":0,"d":"0.00"},{"v":0,"d":"0.00"},{"v":0,"d":"0.00"},{"v":0,"d":"0.00"},{"v":0,"d":"0.00"},{"v":0,"d":"0.00"},{"v":0,"d":"0.00"},{"v":0,"d":"0.00"},{"v":0,"d":"0.00"},{"v":0,"d":"0.00"},{"v":0,"d":"0.00"},{"v":0,"d":"0.00"},{"v":0,"d":"0.00"}]
[{"$nulls":6},"",{"v":0,"d":"0.00"},{"v":0,"d":"0.00"},{"v":0,"d":"0.00"},{"v":0,"d":"0.00"},{"v":0,"d":"0.00"},{"v":0,"d":"0.00"},{"v":0,"d":"0.00"},{"v":0,"d":"0.00"},{"v":0,"d":"0.00"},{"v":0,"d":"0.00"},{"v":0,"d":"0.00"},{"v":0,"d":"0.00"},{"v":0,"d":"0.00"},{"v":0,"d":"0.00"},{"v":0,"d":"0.00"},{"v":0,"d":"0.00"},{"v":0,"d":"0.00"},{"v":0,"d":"0.00"},{"v":0,"d":"0.00"},{"v":0,"d":"0.00"}]
[{"$nulls":6},"",{"v":0,"d":"0.00"},{"v":0,"d":"0.00"},{"v":0,"d":"0.00"},{"v":0,"d":"0.00"},{"v":0,"d":"0.00"},{"v":0,"d":"0.00"},{"v":0,"d":"0.00"},{"v":0,"d":"0.00"},{"v":0,"d":"0.00"},{"v":0,"d":"0.00"},{"v":0,"d":"0.00"},{"v":0,"d":"0.00"},{"v":0,"d":"0.00"},{"v":0,"d":"0.00"},{"v":0,"d":"0.00"},{"v":0,"d":"0.00"},{"v":0,"d":"0.00"},{"v":0,"d":"0.00"},{"v":0,"d":"0.00"},{"v":0,"d":"0.00"}]
[{"$nulls":6},"3-wheeler",{"v":0,"d":"0.00"},{"v":0,"d":"0.00"},{"v":0,"d":"0.00"},{"v":0,"d":"0.00"},{"v":0,"d":"0.00"},{"v":0,"d":"0.00"},{"v":0,"d":"0.00"},{"v":0,"d":"0.00"},{"v":0,"d":"0.00"},{"v":0,"d":"0.00"},{"v":0,"d":"0.00"},{"v":0,"d":"0.00"},{"v":0,"d":"0.00"},{"v":0,"d":"0.00"},{"v":0,"d":"0.00"},{"v":0,"d":"0.00"},{"v":0,"d":"0.00"},{"v":0,"d":"0.00"},{"v":0,"d":"0.00"},{"v":0,"d":"0.00"}]
[{"$nulls":6},"Bus",{"v":0,"d":"0.00"},{"v":0,"d":"0.00"},{"v":0,"d":"0.00"},{"v":0,"d":"0.00"},{"v":0,"d":"0.00"},{"v":0,"d":"0.00"},{"v":0,"d":"0.00"},{"v":0,"d":"0.00"},{"v":0,"d":"0.00"},{"v":0,"d":"0.00"},{"v":0,"d":"0.00"},{"v":0,"d":"0.00"},{"v":0,"d":"0.00"},{"v":0,"d":"0.00"},{"v":0,"d":"0.00"},{"v":0,"d":"0.00"},{"v":0,"d":"0.00"},{"v":0,"d":"0.00"},{"v":0,"d":"0.00"},{"v":0,"d":"0.00"}]
[{"$nulls":6},"Mini-bus",{"v":0,"d":"0.00"},{"v":0,"d":"0.00"},{"v":0,"d":"0.00"},{"v":0,"d":"0.00"},{"v":0,"d":"0.00"},{"v":0,"d":"0.00"},{"v":0,"d":"0.00"},{"v":0,"d":"0.00"},{"v":0,"d":"0.00"},{"v":0,"d":"0.00"},{"v":0,"d":"0.00"},{"v":0,"d":"0.00"},{"v":0,"d":"0.00"},{"v":0,"d":"0.00"},{"v":0,"d":"0.00"},{"v":0,"d":"0.00"},{"v":0,"d":"0.00"},{"v":0,"d":"0.00"},{"v":0,"d":"0.00"},{"v":0,"d":"0.00"}]
[{"$nulls":6},"",{"v":0,"d":"0.00"},{"v":0,"d":"0.00"},{"v":0,"d":"0.00"},{"v":0,"d":"0.00"},{"v":0,"d":"0.00"},{"v":0,"d":"0.00"},{"v":0,"d":"0.00"},{"v":0,"d":"0.00"},{"v":0,"d":"0.00"},{"v":0,"d":"0.00"},{"v":0,"d":"0.00"},{"v":0,"d":"0.00"},{"v":0,"d":"0.00"},{"v":0,"d":"0.00"},{"v":0,"d":"0.00"},{"v":0,"d":"0.00"},{"v":0,"d":"0.00"},{"v":0,"d":"0.00"},{"v":0,"d":"0.00"},{"v":0,"d":"0.00"}]
[{"$nulls":6},"",{"v":0,"d":"0.00"},{"v":0,"d":"0.00"},{"v":0,"d":"0.00"},{"v":0,"d":"0.00"},{"v":0,"d":"0.00"},{"v":0,"d":"0.00"},{"v":0,"d":"0.00"},{"v":0,"d":"0.00"},{"v":0,"d":"0.00"},{"v":0,"d":"0.00"},{"v":0,"d":"0.00"},{"v":0,"d":"0.00"},{"v":0,"d":"0.00"},{"v":0,"d":"0.00"},{"v":0,"d":"0.00"},{"v":0,"d":"0.00"},{"v":0,"d":"0.00"},{"v":0,"d":"0.00"},{"v":0,"d":"0.00"},{"v":0,"d":"0.00"}]
[{"$nulls":6},"BRT",{"v":0,"d":"0.00"},{"v":0,"d":"0.00"},{"v":0,"d":"0.00"},{"v":0,"d":"0.00"},{"v":0,"d":"0.00"},{"v":0,"d":"0.00"},{"v":0,"d":"0.00"},{"v":0,"d":"0.00"},{"v":0,"d":"0.00"},{"v":0,"d":"0.00"},{"v":0,"d":"0.00"},{"v":0,"d":"0.00"},{"v":0,"d":"0.00"},{"v":0,"d":"0.00"},{"v":0,"d":"0.00"},{"v":0,"d":"0.00"},{"v":0,"d":"0.00"},{"v":0,"d":"0.00"},{"v":0,"d":"0.00"},{"v":0,"d":"0.00"}]
[]
[]
[{"$nulls":6},"LPG fuel efficiency"]
[{"$nulls":10},"Fuel Efficiency (km/unit of consumption)"]
[{"$nulls":10},"Column",7,14,null,"1st",null,"2nd"]
[{"$nulls":10},{"$f":"H536","v":0},{"$f":"Q536","v":9},{"$f":"AA536","v":19},null,"intercept","slope","intercept","slope",null,{"$f":"K520","v":0},{"$f":"L520","v":9},{"$f":"M520","v":19},null,"1st","2nd"]
[{"$nulls":5},"NO BRT",{"$f":"G488","v":"Cars"},{"$nulls":3},{"$f":"'IF Factors'!G195","v":0},{"$f":"OFFSET('IF Factors'!G195,0,$L$171)","v":0},{"$f":"OFFSET('IF Factors'!G195,0,$M$171)","v":0},null,{"$f":"INTERCEPT(K521:L521,$K$7:$L$7)","v":0},{"$f":"SLOPE(K521:L521,$K$7:$L$7)","v":0},{"$f":"INTERCEPT(L521:M521,$L$7:$M$7)","v":0},{"$f":"SLOPE(L521:M521,$L$7:$M$7)","v":0},null,{"$f":"IF(K521<>0,0,1)","v":1},{"$f":"IF(L521<>0,0,1)","v":1},{"$f":"IF(M521<>0,0,1)","v":1},null,{"$f":"IF(T521+U521=1,1,0)","v":0},{"$f":"IF(U521+V521=1,1,0)","v":0}]
[{"$nulls":6},{"$f":"G489","v":"2-wheeler"},{"$nulls":3},{"$f":"'IF Factors'!G196","v":0},{"$f":"OFFSET('IF Factors'!G196,0,$L$171)","v":0},{"$f":"OFFSET('IF Factors'!G196,0,$M$171)","v":0},null,{"$f":"INTERCEPT(K522:L522,$K$7:$L$7)","v":0},{"$f":"SLOPE(K522:L522,$K$7:$L$7)","v":0},{"$f":"INTERCEPT(L522:M522,$L$7:$M$7)","v":0},{"$f":"SLOPE(L522:M522,$L$7:$M$7)","v":0},null,{"$f":"IF(K522<>0,0,1)","v":1},1,1,null,{"$f":"IF(T522+U522=1,1,0)","v":0},0]
[{"$nulls":6},"Taxi",{"$nulls":3},{"$f":"'IF Factors'!G197","v":0},{"$f":"OFFSET('IF Factors'!G197,0,$L$171)","v":0},{"$f":"OFFSET('IF Factors'!G197,0,$M$171)","v":0},null,0,0,0,0,null,1,1,1,null,0,0]
[{"$nulls":6},"",{"$nulls":3},{"$f":"'IF Factors'!G198","v":0},{"$f":"OFFSET('IF Factors'!G198,0,$L$171)","v":0},{"$f":"OFFSET('IF Factors'!G198,0,$M$171)","v":0},null,0,0,0,0,null,1,1,1,null,0,0]
[{"$nulls":6},"",{"$nulls":3},{"$f":"'IF Factors'!G199","v":0},{"$f":"OFFSET('IF Factors'!G199,0,$L$171)","v":0},{"$f":"OFFSET('IF Factors'!G199,0,$M$171)","v":0},null,0,0,0,0,null,1,1,1,null,0,0]
[{"$nulls":6},"3-wheeler",{"$nulls":3},{"$f":"'IF Factors'!G200","v":0},{"$f":"OFFSET('IF Factors'!G200,0,$L$171)","v":0},{"$f":"OFFSET('IF Factors'!G200,0,$M$171)","v":0},null,0,0,0,0,null,1,1,1,null,0,0]
[{"$nulls":6},"Bus",{"$nulls":3},{"$f":"'IF Factors'!G201","v":0},{"$f":"OFFSET('IF Factors'!G201,0,$L$171)","v":0},{"$f":"OFFSET('IF Factors'!G201,0,$M$171)","v":0},null,0,0,0,0,null,1,1,1,null,0,0]
[{"$nulls":6},"Mini-bus",{"$nulls":3},{"$f":"'IF Factors'!G202","v":0},{"$f":"OFFSET('IF Factors'!G202,0,$L$171)","v":0},{"$f":"OFFSET('IF Factors'!G202,0,$M$171)","v":0},null,0,0,0,0,null,1,1,1,null,0,0]
[{"$nulls":6},"",{"$nulls":3},{"$f":"'IF Factors'!G203","v":0},{"$f":"OFFSET('IF Factors'!G203,0,$L$171)","v":0},{"$f":"OFFSET('IF Factors'!G203,0,$M$171)","v":0},null,0,0,0,0,null,1,1,1,null,0,0]
[{"$nulls":6},"",{"$nulls":3},{"$f":"'IF Factors'!G204","v":0},{"$f":"OFFSET('IF Factors'!G204,0,$L$171)","v":0},{"$f":"OFFSET('IF Factors'!G204,0,$M$171)","v":0},null,0,0,0,0,null,1,1,1,null,0,0]
[{"$nulls":6},"BRT",{"$nulls":3},{"$f":"'IF Factors'!G205","v":0},{"$f":"OFFSET('IF Factors'!G205,0,$L$171)","v":0},{"$f":"OFFSET('IF Factors'!G205,0,$M$171)","v":0},null,0,0,0,0,null,1,1,1,null,0,0]
[]
[]
[]
[{"$nulls":6},"LPG fuel efficiency"]
[{"$nulls":7},{"$f":"H503","v":0},{"$f":"I503","v":1},2,3,4,5,6,7,8,9,10,11,12,13,14,15,16,17,18,19]
[{"$nulls":5},"NO BRT",{"$f":"G504","v":"Cars"},{"$f":"K521","v":{"v":0,"d":"0.00"}},{"$f":"(I$23*$P521)+$O521","v":{"v":0,"d":"0.00"}},{"$f":"(J$23*$P521)+$O521","v":{"v":0,"d":"0.00"}},{"v":0,"d":"0.00"},{"v":0,"d":"0.00"},{"v":0,"d":"0.00"},{"v":0,"d":"0.00"},{"v":0,"d":"0.00"},{"v":0,"d":"0.00"},{"$f":"L521","v":{"v":0,"d":"0.00"}},{"$f":"(R$23*$R521)+$Q521","v":{"v":0,"d":"0.00"}},{"$f":"(S$23*$R521)+$Q521","v":{"v":0,"d":"0.00"}},{"v":0,"d":"0.00"},{"v":0,"d":"0.00"},{"v":0,"d":"0.00"},{"v":0,"d":"0.00"},{"v":0,"d":"0.00"},{"v":0,"d":"0.00"},{"v":0,"d":"0.00"},{"$f":"M521","v":{"v":0,"d":"0.00"}}]
[{"$nulls":6},{"$f":"G505","v":"2-wheeler"},{"$f":"K522","v":{"v":0,"d":"0.00"}},{"$f":"(I$23*$P522)+$O522","v":{"v":0,"d":"0.00"}},{"v":0,"d":"0.00"},{"v":0,"d":"0.00"},{"v":0,"d":"0.00"},{"v":0,"d":"0.00"},{"v":0,"d":"0.00"},{"v":0,"d":"0.00"},{"v":0,"d":"0.00"},{"$f":"L522","v":{"v":0,"d":"0.00"}},{"$f":"(R$23*$R522)+$Q522","v":{"v":0,"d":"0.00"}},{"v":0,"d":"0.00"},{"v":0,"d":"0.00"},{"v":0,"d":"0.00"},{"v":0,"d":"0.00"},{"v":0,"d":"0.00"},{"v":0,"d":"0.00"},{"v":0,"d":"0.00"},{"v":0,"d":"0.00"},{"$f":"M522","v":{"v":0,"d":"0.00"}}]
[{"$nulls":6},"Taxi",{"v":0,"d":"0.00"},{"v":0,"d":"0.00"},{"v":0,"d":"0.00"},{"v":0,"d":"0.00"},{"v":0,"d":"0.00"},{"v":0,"d":"0.00"},{"v":0,"d":"0.00"},{"v":0,"d":"0.00"},{"v":0,"d":"0.00"},{"v":0,"d":"0.00"},{"v":0,"d":"0.00"},{"v":0,"d":"0.00"},{"v":0,"d":"0.00"},{"v":0,"d":"0.00"},{"v":0,"d":"0.00"},{"v":0,"d":"0.00"},{"v":0,"d":"0.00"},{"v":0,"d":"0.00"},{"v":0,"d":"0.00"},{"v":0,"d":"0.00"}]
[{"$nulls":6},"",{"v":0,"d":"0.00"},{"v":0,"d":"0.00"},{"v":0,"d":"0.00"},{"v":0,"d":"0.00"},{"v":0,"d":"0.00"},{"v":0,"d":"0.00"},{"v":0,"d":"0.00"},{"v":0,"d":"0.00"},{"v":0,"d":"0.00"},{"v":0,"d":"0.00"},{"v":0,"d":"0.00"},{"v":0,"d":"0.00"},{"v":0,"d":"0.00"},{"v":0,"d":"0.00"},{"v":0,"d":"0.00"},{"v":0,"d":"0.00"},{"v":0,"d":"0.00"},{"v":0,"d":"0.00"},{"v":0,"d":"0.00"},{"v":0,"d":"0.00"}]
[{"$nulls":6},"",{"v":0,"d":"0.00"},{"v":0,"d":"0.00"},{"v":0,"d":"0.00"},{"v":0,"d":"0.00"},{"v":0,"d":"0.00"},{"v":0,"d":"0.00"},{"v":0,"d":"0.00"},{"v":0,"d":"0.00"},{"v":0,"d":"0.00"},{"v":0,"d":"0.00"},{"v":0,"d":"0.00"},{"v":0,"d":"0.00"},{"v":0,"d":"0.00"},{"v":0,"d":"0.00"},{"v":0,"d":"0.00"},{"v":0,"d":"0.00"},{"v":0,"d":"0.00"},{"v":0,"d":"0.00"},{"v":0,"d":"0.00"},{"v":0,"d":"0.00"}]
[{"$nulls":6},"3-wheeler",{"v":0,"d":"0.00"},{"v":0,"d":"0.00"},{"v":0,"d":"0.00"},{"v":0,"d":"0.00"},{"v":0,"d":"0.00"},{"v":0,"d":"0.00"},{"v":0,"d":"0.00"},{"v":0,"d":"0.00"},{"v":0,"d":"0.00"},{"v":0,"d":"0.00"},{"v":0,"d":"0.00"},{"v":0,"d":"0.00"},{"v":0,"d":"0.00"},{"v":0,"d":"0.00"},{"v":0,"d":"0.00"},{"v":0,"d":"0.00"},{"v":0,"d":"0.00"},{"v":0,"d":"0.00"},{"v":0,"d":"0.00"},{"v":0,"d":"0.00"}]
[{"$nulls":6},"Bus",{"v":0,"d":"0.00"},{"v":0,"d":"0.00"},{"v":0,"d":"0.00"},{"v":0,"d":"0.00"},{"v":0,"d":"0.00"},{"v":0,"d":"0.00"},{"v":0,"d":"0.00"},{"v":0,"d":"0.00"},{"v":0,"d":"0.00"},{"v":0,"d":"0.00"},{"v":0,"d":"0.00"},{"v":0,"d":"0.00"},{"v":0,"d":"0.00"},{"v":0,"d":"0.00"},{"v":0,"d":"0.00"},{"v":0,"d":"0.00"},{"v":0,"d":"0.00"},{"v":0,"d":"0.00"},{"v":0,"d":"0.00"},{"v":0,"d":"0.00"}]
[{"$nulls":6},"Mini-bus",{"v":0,"d":"0.00"},{"v":0,"d":"0.00"},{"v":0,"d":"0.00"},{"v":0,"d":"0.00"},{"v":0,"d":"0.00"},{"v":0,"d":"0.00"},{"v":0,"d":"0.00"},{"v":0,"d":"0.00"},{"v":0,"d":"0.00"},{"v":0,"d":"0.00"},{"v":0,"d":"0.00"},{"v":0,"d":"0.00"},{"v":0,"d":"0.00"},{"v":0,"d":"0.00"},{"v":0,"d":"0.00"},{"v":0,"d":"0.00"},{"v":0,"d":"0.00"},{"v":0,"d":"0.00"},{"v":0,"d":"0.00"},{"v":0,"d":"0.00"}]
[{"$nulls":6},"",{"v":0,"d":"0.00"},{"v":0,"d":"0.00"},{"v":0,"d":"0.00"},{"v":0,"d":"0.00"},{"v":0,"d":"0.00"},{"v":0,"d":"0.00"},{"v":0,"d":"0.00"},{"v":0,"d":"0.00"},{"v":0,"d":"0.00"},{"v":0,"d":"0.00"},{"v":0,"d":"0.00"},{"v":0,"d":"0.00"},{"v":0,"d":"0.00"},{"v":0,"d":"0.00"},{"v":0,"d":"0.00"},{"v":0,"d":"0.00"},{"v":0,"d":"0.00"},{"v":0,"d":"0.00"},{"v":0,"d":"0.00"},{"v":0,"d":"0.00"}]
[{"$nulls":6},"",{"v":0,"d":"0.00"},{"v":0,"d":"0.00"},{"v":0,"d":"0.00"},{"v":0,"d":"0.00"},{"v":0,"d":"0.00"},{"v":0,"d":"0.00"},{"v":0,"d":"0.00"},{"v":0,"d":"0.00"},{"v":0,"d":"0.00"},{"v":0,"d":"0.00"},{"v":0,"d":"0.00"},{"v":0,"d":"0.00"},{"v":0,"d":"0.00"},{"v":0,"d":"0.00"},{"v":0,"d":"0.00"},{"v":0,"d":"0.00"},{"v":0,"d":"0.00"},{"v":0,"d":"0.00"},{"v":0,"d":"0.00"},{"v":0,"d":"0.00"}]
[{"$nulls":6},"BRT",{"v":0,"d":"0.00"},{"v":0,"d":"0.00"},{"v":0,"d":"0.00"},{"v":0,"d":"0.00"},{"v":0,"d":"0.00"},{"v":0,"d":"0.00"},{"v":0,"d":"0.00"},{"v":0,"d":"0.00"},{"v":0,"d":"0.00"},{"v":0,"d":"0.00"},{"v":0,"d":"0.00"},{"v":0,"d":"0.00"},{"v":0,"d":"0.00"},{"v":0,"d":"0.00"},{"v":0,"d":"0.00"},{"v":0,"d":"0.00"},{"v":0,"d":"0.00"},{"v":0,"d":"0.00"},{"v":0,"d":"0.00"},{"v":0,"d":"0.00"}]
[]
[]
[{"$nulls":6},"CNG fuel efficiency"]
[{"$nulls":10},"Fuel Efficiency (km/unit of consumption)"]
[{"$nulls":10},"Column",7,14,null,"1st",null,"2nd"]
[{"$nulls":10},{"$f":"H569","v":0},{"$f":"Q569","v":9},{"$f":"AA569","v":19},null,"intercept","slope","intercept","slope",null,{"$f":"K553","v":0},{"$f":"L553","v":9},{"$f":"M553","v":19},null,"1st","2nd"]
[{"$nulls":5},"NO BRT",{"$f":"G521","v":"Cars"},{"$nulls":3},{"$f":"'IF Factors'!H195","v":0},{"$f":"OFFSET('IF Factors'!H195,0,$L$171)","v":0},{"$f":"OFFSET('IF Factors'!H195,0,$M$171)","v":0},null,{"$f":"INTERCEPT(K554:L554,$K$7:$L$7)","v":0},{"$f":"SLOPE(K554:L554,$K$7:$L$7)","v":0},{"$f":"INTERCEPT(L554:M554,$L$7:$M$7)","v":0},{"$f":"SLOPE(L554:M554,$L$7:$M$7)","v":0},null,{"$f":"IF(K554<>0,0,1)","v":1},{"$f":"IF(L554<>0,0,1)","v":1},{"$f":"IF(M554<>0,0,1)","v":1},null,{"$f":"IF(T554+U554=1,1,0)","v":0},{"$f":"IF(U554+V554=1,1,0)","v":0}]
[{"$nulls":6},{"$f":"G522","v":"2-wheeler"},{"$nulls":3},{"$f":"'IF Factors'!H196","v":0},{"$f":"OFFSET('IF Factors'!H196,0,$L$171)","v":0},{"$f":"OFFSET('IF Factors'!H196,0,$M$171)","v":0},null,{"$f":"INTERCEPT(K555:L555,$K$7:$L$7)","v":0},{"$f":"SLOPE(K555:L555,$K$7:$L$7)","v":0},{"$f":"INTERCEPT(L555:M555,$L$7:$M$7)","v":0},{"$f":"SLOPE(L555:M555,$L$7:$M$7)","v":0},null,{"$f":"IF(K555<>0,0,1)","v":1},1,1,null,{"$f":"IF(T555+U555=1,1,0)","v":0},0]
[{"$nulls":6},"Taxi",{"$nulls":3},{"$f":"'IF Factors'!H197","v":0},{"$f":"OFFSET('IF Factors'!H197,0,$L$171)","v":0},{"$f":"OFFSET('IF Factors'!H197,0,$M$171)","v":0},null,0,0,0,0,null,1,1,1,null,0,0]
[{"$nulls":6},"",{"$nulls":3},{"$f":"'IF Factors'!H198","v":0},{"$f":"OFFSET('IF Factors'!H198,0,$L$171)","v":0},{"$f":"OFFSET('IF Factors'!H198,0,$M$171)","v":0},null,0,0,0,0,null,1,1,1,null,0,0]
[{"$nulls":6},"",{"$nulls":3},{"$f":"'IF Factors'!H199","v":0},{"$f":"OFFSET('IF Factors'!H199,0,$L$171)","v":0},{"$f":"OFFSET('IF Factors'!H199,0,$M$171)","v":0},null,0,0,0,0,null,1,1,1,null,0,0]
[{"$nulls":6},"3-wheeler",{"$nulls":3},{"$f":"'IF Factors'!H200","v":0},{"$f":"OFFSET('IF Factors'!H200,0,$L$171)","v":0},{"$f":"OFFSET('IF Factors'!H200,0,$M$171)","v":0},null,0,0,0,0,null,1,1,1,null,0,0]
[{"$nulls":6},"Bus",{"$nulls":3},{"$f":"'IF Factors'!H201","v":0},{"$f":"OFFSET('IF Factors'!H201,0,$L$171)","v":0},{"$f":"OFFSET('IF Factors'!H201,0,$M$171)","v":0},null,0,0,0,0,null,1,1,1,null,0,0]
[{"$nulls":6},"Mini-bus",{"$nulls":3},{"$f":"'IF Factors'!H202","v":0},{"$f":"OFFSET('IF Factors'!H202,0,$L$171)","v":0},{"$f":"OFFSET('IF Factors'!H202,0,$M$171)","v":0},null,0,0,0,0,null,1,1,1,null,0,0]
[{"$nulls":6},"",{"$nulls":3},{"$f":"'IF Factors'!H203","v":0},{"$f":"OFFSET('IF Factors'!H203,0,$L$171)","v":0},{"$f":"OFFSET('IF Factors'!H203,0,$M$171)","v":0},null,0,0,0,0,null,1,1,1,null,0,0]
[{"$nulls":6},"",{"$nulls":3},{"$f":"'IF Factors'!H204","v":0},{"$f":"OFFSET('IF Factors'!H204,0,$L$171)","v":0},{"$f":"OFFSET('IF Factors'!H204,0,$M$171)","v":0},null,0,0,0,0,null,1,1,1,null,0,0]
[{"$nulls":6},"BRT",{"$nulls":3},{"$f":"'IF Factors'!H205","v":0},{"$f":"OFFSET('IF Factors'!H205,0,$L$171)","v":0},{"$f":"OFFSET('IF Factors'!H205,0,$M$171)","v":0},null,0,0,0,0,null,1,1,1,null,0,0]
[]
[]
[]
[{"$nulls":6},"CNG fuel efficiency"]
[{"$nulls":7},{"$f":"H536","v":0},{"$f":"I536","v":1},2,3,4,5,6,7,8,9,10,11,12,13,14,15,16,17,18,19]
[{"$nulls":5},"NO BRT",{"$f":"G537","v":"Cars"},{"$f":"K554","v":{"v":0,"d":"0.00"}},{"$f":"(I$23*$P554)+$O554","v":{"v":0,"d":"0.00"}},{"$f":"(J$23*$P554)+$O554","v":{"v":0,"d":"0.00"}},{"v":0,"d":"0.00"},{"v":0,"d":"0.00"},{"v":0,"d":"0.00"},{"v":0,"d":"0.00"},{"v":0,"d":"0.00"},{"v":0,"d":"0.00"},{"$f":"L554","v":{"v":0,"d":"0.00"}},{"$f":"(R$23*$R554)+$Q554","v":{"v":0,"d":"0.00"}},{"$f":"(S$23*$R554)+$Q554","v":{"v":0,"d":"0.00"}},{"v":0,"d":"0.00"},{"v":0,"d":"0.00"},{"v":0,"d":"0.00"},{"v":0,"d":"0.00"},{"v":0,"d":"0.00"},{"v":0,"d":"0.00"},{"v":0,"d":"0.00"},{"$f":"M554","v":{"v":0,"d":"0.00"}}]
[{"$nulls":6},{"$f":"G538","v":"2-wheeler"},{"$f":"K555","v":{"v":0,"d":"0.00"}},{"$f":"(I$23*$P555)+$O555","v":{"v":0,"d":"0.00"}},{"v":0,"d":"0.00"},{"v":0,"d":"0.00"},{"v":0,"d":"0.00"},{"v":0,"d":"0.00"},{"v":0,"d":"0.00"},{"v":0,"d":"0.00"},{"v":0,"d":"0.00"},{"$f":"L555","v":{"v":0,"d":"0.00"}},{"$f":"(R$23*$R555)+$Q555","v":{"v":0,"d":"0.00"}},{"v":0,"d":"0.00"},{"v":0,"d":"0.00"},{"v":0,"d":"0.00"},{"v":0,"d":"0.00"},{"v":0,"d":"0.00"},{"v":0,"d":"0.00"},{"v":0,"d":"0.00"},{"v":0,"d":"0.00"},{"$f":"M555","v":{"v":0,"d":"0.00"}}]
[{"$nulls":6},"Taxi",{"v":0,"d":"0.00"},{"v":0,"d":"0.00"},{"v":0,"d":"0.00"},{"v":0,"d":"0.00"},{"v":0,"d":"0.00"},{"v":0,"d":"0.00"},{"v":0,"d":"0.00"},{"v":0,"d":"0.00"},{"v":0,"d":"0.00"},{"v":0,"d":"0.00"},{"v":0,"d":"0.00"},{"v":0,"d":"0.00"},{"v":0,"d":"0.00"},{"v":0,"d":"0.00"},{"v":0,"d":"0.00"},{"v":0,"d":"0.00"},{"v":0,"d":"0.00"},{"v":0,"d":"0.00"},{"v":0,"d":"0.00"},{"v":0,"d":"0.00"}]
[{"$nulls":6},"",{"v":0,"d":"0.00"},{"v":0,"d":"0.00"},{"v":0,"d":"0.00"},{"v":0,"d":"0.00"},{"v":0,"d":"0.00"},{"v":0,"d":"0.00"},{"v":0,"d":"0.00"},{"v":0,"d":"0.00"},{"v":0,"d":"0.00"},{"v":0,"d":"0.00"},{"v":0,"d":"0.00"},{"v":0,"d":"0.00"},{"v":0,"d":"0.00"},{"v":0,"d":"0.00"},{"v":0,"d":"0.00"},{"v":0,"d":"0.00"},{"v":0,"d":"0.00"},{"v":0,"d":"0.00"},{"v":0,"d":"0.00"},{"v":0,"d":"0.00"}]
[{"$nulls":6},"",{"v":0,"d":"0.00"},{"v":0,"d":"0.00"},{"v":0,"d":"0.00"},{"v":0,"d":"0.00"},{"v":0,"d":"0.00"},{"v":0,"d":"0.00"},{"v":0,"d":"0.00"},{"v":0,"d":"0.00"},{"v":0,"d":"0.00"},{"v":0,"d":"0.00"},{"v":0,"d":"0.00"},{"v":0,"d":"0.00"},{"v":0,"d":"0.00"},{"v":0,"d":"0.00"},{"v":0,"d":"0.00"},{"v":0,"d":"0.00"},{"v":0,"d":"0.00"},{"v":0,"d":"0.00"},{"v":0,"d":"0.00"},{"v":0,"d":"0.00"}]
[{"$nulls":6},"3-wheeler",{"v":0,"d":"0.00"},{"v":0,"d":"0.00"},{"v":0,"d":"0.00"},{"v":0,"d":"0.00"},{"v":0,"d":"0.00"},{"v":0,"d":"0.00"},{"v":0,"d":"0.00"},{"v":0,"d":"0.00"},{"v":0,"d":"0.00"},{"v":0,"d":"0.00"},{"v":0,"d":"0.00"},{"v":0,"d":"0.00"},{"v":0,"d":"0.00"},{"v":0,"d":"0.00"},{"v":0,"d":"0.00"},{"v":0,"d":"0.00"},{"v":0,"d":"0.00"},{"v":0,"d":"0.00"},{"v":0,"d":"0.00"},{"v":0,"d":"0.00"}]
[{"$nulls":6},"Bus",{"v":0,"d":"0.00"},{"v":0,"d":"0.00"},{"v":0,"d":"0.00"},{"v":0,"d":"0.00"},{"v":0,"d":"0.00"},{"v":0,"d":"0.00"},{"v":0,"d":"0.00"},{"v":0,"d":"0.00"},{"v":0,"d":"0.00"},{"v":0,"d":"0.00"},{"v":0,"d":"0.00"},{"v":0,"d":"0.00"},{"v":0,"d":"0.00"},{"v":0,"d":"0.00"},{"v":0,"d":"0.00"},{"v":0,"d":"0.00"},{"v":0,"d":"0.00"},{"v":0,"d":"0.00"},{"v":0,"d":"0.00"},{"v":0,"d":"0.00"}]
[{"$nulls":6},"Mini-bus",{"v":0,"d":"0.00"},{"v":0,"d":"0.00"},{"v":0,"d":"0.00"},{"v":0,"d":"0.00"},{"v":0,"d":"0.00"},{"v":0,"d":"0.00"},{"v":0,"d":"0.00"},{"v":0,"d":"0.00"},{"v":0,"d":"0.00"},{"v":0,"d":"0.00"},{"v":0,"d":"0.00"},{"v":0,"d":"0.00"},{"v":0,"d":"0.00"},{"v":0,"d":"0.00"},{"v":0,"d":"0.00"},{"v":0,"d":"0.00"},{"v":0,"d":"0.00"},{"v":0,"d":"0.00"},{"v":0,"d":"0.00"},{"v":0,"d":"0.00"}]
[{"$nulls":6},"",{"v":0,"d":"0.00"},{"v":0,"d":"0.00"},{"v":0,"d":"0.00"},{"v":0,"d":"0.00"},{"v":0,"d":"0.00"},{"v":0,"d":"0.00"},{"v":0,"d":"0.00"},{"v":0,"d":"0.00"},{"v":0,"d":"0.00"},{"v":0,"d":"0.00"},{"v":0,"d":"0.00"},{"v":0,"d":"0.00"},{"v":0,"d":"0.00"},{"v":0,"d":"0.00"},{"v":0,"d":"0.00"},{"v":0,"d":"0.00"},{"v":0,"d":"0.00"},{"v":0,"d":"0.00"},{"v":0,"d":"0.00"},{"v":0,"d":"0.00"}]
[{"$nulls":6},"",{"v":0,"d":"0.00"},{"v":0,"d":"0.00"},{"v":0,"d":"0.00"},{"v":0,"d":"0.00"},{"v":0,"d":"0.00"},{"v":0,"d":"0.00"},{"v":0,"d":"0.00"},{"v":0,"d":"0.00"},{"v":0,"d":"0.00"},{"v":0,"d":"0.00"},{"v":0,"d":"0.00"},{"v":0,"d":"0.00"},{"v":0,"d":"0.00"},{"v":0,"d":"0.00"},{"v":0,"d":"0.00"},{"v":0,"d":"0.00"},{"v":0,"d":"0.00"},{"v":0,"d":"0.00"},{"v":0,"d":"0.00"},{"v":0,"d":"0.00"}]
[{"$nulls":6},"BRT",{"v":0,"d":"0.00"},{"v":0,"d":"0.00"},{"v":0,"d":"0.00"},{"v":0,"d":"0.00"},{"v":0,"d":"0.00"},{"v":0,"d":"0.00"},{"v":0,"d":"0.00"},{"v":0,"d":"0.00"},{"v":0,"d":"0.00"},{"v":0,"d":"0.00"},{"v":0,"d":"0.00"},{"v":0,"d":"0.00"},{"v":0,"d":"0.00"},{"v":0,"d":"0.00"},{"v":0,"d":"0.00"},{"v":0,"d":"0.00"},{"v":0,"d":"0.00"},{"v":0,"d":"0.00"},{"v":0,"d":"0.00"},{"v":0,"d":"0.00"}]
[]
[]
[{"$nulls":6},"Electric fuel efficiency"]
[{"$nulls":10},"Fuel Efficiency (km/unit of consumption)"]
[{"$nulls":10},"Column",7,14,null,"1st",null,"2nd"]
[{"$nulls":10},{"$f":"H602","v":0},{"$f":"Q602","v":9},{"$f":"AA602","v":19},null,"intercept","slope","intercept","slope",null,{"$f":"K586","v":0},{"$f":"L586","v":9},{"$f":"M586","v":19},null,"1st","2nd"]
[{"$nulls":5},"NO BRT",{"$f":"G554","v":"Cars"},{"$nulls":3},{"$f":"'IF Factors'!I195","v":0},{"$f":"OFFSET('IF Factors'!I195,0,$L$171)","v":0},{"$f":"OFFSET('IF Factors'!I195,0,$M$171)","v":0},null,{"$f":"INTERCEPT(K587:L587,$K$7:$L$7)","v":0},{"$f":"SLOPE(K587:L587,$K$7:$L$7)","v":0},{"$f":"INTERCEPT(L587:M587,$L$7:$M$7)","v":0},{"$f":"SLOPE(L587:M587,$L$7:$M$7)","v":0},null,{"$f":"IF(K587<>0,0,1)","v":1},{"$f":"IF(L587<>0,0,1)","v":1},{"$f":"IF(M587<>0,0,1)","v":1},null,{"$f":"IF(T587+U587=1,1,0)","v":0},{"$f":"IF(U587+V587=1,1,0)","v":0}]
[{"$nulls":6},{"$f":"G555","v":"2-wheeler"},{"$nulls":3},{"$f":"'IF Factors'!I196","v":0},{"$f":"OFFSET('IF Factors'!I196,0,$L$171)","v":0},{"$f":"OFFSET('IF Factors'!I196,0,$M$171)","v":0},null,{"$f":"INTERCEPT(K588:L588,$K$7:$L$7)","v":0},{"$f":"SLOPE(K588:L588,$K$7:$L$7)","v":0},{"$f":"INTERCEPT(L588:M588,$L$7:$M$7)","v":0},{"$f":"SLOPE(L588:M588,$L$7:$M$7)","v":0},null,{"$f":"IF(K588<>0,0,1)","v":1},1,1,null,{"$f":"IF(T588+U588=1,1,0)","v":0},0]
[{"$nulls":6},"Taxi",{"$nulls":3},{"$f":"'IF Factors'!I197","v":0},{"$f":"OFFSET('IF Factors'!I197,0,$L$171)","v":0},{"$f":"OFFSET('IF Factors'!I197,0,$M$171)","v":0},null,0,0,0,0,null,1,1,1,null,0,0]
[{"$nulls":6},"",{"$nulls":3},{"$f":"'IF Factors'!I198","v":0},{"$f":"OFFSET('IF Factors'!I198,0,$L$171)","v":0},{"$f":"OFFSET('IF Factors'!I198,0,$M$171)","v":0},null,0,0,0,0,null,1,1,1,null,0,0]
[{"$nulls":6},"",{"$nulls":3},{"$f":"'IF Factors'!I199","v":0},{"$f":"OFFSET('IF Factors'!I199,0,$L$171)","v":0},{"$f":"OFFSET('IF Factors'!I199,0,$M$171)","v":0},null,0,0,0,0,null,1,1,1,null,0,0]
[{"$nulls":6},"3-wheeler",{"$nulls":3},{"$f":"'IF Factors'!I200","v":0},{"$f":"OFFSET('IF Factors'!I200,0,$L$171)","v":0},{"$f":"OFFSET('IF Factors'!I200,0,$M$171)","v":0},null,0,0,0,0,null,1,1,1,null,0,0]
[{"$nulls":6},"Bus",{"$nulls":3},{"$f":"'IF Factors'!I201","v":0},{"$f":"OFFSET('IF Factors'!I201,0,$L$171)","v":0},{"$f":"OFFSET('IF Factors'!I201,0,$M$171)","v":0},null,0,0,0,0,null,1,1,1,null,0,0]
[{"$nulls":6},"Mini-bus",{"$nulls":3},{"$f":"'IF Factors'!I202","v":0},{"$f":"OFFSET('IF Factors'!I202,0,$L$171)","v":0},{"$f":"OFFSET('IF Factors'!I202,0,$M$171)","v":0},null,0,0,0,0,null,1,1,1,null,0,0]
[{"$nulls":6},"",{"$nulls":3},{"$f":"'IF Factors'!I203","v":0},{"$f":"OFFSET('IF Factors'!I203,0,$L$171)","v":0},{"$f":"OFFSET('IF Factors'!I203,0,$M$171)","v":0},null,0,0,0,0,null,1,1,1,null,0,0]
[{"$nulls":6},"",{"$nulls":3},{"$f":"'IF Factors'!I204","v":0},{"$f":"OFFSET('IF Factors'!I204,0,$L$171)","v":0},{"$f":"OFFSET('IF Factors'!I204,0,$M$171)","v":0},null,0,0,0,0,null,1,1,1,null,0,0]
[{"$nulls":6},"BRT",{"$nulls":3},{"$f":"'IF Factors'!I205","v":0},{"$f":"OFFSET('IF Factors'!I205,0,$L$171)","v":0},{"$f":"OFFSET('IF Factors'!I205,0,$M$171)","v":0},null,0,0,0,0,null,1,1,1,null,0,0]
[]
[]
[]
[{"$nulls":6},"Electric fuel efficiency"]
[{"$nulls":7},{"$f":"H569","v":0},{"$f":"I569","v":1},2,3,4,5,6,7,8,9,10,11,12,13,14,15,16,17,18,19]
[{"$nulls":5},"NO BRT",{"$f":"G570","v":"Cars"},{"$f":"K587","v":{"v":0,"d":"0.00"}},{"$f":"(I$23*$P587)+$O587","v":{"v":0,"d":"0.00"}},{"$f":"(J$23*$P587)+$O587","v":{"v":0,"d":"0.00"}},{"v":0,"d":"0.00"},{"v":0,"d":"0.00"},{"v":0,"d":"0.00"},{"v":0,"d":"0.00"},{"v":0,"d":"0.00"},{"v":0,"d":"0.00"},{"$f":"L587","v":{"v":0,"d":"0.00"}},{"$f":"(R$23*$R587)+$Q587","v":{"v":0,"d":"0.00"}},{"$f":"(S$23*$R587)+$Q587","v":{"v":0,"d":"0.00"}},{"v":0,"d":"0.00"},{"v":0,"d":"0.00"},{"v":0,"d":"0.00"},{"v":0,"d":"0.00"},{"v":0,"d":"0.00"},{"v":0,"d":"0.00"},{"v":0,"d":"0.00"},{"$f":"M587","v":{"v":0,"d":"0.00"}}]
[{"$nulls":6},{"$f":"G571","v":"2-wheeler"},{"$f":"K588","v":{"v":0,"d":"0.00"}},{"$f":"(I$23*$P588)+$O588","v":{"v":0,"d":"0.00"}},{"v":0,"d":"0.00"},{"v":0,"d":"0.00"},{"v":0,"d":"0.00"},{"v":0,"d":"0.00"},{"v":0,"d":"0.00"},{"v":0,"d":"0.00"},{"v":0,"d":"0.00"},{"$f":"L588","v":{"v":0,"d":"0.00"}},{"$f":"(R$23*$R588)+$Q588","v":{"v":0,"d":"0.00"}},{"v":0,"d":"0.00"},{"v":0,"d":"0.00"},{"v":0,"d":"0.00"},{"v":0,"d":"0.00"},{"v":0,"d":"0.00"},{"v":0,"d":"0.00"},{"v":0,"d":"0.00"},{"v":0,"d":"0.00"},{"$f":"M588","v":{"v":0,"d":"0.00"}}]
[{"$nulls":6},"Taxi",{"v":0,"d":"0.00"},{"v":0,"d":"0.00"},{"v":0,"d":"0.00"},{"v":0,"d":"0.00"},{"v":0,"d":"0.00"},{"v":0,"d":"0.00"},{"v":0,"d":"0.00"},{"v":0,"d":"0.00"},{"v":0,"d":"0.00"},{"v":0,"d":"0.00"},{"v":0,"d":"0.00"},{"v":0,"d":"0.00"},{"v":0,"d":"0.00"},{"v":0,"d":"0.00"},{"v":0,"d":"0.00"},{"v":0,"d":"0.00"},{"v":0,"d":"0.00"},{"v":0,"d":"0.00"},{"v":0,"d":"0.00"},{"v":0,"d":"0.00"}]
[{"$nulls":6},"",{"v":0,"d":"0.00"},{"v":0,"d":"0.00"},{"v":0,"d":"0.00"},{"v":0,"d":"0.00"},{"v":0,"d":"0.00"},{"v":0,"d":"0.00"},{"v":0,"d":"0.00"},{"v":0,"d":"0.00"},{"v":0,"d":"0.00"},{"v":0,"d":"0.00"},{"v":0,"d":"0.00"},{"v":0,"d":"0.00"},{"v":0,"d":"0.00"},{"v":0,"d":"0.00"},{"v":0,"d":"0.00"},{"v":0,"d":"0.00"},{"v":0,"d":"0.00"},{"v":0,"d":"0.00"},{"v":0,"d":"0.00"},{"v":0,"d":"0.00"}]
[{"$nulls":6},"",{"v":0,"d":"0.00"},{"v":0,"d":"0.00"},{"v":0,"d":"0.00"},{"v":0,"d":"0.00"},{"v":0,"d":"0.00"},{"v":0,"d":"0.00"},{"v":0,"d":"0.00"},{"v":0,"d":"0.00"},{"v":0,"d":"0.00"},{"v":0,"d":"0.00"},{"v":0,"d":"0.00"},{"v":0,"d":"0.00"},{"v":0,"d":"0.00"},{"v":0,"d":"0.00"},{"v":0,"d":"0.00"},{"v":0,"d":"0.00"},{"v":0,"d":"0.00"},{"v":0,"d":"0.00"},{"v":0,"d":"0.00"},{"v":0,"d":"0.00"}]
[{"$nulls":6},"3-wheeler",{"v":0,"d":"0.00"},{"v":0,"d":"0.00"},{"v":0,"d":"0.00"},{"v":0,"d":"0.00"},{"v":0,"d":"0.00"},{"v":0,"d":"0.00"},{"v":0,"d":"0.00"},{"v":0,"d":"0.00"},{"v":0,"d":"0.00"},{"v":0,"d":"0.00"},{"v":0,"d":"0.00"},{"v":0,"d":"0.00"},{"v":0,"d":"0.00"},{"v":0,"d":"0.00"},{"v":0,"d":"0.00"},{"v":0,"d":"0.00"},{"v":0,"d":"0.00"},{"v":0,"d":"0.00"},{"v":0,"d":"0.00"},{"v":0,"d":"0.00"}]
[{"$nulls":6},"Bus",{"v":0,"d":"0.00"},{"v":0,"d":"0.00"},{"v":0,"d":"0.00"},{"v":0,"d":"0.00"},{"v":0,"d":"0.00"},{"v":0,"d":"0.00"},{"v":0,"d":"0.00"},{"v":0,"d":"0.00"},{"v":0,"d":"0.00"},{"v":0,"d":"0.00"},{"v":0,"d":"0.00"},{"v":0,"d":"0.00"},{"v":0,"d":"0.00"},{"v":0,"d":"0.00"},{"v":0,"d":"0.00"},{"v":0,"d":"0.00"},{"v":0,"d":"0.00"},{"v":0,"d":"0.00"},{"v":0,"d":"0.00"},{"v":0,"d":"0.00"}]
[{"$nulls":6},"Mini-bus",{"v":0,"d":"0.00"},{"v":0,"d":"0.00"},{"v":0,"d":"0.00"},{"v":0,"d":"0.00"},{"v":0,"d":"0.00"},{"v":0,"d":"0.00"},{"v":0,"d":"0.00"},{"v":0,"d":"0.00"},{"v":0,"d":"0.00"},{"v":0,"d":"0.00"},{"v":0,"d":"0.00"},{"v":0,"d":"0.00"},{"v":0,"d":"0.00"},{"v":0,"d":"0.00"},{"v":0,"d":"0.00"},{"v":0,"d":"0.00"},{"v":0,"d":"0.00"},{"v":0,"d":"0.00"},{"v":0,"d":"0.00"},{"v":0,"d":"0.00"}]
[{"$nulls":6},"",{"v":0,"d":"0.00"},{"v":0,"d":"0.00"},{"v":0,"d":"0.00"},{"v":0,"d":"0.00"},{"v":0,"d":"0.00"},{"v":0,"d":"0.00"},{"v":0,"d":"0.00"},{"v":0,"d":"0.00"},{"v":0,"d":"0.00"},{"v":0,"d":"0.00"},{"v":0,"d":"0.00"},{"v":0,"d":"0.00"},{"v":0,"d":"0.00"},{"v":0,"d":"0.00"},{"v":0,"d":"0.00"},{"v":0,"d":"0.00"},{"v":0,"d":"0.00"},{"v":0,"d":"0.00"},{"v":0,"d":"0.00"},{"v":0,"d":"0.00"}]
[{"$nulls":6},"",{"v":0,"d":"0.00"},{"v":0,"d":"0.00"},{"v":0,"d":"0.00"},{"v":0,"d":"0.00"},{"v":0,"d":"0.00"},{"v":0,"d":"0.00"},{"v":0,"d":"0.00"},{"v":0,"d":"0.00"},{"v":0,"d":"0.00"},{"v":0,"d":"0.00"},{"v":0,"d":"0.00"},{"v":0,"d":"0.00"},{"v":0,"d":"0.00"},{"v":0,"d":"0.00"},{"v":0,"d":"0.00"},{"v":0,"d":"0.00"},{"v":0,"d":"0.00"},{"v":0,"d":"0.00"},{"v":0,"d":"0.00"},{"v":0,"d":"0.00"}]
[{"$nulls":6},"BRT",{"v":0,"d":"0.00"},{"v":0,"d":"0.00"},{"v":0,"d":"0.00"},{"v":0,"d":"0.00"},{"v":0,"d":"0.00"},{"v":0,"d":"0.00"},{"v":0,"d":"0.00"},{"v":0,"d":"0.00"},{"v":0,"d":"0.00"},{"v":0,"d":"0.00"},{"v":0,"d":"0.00"},{"v":0,"d":"0.00"},{"v":0,"d":"0.00"},{"v":0,"d":"0.00"},{"v":0,"d":"0.00"},{"v":0,"d":"0.00"},{"v":0,"d":"0.00"},{"v":0,"d":"0.00"},{"v":0,"d":"0.00"},{"v":0,"d":"0.00"}]
[]
[]
[{"$nulls":6},{"$f":"IF('IF Factors'!J8=\"\",\"not included\",CONCATENATE('IF Factors'!J8,\"Fuel efficiency\"))","v":"EthanolFuel efficiency"}]
[{"$nulls":10},"Fuel Efficiency (km/unit of consumption)"]
[{"$nulls":10},"Column",7,14,null,"1st",null,"2nd"]
[{"$nulls":10},{"$f":"H635","v":0},{"$f":"Q635","v":9},{"$f":"AA635","v":19},null,"intercept","slope","intercept","slope",null,{"$f":"K619","v":0},{"$f":"L619","v":9},{"$f":"M619","v":19},null,"1st","2nd"]
[{"$nulls":5},"NO BRT",{"$f":"G587","v":"Cars"},{"$nulls":3},{"$f":"'IF Factors'!J195","v":0},{"$f":"OFFSET('IF Factors'!J195,0,$L$171)","v":0},{"$f":"OFFSET('IF Factors'!J195,0,$M$171)","v":0},null,{"$f":"INTERCEPT(K620:L620,$K$7:$L$7)","v":0},{"$f":"SLOPE(K620:L620,$K$7:$L$7)","v":0},{"$f":"INTERCEPT(L620:M620,$L$7:$M$7)","v":0},{"$f":"SLOPE(L620:M620,$L$7:$M$7)","v":0},null,{"$f":"IF(K620<>0,0,1)","v":1},{"$f":"IF(L620<>0,0,1)","v":1},{"$f":"IF(M620<>0,0,1)","v":1},null,{"$f":"IF(T620+U620=1,1,0)","v":0},{"$f":"IF(U620+V620=1,1,0)","v":0}]
[{"$nulls":6},{"$f":"G588","v":"2-wheeler"},{"$nulls":3},{"$f":"'IF Factors'!J196","v":0},{"$f":"OFFSET('IF Factors'!J196,0,$L$171)","v":0},{"$f":"OFFSET('IF Factors'!J196,0,$M$171)","v":0},null,{"$f":"INTERCEPT(K621:L621,$K$7:$L$7)","v":0},{"$f":"SLOPE(K621:L621,$K$7:$L$7)","v":0},{"$f":"INTERCEPT(L621:M621,$L$7:$M$7)","v":0},{"$f":"SLOPE(L621:M621,$L$7:$M$7)","v":0},null,{"$f":"IF(K621<>0,0,1)","v":1},1,1,null,{"$f":"IF(T621+U621=1,1,0)","v":0},0]
[{"$nulls":6},"Taxi",{"$nulls":3},{"$f":"'IF Factors'!J197","v":0},{"$f":"OFFSET('IF Factors'!J197,0,$L$171)","v":0},{"$f":"OFFSET('IF Factors'!J197,0,$M$171)","v":0},null,0,0,0,0,null,1,1,1,null,0,0]
[{"$nulls":6},"",{"$nulls":3},{"$f":"'IF Factors'!J198","v":0},{"$f":"OFFSET('IF Factors'!J198,0,$L$171)","v":0},{"$f":"OFFSET('IF Factors'!J198,0,$M$171)","v":0},null,0,0,0,0,null,1,1,1,null,0,0]
[{"$nulls":6},"",{"$nulls":3},{"$f":"'IF Factors'!J199","v":0},{"$f":"OFFSET('IF Factors'!J199,0,$L$171)","v":0},{"$f":"OFFSET('IF Factors'!J199,0,$M$171)","v":0},null,0,0,0,0,null,1,1,1,null,0,0]
[{"$nulls":6},"3-wheeler",{"$nulls":3},{"$f":"'IF Factors'!J200","v":0},{"$f":"OFFSET('IF Factors'!J200,0,$L$171)","v":0},{"$f":"OFFSET('IF Factors'!J200,0,$M$171)","v":0},null,0,0,0,0,null,1,1,1,null,0,0]
[{"$nulls":6},"Bus",{"$nulls":3},{"$f":"'IF Factors'!J201","v":0},{"$f":"OFFSET('IF Factors'!J201,0,$L$171)","v":0},{"$f":"OFFSET('IF Factors'!J201,0,$M$171)","v":0},null,0,0,0,0,null,1,1,1,null,0,0]
[{"$nulls":6},"Mini-bus",{"$nulls":3},{"$f":"'IF Factors'!J202","v":0},{"$f":"OFFSET('IF Factors'!J202,0,$L$171)","v":0},{"$f":"OFFSET('IF Factors'!J202,0,$M$171)","v":0},null,0,0,0,0,null,1,1,1,null,0,0]
[{"$nulls":6},"",{"$nulls":3},{"$f":"'IF Factors'!J203","v":0},{"$f":"OFFSET('IF Factors'!J203,0,$L$171)","v":0},{"$f":"OFFSET('IF Factors'!J203,0,$M$171)","v":0},null,0,0,0,0,null,1,1,1,null,0,0]
[{"$nulls":6},"",{"$nulls":3},{"$f":"'IF Factors'!J204","v":0},{"$f":"OFFSET('IF Factors'!J204,0,$L$171)","v":0},{"$f":"OFFSET('IF Factors'!J204,0,$M$171)","v":0},null,0,0,0,0,null,1,1,1,null,0,0]
[{"$nulls":6},"BRT",{"$nulls":3},{"$f":"'IF Factors'!J205","v":0},{"$f":"OFFSET('IF Factors'!J205,0,$L$171)","v":0},{"$f":"OFFSET('IF Factors'!J205,0,$M$171)","v":0},null,0,0,0,0,null,1,1,1,null,0,0]
[]
[]
[]
[{"$nulls":6},{"$f":"IF('IF Factors'!J8=\"\",\"not included\",CONCATENATE('IF Factors'!J8,\"Fuel efficiency\"))","v":"EthanolFuel efficiency"}]
[{"$nulls":7},{"$f":"H602","v":0},{"$f":"I602","v":1},2,3,4,5,6,7,8,9,10,11,12,13,14,15,16,17,18,19]
[{"$nulls":5},"NO BRT",{"$f":"G603","v":"Cars"},{"$f":"K620","v":{"v":0,"d":"0.00"}},{"$f":"(I$23*$P620)+$O620","v":{"v":0,"d":"0.00"}},{"$f":"(J$23*$P620)+$O620","v":{"v":0,"d":"0.00"}},{"v":0,"d":"0.00"},{"v":0,"d":"0.00"},{"v":0,"d":"0.00"},{"v":0,"d":"0.00"},{"v":0,"d":"0.00"},{"v":0,"d":"0.00"},{"$f":"L620","v":{"v":0,"d":"0.00"}},{"$f":"(R$23*$R620)+$Q620","v":{"v":0,"d":"0.00"}},{"$f":"(S$23*$R620)+$Q620","v":{"v":0,"d":"0.00"}},{"v":0,"d":"0.00"},{"v":0,"d":"0.00"},{"v":0,"d":"0.00"},{"v":0,"d":"0.00"},{"v":0,"d":"0.00"},{"v":0,"d":"0.00"},{"v":0,"d":"0.00"},{"$f":"M620","v":{"v":0,"d":"0.00"}}]
[{"$nulls":6},{"$f":"G604","v":"2-wheeler"},{"$f":"K621","v":{"v":0,"d":"0.00"}},{"$f":"(I$23*$P621)+$O621","v":{"v":0,"d":"0.00"}},{"v":0,"d":"0.00"},{"v":0,"d":"0.00"},{"v":0,"d":"0.00"},{"v":0,"d":"0.00"},{"v":0,"d":"0.00"},{"v":0,"d":"0.00"},{"v":0,"d":"0.00"},{"$f":"L621","v":{"v":0,"d":"0.00"}},{"$f":"(R$23*$R621)+$Q621","v":{"v":0,"d":"0.00"}},{"v":0,"d":"0.00"},{"v":0,"d":"0.00"},{"v":0,"d":"0.00"},{"v":0,"d":"0.00"},{"v":0,"d":"0.00"},{"v":0,"d":"0.00"},{"v":0,"d":"0.00"},{"v":0,"d":"0.00"},{"$f":"M621","v":{"v":0,"d":"0.00"}}]
[{"$nulls":6},"Taxi",{"v":0,"d":"0.00"},{"v":0,"d":"0.00"},{"v":0,"d":"0.00"},{"v":0,"d":"0.00"},{"v":0,"d":"0.00"},{"v":0,"d":"0.00"},{"v":0,"d":"0.00"},{"v":0,"d":"0.00"},{"v":0,"d":"0.00"},{"v":0,"d":"0.00"},{"v":0,"d":"0.00"},{"v":0,"d":"0.00"},{"v":0,"d":"0.00"},{"v":0,"d":"0.00"},{"v":0,"d":"0.00"},{"v":0,"d":"0.00"},{"v":0,"d":"0.00"},{"v":0,"d":"0.00"},{"v":0,"d":"0.00"},{"v":0,"d":"0.00"}]
[{"$nulls":6},"",{"v":0,"d":"0.00"},{"v":0,"d":"0.00"},{"v":0,"d":"0.00"},{"v":0,"d":"0.00"},{"v":0,"d":"0.00"},{"v":0,"d":"0.00"},{"v":0,"d":"0.00"},{"v":0,"d":"0.00"},{"v":0,"d":"0.00"},{"v":0,"d":"0.00"},{"v":0,"d":"0.00"},{"v":0,"d":"0.00"},{"v":0,"d":"0.00"},{"v":0,"d":"0.00"},{"v":0,"d":"0.00"},{"v":0,"d":"0.00"},{"v":0,"d":"0.00"},{"v":0,"d":"0.00"},{"v":0,"d":"0.00"},{"v":0,"d":"0.00"}]
[{"$nulls":6},"",{"v":0,"d":"0.00"},{"v":0,"d":"0.00"},{"v":0,"d":"0.00"},{"v":0,"d":"0.00"},{"v":0,"d":"0.00"},{"v":0,"d":"0.00"},{"v":0,"d":"0.00"},{"v":0,"d":"0.00"},{"v":0,"d":"0.00"},{"v":0,"d":"0.00"},{"v":0,"d":"0.00"},{"v":0,"d":"0.00"},{"v":0,"d":"0.00"},{"v":0,"d":"0.00"},{"v":0,"d":"0.00"},{"v":0,"d":"0.00"},{"v":0,"d":"0.00"},{"v":0,"d":"0.00"},{"v":0,"d":"0.00"},{"v":0,"d":"0.00"}]
[{"$nulls":6},"3-wheeler",{"v":0,"d":"0.00"},{"v":0,"d":"0.00"},{"v":0,"d":"0.00"},{"v":0,"d":"0.00"},{"v":0,"d":"0.00"},{"v":0,"d":"0.00"},{"v":0,"d":"0.00"},{"v":0,"d":"0.00"},{"v":0,"d":"0.00"},{"v":0,"d":"0.00"},{"v":0,"d":"0.00"},{"v":0,"d":"0.00"},{"v":0,"d":"0.00"},{"v":0,"d":"0.00"},{"v":0,"d":"0.00"},{"v":0,"d":"0.00"},{"v":0,"d":"0.00"},{"v":0,"d":"0.00"},{"v":0,"d":"0.00"},{"v":0,"d":"0.00"}]
[{"$nulls":6},"Bus",{"v":0,"d":"0.00"},{"v":0,"d":"0.00"},{"v":0,"d":"0.00"},{"v":0,"d":"0.00"},{"v":0,"d":"0.00"},{"v":0,"d":"0.00"},{"v":0,"d":"0.00"},{"v":0,"d":"0.00"},{"v":0,"d":"0.00"},{"v":0,"d":"0.00"},{"v":0,"d":"0.00"},{"v":0,"d":"0.00"},{"v":0,"d":"0.00"},{"v":0,"d":"0.00"},{"v":0,"d":"0.00"},{"v":0,"d":"0.00"},{"v":0,"d":"0.00"},{"v":0,"d":"0.00"},{"v":0,"d":"0.00"},{"v":0,"d":"0.00"}]
[{"$nulls":6},"Mini-bus",{"v":0,"d":"0.00"},{"v":0,"d":"0.00"},{"v":0,"d":"0.00"},{"v":0,"d":"0.00"},{"v":0,"d":"0.00"},{"v":0,"d":"0.00"},{"v":0,"d":"0.00"},{"v":0,"d":"0.00"},{"v":0,"d":"0.00"},{"v":0,"d":"0.00"},{"v":0,"d":"0.00"},{"v":0,"d":"0.00"},{"v":0,"d":"0.00"},{"v":0,"d":"0.00"},{"v":0,"d":"0.00"},{"v":0,"d":"0.00"},{"v":0,"d":"0.00"},{"v":0,"d":"0.00"},{"v":0,"d":"0.00"},{"v":0,"d":"0.00"}]
[{"$nulls":6},"",{"v":0,"d":"0.00"},{"v":0,"d":"0.00"},{"v":0,"d":"0.00"},{"v":0,"d":"0.00"},{"v":0,"d":"0.00"},{"v":0,"d":"0.00"},{"v":0,"d":"0.00"},{"v":0,"d":"0.00"},{"v":0,"d":"0.00"},{"v":0,"d":"0.00"},{"v":0,"d":"0.00"},{"v":0,"d":"0.00"},{"v":0,"d":"0.00"},{"v":0,"d":"0.00"},{"v":0,"d":"0.00"},{"v":0,"d":"0.00"},{"v":0,"d":"0.00"},{"v":0,"d":"0.00"},{"v":0,"d":"0.00"},{"v":0,"d":"0.00"}]
[{"$nulls":6},"",{"v":0,"d":"0.00"},{"v":0,"d":"0.00"},{"v":0,"d":"0.00"},{"v":0,"d":"0.00"},{"v":0,"d":"0.00"},{"v":0,"d":"0.00"},{"v":0,"d":"0.00"},{"v":0,"d":"0.00"},{"v":0,"d":"0.00"},{"v":0,"d":"0.00"},{"v":0,"d":"0.00"},{"v":0,"d":"0.00"},{"v":0,"d":"0.00"},{"v":0,"d":"0.00"},{"v":0,"d":"0.00"},{"v":0,"d":"0.00"},{"v":0,"d":"0.00"},{"v":0,"d":"0.00"},{"v":0,"d":"0.00"},{"v":0,"d":"0.00"}]
[{"$nulls":6},"BRT",{"v":0,"d":"0.00"},{"v":0,"d":"0.00"},{"v":0,"d":"0.00"},{"v":0,"d":"0.00"},{"v":0,"d":"0.00"},{"v":0,"d":"0.00"},{"v":0,"d":"0.00"},{"v":0,"d":"0.00"},{"v":0,"d":"0.00"},{"v":0,"d":"0.00"},{"v":0,"d":"0.00"},{"v":0,"d":"0.00"},{"v":0,"d":"0.00"},{"v":0,"d":"0.00"},{"v":0,"d":"0.00"},{"v":0,"d":"0.00"},{"v":0,"d":"0.00"},{"v":0,"d":"0.00"},{"v":0,"d":"0.00"},{"v":0,"d":"0.00"}]
[]
[]
[{"$nulls":6},"Speed"]
[]
[{"$nulls":10},"km/h",{"$nulls":3},"1st",null,"2nd"]
[{"$nulls":7},"Impact as",null,null,{"$f":"H668","v":0},{"$f":"Q668","v":9},{"$f":"AA668","v":19},null,"intercept","slope","intercept","slope",null,{"$f":"K652","v":0},{"$f":"L652","v":9},{"$f":"M652","v":19},null,"1st","2nd"]
[{"$nulls":5},"NO BRT",{"$f":"G636","v":"Cars"},{"$f":"'IF Factors'!N233","v":"Cars"},null,null,{"$f":"'IF Factors'!E233","v":0},{"$f":"'IF Factors'!F233","v":0},{"$f":"'IF Factors'!G233","v":0},null,{"$f":"INTERCEPT(K653:L653,$K$7:$L$7)","v":0},{"$f":"SLOPE(K653:L653,$K$7:$L$7)","v":0},{"$f":"INTERCEPT(L653:M653,$L$7:$M$7)","v":0},{"$f":"SLOPE(L653:M653,$L$7:$M$7)","v":0},null,{"$f":"IF(K653<>0,0,1)","v":1},{"$f":"IF(L653<>0,0,1)","v":1},{"$f":"IF(M653<>0,0,1)","v":1},null,{"$f":"IF(T653+U653=1,1,0)","v":0},{"$f":"IF(U653+V653=1,1,0)","v":0}]
[{"$nulls":6},{"$f":"G637","v":"2-wheeler"},{"$f":"'IF Factors'!N234","v":"2-wheeler"},null,null,{"$f":"'IF Factors'!E234","v":0},{"$f":"'IF Factors'!F234","v":0},{"$f":"'IF Factors'!G234","v":0},null,{"$f":"INTERCEPT(K654:L654,$K$7:$L$7)","v":0},{"$f":"SLOPE(K654:L654,$K$7:$L$7)","v":0},{"$f":"INTERCEPT(L654:M654,$L$7:$M$7)","v":0},{"$f":"SLOPE(L654:M654,$L$7:$M$7)","v":0},null,{"$f":"IF(K654<>0,0,1)","v":1},1,1,null,{"$f":"IF(T654+U654=1,1,0)","v":0},0]
[{"$nulls":6},"Taxi",{"$f":"'IF Factors'!N235","v":"Cars"},null,null,{"$f":"'IF Factors'!E235","v":0},{"$f":"'IF Factors'!F235","v":0},{"$f":"'IF Factors'!G235","v":0},null,0,0,0,0,null,1,1,1,null,0,0]
[{"$nulls":6},"",{"$f":"'IF Factors'!N236","v":0},null,null,{"$f":"'IF Factors'!E236","v":0},{"$f":"'IF Factors'!F236","v":0},{"$f":"'IF Factors'!G236","v":0},null,0,0,0,0,null,1,1,1,null,0,0]
[{"$nulls":6},"",{"$f":"'IF Factors'!N237","v":0},null,null,{"$f":"'IF Factors'!E237","v":0},{"$f":"'IF Factors'!F237","v":0},{"$f":"'IF Factors'!G237","v":0},null,0,0,0,0,null,1,1,1,null,0,0]
[{"$nulls":6},"3-wheeler",{"$f":"'IF Factors'!N238","v":0},null,null,{"$f":"'IF Factors'!E238","v":0},{"$f":"'IF Factors'!F238","v":0},{"$f":"'IF Factors'!G238","v":0},null,0,0,0,0,null,1,1,1,null,0,0]
[{"$nulls":6},"Bus",{"$f":"'IF Factors'!N239","v":"Bus"},null,null,{"$f":"'IF Factors'!E239","v":0},{"$f":"'IF Factors'!F239","v":0},{"$f":"'IF Factors'!G239","v":0},null,0,0,0,0,null,1,1,1,null,0,0]
[{"$nulls":6},"Mini-bus",{"$f":"'IF Factors'!N240","v":"Bus"},null,null,{"$f":"'IF Factors'!E240","v":0},{"$f":"'IF Factors'!F240","v":0},{"$f":"'IF Factors'!G240","v":0},null,0,0,0,0,null,1,1,1,null,0,0]
[{"$nulls":6},"",{"$f":"'IF Factors'!N241","v":0},null,null,{"$f":"'IF Factors'!E241","v":0},{"$f":"'IF Factors'!F241","v":0},{"$f":"'IF Factors'!G241","v":0},null,0,0,0,0,null,1,1,1,null,0,0]
[{"$nulls":6},"",{"$f":"'IF Factors'!N242","v":0},null,null,{"$f":"'IF Factors'!E242","v":0},{"$f":"'IF Factors'!F242","v":0},{"$f":"'IF Factors'!G242","v":0},null,0,0,0,0,null,1,1,1,null,0,0]
[{"$nulls":6},"BRT",{"$f":"'IF Factors'!N243","v":"Bus"},null,null,{"$f":"'IF Factors'!E243","v":0},{"$f":"'IF Factors'!F243","v":0},{"$f":"'IF Factors'!G243","v":0},null,0,0,0,0,null,1,1,1,null,0,0]
[]
[]
[]
[{"$nulls":6},"Speed"]
[{"$nulls":7},{"$f":"H635","v":0},{"$f":"I635","v":1},2,3,4,5,6,7,8,9,10,11,12,13,14,15,16,17,18,19]
[{"$nulls":5},"NO BRT",{"$f":"G636","v":"Cars"},{"$f":"K653","v":{"v":0,"d":"0.00"}},{"$f":"(I$23*$P653)+$O653","v":{"v":0,"d":"0.00"}},{"$f":"(J$23*$P653)+$O653","v":{"v":0,"d":"0.00"}},{"v":0,"d":"0.00"},{"v":0,"d":"0.00"},{"v":0,"d":"0.00"},{"v":0,"d":"0.00"},{"v":0,"d":"0.00"},{"v":0,"d":"0.00"},{"$f":"L653","v":{"v":0,"d":"0.00"}},{"$f":"(R$23*$R653)+$Q653","v":{"v":0,"d":"0.00"}},{"$f":"(S$23*$R653)+$Q653","v":{"v":0,"d":"0.00"}},{"v":0,"d":"0.00"},{"v":0,"d":"0.00"},{"v":0,"d":"0.00"},{"v":0,"d":"0.00"},{"v":0,"d":"0.00"},{"v":0,"d":"0.00"},{"v":0,"d":"0.00"},{"$f":"M653","v":{"v":0,"d":"0.00"}}]
[{"$nulls":6},{"$f":"G637","v":"2-wheeler"},{"$f":"K654","v":{"v":0,"d":"0.00"}},{"$f":"(I$23*$P654)+$O654","v":{"v":0,"d":"0.00"}},{"v":0,"d":"0.00"},{"v":0,"d":"0.00"},{"v":0,"d":"0.00"},{"v":0,"d":"0.00"},{"v":0,"d":"0.00"},{"v":0,"d":"0.00"},{"v":0,"d":"0.00"},{"$f":"L654","v":{"v":0,"d":"0.00"}},{"$f":"(R$23*$R654)+$Q654","v":{"v":0,"d":"0.00"}},{"v":0,"d":"0.00"},{"v":0,"d":"0.00"},{"v":0,"d":"0.00"},{"v":0,"d":"0.00"},{"v":0,"d":"0.00"},{"v":0,"d":"0.00"},{"v":0,"d":"0.00"},{"v":0,"d":"0.00"},{"$f":"M654","v":{"v":0,"d":"0.00"}}]
[{"$nulls":6},"Taxi",{"v":0,"d":"0.00"},{"v":0,"d":"0.00"},{"v":0,"d":"0.00"},{"v":0,"d":"0.00"},{"v":0,"d":"0.00"},{"v":0,"d":"0.00"},{"v":0,"d":"0.00"},{"v":0,"d":"0.00"},{"v":0,"d":"0.00"},{"v":0,"d":"0.00"},{"v":0,"d":"0.00"},{"v":0,"d":"0.00"},{"v":0,"d":"0.00"},{"v":0,"d":"0.00"},{"v":0,"d":"0.00"},{"v":0,"d":"0.00"},{"v":0,"d":"0.00"},{"v":0,"d":"0.00"},{"v":0,"d":"0.00"},{"v":0,"d":"0.00"}]
[{"$nulls":6},"",{"v":0,"d":"0.00"},{"v":0,"d":"0.00"},{"v":0,"d":"0.00"},{"v":0,"d":"0.00"},{"v":0,"d":"0.00"},{"v":0,"d":"0.00"},{"v":0,"d":"0.00"},{"v":0,"d":"0.00"},{"v":0,"d":"0.00"},{"v":0,"d":"0.00"},{"v":0,"d":"0.00"},{"v":0,"d":"0.00"},{"v":0,"d":"0.00"},{"v":0,"d":"0.00"},{"v":0,"d":"0.00"},{"v":0,"d":"0.00"},{"v":0,"d":"0.00"},{"v":0,"d":"0.00"},{"v":0,"d":"0.00"},{"v":0,"d":"0.00"}]
[{"$nulls":6},"",{"v":0,"d":"0.00"},{"v":0,"d":"0.00"},{"v":0,"d":"0.00"},{"v":0,"d":"0.00"},{"v":0,"d":"0.00"},{"v":0,"d":"0.00"},{"v":0,"d":"0.00"},{"v":0,"d":"0.00"},{"v":0,"d":"0.00"},{"v":0,"d":"0.00"},{"v":0,"d":"0.00"},{"v":0,"d":"0.00"},{"v":0,"d":"0.00"},{"v":0,"d":"0.00"},{"v":0,"d":"0.00"},{"v":0,"d":"0.00"},{"v":0,"d":"0.00"},{"v":0,"d":"0.00"},{"v":0,"d":"0.00"},{"v":0,"d":"0.00"}]
[{"$nulls":6},"3-wheeler",{"v":0,"d":"0.00"},{"v":0,"d":"0.00"},{"v":0,"d":"0.00"},{"v":0,"d":"0.00"},{"v":0,"d":"0.00"},{"v":0,"d":"0.00"},{"v":0,"d":"0.00"},{"v":0,"d":"0.00"},{"v":0,"d":"0.00"},{"v":0,"d":"0.00"},{"v":0,"d":"0.00"},{"v":0,"d":"0.00"},{"v":0,"d":"0.00"},{"v":0,"d":"0.00"},{"v":0,"d":"0.00"},{"v":0,"d":"0.00"},{"v":0,"d":"0.00"},{"v":0,"d":"0.00"},{"v":0,"d":"0.00"},{"v":0,"d":"0.00"}]
[{"$nulls":6},"Bus",{"v":0,"d":"0.00"},{"v":0,"d":"0.00"},{"v":0,"d":"0.00"},{"v":0,"d":"0.00"},{"v":0,"d":"0.00"},{"v":0,"d":"0.00"},{"v":0,"d":"0.00"},{"v":0,"d":"0.00"},{"v":0,"d":"0.00"},{"v":0,"d":"0.00"},{"v":0,"d":"0.00"},{"v":0,"d":"0.00"},{"v":0,"d":"0.00"},{"v":0,"d":"0.00"},{"v":0,"d":"0.00"},{"v":0,"d":"0.00"},{"v":0,"d":"0.00"},{"v":0,"d":"0.00"},{"v":0,"d":"0.00"},{"v":0,"d":"0.00"}]
[{"$nulls":6},"Mini-bus",{"v":0,"d":"0.00"},{"v":0,"d":"0.00"},{"v":0,"d":"0.00"},{"v":0,"d":"0.00"},{"v":0,"d":"0.00"},{"v":0,"d":"0.00"},{"v":0,"d":"0.00"},{"v":0,"d":"0.00"},{"v":0,"d":"0.00"},{"v":0,"d":"0.00"},{"v":0,"d":"0.00"},{"v":0,"d":"0.00"},{"v":0,"d":"0.00"},{"v":0,"d":"0.00"},{"v":0,"d":"0.00"},{"v":0,"d":"0.00"},{"v":0,"d":"0.00"},{"v":0,"d":"0.00"},{"v":0,"d":"0.00"},{"v":0,"d":"0.00"}]
[{"$nulls":6},"",{"v":0,"d":"0.00"},{"v":0,"d":"0.00"},{"v":0,"d":"0.00"},{"v":0,"d":"0.00"},{"v":0,"d":"0.00"},{"v":0,"d":"0.00"},{"v":0,"d":"0.00"},{"v":0,"d":"0.00"},{"v":0,"d":"0.00"},{"v":0,"d":"0.00"},{"v":0,"d":"0.00"},{"v":0,"d":"0.00"},{"v":0,"d":"0.00"},{"v":0,"d":"0.00"},{"v":0,"d":"0.00"},{"v":0,"d":"0.00"},{"v":0,"d":"0.00"},{"v":0,"d":"0.00"},{"v":0,"d":"0.00"},{"v":0,"d":"0.00"}]
[{"$nulls":6},"",{"v":0,"d":"0.00"},{"v":0,"d":"0.00"},{"v":0,"d":"0.00"},{"v":0,"d":"0.00"},{"v":0,"d":"0.00"},{"v":0,"d":"0.00"},{"v":0,"d":"0.00"},{"v":0,"d":"0.00"},{"v":0,"d":"0.00"},{"v":0,"d":"0.00"},{"v":0,"d":"0.00"},{"v":0,"d":"0.00"},{"v":0,"d":"0.00"},{"v":0,"d":"0.00"},{"v":0,"d":"0.00"},{"v":0,"d":"0.00"},{"v":0,"d":"0.00"},{"v":0,"d":"0.00"},{"v":0,"d":"0.00"},{"v":0,"d":"0.00"}]
[{"$nulls":6},"BRT",{"v":0,"d":"0.00"},{"v":0,"d":"0.00"},{"v":0,"d":"0.00"},{"v":0,"d":"0.00"},{"v":0,"d":"0.00"},{"v":0,"d":"0.00"},{"v":0,"d":"0.00"},{"v":0,"d":"0.00"},{"v":0,"d":"0.00"},{"v":0,"d":"0.00"},{"v":0,"d":"0.00"},{"v":0,"d":"0.00"},{"v":0,"d":"0.00"},{"v":0,"d":"0.00"},{"v":0,"d":"0.00"},{"v":0,"d":"0.00"},{"v":0,"d":"0.00"},{"v":0,"d":"0.00"},{"v":0,"d":"0.00"},{"v":0,"d":"0.00"}]
[{"$nulls":6},"Average of Modes other than BRT",{"$f":"SUM(H669:H678)/COUNTIF(H669:H678,\">0\")","v":{"$error":"#DIV/0!"}},{"$f":"SUM(I669:I678)/COUNTIF(I669:I678,\">0\")","v":{"$error":"#DIV/0!"}},{"$error":"#DIV/0!"},{"$error":"#DIV/0!"},{"$error":"#DIV/0!"},{"$error":"#DIV/0!"},{"$error":"#DIV/0!"},{"$error":"#DIV/0!"},{"$error":"#DIV/0!"},{"$error":"#DIV/0!"},{"$error":"#DIV/0!"},{"$error":"#DIV/0!"},{"$error":"#DIV/0!"},{"$error":"#DIV/0!"},{"$error":"#DIV/0!"},{"$error":"#DIV/0!"},{"$error":"#DIV/0!"},{"$error":"#DIV/0!"},{"$error":"#DIV/0!"},{"$error":"#DIV/0!"}]
[]
[{"$nulls":7},"Fuel Efficiency","Fuel Efficiency","Fuel Efficiency","Fuel Efficiency","Fuel Efficiency","Fuel Efficiency",null,null,"PM","PM","PM","PM","PM","PM",null,null,"NOx","NOx","NOx","NOx","NOx","NOx"]
[{"$nulls":7},{"$f":"G675","v":"Bus"},{"$f":"G674","v":"3-wheeler"},{"$f":"G669","v":"Cars"},{"$f":"G670","v":"2-wheeler"},"Light-duty truck","Heavy-duty truck",null,null,{"$f":"H683","v":"Bus"},{"$f":"I683","v":"3-wheeler"},"Cars","2-wheeler","Light-duty truck","Heavy-duty truck",null,null,{"$f":"P683","v":"Bus"},{"$f":"Q683","v":"3-wheeler"},"Cars","2-wheeler","Light-duty truck","Heavy-duty truck"]
[{"$nulls":6},1,{"$f":"H685","v":{"v":94.0783275196055,"d":"94.08"}},{"v":69.5216631341671,"d":"69.52"},{"v":61.1908830789803,"d":"61.19"},{"v":69.5216631341671,"d":"69.52"},{"v":68.7369593943206,"d":"68.74"},{"v":94.0783275196055,"d":"94.08"},null,1,{"v":0.254,"d":"0.25"},{"v":0.762631665147954,"d":"0.76"},{"v":0.762631665147954,"d":"0.76"},{"v":0.762631665147954,"d":"0.76"},{"v":0.254,"d":"0.25"},{"v":0.832844274214362,"d":"0.83"},null,1,{"v":0.790560044330695,"d":"0.79"},{"v":0.80101690219997,"d":"0.80"},{"v":0.80101690219997,"d":"0.80"},{"v":0.80101690219997,"d":"0.80"},{"v":0.7265267199915211,"d":"0.73"},{"v":0.681416699629778,"d":"0.68"}]
[{"$nulls":6},5,{"v":94.0783275196055,"d":"94.08"},{"v":69.5216631341671,"d":"69.52"},{"v":61.1908830789803,"d":"61.19"},{"v":69.5216631341671,"d":"69.52"},{"v":68.7369593943206,"d":"68.74"},{"v":94.0783275196055,"d":"94.08"},null,5,{"v":0.254,"d":"0.25"},{"v":0.762631665147954,"d":"0.76"},{"v":0.762631665147954,"d":"0.76"},{"v":0.762631665147954,"d":"0.76"},{"v":0.254,"d":"0.25"},{"v":0.832844274214362,"d":"0.83"},null,5,{"v":0.790560044330695,"d":"0.79"},{"v":0.80101690219997,"d":"0.80"},{"v":0.80101690219997,"d":"0.80"},{"v":0.80101690219997,"d":"0.80"},{"v":0.7265267199915211,"d":"0.73"},{"v":0.681416699629778,"d":"0.68"}]
[{"$nulls":6},6,{"v":94.0783275196055,"d":"94.08"},{"v":69.5216631341671,"d":"69.52"},{"v":61.1908830789803,"d":"61.19"},{"v":69.5216631341671,"d":"69.52"},{"v":68.7369593943206,"d":"68.74"},{"v":94.0783275196055,"d":"94.08"},null,6,{"v":0.2540590447063056,"d":"0.25"},{"v":0.7130151451095554,"d":"0.71"},{"v":0.7130151451095554,"d":"0.71"},{"v":0.7130151451095554,"d":"0.71"},{"v":0.2540590447063056,"d":"0.25"},{"v":0.8038532432491361,"d":"0.80"},null,6,{"v":0.7647507498273101,"d":"0.76"},{"v":0.75292148245812,"d":"0.75"},{"v":0.75292148245812,"d":"0.75"},{"v":0.75292148245812,"d":"0.75"},{"v":0.6824519906257563,"d":"0.68"},{"v":0.655216824625997,"d":"0.66"}]
[{"$nulls":6},7,{"v":94.0783275196055,"d":"94.08"},{"v":69.5216631341671,"d":"69.52"},{"v":61.1908830789803,"d":"61.19"},{"v":69.5216631341671,"d":"69.52"},{"v":68.7369593943206,"d":"68.74"},{"v":94.0783275196055,"d":"94.08"},null,7,{"v":0.2541180894126112,"d":"0.25"},{"v":0.6633986250711569,"d":"0.66"},{"v":0.6633986250711569,"d":"0.66"},{"v":0.6633986250711569,"d":"0.66"},{"v":0.2541180894126112,"d":"0.25"},{"v":0.7748622122839102,"d":"0.77"},null,7,{"v":0.738941455323925,"d":"0.74"},{"v":0.70482606271627,"d":"0.70"},{"v":0.70482606271627,"d":"0.70"},{"v":0.70482606271627,"d":"0.70"},{"v":0.6383772612599917,"d":"0.64"},{"v":0.629016949622216,"d":"0.63"}]
[{"$nulls":6},8,{"v":94.0783275196055,"d":"94.08"},{"v":69.5216631341671,"d":"69.52"},{"v":61.1908830789803,"d":"61.19"},{"v":69.5216631341671,"d":"69.52"},{"v":68.7369593943206,"d":"68.74"},{"v":94.0783275196055,"d":"94.08"},null,8,{"v":0.25417713411891685,"d":"0.25"},{"v":0.6137821050327582,"d":"0.61"},{"v":0.6137821050327582,"d":"0.61"},{"v":0.6137821050327582,"d":"0.61"},{"v":0.25417713411891685,"d":"0.25"},{"v":0.7458711813186842,"d":"0.75"},null,8,{"v":0.71313216082054,"d":"0.71"},{"v":0.6567306429744201,"d":"0.66"},{"v":0.6567306429744201,"d":"0.66"},{"v":0.6567306429744201,"d":"0.66"},{"v":0.5943025318942271,"d":"0.59"},{"v":0.6028170746184349,"d":"0.60"}]
[{"$nulls":6},9,{"v":94.0783275196055,"d":"94.08"},{"v":69.5216631341671,"d":"69.52"},{"v":61.1908830789803,"d":"61.19"},{"v":69.5216631341671,"d":"69.52"},{"v":68.7369593943206,"d":"68.74"},{"v":94.0783275196055,"d":"94.08"},null,9,{"v":0.2542361788252224,"d":"0.25"},{"v":0.5641655849943596,"d":"0.56"},{"v":0.5641655849943596,"d":"0.56"},{"v":0.5641655849943596,"d":"0.56"},{"v":0.2542361788252224,"d":"0.25"},{"v":0.7168801503534583,"d":"0.72"},null,9,{"v":0.687322866317155,"d":"0.69"},{"v":0.6086352232325701,"d":"0.61"},{"v":0.6086352232325701,"d":"0.61"},{"v":0.6086352232325701,"d":"0.61"},{"v":0.5502278025284625,"d":"0.55"},{"v":0.576617199614654,"d":"0.58"}]
[{"$nulls":6},10,{"v":94.0783275196055,"d":"94.08"},{"v":69.5216631341671,"d":"69.52"},{"v":61.1908830789803,"d":"61.19"},{"v":69.5216631341671,"d":"69.52"},{"v":68.7369593943206,"d":"68.74"},{"v":94.0783275196055,"d":"94.08"},null,10,{"v":0.254295223531528,"d":"0.25"},{"v":0.514549064955961,"d":"0.51"},{"v":0.514549064955961,"d":"0.51"},{"v":0.514549064955961,"d":"0.51"},{"v":0.254295223531528,"d":"0.25"},{"v":0.687889119388232,"d":"0.69"},null,10,{"v":0.6615135718137699,"d":"0.66"},{"v":0.56053980349072,"d":"0.56"},{"v":0.56053980349072,"d":"0.56"},{"v":0.56053980349072,"d":"0.56"},{"v":0.506153073162698,"d":"0.51"},{"v":0.550417324610873,"d":"0.55"}]
[{"$nulls":6},11,{"v":94.0783275196055,"d":"94.08"},{"v":69.5216631341671,"d":"69.52"},{"v":61.1908830789803,"d":"61.19"},{"v":69.5216631341671,"d":"69.52"},{"v":68.7369593943206,"d":"68.74"},{"v":94.0783275196055,"d":"94.08"},null,11,{"v":0.24505627721563183,"d":"0.25"},{"v":0.4969070571702008,"d":"0.50"},{"v":0.4969070571702008,"d":"0.50"},{"v":0.4969070571702008,"d":"0.50"},{"v":0.24505627721563183,"d":"0.25"},{"v":0.6709464151246869,"d":"0.67"},null,11,{"v":0.6412063331253465,"d":"0.64"},{"v":0.5337167059326446,"d":"0.53"},{"v":0.5337167059326446,"d":"0.53"},{"v":0.5337167059326446,"d":"0.53"},{"v":0.4751212822258296,"d":"0.48"},{"v":0.5292146157170275,"d":"0.53"}]
[{"$nulls":6},12,{"v":94.0783275196055,"d":"94.08"},{"v":69.5216631341671,"d":"69.52"},{"v":61.1908830789803,"d":"61.19"},{"v":69.5216631341671,"d":"69.52"},{"v":68.7369593943206,"d":"68.74"},{"v":94.0783275196055,"d":"94.08"},null,12,{"v":0.23581733089973564,"d":"0.24"},{"v":0.4792650493844406,"d":"0.48"},{"v":0.4792650493844406,"d":"0.48"},{"v":0.4792650493844406,"d":"0.48"},{"v":0.23581733089973564,"d":"0.24"},{"v":0.6540037108611416,"d":"0.65"},null,12,{"v":0.6208990944369231,"d":"0.62"},{"v":0.5068936083745692,"d":"0.51"},{"v":0.5068936083745692,"d":"0.51"},{"v":0.5068936083745692,"d":"0.51"},{"v":0.4440894912889612,"d":"0.44"},{"v":0.5080119068231821,"d":"0.51"}]
[{"$nulls":6},13,{"v":94.0783275196055,"d":"94.08"},{"v":69.5216631341671,"d":"69.52"},{"v":61.1908830789803,"d":"61.19"},{"v":69.5216631341671,"d":"69.52"},{"v":68.7369593943206,"d":"68.74"},{"v":94.0783275196055,"d":"94.08"},null,13,{"v":0.22657838458383947,"d":"0.23"},{"v":0.46162304159868045,"d":"0.46"},{"v":0.46162304159868045,"d":"0.46"},{"v":0.46162304159868045,"d":"0.46"},{"v":0.22657838458383947,"d":"0.23"},{"v":0.6370610065975965,"d":"0.64"},null,13,{"v":0.6005918557484997,"d":"0.60"},{"v":0.4800705108164939,"d":"0.48"},{"v":0.4800705108164939,"d":"0.48"},{"v":0.4800705108164939,"d":"0.48"},{"v":0.41305770035209277,"d":"0.41"},{"v":0.48680919792933675,"d":"0.49"}]
[{"$nulls":6},14,{"$f":"H695","v":{"v":94.0783275196055,"d":"94.08"}},{"v":69.5216631341671,"d":"69.52"},{"v":61.1908830789803,"d":"61.19"},{"v":69.5216631341671,"d":"69.52"},{"v":68.7369593943206,"d":"68.74"},{"v":94.0783275196055,"d":"94.08"},null,14,{"v":0.21733943826794327,"d":"0.22"},{"v":0.44398103381292026,"d":"0.44"},{"v":0.44398103381292026,"d":"0.44"},{"v":0.44398103381292026,"d":"0.44"},{"v":0.21733943826794327,"d":"0.22"},{"v":0.6201183023340512,"d":"0.62"},null,14,{"v":0.5802846170600764,"d":"0.58"},{"v":0.4532474132584185,"d":"0.45"},{"v":0.4532474132584185,"d":"0.45"},{"v":0.4532474132584185,"d":"0.45"},{"v":0.38202590941522435,"d":"0.38"},{"v":0.4656064890354913,"d":"0.47"}]
[{"$nulls":6},15,{"v":94.0783275196055,"d":"94.08"},{"v":69.5216631341671,"d":"69.52"},{"v":61.1908830789803,"d":"61.19"},{"v":69.5216631341671,"d":"69.52"},{"v":68.7369593943206,"d":"68.74"},{"v":94.0783275196055,"d":"94.08"},null,15,{"v":0.20810049195204702,"d":"0.21"},{"v":0.42633902602716,"d":"0.43"},{"v":0.42633902602716,"d":"0.43"},{"v":0.42633902602716,"d":"0.43"},{"v":0.20810049195204702,"d":"0.21"},{"v":0.603175598070506,"d":"0.60"},null,15,{"v":0.5599773783716531,"d":"0.56"},{"v":0.42642431570034295,"d":"0.43"},{"v":0.42642431570034295,"d":"0.43"},{"v":0.42642431570034295,"d":"0.43"},{"v":0.350994118478356,"d":"0.35"},{"v":0.444403780141646,"d":"0.44"}]
[{"$nulls":6},16,{"v":85.46026738642144,"d":"85.46"},{"v":64.23237186505389,"d":"64.23"},{"v":55.82801844072686,"d":"55.83"},{"v":64.23237186505389,"d":"64.23"},{"v":62.570766729216764,"d":"62.57"},{"v":85.46026738642144,"d":"85.46"},null,16,{"v":0.1976412896919838,"d":"0.20"},{"v":0.3935266734304764,"d":"0.39"},{"v":0.3935266734304764,"d":"0.39"},{"v":0.3935266734304764,"d":"0.39"},{"v":0.1976412896919838,"d":"0.20"},{"v":0.5919278557046355,"d":"0.59"},null,16,{"v":0.5396701396832299,"d":"0.54"},{"v":0.4048387034961256,"d":"0.40"},{"v":0.4048387034961256,"d":"0.40"},{"v":0.4048387034961256,"d":"0.40"},{"v":0.3270755999678532,"d":"0.33"},{"v":0.4283778885471286,"d":"0.43"}]
[{"$nulls":6},17,{"v":76.84220725323738,"d":"76.84"},{"v":58.94308059594069,"d":"58.94"},{"v":50.46515380247342,"d":"50.47"},{"v":58.94308059594069,"d":"58.94"},{"v":56.40457406411292,"d":"56.40"},{"v":76.84220725323738,"d":"76.84"},null,17,{"v":0.1871820874319206,"d":"0.19"},{"v":0.36071432083379285,"d":"0.36"},{"v":0.36071432083379285,"d":"0.36"},{"v":0.36071432083379285,"d":"0.36"},{"v":0.1871820874319206,"d":"0.19"},{"v":0.5806801133387648,"d":"0.58"},null,17,{"v":0.5193629009948065,"d":"0.52"},{"v":0.3832530912919082,"d":"0.38"},{"v":0.3832530912919082,"d":"0.38"},{"v":0.3832530912919082,"d":"0.38"},{"v":0.30315708145735043,"d":"0.30"},{"v":0.4123519969526112,"d":"0.41"}]
[{"$nulls":6},18,{"v":68.22414712005332,"d":"68.22"},{"v":53.65378932682749,"d":"53.65"},{"v":45.102289164219975,"d":"45.10"},{"v":53.65378932682749,"d":"53.65"},{"v":50.23838139900908,"d":"50.24"},{"v":68.22414712005332,"d":"68.22"},null,18,{"v":0.1767228851718574,"d":"0.18"},{"v":0.32790196823710926,"d":"0.33"},{"v":0.32790196823710926,"d":"0.33"},{"v":0.32790196823710926,"d":"0.33"},{"v":0.1767228851718574,"d":"0.18"},{"v":0.5694323709728942,"d":"0.57"},null,18,{"v":0.4990556623063834,"d":"0.50"},{"v":0.3616674790876908,"d":"0.36"},{"v":0.3616674790876908,"d":"0.36"},{"v":0.3616674790876908,"d":"0.36"},{"v":0.2792385629468476,"d":"0.28"},{"v":0.3963261053580938,"d":"0.40"}]
[{"$nulls":6},19,{"v":59.60608698686926,"d":"59.61"},{"v":48.36449805771429,"d":"48.36"},{"v":39.739424525966534,"d":"39.74"},{"v":48.36449805771429,"d":"48.36"},{"v":44.072188733905236,"d":"44.07"},{"v":59.60608698686926,"d":"59.61"},null,19,{"v":0.16626368291179422,"d":"0.17"},{"v":0.2950896156404257,"d":"0.30"},{"v":0.2950896156404257,"d":"0.30"},{"v":0.2950896156404257,"d":"0.30"},{"v":0.16626368291179422,"d":"0.17"},{"v":0.5581846286070237,"d":"0.56"},null,19,{"v":0.4787484236179601,"d":"0.48"},{"v":0.3400818668834734,"d":"0.34"},{"v":0.3400818668834734,"d":"0.34"},{"v":0.3400818668834734,"d":"0.34"},{"v":0.2553200444363448,"d":"0.26"},{"v":0.3803002137635765,"d":"0.38"}]
[{"$nulls":6},20,{"v":50.9880268536852,"d":"50.99"},{"v":43.0752067886011,"d":"43.08"},{"v":34.3765598877131,"d":"34.38"},{"v":43.0752067886011,"d":"43.08"},{"v":37.9059960688014,"d":"37.91"},{"v":50.9880268536852,"d":"50.99"},null,20,{"v":0.155804480651731,"d":"0.16"},{"v":0.262277263043742,"d":"0.26"},{"v":0.262277263043742,"d":"0.26"},{"v":0.262277263043742,"d":"0.26"},{"v":0.155804480651731,"d":"0.16"},{"v":0.546936886241153,"d":"0.55"},null,20,{"v":0.45844118492953695,"d":"0.46"},{"v":0.31849625467925596,"d":"0.32"},{"v":0.31849625467925596,"d":"0.32"},{"v":0.31849625467925596,"d":"0.32"},{"v":0.231401525925842,"d":"0.23"},{"v":0.364274322169059,"d":"0.36"}]
[{"$nulls":6},21,{"v":48.66536061936414,"d":"48.67"},{"v":39.68849778056886,"d":"39.69"},{"v":31.50585451434484,"d":"31.51"},{"v":39.68849778056886,"d":"39.69"},{"v":34.7991589774105,"d":"34.80"},{"v":48.66536061936414,"d":"48.67"},null,21,{"v":0.14947189936554758,"d":"0.15"},{"v":0.24512348926189043,"d":"0.25"},{"v":0.24512348926189043,"d":"0.25"},{"v":0.24512348926189043,"d":"0.25"},{"v":0.14947189936554758,"d":"0.15"},{"v":0.5268912994265068,"d":"0.53"},null,21,{"v":0.44148679453325995,"d":"0.44"},{"v":0.3008060617886076,"d":"0.30"},{"v":0.3008060617886076,"d":"0.30"},{"v":0.3008060617886076,"d":"0.30"},{"v":0.2133128619507742,"d":"0.21"},{"v":0.34792004314492897,"d":"0.35"}]
[{"$nulls":6},22,{"v":46.342694385043075,"d":"46.34"},{"v":36.30178877253662,"d":"36.30"},{"v":28.63514914097658,"d":"28.64"},{"v":36.30178877253662,"d":"36.30"},{"v":31.6923218860196,"d":"31.69"},{"v":46.342694385043075,"d":"46.34"},null,22,{"v":0.1431393180793642,"d":"0.14"},{"v":0.2279697154800388,"d":"0.23"},{"v":0.2279697154800388,"d":"0.23"},{"v":0.2279697154800388,"d":"0.23"},{"v":0.1431393180793642,"d":"0.14"},{"v":0.5068457126118606,"d":"0.51"},null,22,{"v":0.42453240413698295,"d":"0.42"},{"v":0.2831158688979592,"d":"0.28"},{"v":0.2831158688979592,"d":"0.28"},{"v":0.2831158688979592,"d":"0.28"},{"v":0.19522419797570642,"d":"0.20"},{"v":0.331565764120799,"d":"0.33"}]
[{"$nulls":6},23,{"v":44.02002815072201,"d":"44.02"},{"v":32.91507976450438,"d":"32.92"},{"v":25.76444376760832,"d":"25.76"},{"v":32.91507976450438,"d":"32.92"},{"v":28.585484794628698,"d":"28.59"},{"v":44.02002815072201,"d":"44.02"},null,23,{"v":0.13680673679318078,"d":"0.14"},{"v":0.2108159416981872,"d":"0.21"},{"v":0.2108159416981872,"d":"0.21"},{"v":0.2108159416981872,"d":"0.21"},{"v":0.13680673679318078,"d":"0.14"},{"v":0.4868001257972143,"d":"0.49"},null,23,{"v":0.40757801374070596,"d":"0.41"},{"v":0.2654256760073108,"d":"0.27"},{"v":0.2654256760073108,"d":"0.27"},{"v":0.2654256760073108,"d":"0.27"},{"v":0.1771355340006386,"d":"0.18"},{"v":0.315211485096669,"d":"0.32"}]
[{"$nulls":6},24,{"v":41.69736191640095,"d":"41.70"},{"v":29.528370756472135,"d":"29.53"},{"v":22.89373839424006,"d":"22.89"},{"v":29.528370756472135,"d":"29.53"},{"v":25.478647703237797,"d":"25.48"},{"v":41.69736191640095,"d":"41.70"},null,24,{"v":0.13047415550699737,"d":"0.13"},{"v":0.19366216791633561,"d":"0.19"},{"v":0.19366216791633561,"d":"0.19"},{"v":0.19366216791633561,"d":"0.19"},{"v":0.13047415550699737,"d":"0.13"},{"v":0.46675453898256813,"d":"0.47"},null,24,{"v":0.39062362334442896,"d":"0.39"},{"v":0.24773548311666238,"d":"0.25"},{"v":0.24773548311666238,"d":"0.25"},{"v":0.24773548311666238,"d":"0.25"},{"v":0.15904687002557083,"d":"0.16"},{"v":0.298857206072539,"d":"0.30"}]
[{"$nulls":6},25,{"v":39.3746956820799,"d":"39.37"},{"v":26.1416617484399,"d":"26.14"},{"v":20.0230330208718,"d":"20.02"},{"v":26.1416617484399,"d":"26.14"},{"v":22.3718106118469,"d":"22.37"},{"v":39.3746956820799,"d":"39.37"},null,25,{"v":0.12414157422081401,"d":"0.12"},{"v":0.176508394134484,"d":"0.18"},{"v":0.176508394134484,"d":"0.18"},{"v":0.176508394134484,"d":"0.18"},{"v":0.12414157422081401,"d":"0.12"},{"v":0.44670895216792206,"d":"0.45"},null,25,{"v":0.373669232948152,"d":"0.37"},{"v":0.230045290226014,"d":"0.23"},{"v":0.230045290226014,"d":"0.23"},{"v":0.230045290226014,"d":"0.23"},{"v":0.140958206050503,"d":"0.14"},{"v":0.28250292704840896,"d":"0.28"}]
[{"$nulls":6},26,{"v":36.18167158940762,"d":"36.18"},{"v":25.098417013498082,"d":"25.10"},{"v":18.50476647888008,"d":"18.50"},{"v":25.098417013498082,"d":"25.10"},{"v":21.46635526729356,"d":"21.47"},{"v":36.18167158940762,"d":"36.18"},null,26,{"v":0.11731545476633289,"d":"0.12"},{"v":0.16352308549187058,"d":"0.16"},{"v":0.16352308549187058,"d":"0.16"},{"v":0.16352308549187058,"d":"0.16"},{"v":0.11731545476633289,"d":"0.12"},{"v":0.4268447059354934,"d":"0.43"},null,26,{"v":0.356714842551875,"d":"0.36"},{"v":0.2155664468726658,"d":"0.22"},{"v":0.2155664468726658,"d":"0.22"},{"v":0.2155664468726658,"d":"0.22"},{"v":0.12784161485243323,"d":"0.13"},{"v":0.270602731502275,"d":"0.27"}]
[{"$nulls":6},27,{"v":32.98864749673534,"d":"32.99"},{"v":24.055172278556263,"d":"24.06"},{"v":16.986499936888357,"d":"16.99"},{"v":24.055172278556263,"d":"24.06"},{"v":20.560899922740223,"d":"20.56"},{"v":32.98864749673534,"d":"32.99"},null,27,{"v":0.11048933531185176,"d":"0.11"},{"v":0.15053777684925718,"d":"0.15"},{"v":0.15053777684925718,"d":"0.15"},{"v":0.15053777684925718,"d":"0.15"},{"v":0.11048933531185176,"d":"0.11"},{"v":0.4069804597030648,"d":"0.41"},null,27,{"v":0.339760452155598,"d":"0.34"},{"v":0.2010876035193176,"d":"0.20"},{"v":0.2010876035193176,"d":"0.20"},{"v":0.2010876035193176,"d":"0.20"},{"v":0.11472502365436345,"d":"0.11"},{"v":0.258702535956141,"d":"0.26"}]
[{"$nulls":6},28,{"v":29.795623404063058,"d":"29.80"},{"v":23.011927543614444,"d":"23.01"},{"v":15.468233394896638,"d":"15.47"},{"v":23.011927543614444,"d":"23.01"},{"v":19.655444578186884,"d":"19.66"},{"v":29.795623404063058,"d":"29.80"},null,28,{"v":0.10366321585737064,"d":"0.10"},{"v":0.1375524682066438,"d":"0.14"},{"v":0.1375524682066438,"d":"0.14"},{"v":0.1375524682066438,"d":"0.14"},{"v":0.10366321585737064,"d":"0.10"},{"v":0.3871162134706362,"d":"0.39"},null,28,{"v":0.322806061759321,"d":"0.32"},{"v":0.18660876016596942,"d":"0.19"},{"v":0.18660876016596942,"d":"0.19"},{"v":0.18660876016596942,"d":"0.19"},{"v":0.10160843245629367,"d":"0.10"},{"v":0.24680234041000698,"d":"0.25"}]
[{"$nulls":6},29,{"v":26.602599311390776,"d":"26.60"},{"v":21.968682808672625,"d":"21.97"},{"v":13.949966852904918,"d":"13.95"},{"v":21.968682808672625,"d":"21.97"},{"v":18.749989233633546,"d":"18.75"},{"v":26.602599311390776,"d":"26.60"},null,29,{"v":0.09683709640288951,"d":"0.10"},{"v":0.12456715956403039,"d":"0.12"},{"v":0.12456715956403039,"d":"0.12"},{"v":0.12456715956403039,"d":"0.12"},{"v":0.09683709640288951,"d":"0.10"},{"v":0.3672519672382076,"d":"0.37"},null,29,{"v":0.305851671363044,"d":"0.31"},{"v":0.17212991681262121,"d":"0.17"},{"v":0.17212991681262121,"d":"0.17"},{"v":0.17212991681262121,"d":"0.17"},{"v":0.0884918412582239,"d":"0.09"},{"v":0.23490214486387298,"d":"0.23"}]
[{"$nulls":6},30,{"v":23.4095752187185,"d":"23.41"},{"v":20.9254380737308,"d":"20.93"},{"v":12.4317003109132,"d":"12.43"},{"v":20.9254380737308,"d":"20.93"},{"v":17.8445338890802,"d":"17.84"},{"v":23.4095752187185,"d":"23.41"},null,30,{"v":0.0900109769484084,"d":"0.09"},{"v":0.111581850921417,"d":"0.11"},{"v":0.111581850921417,"d":"0.11"},{"v":0.111581850921417,"d":"0.11"},{"v":0.0900109769484084,"d":"0.09"},{"v":0.34738772100577897,"d":"0.35"},null,30,{"v":0.288897280966767,"d":"0.29"},{"v":0.15765107345927298,"d":"0.16"},{"v":0.15765107345927298,"d":"0.16"},{"v":0.15765107345927298,"d":"0.16"},{"v":0.0753752500601541,"d":"0.08"},{"v":0.22300194931773898,"d":"0.22"}]
[{"$nulls":6},31,{"v":21.821545682515442,"d":"21.82"},{"v":18.178992211286616,"d":"18.18"},{"v":10.998570743844882,"d":"11.00"},{"v":18.178992211286616,"d":"18.18"},{"v":15.391798232004954,"d":"15.39"},{"v":21.821545682515442,"d":"21.82"},null,31,{"v":0.08519188015027603,"d":"0.09"},{"v":0.10202101536536151,"d":"0.10"},{"v":0.10202101536536151,"d":"0.10"},{"v":0.10202101536536151,"d":"0.10"},{"v":0.08519188015027603,"d":"0.09"},{"v":0.3279385530736342,"d":"0.33"},null,31,{"v":0.27382906316757316,"d":"0.27"},{"v":0.14601449821626683,"d":"0.15"},{"v":0.14601449821626683,"d":"0.15"},{"v":0.14601449821626683,"d":"0.15"},{"v":0.0665569132086246,"d":"0.07"},{"v":0.20874850770256898,"d":"0.21"}]
[{"$nulls":6},32,{"v":20.233516146312382,"d":"20.23"},{"v":15.432546348842433,"d":"15.43"},{"v":9.565441176776563,"d":"9.57"},{"v":15.432546348842433,"d":"15.43"},{"v":12.939062574929707,"d":"12.94"},{"v":20.233516146312382,"d":"20.23"},null,32,{"v":0.08037278335214364,"d":"0.08"},{"v":0.09246017980930603,"d":"0.09"},{"v":0.09246017980930603,"d":"0.09"},{"v":0.09246017980930603,"d":"0.09"},{"v":0.08037278335214364,"d":"0.08"},{"v":0.3084893851414894,"d":"0.31"},null,32,{"v":0.25876084536837934,"d":"0.26"},{"v":0.13437792297326065,"d":"0.13"},{"v":0.13437792297326065,"d":"0.13"},{"v":0.13437792297326065,"d":"0.13"},{"v":0.0577385763570951,"d":"0.06"},{"v":0.194495066087399,"d":"0.19"}]
[{"$nulls":6},33,{"v":18.645486610109323,"d":"18.65"},{"v":12.68610048639825,"d":"12.69"},{"v":8.132311609708244,"d":"8.13"},{"v":12.68610048639825,"d":"12.69"},{"v":10.486326917854461,"d":"10.49"},{"v":18.645486610109323,"d":"18.65"},null,33,{"v":0.07555368655401125,"d":"0.08"},{"v":0.08289934425325055,"d":"0.08"},{"v":0.08289934425325055,"d":"0.08"},{"v":0.08289934425325055,"d":"0.08"},{"v":0.07555368655401125,"d":"0.08"},{"v":0.2890402172093446,"d":"0.29"},null,33,{"v":0.24369262756918555,"d":"0.24"},{"v":0.12274134773025447,"d":"0.12"},{"v":0.12274134773025447,"d":"0.12"},{"v":0.12274134773025447,"d":"0.12"},{"v":0.04892023950556561,"d":"0.05"},{"v":0.180241624472229,"d":"0.18"}]
[{"$nulls":6},34,{"v":17.057457073906264,"d":"17.06"},{"v":9.939654623954066,"d":"9.94"},{"v":6.699182042639926,"d":"6.70"},{"v":9.939654623954066,"d":"9.94"},{"v":8.033591260779215,"d":"8.03"},{"v":17.057457073906264,"d":"17.06"},null,34,{"v":0.07073458975587886,"d":"0.07"},{"v":0.07333850869719506,"d":"0.07"},{"v":0.07333850869719506,"d":"0.07"},{"v":0.07333850869719506,"d":"0.07"},{"v":0.07073458975587886,"d":"0.07"},{"v":0.2695910492771998,"d":"0.27"},null,34,{"v":0.22862440976999174,"d":"0.23"},{"v":0.11110477248724829,"d":"0.11"},{"v":0.11110477248724829,"d":"0.11"},{"v":0.11110477248724829,"d":"0.11"},{"v":0.040101902654036105,"d":"0.04"},{"v":0.165988182857059,"d":"0.17"}]
[{"$nulls":6},35,{"v":15.4694275377032,"d":"15.47"},{"v":7.19320876150988,"d":"7.19"},{"v":5.26605247557161,"d":"5.27"},{"v":7.19320876150988,"d":"7.19"},{"v":5.58085560370397,"d":"5.58"},{"v":15.4694275377032,"d":"15.47"},null,35,{"v":0.0659154929577465,"d":"0.07"},{"v":0.06377767314113961,"d":"0.06"},{"v":0.06377767314113961,"d":"0.06"},{"v":0.06377767314113961,"d":"0.06"},{"v":0.0659154929577465,"d":"0.07"},{"v":0.250141881345055,"d":"0.25"},null,35,{"v":0.213556191970798,"d":"0.21"},{"v":0.0994681972442421,"d":"0.10"},{"v":0.0994681972442421,"d":"0.10"},{"v":0.0994681972442421,"d":"0.10"},{"v":0.0312835658025066,"d":"0.03"},{"v":0.151734741241889,"d":"0.15"}]
[{"$nulls":6},36,{"v":14.10583100799165,"d":"14.11"},{"v":7.188534200010694,"d":"7.19"},{"v":4.856000273142148,"d":"4.86"},{"v":7.188534200010694,"d":"7.19"},{"v":5.800825283618864,"d":"5.80"},{"v":14.10583100799165,"d":"14.11"},null,36,{"v":0.06083424621804906,"d":"0.06"},{"v":0.057107505002886666,"d":"0.06"},{"v":0.057107505002886666,"d":"0.06"},{"v":0.057107505002886666,"d":"0.06"},{"v":0.06083424621804906,"d":"0.06"},{"v":0.23159898802729018,"d":"0.23"},null,36,{"v":0.1984879741716042,"d":"0.20"},{"v":0.0904522694500564,"d":"0.09"},{"v":0.0904522694500564,"d":"0.09"},{"v":0.0904522694500564,"d":"0.09"},{"v":0.02617959985683651,"d":"0.03"},{"v":0.14224172557778078,"d":"0.14"}]
[{"$nulls":6},37,{"v":12.7422344782801,"d":"12.74"},{"v":7.183859638511508,"d":"7.18"},{"v":4.445948070712686,"d":"4.45"},{"v":7.183859638511508,"d":"7.18"},{"v":6.020794963533758,"d":"6.02"},{"v":12.7422344782801,"d":"12.74"},null,37,{"v":0.05575299947835163,"d":"0.06"},{"v":0.050437336864633725,"d":"0.05"},{"v":0.050437336864633725,"d":"0.05"},{"v":0.050437336864633725,"d":"0.05"},{"v":0.05575299947835163,"d":"0.06"},{"v":0.21305609470952538,"d":"0.21"},null,37,{"v":0.18341975637241037,"d":"0.18"},{"v":0.0814363416558707,"d":"0.08"},{"v":0.0814363416558707,"d":"0.08"},{"v":0.0814363416558707,"d":"0.08"},{"v":0.02107563391116642,"d":"0.02"},{"v":0.13274870991367257,"d":"0.13"}]
[{"$nulls":6},38,{"v":11.37863794856855,"d":"11.38"},{"v":7.179185077012321,"d":"7.18"},{"v":4.035895868283224,"d":"4.04"},{"v":7.179185077012321,"d":"7.18"},{"v":6.240764643448652,"d":"6.24"},{"v":11.37863794856855,"d":"11.38"},null,38,{"v":0.05067175273865419,"d":"0.05"},{"v":0.04376716872638079,"d":"0.04"},{"v":0.04376716872638079,"d":"0.04"},{"v":0.04376716872638079,"d":"0.04"},{"v":0.05067175273865419,"d":"0.05"},{"v":0.19451320139176062,"d":"0.19"},null,38,{"v":0.16835153857321658,"d":"0.17"},{"v":0.072420413861685,"d":"0.07"},{"v":0.072420413861685,"d":"0.07"},{"v":0.072420413861685,"d":"0.07"},{"v":0.01597166796549633,"d":"0.02"},{"v":0.12325569424956438,"d":"0.12"}]
[{"$nulls":6},39,{"v":10.015041418856999,"d":"10.02"},{"v":7.174510515513135,"d":"7.17"},{"v":3.625843665853762,"d":"3.63"},{"v":7.174510515513135,"d":"7.17"},{"v":6.460734323363546,"d":"6.46"},{"v":10.015041418856999,"d":"10.02"},null,39,{"v":0.045590505998956754,"d":"0.05"},{"v":0.03709700058812785,"d":"0.04"},{"v":0.03709700058812785,"d":"0.04"},{"v":0.03709700058812785,"d":"0.04"},{"v":0.045590505998956754,"d":"0.05"},{"v":0.17597030807399583,"d":"0.18"},null,39,{"v":0.1532833207740228,"d":"0.15"},{"v":0.06340448606749931,"d":"0.06"},{"v":0.06340448606749931,"d":"0.06"},{"v":0.06340448606749931,"d":"0.06"},{"v":0.01086770201982624,"d":"0.01"},{"v":0.11376267858545618,"d":"0.11"}]
[{"$nulls":6},40,{"v":8.65144488914545,"d":"8.65"},{"v":7.16983595401395,"d":"7.17"},{"v":3.2157914634243,"d":"3.22"},{"v":7.16983595401395,"d":"7.17"},{"v":6.68070400327844,"d":"6.68"},{"v":8.65144488914545,"d":"8.65"},null,40,{"v":0.0405092592592593,"d":"0.04"},{"v":0.030426832449874902,"d":"0.03"},{"v":0.030426832449874902,"d":"0.03"},{"v":0.030426832449874902,"d":"0.03"},{"v":0.0405092592592593,"d":"0.04"},{"v":0.157427414756231,"d":"0.16"},null,40,{"v":0.138215102974829,"d":"0.14"},{"v":0.0543885582733136,"d":"0.05"},{"v":0.0543885582733136,"d":"0.05"},{"v":0.0543885582733136,"d":"0.05"},{"v":0.00576373607415615,"d":"0.01"},{"v":0.104269662921348,"d":"0.10"}]
[{"$nulls":6},41,{"v":7.58914414326017,"d":"7.59"},{"v":5.874004818578313,"d":"5.87"},{"v":2.659631890958754,"d":"2.66"},{"v":5.874004818578313,"d":"5.87"},{"v":5.372573085952926,"d":"5.37"},{"v":7.58914414326017,"d":"7.59"},null,41,{"v":0.03654207958697036,"d":"0.04"},{"v":0.026265553279191972,"d":"0.03"},{"v":0.026265553279191972,"d":"0.03"},{"v":0.026265553279191972,"d":"0.03"},{"v":0.03654207958697036,"d":"0.04"},{"v":0.14049240786959177,"d":"0.14"},null,41,{"v":0.12439359267734605,"d":"0.12"},{"v":0.047817946330836865,"d":"0.05"},{"v":0.047817946330836865,"d":"0.05"},{"v":0.047817946330836865,"d":"0.05"},{"v":0.005379639814517061,"d":"0.01"},{"v":0.09126632409211767,"d":"0.09"}]
[{"$nulls":6},42,{"v":6.52684339737489,"d":"6.53"},{"v":4.578173683142676,"d":"4.58"},{"v":2.103472318493208,"d":"2.10"},{"v":4.578173683142676,"d":"4.58"},{"v":4.06444216862741,"d":"4.06"},{"v":6.52684339737489,"d":"6.53"},null,42,{"v":0.03257489991468142,"d":"0.03"},{"v":0.022104274108509046,"d":"0.02"},{"v":0.022104274108509046,"d":"0.02"},{"v":0.022104274108509046,"d":"0.02"},{"v":0.03257489991468142,"d":"0.03"},{"v":0.12355740098295255,"d":"0.12"},null,42,{"v":0.1105720823798631,"d":"0.11"},{"v":0.041247334388360125,"d":"0.04"},{"v":0.041247334388360125,"d":"0.04"},{"v":0.041247334388360125,"d":"0.04"},{"v":4.9955435548779716E-3,"d":"0.00"},{"v":0.07826298526288736,"d":"0.08"}]
[{"$nulls":6},43,{"v":5.46454265148961,"d":"5.46"},{"v":3.2823425477070396,"d":"3.28"},{"v":1.5473127460276614,"d":"1.55"},{"v":3.2823425477070396,"d":"3.28"},{"v":2.7563112513018955,"d":"2.76"},{"v":5.46454265148961,"d":"5.46"},null,43,{"v":0.028607720242392477,"d":"0.03"},{"v":0.01794299493782612,"d":"0.02"},{"v":0.01794299493782612,"d":"0.02"},{"v":0.01794299493782612,"d":"0.02"},{"v":0.028607720242392477,"d":"0.03"},{"v":0.10662239409631333,"d":"0.11"},null,43,{"v":0.09675057208238017,"d":"0.10"},{"v":0.034676722445883386,"d":"0.03"},{"v":0.034676722445883386,"d":"0.03"},{"v":0.034676722445883386,"d":"0.03"},{"v":0.004611447295238883,"d":"0.00"},{"v":0.06525964643365705,"d":"0.07"}]
[{"$nulls":6},44,{"v":4.402241905604329,"d":"4.40"},{"v":1.986511412271403,"d":"1.99"},{"v":0.9911531735621151,"d":"0.99"},{"v":1.986511412271403,"d":"1.99"},{"v":1.4481803339763806,"d":"1.45"},{"v":4.402241905604329,"d":"4.40"},null,44,{"v":0.024640540570103536,"d":"0.02"},{"v":0.01378171576714319,"d":"0.01"},{"v":0.01378171576714319,"d":"0.01"},{"v":0.01378171576714319,"d":"0.01"},{"v":0.024640540570103536,"d":"0.02"},{"v":0.0896873872096741,"d":"0.09"},null,44,{"v":0.08292906178489722,"d":"0.08"},{"v":0.028106110503406646,"d":"0.03"},{"v":0.028106110503406646,"d":"0.03"},{"v":0.028106110503406646,"d":"0.03"},{"v":0.004227351035599794,"d":"0.00"},{"v":0.05225630760442672,"d":"0.05"}]
[{"$nulls":6},45,{"v":3.33994115971905,"d":"3.34"},{"v":0.690680276835766,"d":"0.69"},{"v":0.434993601096568,"d":"0.43"},{"v":0.690680276835766,"d":"0.69"},{"v":0.140049416650866,"d":"0.14"},{"v":3.33994115971905,"d":"3.34"},null,45,{"v":0.020673360897814602,"d":"0.02"},{"v":0.00962043659646026,"d":"0.01"},{"v":0.00962043659646026,"d":"0.01"},{"v":0.00962043659646026,"d":"0.01"},{"v":0.020673360897814602,"d":"0.02"},{"v":0.07275238032303491,"d":"0.07"},null,45,{"v":0.06910755148741429,"d":"0.07"},{"v":0.021535498560929903,"d":"0.02"},{"v":0.021535498560929903,"d":"0.02"},{"v":0.021535498560929903,"d":"0.02"},{"v":0.003843254775960705,"d":"0.00"},{"v":0.0392529687751964,"d":"0.04"}]
[{"$nulls":6},46,{"v":2.67195292777524,"d":"2.67"},{"v":0.5525442214686128,"d":"0.55"},{"v":0.3479948808772544,"d":"0.35"},{"v":0.5525442214686128,"d":"0.55"},{"v":0.1120395333206928,"d":"0.11"},{"v":2.67195292777524,"d":"2.67"},null,46,{"v":0.016538688718251683,"d":"0.02"},{"v":0.007696349277168208,"d":"0.01"},{"v":0.007696349277168208,"d":"0.01"},{"v":0.007696349277168208,"d":"0.01"},{"v":0.016538688718251683,"d":"0.02"},{"v":0.058201904258427924,"d":"0.06"},null,46,{"v":0.05528604118993144,"d":"0.06"},{"v":0.01722839884874392,"d":"0.02"},{"v":0.01722839884874392,"d":"0.02"},{"v":0.01722839884874392,"d":"0.02"},{"v":3.0746038207685638E-3,"d":"0.00"},{"v":0.03140237502015712,"d":"0.03"}]
[{"$nulls":6},47,{"v":2.0039646958314297,"d":"2.00"},{"v":0.4144081661014596,"d":"0.41"},{"v":0.2609961606579408,"d":"0.26"},{"v":0.4144081661014596,"d":"0.41"},{"v":0.0840296499905196,"d":"0.08"},{"v":2.0039646958314297,"d":"2.00"},null,47,{"v":0.012404016538688762,"d":"0.01"},{"v":0.005772261957876157,"d":"0.01"},{"v":0.005772261957876157,"d":"0.01"},{"v":0.005772261957876157,"d":"0.01"},{"v":0.012404016538688762,"d":"0.01"},{"v":0.043651428193820944,"d":"0.04"},null,47,{"v":0.04146453089244858,"d":"0.04"},{"v":0.012921299136557943,"d":"0.01"},{"v":0.012921299136557943,"d":"0.01"},{"v":0.012921299136557943,"d":"0.01"},{"v":2.3059528655764226E-3,"d":"0.00"},{"v":0.02355178126511784,"d":"0.02"}]
[{"$nulls":6},48,{"v":1.3359764638876197,"d":"1.34"},{"v":0.27627211073430635,"d":"0.28"},{"v":0.1739974404386272,"d":"0.17"},{"v":0.27627211073430635,"d":"0.28"},{"v":0.056019766660346394,"d":"0.06"},{"v":1.3359764638876197,"d":"1.34"},null,48,{"v":0.008269344359125842,"d":"0.01"},{"v":3.8481746385841046E-3,"d":"0.00"},{"v":3.8481746385841046E-3,"d":"0.00"},{"v":3.8481746385841046E-3,"d":"0.00"},{"v":0.008269344359125842,"d":"0.01"},{"v":0.029100952129213962,"d":"0.03"},null,48,{"v":0.02764302059496572,"d":"0.03"},{"v":0.008614199424371962,"d":"0.01"},{"v":0.008614199424371962,"d":"0.01"},{"v":0.008614199424371962,"d":"0.01"},{"v":1.5373019103842817E-3,"d":"0.00"},{"v":0.01570118751007856,"d":"0.02"}]
[{"$nulls":6},49,{"v":0.6679882319438097,"d":"0.67"},{"v":0.13813605536715315,"d":"0.14"},{"v":0.0869987202193136,"d":"0.09"},{"v":0.13813605536715315,"d":"0.14"},{"v":0.028009883330173194,"d":"0.03"},{"v":0.6679882319438097,"d":"0.67"},null,49,{"v":0.004134672179562922,"d":"0.00"},{"v":1.9240873192920528E-3,"d":"0.00"},{"v":1.9240873192920528E-3,"d":"0.00"},{"v":1.9240873192920528E-3,"d":"0.00"},{"v":0.004134672179562922,"d":"0.00"},{"v":0.014550476064606981,"d":"0.01"},null,49,{"v":0.01382151029748286,"d":"0.01"},{"v":0.004307099712185982,"d":"0.00"},{"v":0.004307099712185982,"d":"0.00"},{"v":0.004307099712185982,"d":"0.00"},{"v":7.6865095519214072E-4,"d":"0.00"},{"v":0.007850593755039282,"d":"0.01"}]
[{"$nulls":6},50,0,0,0,0,0,0,null,50,0,0,0,0,0,0,null,50,0,0,0,0,0,0]
[{"$nulls":6},51,{"v":0.383320225191884,"d":"0.38"},{"v":0.0908895748552772,"d":"0.09"},{"v":0.21947729571942598,"d":"0.22"},{"v":0.0908895748552772,"d":"0.09"},{"v":0.253718382384988,"d":"0.25"},{"v":0.383320225191884,"d":"0.38"},null,51,{"v":3.4355828220858932E-3,"d":"0.00"},{"v":1.1378739808806319E-4,"d":"0.00"},{"v":1.1378739808806319E-4,"d":"0.00"},{"v":1.1378739808806319E-4,"d":"0.00"},{"v":3.4355828220858932E-3,"d":"0.00"},{"v":0.011484897097620262,"d":"0.01"},null,51,{"v":0.012822049131216309,"d":"0.01"},{"v":2.2429209512524946E-3,"d":"0.00"},{"v":2.2429209512524946E-3,"d":"0.00"},{"v":2.2429209512524946E-3,"d":"0.00"},{"v":3.0037248958903803E-3,"d":"0.00"},{"v":0.012166043910381388,"d":"0.01"}]
[{"$nulls":6},52,{"v":0.766640450383768,"d":"0.77"},{"v":0.1817791497105544,"d":"0.18"},{"v":0.43895459143885196,"d":"0.44"},{"v":0.1817791497105544,"d":"0.18"},{"v":0.507436764769976,"d":"0.51"},{"v":0.766640450383768,"d":"0.77"},null,52,{"v":6.8711656441717865E-3,"d":"0.01"},{"v":2.2757479617612638E-4,"d":"0.00"},{"v":2.2757479617612638E-4,"d":"0.00"},{"v":2.2757479617612638E-4,"d":"0.00"},{"v":6.8711656441717865E-3,"d":"0.01"},{"v":0.022969794195240523,"d":"0.02"},null,52,{"v":0.025644098262432618,"d":"0.03"},{"v":0.004485841902504989,"d":"0.00"},{"v":0.004485841902504989,"d":"0.00"},{"v":0.004485841902504989,"d":"0.00"},{"v":6.0074497917807605E-3,"d":"0.01"},{"v":0.024332087820762776,"d":"0.02"}]
[{"$nulls":6},53,{"v":1.149960675575652,"d":"1.15"},{"v":0.2726687245658316,"d":"0.27"},{"v":0.6584318871582779,"d":"0.66"},{"v":0.2726687245658316,"d":"0.27"},{"v":0.761155147154964,"d":"0.76"},{"v":1.149960675575652,"d":"1.15"},null,53,{"v":0.010306748466257681,"d":"0.01"},{"v":3.4136219426418959E-4,"d":"0.00"},{"v":3.4136219426418959E-4,"d":"0.00"},{"v":3.4136219426418959E-4,"d":"0.00"},{"v":0.010306748466257681,"d":"0.01"},{"v":0.03445469129286079,"d":"0.03"},null,53,{"v":0.038466147393648925,"d":"0.04"},{"v":0.006728762853757484,"d":"0.01"},{"v":0.006728762853757484,"d":"0.01"},{"v":0.006728762853757484,"d":"0.01"},{"v":9.011174687671139E-3,"d":"0.01"},{"v":0.03649813173114416,"d":"0.04"}]
[{"$nulls":6},54,{"v":1.533280900767536,"d":"1.53"},{"v":0.3635582994211088,"d":"0.36"},{"v":0.8779091828777039,"d":"0.88"},{"v":0.3635582994211088,"d":"0.36"},{"v":1.014873529539952,"d":"1.01"},{"v":1.533280900767536,"d":"1.53"},null,54,{"v":0.013742331288343573,"d":"0.01"},{"v":4.5514959235225277E-4,"d":"0.00"},{"v":4.5514959235225277E-4,"d":"0.00"},{"v":4.5514959235225277E-4,"d":"0.00"},{"v":0.013742331288343573,"d":"0.01"},{"v":0.04593958839048105,"d":"0.05"},null,54,{"v":0.051288196524865236,"d":"0.05"},{"v":0.008971683805009978,"d":"0.01"},{"v":0.008971683805009978,"d":"0.01"},{"v":0.008971683805009978,"d":"0.01"},{"v":0.012014899583561521,"d":"0.01"},{"v":0.04866417564152555,"d":"0.05"}]
[{"$nulls":6},55,{"v":1.91660112595942,"d":"1.92"},{"v":0.454447874276386,"d":"0.45"},{"v":1.09738647859713,"d":"1.10"},{"v":0.454447874276386,"d":"0.45"},{"v":1.26859191192494,"d":"1.27"},{"v":1.91660112595942,"d":"1.92"},null,55,{"v":0.017177914110429463,"d":"0.02"},{"v":0.000568936990440316,"d":"0.00"},{"v":0.000568936990440316,"d":"0.00"},{"v":0.000568936990440316,"d":"0.00"},{"v":0.017177914110429463,"d":"0.02"},{"v":0.0574244854881013,"d":"0.06"},null,55,{"v":0.06411024565608155,"d":"0.06"},{"v":0.011214604756262474,"d":"0.01"},{"v":0.011214604756262474,"d":"0.01"},{"v":0.011214604756262474,"d":"0.01"},{"v":0.015018624479451901,"d":"0.02"},{"v":0.06083021955190694,"d":"0.06"}]
[{"$nulls":6},56,{"v":2.458438057369616,"d":"2.46"},{"v":0.4927975803239856,"d":"0.49"},{"v":1.099183315091828,"d":"1.10"},{"v":0.4927975803239856,"d":"0.49"},{"v":1.6895520206188819,"d":"1.69"},{"v":2.458438057369616,"d":"2.46"},null,56,{"v":0.020733592212188744,"d":"0.02"},{"v":0.002558904668289893,"d":"0.00"},{"v":0.002558904668289893,"d":"0.00"},{"v":0.002558904668289893,"d":"0.00"},{"v":0.020733592212188744,"d":"0.02"},{"v":0.06541466635894007,"d":"0.07"},null,56,{"v":0.07693229478729785,"d":"0.08"},{"v":0.01159864856926335,"d":"0.01"},{"v":0.01159864856926335,"d":"0.01"},{"v":0.01159864856926335,"d":"0.01"},{"v":0.0198420361350542,"d":"0.02"},{"v":0.0674347574197912,"d":"0.07"}]
[{"$nulls":6},57,{"v":3.000274988779812,"d":"3.00"},{"v":0.5311472863715851,"d":"0.53"},{"v":1.100980151586526,"d":"1.10"},{"v":0.5311472863715851,"d":"0.53"},{"v":2.1105121293128235,"d":"2.11"},{"v":3.000274988779812,"d":"3.00"},null,57,{"v":0.024289270313948022,"d":"0.02"},{"v":0.00454887234613947,"d":"0.00"},{"v":0.00454887234613947,"d":"0.00"},{"v":0.00454887234613947,"d":"0.00"},{"v":0.024289270313948022,"d":"0.02"},{"v":0.07340484722977884,"d":"0.07"},null,57,{"v":0.08975434391851415,"d":"0.09"},{"v":0.011982692382264227,"d":"0.01"},{"v":0.011982692382264227,"d":"0.01"},{"v":0.011982692382264227,"d":"0.01"},{"v":0.024665447790656502,"d":"0.02"},{"v":0.07403929528767546,"d":"0.07"}]
[{"$nulls":6},58,{"v":3.542111920190008,"d":"3.54"},{"v":0.5694969924191847,"d":"0.57"},{"v":1.1027769880812242,"d":"1.10"},{"v":0.5694969924191847,"d":"0.57"},{"v":2.5314722380067654,"d":"2.53"},{"v":3.542111920190008,"d":"3.54"},null,58,{"v":0.0278449484157073,"d":"0.03"},{"v":0.006538840023989047,"d":"0.01"},{"v":0.006538840023989047,"d":"0.01"},{"v":0.006538840023989047,"d":"0.01"},{"v":0.0278449484157073,"d":"0.03"},{"v":0.08139502810061762,"d":"0.08"},null,58,{"v":0.10257639304973047,"d":"0.10"},{"v":0.012366736195265102,"d":"0.01"},{"v":0.012366736195265102,"d":"0.01"},{"v":0.012366736195265102,"d":"0.01"},{"v":0.0294888594462588,"d":"0.03"},{"v":0.08064383315555972,"d":"0.08"}]
[{"$nulls":6},59,{"v":4.083948851600204,"d":"4.08"},{"v":0.6078466984667843,"d":"0.61"},{"v":1.1045738245759222,"d":"1.10"},{"v":0.6078466984667843,"d":"0.61"},{"v":2.952432346700707,"d":"2.95"},{"v":4.083948851600204,"d":"4.08"},null,59,{"v":0.03140062651746658,"d":"0.03"},{"v":8.528807701838623E-3,"d":"0.01"},{"v":8.528807701838623E-3,"d":"0.01"},{"v":8.528807701838623E-3,"d":"0.01"},{"v":0.03140062651746658,"d":"0.03"},{"v":0.08938520897145638,"d":"0.09"},null,59,{"v":0.11539844218094679,"d":"0.12"},{"v":0.012750780008265978,"d":"0.01"},{"v":0.012750780008265978,"d":"0.01"},{"v":0.012750780008265978,"d":"0.01"},{"v":0.0343122711018611,"d":"0.03"},{"v":0.08724837102344399,"d":"0.09"}]
[{"$nulls":6},60,{"v":4.6257857830104,"d":"4.63"},{"v":0.646196404514384,"d":"0.65"},{"v":1.10637066107062,"d":"1.11"},{"v":0.646196404514384,"d":"0.65"},{"v":3.3733924553946495,"d":"3.37"},{"v":4.6257857830104,"d":"4.63"},null,60,{"v":0.03495630461922586,"d":"0.03"},{"v":0.0105187753796882,"d":"0.01"},{"v":0.0105187753796882,"d":"0.01"},{"v":0.0105187753796882,"d":"0.01"},{"v":0.03495630461922586,"d":"0.03"},{"v":0.09737538984229514,"d":"0.10"},null,60,{"v":0.1282204913121631,"d":"0.13"},{"v":0.013134823821266857,"d":"0.01"},{"v":0.013134823821266857,"d":"0.01"},{"v":0.013134823821266857,"d":"0.01"},{"v":0.0391356827574634,"d":"0.04"},{"v":0.09385290889132826,"d":"0.09"}]
[{"$nulls":6},61,{"v":4.228641527367447,"d":"4.23"},{"v":1.363962265874679,"d":"1.36"},{"v":2.0090947960694923,"d":"2.01"},{"v":1.363962265874679,"d":"1.36"},{"v":4.082590058726398,"d":"4.08"},{"v":4.228641527367447,"d":"4.23"},null,61,{"v":0.03495630461922586,"d":"0.03"},{"v":0.014231571663494641,"d":"0.01"},{"v":0.014231571663494641,"d":"0.01"},{"v":0.014231571663494641,"d":"0.01"},{"v":0.03495630461922586,"d":"0.03"},{"v":0.10178771702775764,"d":"0.10"},null,61,{"v":0.1282204913121631,"d":"0.13"},{"v":0.011857102355658964,"d":"0.01"},{"v":0.011857102355658964,"d":"0.01"},{"v":0.011857102355658964,"d":"0.01"},{"v":0.045405095083112725,"d":"0.05"},{"v":0.09397304649801592,"d":"0.09"}]
[{"$nulls":6},62,{"v":3.8314972717244946,"d":"3.83"},{"v":2.081728127234974,"d":"2.08"},{"v":2.9118189310683644,"d":"2.91"},{"v":2.081728127234974,"d":"2.08"},{"v":4.791787662058145,"d":"4.79"},{"v":3.8314972717244946,"d":"3.83"},null,62,{"v":0.03495630461922586,"d":"0.03"},{"v":0.01794436794730108,"d":"0.02"},{"v":0.01794436794730108,"d":"0.02"},{"v":0.01794436794730108,"d":"0.02"},{"v":0.03495630461922586,"d":"0.03"},{"v":0.10620004421322013,"d":"0.11"},null,62,{"v":0.1282204913121631,"d":"0.13"},{"v":0.01057938089005107,"d":"0.01"},{"v":0.01057938089005107,"d":"0.01"},{"v":0.01057938089005107,"d":"0.01"},{"v":0.051674507408762047,"d":"0.05"},{"v":0.09409318410470359,"d":"0.09"}]
[{"$nulls":6},63,{"v":3.434353016081542,"d":"3.43"},{"v":2.799493988595269,"d":"2.80"},{"v":3.8145430660672366,"d":"3.81"},{"v":2.799493988595269,"d":"2.80"},{"v":5.500985265389893,"d":"5.50"},{"v":3.434353016081542,"d":"3.43"},null,63,{"v":0.03495630461922586,"d":"0.03"},{"v":0.021657164231107518,"d":"0.02"},{"v":0.021657164231107518,"d":"0.02"},{"v":0.021657164231107518,"d":"0.02"},{"v":0.03495630461922586,"d":"0.03"},{"v":0.11061237139868263,"d":"0.11"},null,63,{"v":0.1282204913121631,"d":"0.13"},{"v":0.009301659424443179,"d":"0.01"},{"v":0.009301659424443179,"d":"0.01"},{"v":0.009301659424443179,"d":"0.01"},{"v":0.05794391973441137,"d":"0.06"},{"v":0.09421332171139125,"d":"0.09"}]
[{"$nulls":6},64,{"v":3.0372087604385896,"d":"3.04"},{"v":3.5172598499555643,"d":"3.52"},{"v":4.717267201066108,"d":"4.72"},{"v":3.5172598499555643,"d":"3.52"},{"v":6.210182868721641,"d":"6.21"},{"v":3.0372087604385896,"d":"3.04"},null,64,{"v":0.03495630461922586,"d":"0.03"},{"v":0.02536996051491396,"d":"0.03"},{"v":0.02536996051491396,"d":"0.03"},{"v":0.02536996051491396,"d":"0.03"},{"v":0.03495630461922586,"d":"0.03"},{"v":0.11502469858414513,"d":"0.12"},null,64,{"v":0.1282204913121631,"d":"0.13"},{"v":0.008023937958835286,"d":"0.01"},{"v":0.008023937958835286,"d":"0.01"},{"v":0.008023937958835286,"d":"0.01"},{"v":0.06421333206006069,"d":"0.06"},{"v":0.09433345931807892,"d":"0.09"}]
[{"$nulls":6},65,{"v":2.6400645047956366,"d":"2.64"},{"v":4.23502571131586,"d":"4.24"},{"v":5.61999133606498,"d":"5.62"},{"v":4.23502571131586,"d":"4.24"},{"v":6.91938047205339,"d":"6.92"},{"v":2.6400645047956366,"d":"2.64"},null,65,{"v":0.03495630461922586,"d":"0.03"},{"v":0.0290827567987204,"d":"0.03"},{"v":0.0290827567987204,"d":"0.03"},{"v":0.0290827567987204,"d":"0.03"},{"v":0.03495630461922586,"d":"0.03"},{"v":0.11943702576960759,"d":"0.12"},null,65,{"v":0.1282204913121631,"d":"0.13"},{"v":0.006746216493227392,"d":"0.01"},{"v":0.006746216493227392,"d":"0.01"},{"v":0.006746216493227392,"d":"0.01"},{"v":0.07048274438571,"d":"0.07"},{"v":0.09445359692476661,"d":"0.09"}]
[{"$nulls":6},66,{"v":3.357654604812214,"d":"3.36"},{"v":3.7968264111416397,"d":"3.80"},{"v":5.605465324723192,"d":"5.61"},{"v":3.7968264111416397,"d":"3.80"},{"v":5.980906860565702,"d":"5.98"},{"v":3.357654604812214,"d":"3.36"},null,66,{"v":0.03495630461922586,"d":"0.03"},{"v":0.03435252858954292,"d":"0.03"},{"v":0.03435252858954292,"d":"0.03"},{"v":0.03435252858954292,"d":"0.03"},{"v":0.03495630461922586,"d":"0.03"},{"v":0.12053977384816075,"d":"0.12"},null,66,{"v":0.1282204913121631,"d":"0.13"},{"v":0.006806152980246476,"d":"0.01"},{"v":0.006806152980246476,"d":"0.01"},{"v":0.006806152980246476,"d":"0.01"},{"v":0.0778667968017386,"d":"0.08"},{"v":0.09433345931807895,"d":"0.09"}]
[{"$nulls":6},67,{"v":4.0752447048287905,"d":"4.08"},{"v":3.3586271109674195,"d":"3.36"},{"v":5.590939313381404,"d":"5.59"},{"v":3.3586271109674195,"d":"3.36"},{"v":5.042433249078015,"d":"5.04"},{"v":4.0752447048287905,"d":"4.08"},null,67,{"v":0.03495630461922586,"d":"0.03"},{"v":0.03962230038036543,"d":"0.04"},{"v":0.03962230038036543,"d":"0.04"},{"v":0.03962230038036543,"d":"0.04"},{"v":0.03495630461922586,"d":"0.03"},{"v":0.12164252192671393,"d":"0.12"},null,67,{"v":0.1282204913121631,"d":"0.13"},{"v":0.006866089467265559,"d":"0.01"},{"v":0.006866089467265559,"d":"0.01"},{"v":0.006866089467265559,"d":"0.01"},{"v":0.08525084921776721,"d":"0.09"},{"v":0.09421332171139127,"d":"0.09"}]
[{"$nulls":6},68,{"v":4.792834804845367,"d":"4.79"},{"v":2.9204278107931994,"d":"2.92"},{"v":5.576413302039616,"d":"5.58"},{"v":2.9204278107931994,"d":"2.92"},{"v":4.103959637590328,"d":"4.10"},{"v":4.792834804845367,"d":"4.79"},null,68,{"v":0.03495630461922586,"d":"0.03"},{"v":0.04489207217118795,"d":"0.04"},{"v":0.04489207217118795,"d":"0.04"},{"v":0.04489207217118795,"d":"0.04"},{"v":0.03495630461922586,"d":"0.03"},{"v":0.1227452700052671,"d":"0.12"},null,68,{"v":0.1282204913121631,"d":"0.13"},{"v":0.006926025954284642,"d":"0.01"},{"v":0.006926025954284642,"d":"0.01"},{"v":0.006926025954284642,"d":"0.01"},{"v":0.09263490163379581,"d":"0.09"},{"v":0.0940931841047036,"d":"0.09"}]
[{"$nulls":6},69,{"v":5.510424904861944,"d":"5.51"},{"v":2.482228510618979,"d":"2.48"},{"v":5.561887290697828,"d":"5.56"},{"v":2.482228510618979,"d":"2.48"},{"v":3.16548602610264,"d":"3.17"},{"v":5.510424904861944,"d":"5.51"},null,69,{"v":0.03495630461922586,"d":"0.03"},{"v":0.05016184396201047,"d":"0.05"},{"v":0.05016184396201047,"d":"0.05"},{"v":0.05016184396201047,"d":"0.05"},{"v":0.03495630461922586,"d":"0.03"},{"v":0.12384801808382027,"d":"0.12"},null,69,{"v":0.1282204913121631,"d":"0.13"},{"v":0.006985962441303725,"d":"0.01"},{"v":0.006985962441303725,"d":"0.01"},{"v":0.006985962441303725,"d":"0.01"},{"v":0.10001895404982442,"d":"0.10"},{"v":0.09397304649801594,"d":"0.09"}]
[{"$nulls":6},70,{"v":6.228015004878522,"d":"6.23"},{"v":2.04402921044476,"d":"2.04"},{"v":5.54736127935604,"d":"5.55"},{"v":2.04402921044476,"d":"2.04"},{"v":2.227012414614952,"d":"2.23"},{"v":6.228015004878522,"d":"6.23"},null,70,{"v":0.03495630461922586,"d":"0.03"},{"v":0.055431615752832994,"d":"0.06"},{"v":0.055431615752832994,"d":"0.06"},{"v":0.055431615752832994,"d":"0.06"},{"v":0.03495630461922586,"d":"0.03"},{"v":0.12495076616237347,"d":"0.12"},null,70,{"v":0.1282204913121631,"d":"0.13"},{"v":0.00704589892832281,"d":"0.01"},{"v":0.00704589892832281,"d":"0.01"},{"v":0.00704589892832281,"d":"0.01"},{"v":0.107403006465853,"d":"0.11"},{"v":0.09385290889132826,"d":"0.09"}]
[{"$nulls":6},71,{"v":5.0791156030431015,"d":"5.08"},{"v":4.002666972118428,"d":"4.00"},{"v":7.082914170936952,"d":"7.08"},{"v":4.002666972118428,"d":"4.00"},{"v":5.042363373468421,"d":"5.04"},{"v":5.0791156030431015,"d":"5.08"},null,71,{"v":0.029913886569923928,"d":"0.03"},{"v":0.06206919862195154,"d":"0.06"},{"v":0.06206919862195154,"d":"0.06"},{"v":0.06206919862195154,"d":"0.06"},{"v":0.029913886569923928,"d":"0.03"},{"v":0.12328934824184028,"d":"0.12"},null,71,{"v":0.12287561113071847,"d":"0.12"},{"v":0.011121860181527408,"d":"0.01"},{"v":0.011121860181527408,"d":"0.01"},{"v":0.011121860181527408,"d":"0.01"},{"v":0.11561152740533559,"d":"0.12"},{"v":0.08854072505180378,"d":"0.09"}]
[{"$nulls":6},72,{"v":3.930216201207681,"d":"3.93"},{"v":5.961304733792096,"d":"5.96"},{"v":8.618467062517864,"d":"8.62"},{"v":5.961304733792096,"d":"5.96"},{"v":7.85771433232189,"d":"7.86"},{"v":3.930216201207681,"d":"3.93"},null,72,{"v":0.024871468520621994,"d":"0.02"},{"v":0.06870678149107007,"d":"0.07"},{"v":0.06870678149107007,"d":"0.07"},{"v":0.06870678149107007,"d":"0.07"},{"v":0.024871468520621994,"d":"0.02"},{"v":0.12162793032130709,"d":"0.12"},null,72,{"v":0.11753073094927385,"d":"0.12"},{"v":0.015197821434732006,"d":"0.02"},{"v":0.015197821434732006,"d":"0.02"},{"v":0.015197821434732006,"d":"0.02"},{"v":0.12382004834481819,"d":"0.12"},{"v":0.08322854121227931,"d":"0.08"}]
[{"$nulls":6},73,{"v":2.7813167993722603,"d":"2.78"},{"v":7.919942495465763,"d":"7.92"},{"v":10.154019954098775,"d":"10.15"},{"v":7.919942495465763,"d":"7.92"},{"v":10.673065291175359,"d":"10.67"},{"v":2.7813167993722603,"d":"2.78"},null,73,{"v":0.019829050471320067,"d":"0.02"},{"v":0.07534436436018861,"d":"0.08"},{"v":0.07534436436018861,"d":"0.08"},{"v":0.07534436436018861,"d":"0.08"},{"v":0.019829050471320067,"d":"0.02"},{"v":0.11996651240077391,"d":"0.12"},null,73,{"v":0.11218585076782923,"d":"0.11"},{"v":0.019273782687936603,"d":"0.02"},{"v":0.019273782687936603,"d":"0.02"},{"v":0.019273782687936603,"d":"0.02"},{"v":0.1320285692843008,"d":"0.13"},{"v":0.07791635737275483,"d":"0.08"}]
[{"$nulls":6},74,{"v":1.6324173975368397,"d":"1.63"},{"v":9.878580257139431,"d":"9.88"},{"v":11.689572845679686,"d":"11.69"},{"v":9.878580257139431,"d":"9.88"},{"v":13.488416250028827,"d":"13.49"},{"v":1.6324173975368397,"d":"1.63"},null,74,{"v":0.014786632422018138,"d":"0.01"},{"v":0.08198194722930716,"d":"0.08"},{"v":0.08198194722930716,"d":"0.08"},{"v":0.08198194722930716,"d":"0.08"},{"v":0.014786632422018138,"d":"0.01"},{"v":0.11830509448024072,"d":"0.12"},null,74,{"v":0.10684097058638463,"d":"0.11"},{"v":0.023349743941141202,"d":"0.02"},{"v":0.023349743941141202,"d":"0.02"},{"v":0.023349743941141202,"d":"0.02"},{"v":0.1402370902237834,"d":"0.14"},{"v":0.07260417353323036,"d":"0.07"}]
[{"$nulls":6},75,{"v":0.483517995701419,"d":"0.48"},{"v":11.8372180188131,"d":"11.84"},{"v":13.2251257372606,"d":"13.23"},{"v":11.8372180188131,"d":"11.84"},{"v":16.3037672088823,"d":"16.30"},{"v":0.483517995701419,"d":"0.48"},null,75,{"v":0.00974421437271621,"d":"0.01"},{"v":0.08861953009842569,"d":"0.09"},{"v":0.08861953009842569,"d":"0.09"},{"v":0.08861953009842569,"d":"0.09"},{"v":0.00974421437271621,"d":"0.01"},{"v":0.11664367655970753,"d":"0.12"},null,75,{"v":0.10149609040494,"d":"0.10"},{"v":0.027425705194345798,"d":"0.03"},{"v":0.027425705194345798,"d":"0.03"},{"v":0.027425705194345798,"d":"0.03"},{"v":0.14844561116326602,"d":"0.15"},{"v":0.06729198969370588,"d":"0.07"}]
[{"$nulls":6},76,{"v":1.4384645760785213,"d":"1.44"},{"v":10.988436682758705,"d":"10.99"},{"v":13.17364003667904,"d":"13.17"},{"v":10.988436682758705,"d":"10.99"},{"v":13.761539784983935,"d":"13.76"},{"v":1.4384645760785213,"d":"1.44"},null,76,{"v":0.010649117039195568,"d":"0.01"},{"v":0.09641125070603457,"d":"0.10"},{"v":0.09641125070603457,"d":"0.10"},{"v":0.09641125070603457,"d":"0.10"},{"v":0.010649117039195568,"d":"0.01"},{"v":0.11292390855278278,"d":"0.11"},null,76,{"v":0.09615121022349538,"d":"0.10"},{"v":0.03267249480162194,"d":"0.03"},{"v":0.03267249480162194,"d":"0.03"},{"v":0.03267249480162194,"d":"0.03"},{"v":0.1572271034225424,"d":"0.16"},{"v":0.06197980585418141,"d":"0.06"}]
[{"$nulls":6},77,{"v":2.3934111564556235,"d":"2.39"},{"v":10.13965534670431,"d":"10.14"},{"v":13.122154336097479,"d":"13.12"},{"v":10.13965534670431,"d":"10.14"},{"v":11.21931236108557,"d":"11.22"},{"v":2.3934111564556235,"d":"2.39"},null,77,{"v":0.011554019705674927,"d":"0.01"},{"v":0.10420297131364344,"d":"0.10"},{"v":0.10420297131364344,"d":"0.10"},{"v":0.10420297131364344,"d":"0.10"},{"v":0.011554019705674927,"d":"0.01"},{"v":0.10920414054585802,"d":"0.11"},null,77,{"v":0.09080633004205076,"d":"0.09"},{"v":0.03791928440889808,"d":"0.04"},{"v":0.03791928440889808,"d":"0.04"},{"v":0.03791928440889808,"d":"0.04"},{"v":0.1660085956818188,"d":"0.17"},{"v":0.056667622014656936,"d":"0.06"}]
[{"$nulls":6},78,{"v":3.3483577368327255,"d":"3.35"},{"v":9.290874010649913,"d":"9.29"},{"v":13.070668635515919,"d":"13.07"},{"v":9.290874010649913,"d":"9.29"},{"v":8.677084937187207,"d":"8.68"},{"v":3.3483577368327255,"d":"3.35"},null,78,{"v":0.012458922372154286,"d":"0.01"},{"v":0.1119946919212523,"d":"0.11"},{"v":0.1119946919212523,"d":"0.11"},{"v":0.1119946919212523,"d":"0.11"},{"v":0.012458922372154286,"d":"0.01"},{"v":0.10548437253893325,"d":"0.11"},null,78,{"v":0.08546144986060615,"d":"0.09"},{"v":0.04316607401617421,"d":"0.04"},{"v":0.04316607401617421,"d":"0.04"},{"v":0.04316607401617421,"d":"0.04"},{"v":0.1747900879410952,"d":"0.17"},{"v":0.05135543817513246,"d":"0.05"}]
[{"$nulls":6},79,{"v":4.303304317209828,"d":"4.30"},{"v":8.442092674595518,"d":"8.44"},{"v":13.019182934934358,"d":"13.02"},{"v":8.442092674595518,"d":"8.44"},{"v":6.134857513288843,"d":"6.13"},{"v":4.303304317209828,"d":"4.30"},null,79,{"v":0.013363825038633646,"d":"0.01"},{"v":0.11978641252886117,"d":"0.12"},{"v":0.11978641252886117,"d":"0.12"},{"v":0.11978641252886117,"d":"0.12"},{"v":0.013363825038633646,"d":"0.01"},{"v":0.1017646045320085,"d":"0.10"},null,79,{"v":0.08011656967916153,"d":"0.08"},{"v":0.04841286362345035,"d":"0.05"},{"v":0.04841286362345035,"d":"0.05"},{"v":0.04841286362345035,"d":"0.05"},{"v":0.18357158020037162,"d":"0.18"},{"v":0.046043254335607985,"d":"0.05"}]
[{"$nulls":6},80,{"v":5.25825089758693,"d":"5.26"},{"v":7.59331133854112,"d":"7.59"},{"v":12.9676972343528,"d":"12.97"},{"v":7.59331133854112,"d":"7.59"},{"v":3.59263008939048,"d":"3.59"},{"v":5.25825089758693,"d":"5.26"},null,80,{"v":0.014268727705113,"d":"0.01"},{"v":0.12757813313647,"d":"0.13"},{"v":0.12757813313647,"d":"0.13"},{"v":0.12757813313647,"d":"0.13"},{"v":0.014268727705113,"d":"0.01"},{"v":0.09804483652508374,"d":"0.10"},null,80,{"v":0.07477168949771688,"d":"0.07"},{"v":0.053659653230726495,"d":"0.05"},{"v":0.053659653230726495,"d":"0.05"},{"v":0.053659653230726495,"d":"0.05"},{"v":0.192353072459648,"d":"0.19"},{"v":0.040731070496083516,"d":"0.04"}]
[{"$nulls":6},81,{"v":5.590061442965578,"d":"5.59"},{"v":10.723502404108617,"d":"10.72"},{"v":15.09899668073852,"d":"15.10"},{"v":10.723502404108617,"d":"10.72"},{"v":8.635734915680345,"d":"8.64"},{"v":5.590061442965578,"d":"5.59"},null,81,{"v":0.0206209660536186,"d":"0.02"},{"v":0.1362920324389966,"d":"0.14"},{"v":0.1362920324389966,"d":"0.14"},{"v":0.1362920324389966,"d":"0.14"},{"v":0.0206209660536186,"d":"0.02"},{"v":0.09301709130924611,"d":"0.09"},null,81,{"v":0.06809751840661757,"d":"0.07"},{"v":0.059943895130882295,"d":"0.06"},{"v":0.059943895130882295,"d":"0.06"},{"v":0.059943895130882295,"d":"0.06"},{"v":0.2014914263680652,"d":"0.20"},{"v":0.034306175107425674,"d":"0.03"}]
[{"$nulls":6},82,{"v":5.921871988344226,"d":"5.92"},{"v":13.853693469676113,"d":"13.85"},{"v":17.23029612712424,"d":"17.23"},{"v":13.853693469676113,"d":"13.85"},{"v":13.67883974197021,"d":"13.68"},{"v":5.921871988344226,"d":"5.92"},null,82,{"v":0.026973204402124203,"d":"0.03"},{"v":0.1450059317415232,"d":"0.15"},{"v":0.1450059317415232,"d":"0.15"},{"v":0.1450059317415232,"d":"0.15"},{"v":0.026973204402124203,"d":"0.03"},{"v":0.08798934609340847,"d":"0.09"},null,82,{"v":0.061423347315518254,"d":"0.06"},{"v":0.0662281370310381,"d":"0.07"},{"v":0.0662281370310381,"d":"0.07"},{"v":0.0662281370310381,"d":"0.07"},{"v":0.21062978027648238,"d":"0.21"},{"v":0.02788127971876784,"d":"0.03"}]
[{"$nulls":6},83,{"v":6.253682533722874,"d":"6.25"},{"v":16.983884535243607,"d":"16.98"},{"v":19.36159557350996,"d":"19.36"},{"v":16.983884535243607,"d":"16.98"},{"v":18.721944568260074,"d":"18.72"},{"v":6.253682533722874,"d":"6.25"},null,83,{"v":0.033325442750629805,"d":"0.03"},{"v":0.1537198310440498,"d":"0.15"},{"v":0.1537198310440498,"d":"0.15"},{"v":0.1537198310440498,"d":"0.15"},{"v":0.033325442750629805,"d":"0.03"},{"v":0.08296160087757083,"d":"0.08"},null,83,{"v":0.05474917622441894,"d":"0.05"},{"v":0.0725123789311939,"d":"0.07"},{"v":0.0725123789311939,"d":"0.07"},{"v":0.0725123789311939,"d":"0.07"},{"v":0.21976813418489957,"d":"0.22"},{"v":0.02145638433011,"d":"0.02"}]
[{"$nulls":6},84,{"v":6.585493079101522,"d":"6.59"},{"v":20.114075600811102,"d":"20.11"},{"v":21.492895019895677,"d":"21.49"},{"v":20.114075600811102,"d":"20.11"},{"v":23.76504939454994,"d":"23.77"},{"v":6.585493079101522,"d":"6.59"},null,84,{"v":0.03967768109913541,"d":"0.04"},{"v":0.1624337303465764,"d":"0.16"},{"v":0.1624337303465764,"d":"0.16"},{"v":0.1624337303465764,"d":"0.16"},{"v":0.03967768109913541,"d":"0.04"},{"v":0.07793385566173319,"d":"0.08"},null,84,{"v":0.04807500513331963,"d":"0.05"},{"v":0.0787966208313497,"d":"0.08"},{"v":0.0787966208313497,"d":"0.08"},{"v":0.0787966208313497,"d":"0.08"},{"v":0.22890648809331676,"d":"0.23"},{"v":0.01503148894145216,"d":"0.02"}]
[{"$nulls":6},85,{"v":6.91730362448017,"d":"6.92"},{"v":23.2442666663786,"d":"23.24"},{"v":23.6241944662814,"d":"23.62"},{"v":23.2442666663786,"d":"23.24"},{"v":28.8081542208398,"d":"28.81"},{"v":6.91730362448017,"d":"6.92"},null,85,{"v":0.046029919447641,"d":"0.05"},{"v":0.17114762964910302,"d":"0.17"},{"v":0.17114762964910302,"d":"0.17"},{"v":0.17114762964910302,"d":"0.17"},{"v":0.046029919447641,"d":"0.05"},{"v":0.07290611044589554,"d":"0.07"},null,85,{"v":0.04140083404222031,"d":"0.04"},{"v":0.0850808627315055,"d":"0.09"},{"v":0.0850808627315055,"d":"0.09"},{"v":0.0850808627315055,"d":"0.09"},{"v":0.23804484200173398,"d":"0.24"},{"v":0.00860659355279432,"d":"0.01"}]
[{"$nulls":6},86,{"v":5.950602545525655,"d":"5.95"},{"v":21.93156603120268,"d":"21.93"},{"v":23.575651034644,"d":"23.58"},{"v":21.93156603120268,"d":"21.93"},{"v":25.80654279192032,"d":"25.81"},{"v":5.950602545525655,"d":"5.95"},null,86,{"v":0.05198558550237146,"d":"0.05"},{"v":0.18054397965839603,"d":"0.18"},{"v":0.18054397965839603,"d":"0.18"},{"v":0.18054397965839603,"d":"0.18"},{"v":0.05198558550237146,"d":"0.05"},{"v":0.06728031589690882,"d":"0.07"},null,86,{"v":0.03472666295112099,"d":"0.03"},{"v":0.09227813180579479,"d":"0.09"},{"v":0.09227813180579479,"d":"0.09"},{"v":0.09227813180579479,"d":"0.09"},{"v":0.24735584604493638,"d":"0.25"},{"v":0.011588851520334436,"d":"0.01"}]
[{"$nulls":6},87,{"v":4.983901466571139,"d":"4.98"},{"v":20.618865396026763,"d":"20.62"},{"v":23.527107603006602,"d":"23.53"},{"v":20.618865396026763,"d":"20.62"},{"v":22.80493136300084,"d":"22.80"},{"v":4.983901466571139,"d":"4.98"},null,87,{"v":0.05794125155710192,"d":"0.06"},{"v":0.18994032966768903,"d":"0.19"},{"v":0.18994032966768903,"d":"0.19"},{"v":0.18994032966768903,"d":"0.19"},{"v":0.05794125155710192,"d":"0.06"},{"v":0.061654521347922105,"d":"0.06"},null,87,{"v":0.02805249186002168,"d":"0.03"},{"v":0.0994754008800841,"d":"0.10"},{"v":0.0994754008800841,"d":"0.10"},{"v":0.0994754008800841,"d":"0.10"},{"v":0.2566668500881388,"d":"0.26"},{"v":0.014571109487874552,"d":"0.01"}]
[{"$nulls":6},88,{"v":4.017200387616624,"d":"4.02"},{"v":19.306164760850844,"d":"19.31"},{"v":23.478564171369204,"d":"23.48"},{"v":19.306164760850844,"d":"19.31"},{"v":19.803319934081358,"d":"19.80"},{"v":4.017200387616624,"d":"4.02"},null,88,{"v":0.06389691761183237,"d":"0.06"},{"v":0.19933667967698201,"d":"0.20"},{"v":0.19933667967698201,"d":"0.20"},{"v":0.19933667967698201,"d":"0.20"},{"v":0.06389691761183237,"d":"0.06"},{"v":0.056028726798935384,"d":"0.06"},null,88,{"v":0.02137832076892237,"d":"0.02"},{"v":0.1066726699543734,"d":"0.11"},{"v":0.1066726699543734,"d":"0.11"},{"v":0.1066726699543734,"d":"0.11"},{"v":0.2659778541313412,"d":"0.27"},{"v":0.017553367455414668,"d":"0.02"}]
[{"$nulls":6},89,{"v":3.0504993086621086,"d":"3.05"},{"v":17.993464125674926,"d":"17.99"},{"v":23.430020739731805,"d":"23.43"},{"v":17.993464125674926,"d":"17.99"},{"v":16.801708505161876,"d":"16.80"},{"v":3.0504993086621086,"d":"3.05"},null,89,{"v":0.06985258366656283,"d":"0.07"},{"v":0.20873302968627502,"d":"0.21"},{"v":0.20873302968627502,"d":"0.21"},{"v":0.20873302968627502,"d":"0.21"},{"v":0.06985258366656283,"d":"0.07"},{"v":0.05040293224994866,"d":"0.05"},null,89,{"v":0.014704149677823058,"d":"0.01"},{"v":0.11386993902866269,"d":"0.11"},{"v":0.11386993902866269,"d":"0.11"},{"v":0.11386993902866269,"d":"0.11"},{"v":0.27528885817454357,"d":"0.28"},{"v":0.02053562542295478,"d":"0.02"}]
[{"$nulls":6},90,{"v":2.0837982297075923,"d":"2.08"},{"v":16.680763490499,"d":"16.68"},{"v":23.3814773080944,"d":"23.38"},{"v":16.680763490499,"d":"16.68"},{"v":13.8000970762424,"d":"13.80"},{"v":2.0837982297075923,"d":"2.08"},null,90,{"v":0.0758082497212933,"d":"0.08"},{"v":0.218129379695568,"d":"0.22"},{"v":0.218129379695568,"d":"0.22"},{"v":0.218129379695568,"d":"0.22"},{"v":0.0758082497212933,"d":"0.08"},{"v":0.044777137700961964,"d":"0.04"},null,90,{"v":0.008029978586723741,"d":"0.01"},{"v":0.121067208102952,"d":"0.12"},{"v":0.121067208102952,"d":"0.12"},{"v":0.121067208102952,"d":"0.12"},{"v":0.28459986221774597,"d":"0.28"},{"v":0.023517883390494897,"d":"0.02"}]
[{"$nulls":6},91,{"v":4.942962694531974,"d":"4.94"},{"v":20.69301054161242,"d":"20.69"},{"v":25.98869343503692,"d":"25.99"},{"v":20.69301054161242,"d":"20.69"},{"v":19.94545006520416,"d":"19.95"},{"v":4.942962694531974,"d":"4.94"},null,91,{"v":0.0758082497212933,"d":"0.08"},{"v":0.2279723949498636,"d":"0.23"},{"v":0.2279723949498636,"d":"0.23"},{"v":0.2279723949498636,"d":"0.23"},{"v":0.0758082497212933,"d":"0.08"},{"v":0.06420289388385557,"d":"0.06"},null,91,{"v":0.008029978586723741,"d":"0.01"},{"v":0.1290565416227796,"d":"0.13"},{"v":0.1290565416227796,"d":"0.13"},{"v":0.1290565416227796,"d":"0.13"},{"v":0.2939279179203178,"d":"0.29"},{"v":0.023517883390494897,"d":"0.02"}]
[{"$nulls":6},92,{"v":7.802127159356355,"d":"7.80"},{"v":24.70525759272584,"d":"24.71"},{"v":28.595909561979443,"d":"28.60"},{"v":24.70525759272584,"d":"24.71"},{"v":26.090803054165917,"d":"26.09"},{"v":7.802127159356355,"d":"7.80"},null,92,{"v":0.0758082497212933,"d":"0.08"},{"v":0.23781541020415922,"d":"0.24"},{"v":0.23781541020415922,"d":"0.24"},{"v":0.23781541020415922,"d":"0.24"},{"v":0.0758082497212933,"d":"0.08"},{"v":0.08362865006674917,"d":"0.08"},null,92,{"v":0.008029978586723741,"d":"0.01"},{"v":0.1370458751426072,"d":"0.14"},{"v":0.1370458751426072,"d":"0.14"},{"v":0.1370458751426072,"d":"0.14"},{"v":0.3032559736228896,"d":"0.30"},{"v":0.023517883390494897,"d":"0.02"}]
[{"$nulls":6},93,{"v":10.661291624180738,"d":"10.66"},{"v":28.71750464383926,"d":"28.72"},{"v":31.203125688921965,"d":"31.20"},{"v":28.71750464383926,"d":"28.72"},{"v":32.23615604312768,"d":"32.24"},{"v":10.661291624180738,"d":"10.66"},null,93,{"v":0.0758082497212933,"d":"0.08"},{"v":0.24765842545845485,"d":"0.25"},{"v":0.24765842545845485,"d":"0.25"},{"v":0.24765842545845485,"d":"0.25"},{"v":0.0758082497212933,"d":"0.08"},{"v":0.10305440624964278,"d":"0.10"},null,93,{"v":0.008029978586723741,"d":"0.01"},{"v":0.1450352086624348,"d":"0.15"},{"v":0.1450352086624348,"d":"0.15"},{"v":0.1450352086624348,"d":"0.15"},{"v":0.3125840293254614,"d":"0.31"},{"v":0.023517883390494897,"d":"0.02"}]
[{"$nulls":6},94,{"v":13.520456089005119,"d":"13.52"},{"v":32.72975169495268,"d":"32.73"},{"v":33.81034181586448,"d":"33.81"},{"v":32.72975169495268,"d":"32.73"},{"v":38.38150903208944,"d":"38.38"},{"v":13.520456089005119,"d":"13.52"},null,94,{"v":0.0758082497212933,"d":"0.08"},{"v":0.25750144071275044,"d":"0.26"},{"v":0.25750144071275044,"d":"0.26"},{"v":0.25750144071275044,"d":"0.26"},{"v":0.0758082497212933,"d":"0.08"},{"v":0.1224801624325364,"d":"0.12"},null,94,{"v":0.008029978586723741,"d":"0.01"},{"v":0.15302454218226239,"d":"0.15"},{"v":0.15302454218226239,"d":"0.15"},{"v":0.15302454218226239,"d":"0.15"},{"v":0.3219120850280332,"d":"0.32"},{"v":0.023517883390494897,"d":"0.02"}]
[{"$nulls":6},95,{"v":16.3796205538295,"d":"16.38"},{"v":36.7419987460661,"d":"36.74"},{"v":36.417557942807,"d":"36.42"},{"v":36.7419987460661,"d":"36.74"},{"v":44.5268620210512,"d":"44.53"},{"v":16.3796205538295,"d":"16.38"},null,95,{"v":0.0758082497212933,"d":"0.08"},{"v":0.267344455967046,"d":"0.27"},{"v":0.267344455967046,"d":"0.27"},{"v":0.267344455967046,"d":"0.27"},{"v":0.0758082497212933,"d":"0.08"},{"v":0.14190591861543,"d":"0.14"},null,95,{"v":0.008029978586723741,"d":"0.01"},{"v":0.16101387570209,"d":"0.16"},{"v":0.16101387570209,"d":"0.16"},{"v":0.16101387570209,"d":"0.16"},{"v":0.331240140730605,"d":"0.33"},{"v":0.023517883390494897,"d":"0.02"}]
[{"$nulls":6},96,{"v":13.72270819249881,"d":"13.72"},{"v":34.86426621368516,"d":"34.86"},{"v":36.39877646999258,"d":"36.40"},{"v":34.86426621368516,"d":"34.86"},{"v":41.650830419248884,"d":"41.65"},{"v":13.72270819249881,"d":"13.72"},null,96,{"v":0.0758082497212933,"d":"0.08"},{"v":0.277412835132871,"d":"0.28"},{"v":0.277412835132871,"d":"0.28"},{"v":0.277412835132871,"d":"0.28"},{"v":0.0758082497212933,"d":"0.08"},{"v":0.1465197448725956,"d":"0.15"},null,96,{"v":0.008029978586723741,"d":"0.01"},{"v":0.1696718470169672,"d":"0.17"},{"v":0.1696718470169672,"d":"0.17"},{"v":0.1696718470169672,"d":"0.17"},{"v":0.3404553905440324,"d":"0.34"},{"v":0.023517883390494897,"d":"0.02"}]
[{"$nulls":6},97,{"v":11.06579583116812,"d":"11.07"},{"v":32.98653368130422,"d":"32.99"},{"v":36.379994997178166,"d":"36.38"},{"v":32.98653368130422,"d":"32.99"},{"v":38.774798817446566,"d":"38.77"},{"v":11.06579583116812,"d":"11.07"},null,97,{"v":0.0758082497212933,"d":"0.08"},{"v":0.287481214298696,"d":"0.29"},{"v":0.287481214298696,"d":"0.29"},{"v":0.287481214298696,"d":"0.29"},{"v":0.0758082497212933,"d":"0.08"},{"v":0.1511335711297612,"d":"0.15"},null,97,{"v":0.008029978586723741,"d":"0.01"},{"v":0.17832981833184441,"d":"0.18"},{"v":0.17832981833184441,"d":"0.18"},{"v":0.17832981833184441,"d":"0.18"},{"v":0.34967064035745987,"d":"0.35"},{"v":0.023517883390494897,"d":"0.02"}]
[{"$nulls":6},98,{"v":8.40888346983743,"d":"8.41"},{"v":31.108801148923284,"d":"31.11"},{"v":36.36121352436375,"d":"36.36"},{"v":31.108801148923284,"d":"31.11"},{"v":35.89876721564425,"d":"35.90"},{"v":8.40888346983743,"d":"8.41"},null,98,{"v":0.0758082497212933,"d":"0.08"},{"v":0.29754959346452103,"d":"0.30"},{"v":0.29754959346452103,"d":"0.30"},{"v":0.29754959346452103,"d":"0.30"},{"v":0.0758082497212933,"d":"0.08"},{"v":0.1557473973869268,"d":"0.16"},null,98,{"v":0.008029978586723741,"d":"0.01"},{"v":0.1869877896467216,"d":"0.19"},{"v":0.1869877896467216,"d":"0.19"},{"v":0.1869877896467216,"d":"0.19"},{"v":0.3588858901708873,"d":"0.36"},{"v":0.023517883390494897,"d":"0.02"}]
[{"$nulls":6},99,{"v":5.751971108506741,"d":"5.75"},{"v":29.231068616542345,"d":"29.23"},{"v":36.34243205154933,"d":"36.34"},{"v":29.231068616542345,"d":"29.23"},{"v":33.02273561384193,"d":"33.02"},{"v":5.751971108506741,"d":"5.75"},null,99,{"v":0.0758082497212933,"d":"0.08"},{"v":0.30761797263034607,"d":"0.31"},{"v":0.30761797263034607,"d":"0.31"},{"v":0.30761797263034607,"d":"0.31"},{"v":0.0758082497212933,"d":"0.08"},{"v":0.16036122364409242,"d":"0.16"},null,99,{"v":0.008029978586723741,"d":"0.01"},{"v":0.19564576096159883,"d":"0.20"},{"v":0.19564576096159883,"d":"0.20"},{"v":0.19564576096159883,"d":"0.20"},{"v":0.3681011399843147,"d":"0.37"},{"v":0.023517883390494897,"d":"0.02"}]
[{"$nulls":6},100,{"v":3.09505874717605,"d":"3.10"},{"v":27.3533360841614,"d":"27.35"},{"v":36.3236505787349,"d":"36.32"},{"v":27.3533360841614,"d":"27.35"},{"v":30.1467040120396,"d":"30.15"},{"v":3.09505874717605,"d":"3.10"},null,100,{"v":0.0758082497212933,"d":"0.08"},{"v":0.317686351796171,"d":"0.32"},{"v":0.317686351796171,"d":"0.32"},{"v":0.317686351796171,"d":"0.32"},{"v":0.0758082497212933,"d":"0.08"},{"v":0.164975049901258,"d":"0.16"},null,100,{"v":0.008029978586723741,"d":"0.01"},{"v":0.204303732276476,"d":"0.20"},{"v":0.204303732276476,"d":"0.20"},{"v":0.204303732276476,"d":"0.20"},{"v":0.377316389797742,"d":"0.38"},{"v":0.023517883390494897,"d":"0.02"}]
[]
[]
[]
[]
[{"$nulls":6},"Speed Impact (Fuel Efficiency)"]
[{"$nulls":7},{"$f":"H668","v":0},1,2,3,4,5,6,7,8,9,10,11,12,13,14,15,16,17,18,19]
[{"$nulls":5},"NO BRT",{"$f":"G669","v":"Cars"},{"$f":"IF(ISERROR(VLOOKUP(H669,$G$683:$M$780,MATCH($H653,$G$683:$M$683,0),TRUE)),0,VLOOKUP(H669,$G$683:$M$780,MATCH($H653,$G$683:$M$683,0),TRUE))","v":0},0,0,0,0,0,0,0,0,0,0,0,0,0,0,0,0,0,0,0]
[{"$nulls":6},{"$f":"G670","v":"2-wheeler"},0,0,0,0,0,0,0,0,0,0,0,0,0,0,0,0,0,0,0,0]
[{"$nulls":6},"Taxi",0,0,0,0,0,0,0,0,0,0,0,0,0,0,0,0,0,0,0,0]
[{"$nulls":6},"",0,0,0,0,0,0,0,0,0,0,0,0,0,0,0,0,0,0,0,0]
[{"$nulls":6},"",0,0,0,0,0,0,0,0,0,0,0,0,0,0,0,0,0,0,0,0]
[{"$nulls":6},"3-wheeler",0,0,0,0,0,0,0,0,0,0,0,0,0,0,0,0,0,0,0,0]
[{"$nulls":6},"Bus",0,0,0,0,0,0,0,0,0,0,0,0,0,0,0,0,0,0,0,0]
[{"$nulls":6},"Mini-bus",0,0,0,0,0,0,0,0,0,0,0,0,0,0,0,0,0,0,0,0]
[{"$nulls":6},"",0,0,0,0,0,0,0,0,0,0,0,0,0,0,0,0,0,0,0,0]
[{"$nulls":6},"",0,0,0,0,0,0,0,0,0,0,0,0,0,0,0,0,0,0,0,0]
[{"$nulls":6},"BRT",0,0,0,0,0,0,0,0,0,0,0,0,0,0,0,0,0,0,0,0]
[]
[{"$nulls":6},"Speed Impact PM"]
[{"$nulls":7},{"$f":"H786","v":0},{"$f":"I786","v":1},2,3,4,5,6,7,8,9,10,11,12,13,14,15,16,17,18,19]
[{"$nulls":6},{"$f":"G787","v":"Cars"},{"$f":"IF(ISERROR(VLOOKUP(H669,$O$683:$U$780,MATCH($H653,$O$683:$U$683,0),TRUE)),0,VLOOKUP(H669,$O$683:$U$780,MATCH($H653,$O$683:$U$683,0),TRUE))","v":0},0,0,0,0,0,0,0,0,0,0,0,0,0,0,0,0,0,0,0]
[{"$nulls":6},{"$f":"G788","v":"2-wheeler"},0,0,0,0,0,0,0,0,0,0,0,0,0,0,0,0,0,0,0,0]
[{"$nulls":6},"Taxi",0,0,0,0,0,0,0,0,0,0,0,0,0,0,0,0,0,0,0,0]
[{"$nulls":6},"",0,0,0,0,0,0,0,0,0,0,0,0,0,0,0,0,0,0,0,0]
[{"$nulls":6},"",0,0,0,0,0,0,0,0,0,0,0,0,0,0,0,0,0,0,0,0]
[{"$nulls":6},"3-wheeler",0,0,0,0,0,0,0,0,0,0,0,0,0,0,0,0,0,0,0,0]
[{"$nulls":6},"Bus",0,0,0,0,0,0,0,0,0,0,0,0,0,0,0,0,0,0,0,0]
[{"$nulls":6},"Mini-bus",0,0,0,0,0,0,0,0,0,0,0,0,0,0,0,0,0,0,0,0]
[{"$nulls":6},"",0,0,0,0,0,0,0,0,0,0,0,0,0,0,0,0,0,0,0,0]
[{"$nulls":6},"",0,0,0,0,0,0,0,0,0,0,0,0,0,0,0,0,0,0,0,0]
[{"$nulls":6},"BRT",0,0,0,0,0,0,0,0,0,0,0,0,0,0,0,0,0,0,0,0]
[]
[{"$nulls":6},"Speed Impact Nox"]
[{"$nulls":7},{"$f":"H800","v":0},{"$f":"I800","v":1},2,3,4,5,6,7,8,9,10,11,12,13,14,15,16,17,18,19]
[{"$nulls":6},{"$f":"G801","v":"Cars"},{"$f":"IF(ISERROR(VLOOKUP(H669,$W$683:$AC$780,MATCH($H653,$W$683:$AC$683,0),TRUE)),0,VLOOKUP(H669,$W$683:$AC$780,MATCH($H653,$W$683:$AC$683,0),TRUE))","v":0},0,0,0,0,0,0,0,0,0,0,0,0,0,0,0,0,0,0,0]
[{"$nulls":6},{"$f":"G802","v":"2-wheeler"},0,0,0,0,0,0,0,0,0,0,0,0,0,0,0,0,0,0,0,0]
[{"$nulls":6},"Taxi",0,0,0,0,0,0,0,0,0,0,0,0,0,0,0,0,0,0,0,0]
[{"$nulls":6},"",0,0,0,0,0,0,0,0,0,0,0,0,0,0,0,0,0,0,0,0]
[{"$nulls":6},"",0,0,0,0,0,0,0,0,0,0,0,0,0,0,0,0,0,0,0,0]
[{"$nulls":6},"3-wheeler",0,0,0,0,0,0,0,0,0,0,0,0,0,0,0,0,0,0,0,0]
[{"$nulls":6},"Bus",0,0,0,0,0,0,0,0,0,0,0,0,0,0,0,0,0,0,0,0]
[{"$nulls":6},"Mini-bus",0,0,0,0,0,0,0,0,0,0,0,0,0,0,0,0,0,0,0,0]
[{"$nulls":6},"",0,0,0,0,0,0,0,0,0,0,0,0,0,0,0,0,0,0,0,0]
[{"$nulls":6},"",0,0,0,0,0,0,0,0,0,0,0,0,0,0,0,0,0,0,0,0]
[{"$nulls":6},"BRT",0,0,0,0,0,0,0,0,0,0,0,0,0,0,0,0,0,0,0,0]
[]
[]
[{"$nulls":6},"Fuel Consumption"]
[{"$nulls":6},"Gasoline","Fuel Consumption"]
[{"$nulls":7},{"$f":"H814","v":0},{"$f":"I814","v":1},2,3,4,5,6,7,8,9,10,11,12,13,14,15,16,17,18,19]
[{"$nulls":5},"NO BRT",{"$f":"G815","v":"Cars"},{"$f":"IF(ISERROR(H203/(H471-(H471*(H787/100)))),0,H203/(H471-(H471*(H787/100))))","v":0},0,0,0,0,0,0,0,0,0,0,0,0,0,0,0,0,0,0,0]
[{"$nulls":6},{"$f":"G816","v":"2-wheeler"},0,0,0,0,0,0,0,0,0,0,0,0,0,0,0,0,0,0,0,0]
[{"$nulls":6},"Taxi",0,0,0,0,0,0,0,0,0,0,0,0,0,0,0,0,0,0,0,0]
[{"$nulls":6},"",0,0,0,0,0,0,0,0,0,0,0,0,0,0,0,0,0,0,0,0]
[{"$nulls":6},"",0,0,0,0,0,0,0,0,0,0,0,0,0,0,0,0,0,0,0,0]
[{"$nulls":6},"3-wheeler",0,0,0,0,0,0,0,0,0,0,0,0,0,0,0,0,0,0,0,0]
[{"$nulls":6},"Bus",0,0,0,0,0,0,0,0,0,0,0,0,0,0,0,0,0,0,0,0]
[{"$nulls":6},"Mini-bus",0,0,0,0,0,0,0,0,0,0,0,0,0,0,0,0,0,0,0,0]
[{"$nulls":6},"",0,0,0,0,0,0,0,0,0,0,0,0,0,0,0,0,0,0,0,0]
[{"$nulls":6},"",0,0,0,0,0,0,0,0,0,0,0,0,0,0,0,0,0,0,0,0]
[{"$nulls":6},"BRT",0,0,0,0,0,0,0,0,0,0,0,0,0,0,0,0,0,0,0,0]
[]
[]
[{"$nulls":6},"Diesel","Fuel Consumption"]
[{"$nulls":7},{"$f":"H830","v":0},{"$f":"I830","v":1},2,3,4,5,6,7,8,9,10,11,12,13,14,15,16,17,18,19]
[{"$nulls":5},"NO BRT",{"$f":"G831","v":"Cars"},{"$f":"IF(ISERROR(H250/(H504-(H504*(H787/100)))),0,H250/(H504-(H504*(H787/100))))","v":0},0,0,0,0,0,0,0,0,0,0,0,0,0,0,0,0,0,0,0]
[{"$nulls":6},{"$f":"G832","v":"2-wheeler"},0,0,0,0,0,0,0,0,0,0,0,0,0,0,0,0,0,0,0,0]
[{"$nulls":6},"Taxi",0,0,0,0,0,0,0,0,0,0,0,0,0,0,0,0,0,0,0,0]
[{"$nulls":6},"",0,0,0,0,0,0,0,0,0,0,0,0,0,0,0,0,0,0,0,0]
[{"$nulls":6},"",0,0,0,0,0,0,0,0,0,0,0,0,0,0,0,0,0,0,0,0]
[{"$nulls":6},"3-wheeler",0,0,0,0,0,0,0,0,0,0,0,0,0,0,0,0,0,0,0,0]
[{"$nulls":6},"Bus",0,0,0,0,0,0,0,0,0,0,0,0,0,0,0,0,0,0,0,0]
[{"$nulls":6},"Mini-bus",0,0,0,0,0,0,0,0,0,0,0,0,0,0,0,0,0,0,0,0]
[{"$nulls":6},"",0,0,0,0,0,0,0,0,0,0,0,0,0,0,0,0,0,0,0,0]
[{"$nulls":6},"",0,0,0,0,0,0,0,0,0,0,0,0,0,0,0,0,0,0,0,0]
[{"$nulls":6},"BRT",0,0,0,0,0,0,0,0,0,0,0,0,0,0,0,0,0,0,0,0]
[]
[]
[{"$nulls":6},"LPG","Fuel Consumption"]
[{"$nulls":7},{"$f":"H845","v":0},{"$f":"I845","v":1},2,3,4,5,6,7,8,9,10,11,12,13,14,15,16,17,18,19]
[{"$nulls":5},"NO BRT",{"$f":"G846","v":"Cars"},{"$f":"IF(ISERROR(H297/(H537-(H537*(H787/100)))),0,H297/(H537-(H537*(H787/100))))","v":0},0,0,0,0,0,0,0,0,0,0,0,0,0,0,0,0,0,0,0]
[{"$nulls":6},{"$f":"G847","v":"2-wheeler"},0,0,0,0,0,0,0,0,0,0,0,0,0,0,0,0,0,0,0,0]
[{"$nulls":6},"Taxi",0,0,0,0,0,0,0,0,0,0,0,0,0,0,0,0,0,0,0,0]
[{"$nulls":6},"",0,0,0,0,0,0,0,0,0,0,0,0,0,0,0,0,0,0,0,0]
[{"$nulls":6},"",0,0,0,0,0,0,0,0,0,0,0,0,0,0,0,0,0,0,0,0]
[{"$nulls":6},"3-wheeler",0,0,0,0,0,0,0,0,0,0,0,0,0,0,0,0,0,0,0,0]
[{"$nulls":6},"Bus",0,0,0,0,0,0,0,0,0,0,0,0,0,0,0,0,0,0,0,0]
[{"$nulls":6},"Mini-bus",0,0,0,0,0,0,0,0,0,0,0,0,0,0,0,0,0,0,0,0]
[{"$nulls":6},"",0,0,0,0,0,0,0,0,0,0,0,0,0,0,0,0,0,0,0,0]
[{"$nulls":6},"",0,0,0,0,0,0,0,0,0,0,0,0,0,0,0,0,0,0,0,0]
[{"$nulls":6},"BRT",0,0,0,0,0,0,0,0,0,0,0,0,0,0,0,0,0,0,0,0]
[]
[]
[{"$nulls":6},"CNG","Fuel Consumption"]
[{"$nulls":7},{"$f":"H860","v":0},{"$f":"I860","v":1},2,3,4,5,6,7,8,9,10,11,12,13,14,15,16,17,18,19]
[{"$nulls":5},"NO BRT",{"$f":"G861","v":"Cars"},{"$f":"IF(ISERROR(H344/(H570-(H570*(H787/100)))),0,H344/(H570-(H570*(H787/100))))","v":0},0,0,0,0,0,0,0,0,0,0,0,0,0,0,0,0,0,0,0]
[{"$nulls":6},{"$f":"G862","v":"2-wheeler"},0,0,0,0,0,0,0,0,0,0,0,0,0,0,0,0,0,0,0,0]
[{"$nulls":6},"Taxi",0,0,0,0,0,0,0,0,0,0,0,0,0,0,0,0,0,0,0,0]
[{"$nulls":6},"",0,0,0,0,0,0,0,0,0,0,0,0,0,0,0,0,0,0,0,0]
[{"$nulls":6},"",0,0,0,0,0,0,0,0,0,0,0,0,0,0,0,0,0,0,0,0]
[{"$nulls":6},"3-wheeler",0,0,0,0,0,0,0,0,0,0,0,0,0,0,0,0,0,0,0,0]
[{"$nulls":6},"Bus",0,0,0,0,0,0,0,0,0,0,0,0,0,0,0,0,0,0,0,0]
[{"$nulls":6},"Mini-bus",0,0,0,0,0,0,0,0,0,0,0,0,0,0,0,0,0,0,0,0]
[{"$nulls":6},"",0,0,0,0,0,0,0,0,0,0,0,0,0,0,0,0,0,0,0,0]
[{"$nulls":6},"",0,0,0,0,0,0,0,0,0,0,0,0,0,0,0,0,0,0,0,0]
[{"$nulls":6},"BRT",0,0,0,0,0,0,0,0,0,0,0,0,0,0,0,0,0,0,0,0]
[]
[]
[{"$nulls":6},"Electric","Fuel Consumption"]
[{"$nulls":7},{"$f":"H875","v":0},{"$f":"I875","v":1},2,3,4,5,6,7,8,9,10,11,12,13,14,15,16,17,18,19]
[{"$nulls":5},"NO BRT",{"$f":"G876","v":"Cars"},{"$f":"IF(ISERROR(H391/(H603-(H603*(H787/100)))),0,H391/(H603-(H603*(H787/100))))","v":0},0,0,0,0,0,0,0,0,0,0,0,0,0,0,0,0,0,0,0]
[{"$nulls":6},{"$f":"G877","v":"2-wheeler"},0,0,0,0,0,0,0,0,0,0,0,0,0,0,0,0,0,0,0,0]
[{"$nulls":6},"Taxi",0,0,0,0,0,0,0,0,0,0,0,0,0,0,0,0,0,0,0,0]
[{"$nulls":6},"",0,0,0,0,0,0,0,0,0,0,0,0,0,0,0,0,0,0,0,0]
[{"$nulls":6},"",0,0,0,0,0,0,0,0,0,0,0,0,0,0,0,0,0,0,0,0]
[{"$nulls":6},"3-wheeler",0,0,0,0,0,0,0,0,0,0,0,0,0,0,0,0,0,0,0,0]
[{"$nulls":6},"Bus",0,0,0,0,0,0,0,0,0,0,0,0,0,0,0,0,0,0,0,0]
[{"$nulls":6},"Mini-bus",0,0,0,0,0,0,0,0,0,0,0,0,0,0,0,0,0,0,0,0]
[{"$nulls":6},"",0,0,0,0,0,0,0,0,0,0,0,0,0,0,0,0,0,0,0,0]
[{"$nulls":6},"",0,0,0,0,0,0,0,0,0,0,0,0,0,0,0,0,0,0,0,0]
[{"$nulls":6},"BRT",0,0,0,0,0,0,0,0,0,0,0,0,0,0,0,0,0,0,0,0]
[]
[]
[{"$nulls":6},{"$f":"IF('IF Factors'!J8=\"\",\"not included\",CONCATENATE('IF Factors'!J8,\"Fuel consumption\"))","v":"EthanolFuel consumption"},"Fuel Consumption"]
[{"$nulls":7},{"$f":"H890","v":0},{"$f":"I890","v":1},2,3,4,5,6,7,8,9,10,11,12,13,14,15,16,17,18,19]
[{"$nulls":5},"NO BRT",{"$f":"G891","v":"Cars"},{"$f":"IF(ISERROR(H438/(H636-(H636*(H787/100)))),0,H438/(H636-(H636*(H787/100))))","v":0},0,0,0,0,0,0,0,0,0,0,0,0,0,0,0,0,0,0,0]
[{"$nulls":6},{"$f":"G892","v":"2-wheeler"},0,0,0,0,0,0,0,0,0,0,0,0,0,0,0,0,0,0,0,0]
[{"$nulls":6},"Taxi",0,0,0,0,0,0,0,0,0,0,0,0,0,0,0,0,0,0,0,0]
[{"$nulls":6},"",0,0,0,0,0,0,0,0,0,0,0,0,0,0,0,0,0,0,0,0]
[{"$nulls":6},"",0,0,0,0,0,0,0,0,0,0,0,0,0,0,0,0,0,0,0,0]
[{"$nulls":6},"3-wheeler",0,0,0,0,0,0,0,0,0,0,0,0,0,0,0,0,0,0,0,0]
[{"$nulls":6},"Bus",0,0,0,0,0,0,0,0,0,0,0,0,0,0,0,0,0,0,0,0]
[{"$nulls":6},"Mini-bus",0,0,0,0,0,0,0,0,0,0,0,0,0,0,0,0,0,0,0,0]
[{"$nulls":6},"",0,0,0,0,0,0,0,0,0,0,0,0,0,0,0,0,0,0,0,0]
[{"$nulls":6},"",0,0,0,0,0,0,0,0,0,0,0,0,0,0,0,0,0,0,0,0]
[{"$nulls":6},"BRT",0,0,0,0,0,0,0,0,0,0,0,0,0,0,0,0,0,0,0,0]
[]
[]
[{"$nulls":6},"PM Emission Factor Gasoline"]
[]
[{"$nulls":10},"g/vkm",{"$nulls":3},"1st",null,"2nd"]
[{"$nulls":10},{"$f":"K7","v":0},{"$f":"L7","v":9},19,null,"intercept","slope","intercept","slope",null,{"$f":"K922","v":0},{"$f":"L922","v":9},{"$f":"M922","v":19},null,"1st","2nd"]
[{"$nulls":5},"NO BRT",{"$f":"G906","v":"Cars"},{"$nulls":3},{"$f":"'IF Factors'!AI31","v":0},{"$f":"OFFSET('IF Factors'!AI31,0,5)","v":0},{"$f":"OFFSET('IF Factors'!AI31,0,10)","v":0},null,{"$f":"INTERCEPT(K923:L923,$K$7:$L$7)","v":0},{"$f":"SLOPE(K923:L923,$K$7:$L$7)","v":0},{"$f":"INTERCEPT(L923:M923,$L$7:$M$7)","v":0},{"$f":"SLOPE(L923:M923,$L$7:$M$7)","v":0},null,{"$f":"IF(K923<>0,0,1)","v":1},{"$f":"IF(L923<>0,0,1)","v":1},{"$f":"IF(M923<>0,0,1)","v":1},null,{"$f":"IF(T923+U923=1,1,0)","v":0},{"$f":"IF(U923+V923=1,1,0)","v":0}]
[{"$nulls":6},{"$f":"G907","v":"2-wheeler"},{"$nulls":3},{"$f":"'IF Factors'!AI32","v":0},{"$f":"OFFSET('IF Factors'!AI32,0,5)","v":0},{"$f":"OFFSET('IF Factors'!AI32,0,10)","v":0},null,{"$f":"INTERCEPT(K924:L924,$K$7:$L$7)","v":0},{"$f":"SLOPE(K924:L924,$K$7:$L$7)","v":0},{"$f":"INTERCEPT(L924:M924,$L$7:$M$7)","v":0},{"$f":"SLOPE(L924:M924,$L$7:$M$7)","v":0},null,{"$f":"IF(K924<>0,0,1)","v":1},1,1,null,{"$f":"IF(T924+U924=1,1,0)","v":0},0]
[{"$nulls":6},"Taxi",{"$nulls":3},{"$f":"'IF Factors'!AI33","v":0},{"$f":"OFFSET('IF Factors'!AI33,0,5)","v":0},{"$f":"OFFSET('IF Factors'!AI33,0,10)","v":0},null,0,0,0,0,null,1,1,1,null,0,0]
[{"$nulls":6},"",{"$nulls":3},{"$f":"'IF Factors'!AI34","v":0},{"$f":"OFFSET('IF Factors'!AI34,0,5)","v":0},{"$f":"OFFSET('IF Factors'!AI34,0,10)","v":0},null,0,0,0,0,null,1,1,1,null,0,0]
[{"$nulls":6},"",{"$nulls":3},{"$f":"'IF Factors'!AI35","v":0},{"$f":"OFFSET('IF Factors'!AI35,0,5)","v":0},{"$f":"OFFSET('IF Factors'!AI35,0,10)","v":0},null,0,0,0,0,null,1,1,1,null,0,0]
[{"$nulls":6},"3-wheeler",{"$nulls":3},{"$f":"'IF Factors'!AI36","v":0},{"$f":"OFFSET('IF Factors'!AI36,0,5)","v":0},{"$f":"OFFSET('IF Factors'!AI36,0,10)","v":0},null,0,0,0,0,null,1,1,1,null,0,0]
[{"$nulls":6},"Bus",{"$nulls":3},{"$f":"'IF Factors'!AI37","v":0},{"$f":"OFFSET('IF Factors'!AI37,0,5)","v":0},{"$f":"OFFSET('IF Factors'!AI37,0,10)","v":0},null,0,0,0,0,null,1,1,1,null,0,0]
[{"$nulls":6},"Mini-bus",{"$nulls":3},{"$f":"'IF Factors'!AI38","v":0},{"$f":"OFFSET('IF Factors'!AI38,0,5)","v":0},{"$f":"OFFSET('IF Factors'!AI38,0,10)","v":0},null,0,0,0,0,null,1,1,1,null,0,0]
[{"$nulls":6},"",{"$nulls":3},{"$f":"'IF Factors'!AI39","v":0},{"$f":"OFFSET('IF Factors'!AI39,0,5)","v":0},{"$f":"OFFSET('IF Factors'!AI39,0,10)","v":0},null,0,0,0,0,null,1,1,1,null,0,0]
[{"$nulls":6},"",{"$nulls":3},{"$f":"'IF Factors'!AI40","v":0},{"$f":"OFFSET('IF Factors'!AI40,0,5)","v":0},{"$f":"OFFSET('IF Factors'!AI40,0,10)","v":0},null,0,0,0,0,null,1,1,1,null,0,0]
[{"$nulls":6},"BRT",{"$nulls":3},{"$f":"'IF Factors'!AI41","v":0},{"$f":"OFFSET('IF Factors'!AI41,0,5)","v":0},{"$f":"OFFSET('IF Factors'!AI41,0,10)","v":0},null,0,0,0,0,null,1,1,1,null,0,0]
[]
[]
[]
[{"$nulls":6},"PM Emission Factor",null,"Gasoline"]
[{"$nulls":7},{"$f":"H905","v":0},{"$f":"I905","v":1},2,3,4,5,6,7,8,9,10,11,12,13,14,15,16,17,18,19]
[{"$nulls":5},"NO BRT",{"$f":"G906","v":"Cars"},{"$f":"K923","v":{"v":0,"d":"0.00"}},{"$f":"(I$23*$P923)+$O923","v":{"v":0,"d":"0.00"}},{"$f":"(J$23*$P923)+$O923","v":{"v":0,"d":"0.00"}},{"v":0,"d":"0.00"},{"v":0,"d":"0.00"},{"v":0,"d":"0.00"},{"v":0,"d":"0.00"},{"v":0,"d":"0.00"},{"v":0,"d":"0.00"},{"$f":"L923","v":{"v":0,"d":"0.00"}},{"$f":"(R$23*$R923)+$Q923","v":{"v":0,"d":"0.00"}},{"$f":"(S$23*$R923)+$Q923","v":{"v":0,"d":"0.00"}},{"v":0,"d":"0.00"},{"v":0,"d":"0.00"},{"v":0,"d":"0.00"},{"v":0,"d":"0.00"},{"v":0,"d":"0.00"},{"v":0,"d":"0.00"},{"v":0,"d":"0.00"},{"$f":"M923","v":{"v":0,"d":"0.00"}}]
[{"$nulls":6},{"$f":"G907","v":"2-wheeler"},{"$f":"K924","v":{"v":0,"d":"0.00"}},{"$f":"(I$23*$P924)+$O924","v":{"v":0,"d":"0.00"}},{"v":0,"d":"0.00"},{"v":0,"d":"0.00"},{"v":0,"d":"0.00"},{"v":0,"d":"0.00"},{"v":0,"d":"0.00"},{"v":0,"d":"0.00"},{"v":0,"d":"0.00"},{"$f":"L924","v":{"v":0,"d":"0.00"}},{"$f":"(R$23*$R924)+$Q924","v":{"v":0,"d":"0.00"}},{"v":0,"d":"0.00"},{"v":0,"d":"0.00"},{"v":0,"d":"0.00"},{"v":0,"d":"0.00"},{"v":0,"d":"0.00"},{"v":0,"d":"0.00"},{"v":0,"d":"0.00"},{"v":0,"d":"0.00"},{"$f":"M924","v":{"v":0,"d":"0.00"}}]
[{"$nulls":6},"Taxi",{"v":0,"d":"0.00"},{"v":0,"d":"0.00"},{"v":0,"d":"0.00"},{"v":0,"d":"0.00"},{"v":0,"d":"0.00"},{"v":0,"d":"0.00"},{"v":0,"d":"0.00"},{"v":0,"d":"0.00"},{"v":0,"d":"0.00"},{"v":0,"d":"0.00"},{"v":0,"d":"0.00"},{"v":0,"d":"0.00"},{"v":0,"d":"0.00"},{"v":0,"d":"0.00"},{"v":0,"d":"0.00"},{"v":0,"d":"0.00"},{"v":0,"d":"0.00"},{"v":0,"d":"0.00"},{"v":0,"d":"0.00"},{"v":0,"d":"0.00"}]
[{"$nulls":6},"",{"v":0,"d":"0.00"},{"v":0,"d":"0.00"},{"v":0,"d":"0.00"},{"v":0,"d":"0.00"},{"v":0,"d":"0.00"},{"v":0,"d":"0.00"},{"v":0,"d":"0.00"},{"v":0,"d":"0.00"},{"v":0,"d":"0.00"},{"v":0,"d":"0.00"},{"v":0,"d":"0.00"},{"v":0,"d":"0.00"},{"v":0,"d":"0.00"},{"v":0,"d":"0.00"},{"v":0,"d":"0.00"},{"v":0,"d":"0.00"},{"v":0,"d":"0.00"},{"v":0,"d":"0.00"},{"v":0,"d":"0.00"},{"v":0,"d":"0.00"}]
[{"$nulls":6},"",{"v":0,"d":"0.00"},{"v":0,"d":"0.00"},{"v":0,"d":"0.00"},{"v":0,"d":"0.00"},{"v":0,"d":"0.00"},{"v":0,"d":"0.00"},{"v":0,"d":"0.00"},{"v":0,"d":"0.00"},{"v":0,"d":"0.00"},{"v":0,"d":"0.00"},{"v":0,"d":"0.00"},{"v":0,"d":"0.00"},{"v":0,"d":"0.00"},{"v":0,"d":"0.00"},{"v":0,"d":"0.00"},{"v":0,"d":"0.00"},{"v":0,"d":"0.00"},{"v":0,"d":"0.00"},{"v":0,"d":"0.00"},{"v":0,"d":"0.00"}]
[{"$nulls":6},"3-wheeler",{"v":0,"d":"0.00"},{"v":0,"d":"0.00"},{"v":0,"d":"0.00"},{"v":0,"d":"0.00"},{"v":0,"d":"0.00"},{"v":0,"d":"0.00"},{"v":0,"d":"0.00"},{"v":0,"d":"0.00"},{"v":0,"d":"0.00"},{"v":0,"d":"0.00"},{"v":0,"d":"0.00"},{"v":0,"d":"0.00"},{"v":0,"d":"0.00"},{"v":0,"d":"0.00"},{"v":0,"d":"0.00"},{"v":0,"d":"0.00"},{"v":0,"d":"0.00"},{"v":0,"d":"0.00"},{"v":0,"d":"0.00"},{"v":0,"d":"0.00"}]
[{"$nulls":6},"Bus",{"v":0,"d":"0.00"},{"v":0,"d":"0.00"},{"v":0,"d":"0.00"},{"v":0,"d":"0.00"},{"v":0,"d":"0.00"},{"v":0,"d":"0.00"},{"v":0,"d":"0.00"},{"v":0,"d":"0.00"},{"v":0,"d":"0.00"},{"v":0,"d":"0.00"},{"v":0,"d":"0.00"},{"v":0,"d":"0.00"},{"v":0,"d":"0.00"},{"v":0,"d":"0.00"},{"v":0,"d":"0.00"},{"v":0,"d":"0.00"},{"v":0,"d":"0.00"},{"v":0,"d":"0.00"},{"v":0,"d":"0.00"},{"v":0,"d":"0.00"}]
[{"$nulls":6},"Mini-bus",{"v":0,"d":"0.00"},{"v":0,"d":"0.00"},{"v":0,"d":"0.00"},{"v":0,"d":"0.00"},{"v":0,"d":"0.00"},{"v":0,"d":"0.00"},{"v":0,"d":"0.00"},{"v":0,"d":"0.00"},{"v":0,"d":"0.00"},{"v":0,"d":"0.00"},{"v":0,"d":"0.00"},{"v":0,"d":"0.00"},{"v":0,"d":"0.00"},{"v":0,"d":"0.00"},{"v":0,"d":"0.00"},{"v":0,"d":"0.00"},{"v":0,"d":"0.00"},{"v":0,"d":"0.00"},{"v":0,"d":"0.00"},{"v":0,"d":"0.00"}]
[{"$nulls":6},"",{"v":0,"d":"0.00"},{"v":0,"d":"0.00"},{"v":0,"d":"0.00"},{"v":0,"d":"0.00"},{"v":0,"d":"0.00"},{"v":0,"d":"0.00"},{"v":0,"d":"0.00"},{"v":0,"d":"0.00"},{"v":0,"d":"0.00"},{"v":0,"d":"0.00"},{"v":0,"d":"0.00"},{"v":0,"d":"0.00"},{"v":0,"d":"0.00"},{"v":0,"d":"0.00"},{"v":0,"d":"0.00"},{"v":0,"d":"0.00"},{"v":0,"d":"0.00"},{"v":0,"d":"0.00"},{"v":0,"d":"0.00"},{"v":0,"d":"0.00"}]
[{"$nulls":6},"",{"v":0,"d":"0.00"},{"v":0,"d":"0.00"},{"v":0,"d":"0.00"},{"v":0,"d":"0.00"},{"v":0,"d":"0.00"},{"v":0,"d":"0.00"},{"v":0,"d":"0.00"},{"v":0,"d":"0.00"},{"v":0,"d":"0.00"},{"v":0,"d":"0.00"},{"v":0,"d":"0.00"},{"v":0,"d":"0.00"},{"v":0,"d":"0.00"},{"v":0,"d":"0.00"},{"v":0,"d":"0.00"},{"v":0,"d":"0.00"},{"v":0,"d":"0.00"},{"v":0,"d":"0.00"},{"v":0,"d":"0.00"},{"v":0,"d":"0.00"}]
[{"$nulls":6},"BRT",{"$f":"(H$23*$P933)+$O933","v":{"v":0,"d":"0.00"}},{"v":0,"d":"0.00"},{"v":0,"d":"0.00"},{"v":0,"d":"0.00"},{"v":0,"d":"0.00"},{"v":0,"d":"0.00"},{"v":0,"d":"0.00"},{"v":0,"d":"0.00"},{"v":0,"d":"0.00"},{"v":0,"d":"0.00"},{"v":0,"d":"0.00"},{"v":0,"d":"0.00"},{"v":0,"d":"0.00"},{"v":0,"d":"0.00"},{"v":0,"d":"0.00"},{"v":0,"d":"0.00"},{"v":0,"d":"0.00"},{"v":0,"d":"0.00"},{"v":0,"d":"0.00"},{"v":0,"d":"0.00"}]
[]
[{"$nulls":6},"Adjusted PM Emission Factor",null,{"$f":"I937","v":"Gasoline"}]
[{"$nulls":7},{"$f":"H938","v":0},{"$f":"I938","v":1},2,3,4,5,6,7,8,9,10,11,12,13,14,15,16,17,18,19]
[{"$nulls":5},"NO BRT",{"$f":"G939","v":"Cars"},{"$f":"H939+(H939*H801)","v":0},{"$f":"I939+(I939*I801)","v":0},0,0,0,0,0,0,0,0,0,0,0,0,0,0,0,0,0,0]
[{"$nulls":6},{"$f":"G940","v":"2-wheeler"},{"$f":"H940+(H940*H802)","v":0},0,0,0,0,0,0,0,0,0,0,0,0,0,0,0,0,0,0,0]
[{"$nulls":6},"Taxi",{"$f":"H941+(H941*H803)","v":0},0,0,0,0,0,0,0,0,0,0,0,0,0,0,0,0,0,0,0]
[{"$nulls":6},"",{"$f":"H942+(H942*H804)","v":0},0,0,0,0,0,0,0,0,0,0,0,0,0,0,0,0,0,0,0]
[{"$nulls":6},"",{"$f":"H943+(H943*H805)","v":0},0,0,0,0,0,0,0,0,0,0,0,0,0,0,0,0,0,0,0]
[{"$nulls":6},"3-wheeler",0,0,0,0,0,0,0,0,0,0,0,0,0,0,0,0,0,0,0,0]
[{"$nulls":6},"Bus",0,0,0,0,0,0,0,0,0,0,0,0,0,0,0,0,0,0,0,0]
[{"$nulls":6},"Mini-bus",0,0,0,0,0,0,0,0,0,0,0,0,0,0,0,0,0,0,0,0]
[{"$nulls":6},"",0,0,0,0,0,0,0,0,0,0,0,0,0,0,0,0,0,0,0,0]
[{"$nulls":6},"",0,0,0,0,0,0,0,0,0,0,0,0,0,0,0,0,0,0,0,0]
[{"$nulls":6},"BRT",0,0,0,0,0,0,0,0,0,0,0,0,0,0,0,0,0,0,0,0]
[]
[]
[{"$nulls":6},"PM Emission Factor Diesel"]
[]
[{"$nulls":10},"g/vkm",{"$nulls":3},"1st",null,"2nd"]
[{"$nulls":10},{"$f":"K922","v":0},{"$f":"L922","v":9},{"$f":"M922","v":19},null,"intercept","slope","intercept","slope",null,{"$f":"K969","v":0},{"$f":"L969","v":9},{"$f":"M969","v":19},null,"1st","2nd"]
[{"$nulls":5},"NO BRT",{"$f":"G953","v":"Cars"},{"$nulls":3},{"$f":"'IF Factors'!AI46","v":0},{"$f":"OFFSET('IF Factors'!AI46,0,5)","v":0},{"$f":"OFFSET('IF Factors'!AI46,0,10)","v":0},null,{"$f":"INTERCEPT(K970:L970,$K$7:$L$7)","v":0},{"$f":"SLOPE(K970:L970,$K$7:$L$7)","v":0},{"$f":"INTERCEPT(L970:M970,$L$7:$M$7)","v":0},{"$f":"SLOPE(L970:M970,$L$7:$M$7)","v":0},null,{"$f":"IF(K970<>0,0,1)","v":1},{"$f":"IF(L970<>0,0,1)","v":1},{"$f":"IF(M970<>0,0,1)","v":1},null,{"$f":"IF(T970+U970=1,1,0)","v":0},{"$f":"IF(U970+V970=1,1,0)","v":0}]
[{"$nulls":6},{"$f":"G954","v":"2-wheeler"},{"$nulls":3},{"$f":"'IF Factors'!AI47","v":0},{"$f":"OFFSET('IF Factors'!AI47,0,5)","v":0},{"$f":"OFFSET('IF Factors'!AI47,0,10)","v":0},null,{"$f":"INTERCEPT(K971:L971,$K$7:$L$7)","v":0},{"$f":"SLOPE(K971:L971,$K$7:$L$7)","v":0},{"$f":"INTERCEPT(L971:M971,$L$7:$M$7)","v":0},{"$f":"SLOPE(L971:M971,$L$7:$M$7)","v":0},null,{"$f":"IF(K971<>0,0,1)","v":1},1,1,null,{"$f":"IF(T971+U971=1,1,0)","v":0},0]
[{"$nulls":6},"Taxi",{"$nulls":3},{"$f":"'IF Factors'!AI48","v":0},{"$f":"OFFSET('IF Factors'!AI48,0,5)","v":0},{"$f":"OFFSET('IF Factors'!AI48,0,10)","v":0},null,0,0,0,0,null,1,1,1,null,0,0]
[{"$nulls":6},"",{"$nulls":3},{"$f":"'IF Factors'!AI49","v":0},{"$f":"OFFSET('IF Factors'!AI49,0,5)","v":0},{"$f":"OFFSET('IF Factors'!AI49,0,10)","v":0},null,0,0,0,0,null,1,1,1,null,0,0]
[{"$nulls":6},"",{"$nulls":3},{"$f":"'IF Factors'!AI50","v":0},{"$f":"OFFSET('IF Factors'!AI50,0,5)","v":0},{"$f":"OFFSET('IF Factors'!AI50,0,10)","v":0},null,0,0,0,0,null,1,1,1,null,0,0]
[{"$nulls":6},"3-wheeler",{"$nulls":3},{"$f":"'IF Factors'!AI51","v":0},{"$f":"OFFSET('IF Factors'!AI51,0,5)","v":0},{"$f":"OFFSET('IF Factors'!AI51,0,10)","v":0},null,0,0,0,0,null,1,1,1,null,0,0]
[{"$nulls":6},"Bus",{"$nulls":3},{"$f":"'IF Factors'!AI52","v":0},{"$f":"OFFSET('IF Factors'!AI52,0,5)","v":0},{"$f":"OFFSET('IF Factors'!AI52,0,10)","v":0},null,0,0,0,0,null,1,1,1,null,0,0]
[{"$nulls":6},"Mini-bus",{"$nulls":3},{"$f":"'IF Factors'!AI53","v":0},{"$f":"OFFSET('IF Factors'!AI53,0,5)","v":0},{"$f":"OFFSET('IF Factors'!AI53,0,10)","v":0},null,0,0,0,0,null,1,1,1,null,0,0]
[{"$nulls":6},"",{"$nulls":3},{"$f":"'IF Factors'!AI54","v":0},{"$f":"OFFSET('IF Factors'!AI54,0,5)","v":0},{"$f":"OFFSET('IF Factors'!AI54,0,10)","v":0},null,0,0,0,0,null,1,1,1,null,0,0]
[{"$nulls":6},"",{"$nulls":3},{"$f":"'IF Factors'!AI55","v":0},{"$f":"OFFSET('IF Factors'!AI55,0,5)","v":0},{"$f":"OFFSET('IF Factors'!AI55,0,10)","v":0},null,0,0,0,0,null,1,1,1,null,0,0]
[{"$nulls":6},"BRT",{"$nulls":3},{"$f":"'IF Factors'!AI56","v":0},{"$f":"OFFSET('IF Factors'!AI56,0,5)","v":0},{"$f":"OFFSET('IF Factors'!AI56,0,10)","v":0},null,0,0,0,0,null,1,1,1,null,0,0]
[]
[]
[]
[{"$nulls":6},"PM Emission Factor",null,"Diesel"]
[{"$nulls":7},{"$f":"H952","v":0},{"$f":"I952","v":1},2,3,4,5,6,7,8,9,10,11,12,13,14,15,16,17,18,19]
[{"$nulls":5},"NO BRT",{"$f":"G953","v":"Cars"},{"$f":"K970","v":{"v":0,"d":"0.00"}},{"$f":"(I$23*$P970)+$O970","v":{"v":0,"d":"0.00"}},{"$f":"(J$23*$P970)+$O970","v":{"v":0,"d":"0.00"}},{"v":0,"d":"0.00"},{"v":0,"d":"0.00"},{"v":0,"d":"0.00"},{"v":0,"d":"0.00"},{"v":0,"d":"0.00"},{"v":0,"d":"0.00"},{"$f":"L970","v":{"v":0,"d":"0.00"}},{"$f":"(R$23*$R970)+$Q970","v":{"v":0,"d":"0.00"}},{"$f":"(S$23*$R970)+$Q970","v":{"v":0,"d":"0.00"}},{"v":0,"d":"0.00"},{"v":0,"d":"0.00"},{"v":0,"d":"0.00"},{"v":0,"d":"0.00"},{"v":0,"d":"0.00"},{"v":0,"d":"0.00"},{"v":0,"d":"0.00"},{"$f":"M970","v":{"v":0,"d":"0.00"}}]
[{"$nulls":6},{"$f":"G954","v":"2-wheeler"},{"$f":"K971","v":{"v":0,"d":"0.00"}},{"$f":"(I$23*$P971)+$O971","v":{"v":0,"d":"0.00"}},{"v":0,"d":"0.00"},{"v":0,"d":"0.00"},{"v":0,"d":"0.00"},{"v":0,"d":"0.00"},{"v":0,"d":"0.00"},{"v":0,"d":"0.00"},{"v":0,"d":"0.00"},{"$f":"L971","v":{"v":0,"d":"0.00"}},{"$f":"(R$23*$R971)+$Q971","v":{"v":0,"d":"0.00"}},{"v":0,"d":"0.00"},{"v":0,"d":"0.00"},{"v":0,"d":"0.00"},{"v":0,"d":"0.00"},{"v":0,"d":"0.00"},{"v":0,"d":"0.00"},{"v":0,"d":"0.00"},{"v":0,"d":"0.00"},{"$f":"M971","v":{"v":0,"d":"0.00"}}]
[{"$nulls":6},"Taxi",{"v":0,"d":"0.00"},{"v":0,"d":"0.00"},{"v":0,"d":"0.00"},{"v":0,"d":"0.00"},{"v":0,"d":"0.00"},{"v":0,"d":"0.00"},{"v":0,"d":"0.00"},{"v":0,"d":"0.00"},{"v":0,"d":"0.00"},{"v":0,"d":"0.00"},{"v":0,"d":"0.00"},{"v":0,"d":"0.00"},{"v":0,"d":"0.00"},{"v":0,"d":"0.00"},{"v":0,"d":"0.00"},{"v":0,"d":"0.00"},{"v":0,"d":"0.00"},{"v":0,"d":"0.00"},{"v":0,"d":"0.00"},{"v":0,"d":"0.00"}]
[{"$nulls":6},"",{"v":0,"d":"0.00"},{"v":0,"d":"0.00"},{"v":0,"d":"0.00"},{"v":0,"d":"0.00"},{"v":0,"d":"0.00"},{"v":0,"d":"0.00"},{"v":0,"d":"0.00"},{"v":0,"d":"0.00"},{"v":0,"d":"0.00"},{"v":0,"d":"0.00"},{"v":0,"d":"0.00"},{"v":0,"d":"0.00"},{"v":0,"d":"0.00"},{"v":0,"d":"0.00"},{"v":0,"d":"0.00"},{"v":0,"d":"0.00"},{"v":0,"d":"0.00"},{"v":0,"d":"0.00"},{"v":0,"d":"0.00"},{"v":0,"d":"0.00"}]
[{"$nulls":6},"",{"v":0,"d":"0.00"},{"v":0,"d":"0.00"},{"v":0,"d":"0.00"},{"v":0,"d":"0.00"},{"v":0,"d":"0.00"},{"v":0,"d":"0.00"},{"v":0,"d":"0.00"},{"v":0,"d":"0.00"},{"v":0,"d":"0.00"},{"v":0,"d":"0.00"},{"v":0,"d":"0.00"},{"v":0,"d":"0.00"},{"v":0,"d":"0.00"},{"v":0,"d":"0.00"},{"v":0,"d":"0.00"},{"v":0,"d":"0.00"},{"v":0,"d":"0.00"},{"v":0,"d":"0.00"},{"v":0,"d":"0.00"},{"v":0,"d":"0.00"}]
[{"$nulls":6},"3-wheeler",{"v":0,"d":"0.00"},{"v":0,"d":"0.00"},{"v":0,"d":"0.00"},{"v":0,"d":"0.00"},{"v":0,"d":"0.00"},{"v":0,"d":"0.00"},{"v":0,"d":"0.00"},{"v":0,"d":"0.00"},{"v":0,"d":"0.00"},{"v":0,"d":"0.00"},{"v":0,"d":"0.00"},{"v":0,"d":"0.00"},{"v":0,"d":"0.00"},{"v":0,"d":"0.00"},{"v":0,"d":"0.00"},{"v":0,"d":"0.00"},{"v":0,"d":"0.00"},{"v":0,"d":"0.00"},{"v":0,"d":"0.00"},{"v":0,"d":"0.00"}]
[{"$nulls":6},"Bus",{"v":0,"d":"0.00"},{"v":0,"d":"0.00"},{"v":0,"d":"0.00"},{"v":0,"d":"0.00"},{"v":0,"d":"0.00"},{"v":0,"d":"0.00"},{"v":0,"d":"0.00"},{"v":0,"d":"0.00"},{"v":0,"d":"0.00"},{"v":0,"d":"0.00"},{"v":0,"d":"0.00"},{"v":0,"d":"0.00"},{"v":0,"d":"0.00"},{"v":0,"d":"0.00"},{"v":0,"d":"0.00"},{"v":0,"d":"0.00"},{"v":0,"d":"0.00"},{"v":0,"d":"0.00"},{"v":0,"d":"0.00"},{"v":0,"d":"0.00"}]
[{"$nulls":6},"Mini-bus",{"v":0,"d":"0.00"},{"v":0,"d":"0.00"},{"v":0,"d":"0.00"},{"v":0,"d":"0.00"},{"v":0,"d":"0.00"},{"v":0,"d":"0.00"},{"v":0,"d":"0.00"},{"v":0,"d":"0.00"},{"v":0,"d":"0.00"},{"v":0,"d":"0.00"},{"v":0,"d":"0.00"},{"v":0,"d":"0.00"},{"v":0,"d":"0.00"},{"v":0,"d":"0.00"},{"v":0,"d":"0.00"},{"v":0,"d":"0.00"},{"v":0,"d":"0.00"},{"v":0,"d":"0.00"},{"v":0,"d":"0.00"},{"v":0,"d":"0.00"}]
[{"$nulls":6},"",{"v":0,"d":"0.00"},{"v":0,"d":"0.00"},{"v":0,"d":"0.00"},{"v":0,"d":"0.00"},{"v":0,"d":"0.00"},{"v":0,"d":"0.00"},{"v":0,"d":"0.00"},{"v":0,"d":"0.00"},{"v":0,"d":"0.00"},{"v":0,"d":"0.00"},{"v":0,"d":"0.00"},{"v":0,"d":"0.00"},{"v":0,"d":"0.00"},{"v":0,"d":"0.00"},{"v":0,"d":"0.00"},{"v":0,"d":"0.00"},{"v":0,"d":"0.00"},{"v":0,"d":"0.00"},{"v":0,"d":"0.00"},{"v":0,"d":"0.00"}]
[{"$nulls":6},"",{"v":0,"d":"0.00"},{"v":0,"d":"0.00"},{"v":0,"d":"0.00"},{"v":0,"d":"0.00"},{"v":0,"d":"0.00"},{"v":0,"d":"0.00"},{"v":0,"d":"0.00"},{"v":0,"d":"0.00"},{"v":0,"d":"0.00"},{"v":0,"d":"0.00"},{"v":0,"d":"0.00"},{"v":0,"d":"0.00"},{"v":0,"d":"0.00"},{"v":0,"d":"0.00"},{"v":0,"d":"0.00"},{"v":0,"d":"0.00"},{"v":0,"d":"0.00"},{"v":0,"d":"0.00"},{"v":0,"d":"0.00"},{"v":0,"d":"0.00"}]
[{"$nulls":6},"BRT",{"v":0,"d":"0.00"},{"v":0,"d":"0.00"},{"v":0,"d":"0.00"},{"v":0,"d":"0.00"},{"v":0,"d":"0.00"},{"v":0,"d":"0.00"},{"v":0,"d":"0.00"},{"v":0,"d":"0.00"},{"v":0,"d":"0.00"},{"v":0,"d":"0.00"},{"v":0,"d":"0.00"},{"v":0,"d":"0.00"},{"v":0,"d":"0.00"},{"v":0,"d":"0.00"},{"v":0,"d":"0.00"},{"v":0,"d":"0.00"},{"v":0,"d":"0.00"},{"v":0,"d":"0.00"},{"v":0,"d":"0.00"},{"v":0,"d":"0.00"}]
[]
[{"$nulls":6},"Adjusted PM Emission Factor",null,{"$f":"I984","v":"Diesel"}]
[{"$nulls":7},{"$f":"H985","v":0},{"$f":"I985","v":1},2,3,4,5,6,7,8,9,10,11,12,13,14,15,16,17,18,19]
[{"$nulls":5},"NO BRT",{"$f":"G986","v":"Cars"},{"$f":"H986+(H986*H801)","v":0},{"$f":"I986+(I986*I801)","v":0},0,0,0,0,0,0,0,0,0,0,0,0,0,0,0,0,0,0]
[{"$nulls":6},{"$f":"G987","v":"2-wheeler"},{"$f":"H987+(H987*H802)","v":0},0,0,0,0,0,0,0,0,0,0,0,0,0,0,0,0,0,0,0]
[{"$nulls":6},"Taxi",0,0,0,0,0,0,0,0,0,0,0,0,0,0,0,0,0,0,0,0]
[{"$nulls":6},"",0,0,0,0,0,0,0,0,0,0,0,0,0,0,0,0,0,0,0,0]
[{"$nulls":6},"",0,0,0,0,0,0,0,0,0,0,0,0,0,0,0,0,0,0,0,0]
[{"$nulls":6},"3-wheeler",0,0,0,0,0,0,0,0,0,0,0,0,0,0,0,0,0,0,0,0]
[{"$nulls":6},"Bus",0,0,0,0,0,0,0,0,0,0,0,0,0,0,0,0,0,0,0,0]
[{"$nulls":6},"Mini-bus",0,0,0,0,0,0,0,0,0,0,0,0,0,0,0,0,0,0,0,0]
[{"$nulls":6},"",0,0,0,0,0,0,0,0,0,0,0,0,0,0,0,0,0,0,0,0]
[{"$nulls":6},"",0,0,0,0,0,0,0,0,0,0,0,0,0,0,0,0,0,0,0,0]
[{"$nulls":6},"BRT",0,0,0,0,0,0,0,0,0,0,0,0,0,0,0,0,0,0,0,0]
[]
[]
[{"$nulls":6},"PM Emission Factor LPG"]
[]
[{"$nulls":10},"g/vkm",{"$nulls":3},"1st",null,"2nd"]
[{"$nulls":10},{"$f":"K969","v":0},{"$f":"L969","v":9},{"$f":"M969","v":19},null,"intercept","slope","intercept","slope",null,{"$f":"K1016","v":0},{"$f":"L1016","v":9},{"$f":"M1016","v":19},null,"1st","2nd"]
[{"$nulls":5},"NO BRT",{"$f":"G1000","v":"Cars"},{"$nulls":3},{"$f":"'IF Factors'!AI61","v":0},{"$f":"OFFSET('IF Factors'!AI61,0,5)","v":0},{"$f":"OFFSET('IF Factors'!AI61,0,10)","v":0},null,{"$f":"INTERCEPT(K1017:L1017,$K$7:$L$7)","v":0},{"$f":"SLOPE(K1017:L1017,$K$7:$L$7)","v":0},{"$f":"INTERCEPT(L1017:M1017,$L$7:$M$7)","v":0},{"$f":"SLOPE(L1017:M1017,$L$7:$M$7)","v":0},null,{"$f":"IF(K1017<>0,0,1)","v":1},{"$f":"IF(L1017<>0,0,1)","v":1},{"$f":"IF(M1017<>0,0,1)","v":1},null,{"$f":"IF(T1017+U1017=1,1,0)","v":0},{"$f":"IF(U1017+V1017=1,1,0)","v":0}]
[{"$nulls":6},{"$f":"G1001","v":"2-wheeler"},{"$nulls":3},{"$f":"'IF Factors'!AI62","v":0},{"$f":"OFFSET('IF Factors'!AI62,0,5)","v":0},{"$f":"OFFSET('IF Factors'!AI62,0,10)","v":0},null,{"$f":"INTERCEPT(K1018:L1018,$K$7:$L$7)","v":0},{"$f":"SLOPE(K1018:L1018,$K$7:$L$7)","v":0},{"$f":"INTERCEPT(L1018:M1018,$L$7:$M$7)","v":0},{"$f":"SLOPE(L1018:M1018,$L$7:$M$7)","v":0},null,{"$f":"IF(K1018<>0,0,1)","v":1},1,1,null,{"$f":"IF(T1018+U1018=1,1,0)","v":0},0]
[{"$nulls":6},"Taxi",{"$nulls":3},{"$f":"'IF Factors'!AI63","v":0},{"$f":"OFFSET('IF Factors'!AI63,0,5)","v":0},{"$f":"OFFSET('IF Factors'!AI63,0,10)","v":0},null,0,0,0,0,null,1,1,1,null,0,0]
[{"$nulls":6},"",{"$nulls":3},{"$f":"'IF Factors'!AI64","v":0},{"$f":"OFFSET('IF Factors'!AI64,0,5)","v":0},{"$f":"OFFSET('IF Factors'!AI64,0,10)","v":0},null,0,0,0,0,null,1,1,1,null,0,0]
[{"$nulls":6},"",{"$nulls":3},{"$f":"'IF Factors'!AI65","v":0},{"$f":"OFFSET('IF Factors'!AI65,0,5)","v":0},{"$f":"OFFSET('IF Factors'!AI65,0,10)","v":0},null,0,0,0,0,null,1,1,1,null,0,0]
[{"$nulls":6},"3-wheeler",{"$nulls":3},{"$f":"'IF Factors'!AI66","v":0},{"$f":"OFFSET('IF Factors'!AI66,0,5)","v":0},{"$f":"OFFSET('IF Factors'!AI66,0,10)","v":0},null,0,0,0,0,null,1,1,1,null,0,0]
[{"$nulls":6},"Bus",{"$nulls":3},{"$f":"'IF Factors'!AI67","v":0},{"$f":"OFFSET('IF Factors'!AI67,0,5)","v":0},{"$f":"OFFSET('IF Factors'!AI67,0,10)","v":0},null,0,0,0,0,null,1,1,1,null,0,0]
[{"$nulls":6},"Mini-bus",{"$nulls":3},{"$f":"'IF Factors'!AI68","v":0},{"$f":"OFFSET('IF Factors'!AI68,0,5)","v":0},{"$f":"OFFSET('IF Factors'!AI68,0,10)","v":0},null,0,0,0,0,null,1,1,1,null,0,0]
[{"$nulls":6},"",{"$nulls":3},{"$f":"'IF Factors'!AI69","v":0},{"$f":"OFFSET('IF Factors'!AI69,0,5)","v":0},{"$f":"OFFSET('IF Factors'!AI69,0,10)","v":0},null,0,0,0,0,null,1,1,1,null,0,0]
[{"$nulls":6},"",{"$nulls":3},{"$f":"'IF Factors'!AI70","v":0},{"$f":"OFFSET('IF Factors'!AI70,0,5)","v":0},{"$f":"OFFSET('IF Factors'!AI70,0,10)","v":0},null,0,0,0,0,null,1,1,1,null,0,0]
[{"$nulls":6},"BRT",{"$nulls":3},{"$f":"'IF Factors'!AI71","v":0},{"$f":"OFFSET('IF Factors'!AI71,0,5)","v":0},{"$f":"OFFSET('IF Factors'!AI71,0,10)","v":0},null,0,0,0,0,null,1,1,1,null,0,0]
[]
[]
[]
[{"$nulls":6},"PM Emission Factor",null,"LPG"]
[{"$nulls":7},{"$f":"H999","v":0},{"$f":"I999","v":1},2,3,4,5,6,7,8,9,10,11,12,13,14,15,16,17,18,19]
[{"$nulls":5},"NO BRT",{"$f":"G1000","v":"Cars"},{"$f":"K1017","v":{"v":0,"d":"0.00"}},{"$f":"(I$23*$P1017)+$O1017","v":{"v":0,"d":"0.00"}},{"$f":"(J$23*$P1017)+$O1017","v":{"v":0,"d":"0.00"}},{"v":0,"d":"0.00"},{"v":0,"d":"0.00"},{"v":0,"d":"0.00"},{"v":0,"d":"0.00"},{"v":0,"d":"0.00"},{"v":0,"d":"0.00"},{"$f":"L1017","v":{"v":0,"d":"0.00"}},{"$f":"(R$23*$R1017)+$Q1017","v":{"v":0,"d":"0.00"}},{"$f":"(S$23*$R1017)+$Q1017","v":{"v":0,"d":"0.00"}},{"v":0,"d":"0.00"},{"v":0,"d":"0.00"},{"v":0,"d":"0.00"},{"v":0,"d":"0.00"},{"v":0,"d":"0.00"},{"v":0,"d":"0.00"},{"v":0,"d":"0.00"},{"$f":"M1017","v":{"v":0,"d":"0.00"}}]
[{"$nulls":6},{"$f":"G1001","v":"2-wheeler"},{"$f":"K1018","v":{"v":0,"d":"0.00"}},{"$f":"(I$23*$P1018)+$O1018","v":{"v":0,"d":"0.00"}},{"v":0,"d":"0.00"},{"v":0,"d":"0.00"},{"v":0,"d":"0.00"},{"v":0,"d":"0.00"},{"v":0,"d":"0.00"},{"v":0,"d":"0.00"},{"v":0,"d":"0.00"},{"$f":"L1018","v":{"v":0,"d":"0.00"}},{"$f":"(R$23*$R1018)+$Q1018","v":{"v":0,"d":"0.00"}},{"v":0,"d":"0.00"},{"v":0,"d":"0.00"},{"v":0,"d":"0.00"},{"v":0,"d":"0.00"},{"v":0,"d":"0.00"},{"v":0,"d":"0.00"},{"v":0,"d":"0.00"},{"v":0,"d":"0.00"},{"$f":"M1018","v":{"v":0,"d":"0.00"}}]
[{"$nulls":6},"Taxi",{"v":0,"d":"0.00"},{"v":0,"d":"0.00"},{"v":0,"d":"0.00"},{"v":0,"d":"0.00"},{"v":0,"d":"0.00"},{"v":0,"d":"0.00"},{"v":0,"d":"0.00"},{"v":0,"d":"0.00"},{"v":0,"d":"0.00"},{"v":0,"d":"0.00"},{"v":0,"d":"0.00"},{"v":0,"d":"0.00"},{"v":0,"d":"0.00"},{"v":0,"d":"0.00"},{"v":0,"d":"0.00"},{"v":0,"d":"0.00"},{"v":0,"d":"0.00"},{"v":0,"d":"0.00"},{"v":0,"d":"0.00"},{"v":0,"d":"0.00"}]
[{"$nulls":6},"",{"v":0,"d":"0.00"},{"v":0,"d":"0.00"},{"v":0,"d":"0.00"},{"v":0,"d":"0.00"},{"v":0,"d":"0.00"},{"v":0,"d":"0.00"},{"v":0,"d":"0.00"},{"v":0,"d":"0.00"},{"v":0,"d":"0.00"},{"v":0,"d":"0.00"},{"v":0,"d":"0.00"},{"v":0,"d":"0.00"},{"v":0,"d":"0.00"},{"v":0,"d":"0.00"},{"v":0,"d":"0.00"},{"v":0,"d":"0.00"},{"v":0,"d":"0.00"},{"v":0,"d":"0.00"},{"v":0,"d":"0.00"},{"v":0,"d":"0.00"}]
[{"$nulls":6},"",{"v":0,"d":"0.00"},{"v":0,"d":"0.00"},{"v":0,"d":"0.00"},{"v":0,"d":"0.00"},{"v":0,"d":"0.00"},{"v":0,"d":"0.00"},{"v":0,"d":"0.00"},{"v":0,"d":"0.00"},{"v":0,"d":"0.00"},{"v":0,"d":"0.00"},{"v":0,"d":"0.00"},{"v":0,"d":"0.00"},{"v":0,"d":"0.00"},{"v":0,"d":"0.00"},{"v":0,"d":"0.00"},{"v":0,"d":"0.00"},{"v":0,"d":"0.00"},{"v":0,"d":"0.00"},{"v":0,"d":"0.00"},{"v":0,"d":"0.00"}]
[{"$nulls":6},"3-wheeler",{"v":0,"d":"0.00"},{"v":0,"d":"0.00"},{"v":0,"d":"0.00"},{"v":0,"d":"0.00"},{"v":0,"d":"0.00"},{"v":0,"d":"0.00"},{"v":0,"d":"0.00"},{"v":0,"d":"0.00"},{"v":0,"d":"0.00"},{"v":0,"d":"0.00"},{"v":0,"d":"0.00"},{"v":0,"d":"0.00"},{"v":0,"d":"0.00"},{"v":0,"d":"0.00"},{"v":0,"d":"0.00"},{"v":0,"d":"0.00"},{"v":0,"d":"0.00"},{"v":0,"d":"0.00"},{"v":0,"d":"0.00"},{"v":0,"d":"0.00"}]
[{"$nulls":6},"Bus",{"v":0,"d":"0.00"},{"v":0,"d":"0.00"},{"v":0,"d":"0.00"},{"v":0,"d":"0.00"},{"v":0,"d":"0.00"},{"v":0,"d":"0.00"},{"v":0,"d":"0.00"},{"v":0,"d":"0.00"},{"v":0,"d":"0.00"},{"v":0,"d":"0.00"},{"v":0,"d":"0.00"},{"v":0,"d":"0.00"},{"v":0,"d":"0.00"},{"v":0,"d":"0.00"},{"v":0,"d":"0.00"},{"v":0,"d":"0.00"},{"v":0,"d":"0.00"},{"v":0,"d":"0.00"},{"v":0,"d":"0.00"},{"v":0,"d":"0.00"}]
[{"$nulls":6},"Mini-bus",{"v":0,"d":"0.00"},{"v":0,"d":"0.00"},{"v":0,"d":"0.00"},{"v":0,"d":"0.00"},{"v":0,"d":"0.00"},{"v":0,"d":"0.00"},{"v":0,"d":"0.00"},{"v":0,"d":"0.00"},{"v":0,"d":"0.00"},{"v":0,"d":"0.00"},{"v":0,"d":"0.00"},{"v":0,"d":"0.00"},{"v":0,"d":"0.00"},{"v":0,"d":"0.00"},{"v":0,"d":"0.00"},{"v":0,"d":"0.00"},{"v":0,"d":"0.00"},{"v":0,"d":"0.00"},{"v":0,"d":"0.00"},{"v":0,"d":"0.00"}]
[{"$nulls":6},"",{"v":0,"d":"0.00"},{"v":0,"d":"0.00"},{"v":0,"d":"0.00"},{"v":0,"d":"0.00"},{"v":0,"d":"0.00"},{"v":0,"d":"0.00"},{"v":0,"d":"0.00"},{"v":0,"d":"0.00"},{"v":0,"d":"0.00"},{"v":0,"d":"0.00"},{"v":0,"d":"0.00"},{"v":0,"d":"0.00"},{"v":0,"d":"0.00"},{"v":0,"d":"0.00"},{"v":0,"d":"0.00"},{"v":0,"d":"0.00"},{"v":0,"d":"0.00"},{"v":0,"d":"0.00"},{"v":0,"d":"0.00"},{"v":0,"d":"0.00"}]
[{"$nulls":6},"",{"v":0,"d":"0.00"},{"v":0,"d":"0.00"},{"v":0,"d":"0.00"},{"v":0,"d":"0.00"},{"v":0,"d":"0.00"},{"v":0,"d":"0.00"},{"v":0,"d":"0.00"},{"v":0,"d":"0.00"},{"v":0,"d":"0.00"},{"v":0,"d":"0.00"},{"v":0,"d":"0.00"},{"v":0,"d":"0.00"},{"v":0,"d":"0.00"},{"v":0,"d":"0.00"},{"v":0,"d":"0.00"},{"v":0,"d":"0.00"},{"v":0,"d":"0.00"},{"v":0,"d":"0.00"},{"v":0,"d":"0.00"},{"v":0,"d":"0.00"}]
[{"$nulls":6},"BRT",{"v":0,"d":"0.00"},{"v":0,"d":"0.00"},{"v":0,"d":"0.00"},{"v":0,"d":"0.00"},{"v":0,"d":"0.00"},{"v":0,"d":"0.00"},{"v":0,"d":"0.00"},{"v":0,"d":"0.00"},{"v":0,"d":"0.00"},{"v":0,"d":"0.00"},{"v":0,"d":"0.00"},{"v":0,"d":"0.00"},{"v":0,"d":"0.00"},{"v":0,"d":"0.00"},{"v":0,"d":"0.00"},{"v":0,"d":"0.00"},{"v":0,"d":"0.00"},{"v":0,"d":"0.00"},{"v":0,"d":"0.00"},{"v":0,"d":"0.00"}]
[]
[{"$nulls":6},"Adjusted PM Emission Factor",null,{"$f":"I1031","v":"LPG"}]
[{"$nulls":7},{"$f":"H1032","v":0},{"$f":"I1032","v":1},2,3,4,5,6,7,8,9,10,11,12,13,14,15,16,17,18,19]
[{"$nulls":5},"NO BRT",{"$f":"G1033","v":"Cars"},{"$f":"H1033+(H1033*H801)","v":0},{"$f":"I1033+(I1033*I801)","v":0},0,0,0,0,0,0,0,0,0,0,0,0,0,0,0,0,0,0]
[{"$nulls":6},{"$f":"G1034","v":"2-wheeler"},{"$f":"H1034+(H1034*H802)","v":0},0,0,0,0,0,0,0,0,0,0,0,0,0,0,0,0,0,0,0]
[{"$nulls":6},"Taxi",0,0,0,0,0,0,0,0,0,0,0,0,0,0,0,0,0,0,0,0]
[{"$nulls":6},"",0,0,0,0,0,0,0,0,0,0,0,0,0,0,0,0,0,0,0,0]
[{"$nulls":6},"",0,0,0,0,0,0,0,0,0,0,0,0,0,0,0,0,0,0,0,0]
[{"$nulls":6},"3-wheeler",0,0,0,0,0,0,0,0,0,0,0,0,0,0,0,0,0,0,0,0]
[{"$nulls":6},"Bus",0,0,0,0,0,0,0,0,0,0,0,0,0,0,0,0,0,0,0,0]
[{"$nulls":6},"Mini-bus",0,0,0,0,0,0,0,0,0,0,0,0,0,0,0,0,0,0,0,0]
[{"$nulls":6},"",0,0,0,0,0,0,0,0,0,0,0,0,0,0,0,0,0,0,0,0]
[{"$nulls":6},"",0,0,0,0,0,0,0,0,0,0,0,0,0,0,0,0,0,0,0,0]
[{"$nulls":6},"BRT",0,0,0,0,0,0,0,0,0,0,0,0,0,0,0,0,0,0,0,0]
[]
[]
[{"$nulls":6},"PM Emission Factor CNG"]
[]
[{"$nulls":10},"g/vkm",{"$nulls":3},"1st",null,"2nd"]
[{"$nulls":10},{"$f":"K1016","v":0},{"$f":"L1016","v":9},{"$f":"M1016","v":19},null,"intercept","slope","intercept","slope",null,{"$f":"K1063","v":0},{"$f":"L1063","v":9},{"$f":"M1063","v":19},null,"1st","2nd"]
[{"$nulls":5},"NO BRT",{"$f":"G1047","v":"Cars"},{"$nulls":3},{"$f":"'IF Factors'!AI76","v":0},{"$f":"OFFSET('IF Factors'!AI76,0,5)","v":0},{"$f":"OFFSET('IF Factors'!AI76,0,10)","v":0},null,{"$f":"INTERCEPT(K1064:L1064,$K$7:$L$7)","v":0},{"$f":"SLOPE(K1064:L1064,$K$7:$L$7)","v":0},{"$f":"INTERCEPT(L1064:M1064,$L$7:$M$7)","v":0},{"$f":"SLOPE(L1064:M1064,$L$7:$M$7)","v":0},null,{"$f":"IF(K1064<>0,0,1)","v":1},{"$f":"IF(L1064<>0,0,1)","v":1},{"$f":"IF(M1064<>0,0,1)","v":1},null,{"$f":"IF(T1064+U1064=1,1,0)","v":0},{"$f":"IF(U1064+V1064=1,1,0)","v":0}]
[{"$nulls":6},{"$f":"G1048","v":"2-wheeler"},{"$nulls":3},{"$f":"'IF Factors'!AI77","v":0},{"$f":"OFFSET('IF Factors'!AI77,0,5)","v":0},{"$f":"OFFSET('IF Factors'!AI77,0,10)","v":0},null,{"$f":"INTERCEPT(K1065:L1065,$K$7:$L$7)","v":0},{"$f":"SLOPE(K1065:L1065,$K$7:$L$7)","v":0},{"$f":"INTERCEPT(L1065:M1065,$L$7:$M$7)","v":0},{"$f":"SLOPE(L1065:M1065,$L$7:$M$7)","v":0},null,{"$f":"IF(K1065<>0,0,1)","v":1},1,1,null,{"$f":"IF(T1065+U1065=1,1,0)","v":0},0]
[{"$nulls":6},"Taxi",{"$nulls":3},{"$f":"'IF Factors'!AI78","v":0},{"$f":"OFFSET('IF Factors'!AI78,0,5)","v":0},{"$f":"OFFSET('IF Factors'!AI78,0,10)","v":0},null,0,0,0,0,null,1,1,1,null,0,0]
[{"$nulls":6},"",{"$nulls":3},{"$f":"'IF Factors'!AI79","v":0},{"$f":"OFFSET('IF Factors'!AI79,0,5)","v":0},{"$f":"OFFSET('IF Factors'!AI79,0,10)","v":0},null,0,0,0,0,null,1,1,1,null,0,0]
[{"$nulls":6},"",{"$nulls":3},{"$f":"'IF Factors'!AI80","v":0},{"$f":"OFFSET('IF Factors'!AI80,0,5)","v":0},{"$f":"OFFSET('IF Factors'!AI80,0,10)","v":0},null,0,0,0,0,null,1,1,1,null,0,0]
[{"$nulls":6},"3-wheeler",{"$nulls":3},{"$f":"'IF Factors'!AI81","v":0},{"$f":"OFFSET('IF Factors'!AI81,0,5)","v":0},{"$f":"OFFSET('IF Factors'!AI81,0,10)","v":0},null,0,0,0,0,null,1,1,1,null,0,0]
[{"$nulls":6},"Bus",{"$nulls":3},{"$f":"'IF Factors'!AI82","v":0},{"$f":"OFFSET('IF Factors'!AI82,0,5)","v":0},{"$f":"OFFSET('IF Factors'!AI82,0,10)","v":0},null,0,0,0,0,null,1,1,1,null,0,0]
[{"$nulls":6},"Mini-bus",{"$nulls":3},{"$f":"'IF Factors'!AI83","v":0},{"$f":"OFFSET('IF Factors'!AI83,0,5)","v":0},{"$f":"OFFSET('IF Factors'!AI83,0,10)","v":0},null,0,0,0,0,null,1,1,1,null,0,0]
[{"$nulls":6},"",{"$nulls":3},{"$f":"'IF Factors'!AI84","v":0},{"$f":"OFFSET('IF Factors'!AI84,0,5)","v":0},{"$f":"OFFSET('IF Factors'!AI84,0,10)","v":0},null,0,0,0,0,null,1,1,1,null,0,0]
[{"$nulls":6},"",{"$nulls":3},{"$f":"'IF Factors'!AI85","v":0},{"$f":"OFFSET('IF Factors'!AI85,0,5)","v":0},{"$f":"OFFSET('IF Factors'!AI85,0,10)","v":0},null,0,0,0,0,null,1,1,1,null,0,0]
[{"$nulls":6},"BRT",{"$nulls":3},{"$f":"'IF Factors'!AI86","v":0},{"$f":"OFFSET('IF Factors'!AI86,0,5)","v":0},{"$f":"OFFSET('IF Factors'!AI86,0,10)","v":0},null,0,0,0,0,null,1,1,1,null,0,0]
[]
[]
[]
[{"$nulls":6},"PM Emission Factor",null,"CNG"]
[{"$nulls":7},{"$f":"H1046","v":0},{"$f":"I1046","v":1},2,3,4,5,6,7,8,9,10,11,12,13,14,15,16,17,18,19]
[{"$nulls":5},"NO BRT",{"$f":"G1047","v":"Cars"},{"$f":"K1064","v":{"v":0,"d":"0.00"}},{"$f":"(I$23*$P1064)+$O1064","v":{"v":0,"d":"0.00"}},{"$f":"(J$23*$P1064)+$O1064","v":{"v":0,"d":"0.00"}},{"v":0,"d":"0.00"},{"v":0,"d":"0.00"},{"v":0,"d":"0.00"},{"v":0,"d":"0.00"},{"v":0,"d":"0.00"},{"v":0,"d":"0.00"},{"$f":"L1064","v":{"v":0,"d":"0.00"}},{"$f":"(R$23*$R1064)+$Q1064","v":{"v":0,"d":"0.00"}},{"$f":"(S$23*$R1064)+$Q1064","v":{"v":0,"d":"0.00"}},{"v":0,"d":"0.00"},{"v":0,"d":"0.00"},{"v":0,"d":"0.00"},{"v":0,"d":"0.00"},{"v":0,"d":"0.00"},{"v":0,"d":"0.00"},{"v":0,"d":"0.00"},{"$f":"M1064","v":{"v":0,"d":"0.00"}}]
[{"$nulls":6},{"$f":"G1048","v":"2-wheeler"},{"$f":"K1065","v":{"v":0,"d":"0.00"}},{"$f":"(I$23*$P1065)+$O1065","v":{"v":0,"d":"0.00"}},{"v":0,"d":"0.00"},{"v":0,"d":"0.00"},{"v":0,"d":"0.00"},{"v":0,"d":"0.00"},{"v":0,"d":"0.00"},{"v":0,"d":"0.00"},{"v":0,"d":"0.00"},{"$f":"L1065","v":{"v":0,"d":"0.00"}},{"$f":"(R$23*$R1065)+$Q1065","v":{"v":0,"d":"0.00"}},{"v":0,"d":"0.00"},{"v":0,"d":"0.00"},{"v":0,"d":"0.00"},{"v":0,"d":"0.00"},{"v":0,"d":"0.00"},{"v":0,"d":"0.00"},{"v":0,"d":"0.00"},{"v":0,"d":"0.00"},{"$f":"M1065","v":{"v":0,"d":"0.00"}}]
[{"$nulls":6},"Taxi",{"v":0,"d":"0.00"},{"v":0,"d":"0.00"},{"v":0,"d":"0.00"},{"v":0,"d":"0.00"},{"v":0,"d":"0.00"},{"v":0,"d":"0.00"},{"v":0,"d":"0.00"},{"v":0,"d":"0.00"},{"v":0,"d":"0.00"},{"v":0,"d":"0.00"},{"v":0,"d":"0.00"},{"v":0,"d":"0.00"},{"v":0,"d":"0.00"},{"v":0,"d":"0.00"},{"v":0,"d":"0.00"},{"v":0,"d":"0.00"},{"v":0,"d":"0.00"},{"v":0,"d":"0.00"},{"v":0,"d":"0.00"},{"v":0,"d":"0.00"}]
[{"$nulls":6},"",{"v":0,"d":"0.00"},{"v":0,"d":"0.00"},{"v":0,"d":"0.00"},{"v":0,"d":"0.00"},{"v":0,"d":"0.00"},{"v":0,"d":"0.00"},{"v":0,"d":"0.00"},{"v":0,"d":"0.00"},{"v":0,"d":"0.00"},{"v":0,"d":"0.00"},{"v":0,"d":"0.00"},{"v":0,"d":"0.00"},{"v":0,"d":"0.00"},{"v":0,"d":"0.00"},{"v":0,"d":"0.00"},{"v":0,"d":"0.00"},{"v":0,"d":"0.00"},{"v":0,"d":"0.00"},{"v":0,"d":"0.00"},{"v":0,"d":"0.00"}]
[{"$nulls":6},"",{"v":0,"d":"0.00"},{"v":0,"d":"0.00"},{"v":0,"d":"0.00"},{"v":0,"d":"0.00"},{"v":0,"d":"0.00"},{"v":0,"d":"0.00"},{"v":0,"d":"0.00"},{"v":0,"d":"0.00"},{"v":0,"d":"0.00"},{"v":0,"d":"0.00"},{"v":0,"d":"0.00"},{"v":0,"d":"0.00"},{"v":0,"d":"0.00"},{"v":0,"d":"0.00"},{"v":0,"d":"0.00"},{"v":0,"d":"0.00"},{"v":0,"d":"0.00"},{"v":0,"d":"0.00"},{"v":0,"d":"0.00"},{"v":0,"d":"0.00"}]
[{"$nulls":6},"3-wheeler",{"v":0,"d":"0.00"},{"v":0,"d":"0.00"},{"v":0,"d":"0.00"},{"v":0,"d":"0.00"},{"v":0,"d":"0.00"},{"v":0,"d":"0.00"},{"v":0,"d":"0.00"},{"v":0,"d":"0.00"},{"v":0,"d":"0.00"},{"v":0,"d":"0.00"},{"v":0,"d":"0.00"},{"v":0,"d":"0.00"},{"v":0,"d":"0.00"},{"v":0,"d":"0.00"},{"v":0,"d":"0.00"},{"v":0,"d":"0.00"},{"v":0,"d":"0.00"},{"v":0,"d":"0.00"},{"v":0,"d":"0.00"},{"v":0,"d":"0.00"}]
[{"$nulls":6},"Bus",{"v":0,"d":"0.00"},{"v":0,"d":"0.00"},{"v":0,"d":"0.00"},{"v":0,"d":"0.00"},{"v":0,"d":"0.00"},{"v":0,"d":"0.00"},{"v":0,"d":"0.00"},{"v":0,"d":"0.00"},{"v":0,"d":"0.00"},{"v":0,"d":"0.00"},{"v":0,"d":"0.00"},{"v":0,"d":"0.00"},{"v":0,"d":"0.00"},{"v":0,"d":"0.00"},{"v":0,"d":"0.00"},{"v":0,"d":"0.00"},{"v":0,"d":"0.00"},{"v":0,"d":"0.00"},{"v":0,"d":"0.00"},{"v":0,"d":"0.00"}]
[{"$nulls":6},"Mini-bus",{"v":0,"d":"0.00"},{"v":0,"d":"0.00"},{"v":0,"d":"0.00"},{"v":0,"d":"0.00"},{"v":0,"d":"0.00"},{"v":0,"d":"0.00"},{"v":0,"d":"0.00"},{"v":0,"d":"0.00"},{"v":0,"d":"0.00"},{"v":0,"d":"0.00"},{"v":0,"d":"0.00"},{"v":0,"d":"0.00"},{"v":0,"d":"0.00"},{"v":0,"d":"0.00"},{"v":0,"d":"0.00"},{"v":0,"d":"0.00"},{"v":0,"d":"0.00"},{"v":0,"d":"0.00"},{"v":0,"d":"0.00"},{"v":0,"d":"0.00"}]
[{"$nulls":6},"",{"v":0,"d":"0.00"},{"v":0,"d":"0.00"},{"v":0,"d":"0.00"},{"v":0,"d":"0.00"},{"v":0,"d":"0.00"},{"v":0,"d":"0.00"},{"v":0,"d":"0.00"},{"v":0,"d":"0.00"},{"v":0,"d":"0.00"},{"v":0,"d":"0.00"},{"v":0,"d":"0.00"},{"v":0,"d":"0.00"},{"v":0,"d":"0.00"},{"v":0,"d":"0.00"},{"v":0,"d":"0.00"},{"v":0,"d":"0.00"},{"v":0,"d":"0.00"},{"v":0,"d":"0.00"},{"v":0,"d":"0.00"},{"v":0,"d":"0.00"}]
[{"$nulls":6},"",{"v":0,"d":"0.00"},{"v":0,"d":"0.00"},{"v":0,"d":"0.00"},{"v":0,"d":"0.00"},{"v":0,"d":"0.00"},{"v":0,"d":"0.00"},{"v":0,"d":"0.00"},{"v":0,"d":"0.00"},{"v":0,"d":"0.00"},{"v":0,"d":"0.00"},{"v":0,"d":"0.00"},{"v":0,"d":"0.00"},{"v":0,"d":"0.00"},{"v":0,"d":"0.00"},{"v":0,"d":"0.00"},{"v":0,"d":"0.00"},{"v":0,"d":"0.00"},{"v":0,"d":"0.00"},{"v":0,"d":"0.00"},{"v":0,"d":"0.00"}]
[{"$nulls":6},"BRT",{"v":0,"d":"0.00"},{"v":0,"d":"0.00"},{"v":0,"d":"0.00"},{"v":0,"d":"0.00"},{"v":0,"d":"0.00"},{"v":0,"d":"0.00"},{"v":0,"d":"0.00"},{"v":0,"d":"0.00"},{"v":0,"d":"0.00"},{"v":0,"d":"0.00"},{"v":0,"d":"0.00"},{"v":0,"d":"0.00"},{"v":0,"d":"0.00"},{"v":0,"d":"0.00"},{"v":0,"d":"0.00"},{"v":0,"d":"0.00"},{"v":0,"d":"0.00"},{"v":0,"d":"0.00"},{"v":0,"d":"0.00"},{"v":0,"d":"0.00"}]
[]
[{"$nulls":6},"Adjusted PM Emission Factor",null,{"$f":"I1078","v":"CNG"}]
[{"$nulls":7},{"$f":"H1079","v":0},{"$f":"I1079","v":1},2,3,4,5,6,7,8,9,10,11,12,13,14,15,16,17,18,19]
[{"$nulls":5},"NO BRT",{"$f":"G1080","v":"Cars"},{"$f":"H1080+(H1080*H801)","v":0},{"$f":"I1080+(I1080*I801)","v":0},0,0,0,0,0,0,0,0,0,0,0,0,0,0,0,0,0,0]
[{"$nulls":6},{"$f":"G1081","v":"2-wheeler"},{"$f":"H1081+(H1081*H802)","v":0},0,0,0,0,0,0,0,0,0,0,0,0,0,0,0,0,0,0,0]
[{"$nulls":6},"Taxi",0,0,0,0,0,0,0,0,0,0,0,0,0,0,0,0,0,0,0,0]
[{"$nulls":6},"",0,0,0,0,0,0,0,0,0,0,0,0,0,0,0,0,0,0,0,0]
[{"$nulls":6},"",0,0,0,0,0,0,0,0,0,0,0,0,0,0,0,0,0,0,0,0]
[{"$nulls":6},"3-wheeler",0,0,0,0,0,0,0,0,0,0,0,0,0,0,0,0,0,0,0,0]
[{"$nulls":6},"Bus",0,0,0,0,0,0,0,0,0,0,0,0,0,0,0,0,0,0,0,0]
[{"$nulls":6},"Mini-bus",0,0,0,0,0,0,0,0,0,0,0,0,0,0,0,0,0,0,0,0]
[{"$nulls":6},"",0,0,0,0,0,0,0,0,0,0,0,0,0,0,0,0,0,0,0,0]
[{"$nulls":6},"",0,0,0,0,0,0,0,0,0,0,0,0,0,0,0,0,0,0,0,0]
[{"$nulls":6},"BRT",0,0,0,0,0,0,0,0,0,0,0,0,0,0,0,0,0,0,0,0]
[]
[]
[{"$nulls":6},"PM Emission Factor Electric"]
[]
[{"$nulls":10},"g/vkm",{"$nulls":3},"1st",null,"2nd"]
[{"$nulls":10},{"$f":"K1063","v":0},{"$f":"L1063","v":9},{"$f":"M1063","v":19},null,"intercept","slope","intercept","slope",null,{"$f":"K1110","v":0},{"$f":"L1110","v":9},{"$f":"M1110","v":19},null,"1st","2nd"]
[{"$nulls":5},"NO BRT",{"$f":"G1094","v":"Cars"},{"$nulls":3},{"$f":"'IF Factors'!AI91","v":0},{"$f":"OFFSET('IF Factors'!AI91,0,5)","v":0},{"$f":"OFFSET('IF Factors'!AI91,0,10)","v":0},null,{"$f":"INTERCEPT(K1111:L1111,$K$7:$L$7)","v":0},{"$f":"SLOPE(K1111:L1111,$K$7:$L$7)","v":0},{"$f":"INTERCEPT(L1111:M1111,$L$7:$M$7)","v":0},{"$f":"SLOPE(L1111:M1111,$L$7:$M$7)","v":0},null,{"$f":"IF(K1111<>0,0,1)","v":1},{"$f":"IF(L1111<>0,0,1)","v":1},{"$f":"IF(M1111<>0,0,1)","v":1},null,{"$f":"IF(T1111+U1111=1,1,0)","v":0},{"$f":"IF(U1111+V1111=1,1,0)","v":0}]
[{"$nulls":6},{"$f":"G1095","v":"2-wheeler"},{"$nulls":3},{"$f":"'IF Factors'!AI92","v":0},{"$f":"OFFSET('IF Factors'!AI92,0,5)","v":0},{"$f":"OFFSET('IF Factors'!AI92,0,10)","v":0},null,{"$f":"INTERCEPT(K1112:L1112,$K$7:$L$7)","v":0},{"$f":"SLOPE(K1112:L1112,$K$7:$L$7)","v":0},{"$f":"INTERCEPT(L1112:M1112,$L$7:$M$7)","v":0},{"$f":"SLOPE(L1112:M1112,$L$7:$M$7)","v":0},null,{"$f":"IF(K1112<>0,0,1)","v":1},1,1,null,{"$f":"IF(T1112+U1112=1,1,0)","v":0},0]
[{"$nulls":6},"Taxi",{"$nulls":3},{"$f":"'IF Factors'!AI93","v":0},{"$f":"OFFSET('IF Factors'!AI93,0,5)","v":0},{"$f":"OFFSET('IF Factors'!AI93,0,10)","v":0},null,0,0,0,0,null,1,1,1,null,0,0]
[{"$nulls":6},"",{"$nulls":3},{"$f":"'IF Factors'!AI94","v":0},{"$f":"OFFSET('IF Factors'!AI94,0,5)","v":0},{"$f":"OFFSET('IF Factors'!AI94,0,10)","v":0},null,0,0,0,0,null,1,1,1,null,0,0]
[{"$nulls":6},"",{"$nulls":3},{"$f":"'IF Factors'!AI95","v":0},{"$f":"OFFSET('IF Factors'!AI95,0,5)","v":0},{"$f":"OFFSET('IF Factors'!AI95,0,10)","v":0},null,0,0,0,0,null,1,1,1,null,0,0]
[{"$nulls":6},"3-wheeler",{"$nulls":3},{"$f":"'IF Factors'!AI96","v":0},{"$f":"OFFSET('IF Factors'!AI96,0,5)","v":0},{"$f":"OFFSET('IF Factors'!AI96,0,10)","v":0},null,0,0,0,0,null,1,1,1,null,0,0]
[{"$nulls":6},"Bus",{"$nulls":3},{"$f":"'IF Factors'!AI97","v":0},{"$f":"OFFSET('IF Factors'!AI97,0,5)","v":0},{"$f":"OFFSET('IF Factors'!AI97,0,10)","v":0},null,0,0,0,0,null,1,1,1,null,0,0]
[{"$nulls":6},"Mini-bus",{"$nulls":3},{"$f":"'IF Factors'!AI98","v":0},{"$f":"OFFSET('IF Factors'!AI98,0,5)","v":0},{"$f":"OFFSET('IF Factors'!AI98,0,10)","v":0},null,0,0,0,0,null,1,1,1,null,0,0]
[{"$nulls":6},"",{"$nulls":3},{"$f":"'IF Factors'!AI99","v":0},{"$f":"OFFSET('IF Factors'!AI99,0,5)","v":0},{"$f":"OFFSET('IF Factors'!AI99,0,10)","v":0},null,0,0,0,0,null,1,1,1,null,0,0]
[{"$nulls":6},"",{"$nulls":3},{"$f":"'IF Factors'!AI100","v":0},{"$f":"OFFSET('IF Factors'!AI100,0,5)","v":0},{"$f":"OFFSET('IF Factors'!AI100,0,10)","v":0},null,0,0,0,0,null,1,1,1,null,0,0]
[{"$nulls":6},"BRT",{"$nulls":3},{"$f":"'IF Factors'!AI101","v":0},{"$f":"OFFSET('IF Factors'!AI101,0,5)","v":0},{"$f":"OFFSET('IF Factors'!AI101,0,10)","v":0},null,0,0,0,0,null,1,1,1,null,0,0]
[]
[]
[]
[{"$nulls":6},"PM Emission Factor",null,"Electric"]
[{"$nulls":7},{"$f":"H1093","v":0},{"$f":"I1093","v":1},2,3,4,5,6,7,8,9,10,11,12,13,14,15,16,17,18,19]
[{"$nulls":5},"NO BRT",{"$f":"G1094","v":"Cars"},{"$f":"K1111","v":{"v":0,"d":"0.00"}},{"$f":"(I$23*$P1111)+$O1111","v":{"v":0,"d":"0.00"}},{"$f":"(J$23*$P1111)+$O1111","v":{"v":0,"d":"0.00"}},{"v":0,"d":"0.00"},{"v":0,"d":"0.00"},{"v":0,"d":"0.00"},{"v":0,"d":"0.00"},{"v":0,"d":"0.00"},{"v":0,"d":"0.00"},{"$f":"L1111","v":{"v":0,"d":"0.00"}},{"$f":"(R$23*$R1111)+$Q1111","v":{"v":0,"d":"0.00"}},{"$f":"(S$23*$R1111)+$Q1111","v":{"v":0,"d":"0.00"}},{"v":0,"d":"0.00"},{"v":0,"d":"0.00"},{"v":0,"d":"0.00"},{"v":0,"d":"0.00"},{"v":0,"d":"0.00"},{"v":0,"d":"0.00"},{"v":0,"d":"0.00"},{"$f":"M1111","v":{"v":0,"d":"0.00"}}]
[{"$nulls":6},{"$f":"G1095","v":"2-wheeler"},{"$f":"K1112","v":{"v":0,"d":"0.00"}},{"$f":"(I$23*$P1112)+$O1112","v":{"v":0,"d":"0.00"}},{"v":0,"d":"0.00"},{"v":0,"d":"0.00"},{"v":0,"d":"0.00"},{"v":0,"d":"0.00"},{"v":0,"d":"0.00"},{"v":0,"d":"0.00"},{"v":0,"d":"0.00"},{"$f":"L1112","v":{"v":0,"d":"0.00"}},{"$f":"(R$23*$R1112)+$Q1112","v":{"v":0,"d":"0.00"}},{"v":0,"d":"0.00"},{"v":0,"d":"0.00"},{"v":0,"d":"0.00"},{"v":0,"d":"0.00"},{"v":0,"d":"0.00"},{"v":0,"d":"0.00"},{"v":0,"d":"0.00"},{"v":0,"d":"0.00"},{"$f":"M1112","v":{"v":0,"d":"0.00"}}]
[{"$nulls":6},"Taxi",{"v":0,"d":"0.00"},{"v":0,"d":"0.00"},{"v":0,"d":"0.00"},{"v":0,"d":"0.00"},{"v":0,"d":"0.00"},{"v":0,"d":"0.00"},{"v":0,"d":"0.00"},{"v":0,"d":"0.00"},{"v":0,"d":"0.00"},{"v":0,"d":"0.00"},{"v":0,"d":"0.00"},{"v":0,"d":"0.00"},{"v":0,"d":"0.00"},{"v":0,"d":"0.00"},{"v":0,"d":"0.00"},{"v":0,"d":"0.00"},{"v":0,"d":"0.00"},{"v":0,"d":"0.00"},{"v":0,"d":"0.00"},{"v":0,"d":"0.00"}]
[{"$nulls":6},"",{"v":0,"d":"0.00"},{"v":0,"d":"0.00"},{"v":0,"d":"0.00"},{"v":0,"d":"0.00"},{"v":0,"d":"0.00"},{"v":0,"d":"0.00"},{"v":0,"d":"0.00"},{"v":0,"d":"0.00"},{"v":0,"d":"0.00"},{"v":0,"d":"0.00"},{"v":0,"d":"0.00"},{"v":0,"d":"0.00"},{"v":0,"d":"0.00"},{"v":0,"d":"0.00"},{"v":0,"d":"0.00"},{"v":0,"d":"0.00"},{"v":0,"d":"0.00"},{"v":0,"d":"0.00"},{"v":0,"d":"0.00"},{"v":0,"d":"0.00"}]
[{"$nulls":6},"",{"v":0,"d":"0.00"},{"v":0,"d":"0.00"},{"v":0,"d":"0.00"},{"v":0,"d":"0.00"},{"v":0,"d":"0.00"},{"v":0,"d":"0.00"},{"v":0,"d":"0.00"},{"v":0,"d":"0.00"},{"v":0,"d":"0.00"},{"v":0,"d":"0.00"},{"v":0,"d":"0.00"},{"v":0,"d":"0.00"},{"v":0,"d":"0.00"},{"v":0,"d":"0.00"},{"v":0,"d":"0.00"},{"v":0,"d":"0.00"},{"v":0,"d":"0.00"},{"v":0,"d":"0.00"},{"v":0,"d":"0.00"},{"v":0,"d":"0.00"}]
[{"$nulls":6},"3-wheeler",{"v":0,"d":"0.00"},{"v":0,"d":"0.00"},{"v":0,"d":"0.00"},{"v":0,"d":"0.00"},{"v":0,"d":"0.00"},{"v":0,"d":"0.00"},{"v":0,"d":"0.00"},{"v":0,"d":"0.00"},{"v":0,"d":"0.00"},{"v":0,"d":"0.00"},{"v":0,"d":"0.00"},{"v":0,"d":"0.00"},{"v":0,"d":"0.00"},{"v":0,"d":"0.00"},{"v":0,"d":"0.00"},{"v":0,"d":"0.00"},{"v":0,"d":"0.00"},{"v":0,"d":"0.00"},{"v":0,"d":"0.00"},{"v":0,"d":"0.00"}]
[{"$nulls":6},"Bus",{"v":0,"d":"0.00"},{"v":0,"d":"0.00"},{"v":0,"d":"0.00"},{"v":0,"d":"0.00"},{"v":0,"d":"0.00"},{"v":0,"d":"0.00"},{"v":0,"d":"0.00"},{"v":0,"d":"0.00"},{"v":0,"d":"0.00"},{"v":0,"d":"0.00"},{"v":0,"d":"0.00"},{"v":0,"d":"0.00"},{"v":0,"d":"0.00"},{"v":0,"d":"0.00"},{"v":0,"d":"0.00"},{"v":0,"d":"0.00"},{"v":0,"d":"0.00"},{"v":0,"d":"0.00"},{"v":0,"d":"0.00"},{"v":0,"d":"0.00"}]
[{"$nulls":6},"Mini-bus",{"v":0,"d":"0.00"},{"v":0,"d":"0.00"},{"v":0,"d":"0.00"},{"v":0,"d":"0.00"},{"v":0,"d":"0.00"},{"v":0,"d":"0.00"},{"v":0,"d":"0.00"},{"v":0,"d":"0.00"},{"v":0,"d":"0.00"},{"v":0,"d":"0.00"},{"v":0,"d":"0.00"},{"v":0,"d":"0.00"},{"v":0,"d":"0.00"},{"v":0,"d":"0.00"},{"v":0,"d":"0.00"},{"v":0,"d":"0.00"},{"v":0,"d":"0.00"},{"v":0,"d":"0.00"},{"v":0,"d":"0.00"},{"v":0,"d":"0.00"}]
[{"$nulls":6},"",{"v":0,"d":"0.00"},{"v":0,"d":"0.00"},{"v":0,"d":"0.00"},{"v":0,"d":"0.00"},{"v":0,"d":"0.00"},{"v":0,"d":"0.00"},{"v":0,"d":"0.00"},{"v":0,"d":"0.00"},{"v":0,"d":"0.00"},{"v":0,"d":"0.00"},{"v":0,"d":"0.00"},{"v":0,"d":"0.00"},{"v":0,"d":"0.00"},{"v":0,"d":"0.00"},{"v":0,"d":"0.00"},{"v":0,"d":"0.00"},{"v":0,"d":"0.00"},{"v":0,"d":"0.00"},{"v":0,"d":"0.00"},{"v":0,"d":"0.00"}]
[{"$nulls":6},"",{"v":0,"d":"0.00"},{"v":0,"d":"0.00"},{"v":0,"d":"0.00"},{"v":0,"d":"0.00"},{"v":0,"d":"0.00"},{"v":0,"d":"0.00"},{"v":0,"d":"0.00"},{"v":0,"d":"0.00"},{"v":0,"d":"0.00"},{"v":0,"d":"0.00"},{"v":0,"d":"0.00"},{"v":0,"d":"0.00"},{"v":0,"d":"0.00"},{"v":0,"d":"0.00"},{"v":0,"d":"0.00"},{"v":0,"d":"0.00"},{"v":0,"d":"0.00"},{"v":0,"d":"0.00"},{"v":0,"d":"0.00"},{"v":0,"d":"0.00"}]
[{"$nulls":6},"BRT",{"v":0,"d":"0.00"},{"v":0,"d":"0.00"},{"v":0,"d":"0.00"},{"v":0,"d":"0.00"},{"v":0,"d":"0.00"},{"v":0,"d":"0.00"},{"v":0,"d":"0.00"},{"v":0,"d":"0.00"},{"v":0,"d":"0.00"},{"v":0,"d":"0.00"},{"v":0,"d":"0.00"},{"v":0,"d":"0.00"},{"v":0,"d":"0.00"},{"v":0,"d":"0.00"},{"v":0,"d":"0.00"},{"v":0,"d":"0.00"},{"v":0,"d":"0.00"},{"v":0,"d":"0.00"},{"v":0,"d":"0.00"},{"v":0,"d":"0.00"}]
[]
[{"$nulls":6},"Adjusted PM Emission Factor",null,{"$f":"I1125","v":"Electric"}]
[{"$nulls":7},{"$f":"H1126","v":0},{"$f":"I1126","v":1},2,3,4,5,6,7,8,9,10,11,12,13,14,15,16,17,18,19]
[{"$nulls":5},"NO BRT",{"$f":"G1127","v":"Cars"},{"$f":"H1127+(H1127*H801)","v":0},{"$f":"I1127+(I1127*I801)","v":0},0,0,0,0,0,0,0,0,0,0,0,0,0,0,0,0,0,0]
[{"$nulls":6},{"$f":"G1128","v":"2-wheeler"},{"$f":"H1128+(H1128*H802)","v":0},0,0,0,0,0,0,0,0,0,0,0,0,0,0,0,0,0,0,0]
[{"$nulls":6},"Taxi",0,0,0,0,0,0,0,0,0,0,0,0,0,0,0,0,0,0,0,0]
[{"$nulls":6},"",0,0,0,0,0,0,0,0,0,0,0,0,0,0,0,0,0,0,0,0]
[{"$nulls":6},"",0,0,0,0,0,0,0,0,0,0,0,0,0,0,0,0,0,0,0,0]
[{"$nulls":6},"3-wheeler",0,0,0,0,0,0,0,0,0,0,0,0,0,0,0,0,0,0,0,0]
[{"$nulls":6},"Bus",0,0,0,0,0,0,0,0,0,0,0,0,0,0,0,0,0,0,0,0]
[{"$nulls":6},"Mini-bus",0,0,0,0,0,0,0,0,0,0,0,0,0,0,0,0,0,0,0,0]
[{"$nulls":6},"",0,0,0,0,0,0,0,0,0,0,0,0,0,0,0,0,0,0,0,0]
[{"$nulls":6},"",0,0,0,0,0,0,0,0,0,0,0,0,0,0,0,0,0,0,0,0]
[{"$nulls":6},"BRT",0,0,0,0,0,0,0,0,0,0,0,0,0,0,0,0,0,0,0,0]
[]
[]
[{"$nulls":6},{"$f":"IF('IF Factors'!J8=\"\",\"not included\",CONCATENATE(\"PM Emission Factor \",'IF Factors'!J8))","v":"PM Emission Factor Ethanol"}]
[]
[{"$nulls":10},"g/vkm",{"$nulls":3},"1st",null,"2nd"]
[{"$nulls":10},{"$f":"K1110","v":0},{"$f":"L1110","v":9},{"$f":"M1110","v":19},null,"intercept","slope","intercept","slope",null,{"$f":"K1157","v":0},{"$f":"L1157","v":9},{"$f":"M1157","v":19},null,"1st","2nd"]
[{"$nulls":5},"NO BRT",{"$f":"G1141","v":"Cars"},{"$nulls":3},{"$f":"'IF Factors'!AI106","v":0},{"$f":"OFFSET('IF Factors'!AI106,0,5)","v":0},{"$f":"OFFSET('IF Factors'!AI106,0,10)","v":0},null,{"$f":"INTERCEPT(K1158:L1158,$K$7:$L$7)","v":0},{"$f":"SLOPE(K1158:L1158,$K$7:$L$7)","v":0},{"$f":"INTERCEPT(L1158:M1158,$L$7:$M$7)","v":0},{"$f":"SLOPE(L1158:M1158,$L$7:$M$7)","v":0},null,{"$f":"IF(K1158<>0,0,1)","v":1},{"$f":"IF(L1158<>0,0,1)","v":1},{"$f":"IF(M1158<>0,0,1)","v":1},null,{"$f":"IF(T1158+U1158=1,1,0)","v":0},{"$f":"IF(U1158+V1158=1,1,0)","v":0}]
[{"$nulls":6},{"$f":"G1142","v":"2-wheeler"},{"$nulls":3},{"$f":"'IF Factors'!AI107","v":0},{"$f":"OFFSET('IF Factors'!AI107,0,5)","v":0},{"$f":"OFFSET('IF Factors'!AI107,0,10)","v":0},null,{"$f":"INTERCEPT(K1159:L1159,$K$7:$L$7)","v":0},{"$f":"SLOPE(K1159:L1159,$K$7:$L$7)","v":0},{"$f":"INTERCEPT(L1159:M1159,$L$7:$M$7)","v":0},{"$f":"SLOPE(L1159:M1159,$L$7:$M$7)","v":0},null,{"$f":"IF(K1159<>0,0,1)","v":1},1,1,null,{"$f":"IF(T1159+U1159=1,1,0)","v":0},0]
[{"$nulls":6},"Taxi",{"$nulls":3},{"$f":"'IF Factors'!AI108","v":0},{"$f":"OFFSET('IF Factors'!AI108,0,5)","v":0},{"$f":"OFFSET('IF Factors'!AI108,0,10)","v":0},null,0,0,0,0,null,1,1,1,null,0,0]
[{"$nulls":6},"",{"$nulls":3},{"$f":"'IF Factors'!AI109","v":0},{"$f":"OFFSET('IF Factors'!AI109,0,5)","v":0},{"$f":"OFFSET('IF Factors'!AI109,0,10)","v":0},null,0,0,0,0,null,1,1,1,null,0,0]
[{"$nulls":6},"",{"$nulls":3},{"$f":"'IF Factors'!AI110","v":0},{"$f":"OFFSET('IF Factors'!AI110,0,5)","v":0},{"$f":"OFFSET('IF Factors'!AI110,0,10)","v":0},null,0,0,0,0,null,1,1,1,null,0,0]
[{"$nulls":6},"3-wheeler",{"$nulls":3},{"$f":"'IF Factors'!AI111","v":0},{"$f":"OFFSET('IF Factors'!AI111,0,5)","v":0},{"$f":"OFFSET('IF Factors'!AI111,0,10)","v":0},null,0,0,0,0,null,1,1,1,null,0,0]
[{"$nulls":6},"Bus",{"$nulls":3},{"$f":"'IF Factors'!AI112","v":0},{"$f":"OFFSET('IF Factors'!AI112,0,5)","v":0},{"$f":"OFFSET('IF Factors'!AI112,0,10)","v":0},null,0,0,0,0,null,1,1,1,null,0,0]
[{"$nulls":6},"Mini-bus",{"$nulls":3},{"$f":"'IF Factors'!AI113","v":0},{"$f":"OFFSET('IF Factors'!AI113,0,5)","v":0},{"$f":"OFFSET('IF Factors'!AI113,0,10)","v":0},null,0,0,0,0,null,1,1,1,null,0,0]
[{"$nulls":6},"",{"$nulls":3},{"$f":"'IF Factors'!AI114","v":0},{"$f":"OFFSET('IF Factors'!AI114,0,5)","v":0},{"$f":"OFFSET('IF Factors'!AI114,0,10)","v":0},null,0,0,0,0,null,1,1,1,null,0,0]
[{"$nulls":6},"",{"$nulls":3},{"$f":"'IF Factors'!AI115","v":0},{"$f":"OFFSET('IF Factors'!AI115,0,5)","v":0},{"$f":"OFFSET('IF Factors'!AI115,0,10)","v":0},null,0,0,0,0,null,1,1,1,null,0,0]
[{"$nulls":6},"BRT",{"$nulls":3},{"$f":"'IF Factors'!AI116","v":0},{"$f":"OFFSET('IF Factors'!AI116,0,5)","v":0},{"$f":"OFFSET('IF Factors'!AI116,0,10)","v":0},null,0,0,0,0,null,1,1,1,null,0,0]
[]
[]
[]
[{"$nulls":6},"PM Emission Factor"]
[{"$nulls":7},{"$f":"H1140","v":0},{"$f":"I1140","v":1},2,3,4,5,6,7,8,9,10,11,12,13,14,15,16,17,18,19]
[{"$nulls":5},"NO BRT",{"$f":"G1141","v":"Cars"},{"$f":"K1158","v":{"v":0,"d":"0.00"}},{"$f":"(I$23*$P1158)+$O1158","v":{"v":0,"d":"0.00"}},{"$f":"(J$23*$P1158)+$O1158","v":{"v":0,"d":"0.00"}},{"v":0,"d":"0.00"},{"v":0,"d":"0.00"},{"v":0,"d":"0.00"},{"v":0,"d":"0.00"},{"v":0,"d":"0.00"},{"v":0,"d":"0.00"},{"$f":"L1158","v":{"v":0,"d":"0.00"}},{"$f":"(R$23*$R1158)+$Q1158","v":{"v":0,"d":"0.00"}},{"$f":"(S$23*$R1158)+$Q1158","v":{"v":0,"d":"0.00"}},{"v":0,"d":"0.00"},{"v":0,"d":"0.00"},{"v":0,"d":"0.00"},{"v":0,"d":"0.00"},{"v":0,"d":"0.00"},{"v":0,"d":"0.00"},{"v":0,"d":"0.00"},{"$f":"M1158","v":{"v":0,"d":"0.00"}}]
[{"$nulls":6},{"$f":"G1142","v":"2-wheeler"},{"$f":"K1159","v":{"v":0,"d":"0.00"}},{"$f":"(I$23*$P1159)+$O1159","v":{"v":0,"d":"0.00"}},{"v":0,"d":"0.00"},{"v":0,"d":"0.00"},{"v":0,"d":"0.00"},{"v":0,"d":"0.00"},{"v":0,"d":"0.00"},{"v":0,"d":"0.00"},{"v":0,"d":"0.00"},{"$f":"L1159","v":{"v":0,"d":"0.00"}},{"$f":"(R$23*$R1159)+$Q1159","v":{"v":0,"d":"0.00"}},{"v":0,"d":"0.00"},{"v":0,"d":"0.00"},{"v":0,"d":"0.00"},{"v":0,"d":"0.00"},{"v":0,"d":"0.00"},{"v":0,"d":"0.00"},{"v":0,"d":"0.00"},{"v":0,"d":"0.00"},{"$f":"M1159","v":{"v":0,"d":"0.00"}}]
[{"$nulls":6},"Taxi",{"v":0,"d":"0.00"},{"v":0,"d":"0.00"},{"v":0,"d":"0.00"},{"v":0,"d":"0.00"},{"v":0,"d":"0.00"},{"v":0,"d":"0.00"},{"v":0,"d":"0.00"},{"v":0,"d":"0.00"},{"v":0,"d":"0.00"},{"v":0,"d":"0.00"},{"v":0,"d":"0.00"},{"v":0,"d":"0.00"},{"v":0,"d":"0.00"},{"v":0,"d":"0.00"},{"v":0,"d":"0.00"},{"v":0,"d":"0.00"},{"v":0,"d":"0.00"},{"v":0,"d":"0.00"},{"v":0,"d":"0.00"},{"v":0,"d":"0.00"}]
[{"$nulls":6},"",{"v":0,"d":"0.00"},{"v":0,"d":"0.00"},{"v":0,"d":"0.00"},{"v":0,"d":"0.00"},{"v":0,"d":"0.00"},{"v":0,"d":"0.00"},{"v":0,"d":"0.00"},{"v":0,"d":"0.00"},{"v":0,"d":"0.00"},{"v":0,"d":"0.00"},{"v":0,"d":"0.00"},{"v":0,"d":"0.00"},{"v":0,"d":"0.00"},{"v":0,"d":"0.00"},{"v":0,"d":"0.00"},{"v":0,"d":"0.00"},{"v":0,"d":"0.00"},{"v":0,"d":"0.00"},{"v":0,"d":"0.00"},{"v":0,"d":"0.00"}]
[{"$nulls":6},"",{"v":0,"d":"0.00"},{"v":0,"d":"0.00"},{"v":0,"d":"0.00"},{"v":0,"d":"0.00"},{"v":0,"d":"0.00"},{"v":0,"d":"0.00"},{"v":0,"d":"0.00"},{"v":0,"d":"0.00"},{"v":0,"d":"0.00"},{"v":0,"d":"0.00"},{"v":0,"d":"0.00"},{"v":0,"d":"0.00"},{"v":0,"d":"0.00"},{"v":0,"d":"0.00"},{"v":0,"d":"0.00"},{"v":0,"d":"0.00"},{"v":0,"d":"0.00"},{"v":0,"d":"0.00"},{"v":0,"d":"0.00"},{"v":0,"d":"0.00"}]
[{"$nulls":6},"3-wheeler",{"v":0,"d":"0.00"},{"v":0,"d":"0.00"},{"v":0,"d":"0.00"},{"v":0,"d":"0.00"},{"v":0,"d":"0.00"},{"v":0,"d":"0.00"},{"v":0,"d":"0.00"},{"v":0,"d":"0.00"},{"v":0,"d":"0.00"},{"v":0,"d":"0.00"},{"v":0,"d":"0.00"},{"v":0,"d":"0.00"},{"v":0,"d":"0.00"},{"v":0,"d":"0.00"},{"v":0,"d":"0.00"},{"v":0,"d":"0.00"},{"v":0,"d":"0.00"},{"v":0,"d":"0.00"},{"v":0,"d":"0.00"},{"v":0,"d":"0.00"}]
[{"$nulls":6},"Bus",{"v":0,"d":"0.00"},{"v":0,"d":"0.00"},{"v":0,"d":"0.00"},{"v":0,"d":"0.00"},{"v":0,"d":"0.00"},{"v":0,"d":"0.00"},{"v":0,"d":"0.00"},{"v":0,"d":"0.00"},{"v":0,"d":"0.00"},{"v":0,"d":"0.00"},{"v":0,"d":"0.00"},{"v":0,"d":"0.00"},{"v":0,"d":"0.00"},{"v":0,"d":"0.00"},{"v":0,"d":"0.00"},{"v":0,"d":"0.00"},{"v":0,"d":"0.00"},{"v":0,"d":"0.00"},{"v":0,"d":"0.00"},{"v":0,"d":"0.00"}]
[{"$nulls":6},"Mini-bus",{"v":0,"d":"0.00"},{"v":0,"d":"0.00"},{"v":0,"d":"0.00"},{"v":0,"d":"0.00"},{"v":0,"d":"0.00"},{"v":0,"d":"0.00"},{"v":0,"d":"0.00"},{"v":0,"d":"0.00"},{"v":0,"d":"0.00"},{"v":0,"d":"0.00"},{"v":0,"d":"0.00"},{"v":0,"d":"0.00"},{"v":0,"d":"0.00"},{"v":0,"d":"0.00"},{"v":0,"d":"0.00"},{"v":0,"d":"0.00"},{"v":0,"d":"0.00"},{"v":0,"d":"0.00"},{"v":0,"d":"0.00"},{"v":0,"d":"0.00"}]
[{"$nulls":6},"",{"v":0,"d":"0.00"},{"v":0,"d":"0.00"},{"v":0,"d":"0.00"},{"v":0,"d":"0.00"},{"v":0,"d":"0.00"},{"v":0,"d":"0.00"},{"v":0,"d":"0.00"},{"v":0,"d":"0.00"},{"v":0,"d":"0.00"},{"v":0,"d":"0.00"},{"v":0,"d":"0.00"},{"v":0,"d":"0.00"},{"v":0,"d":"0.00"},{"v":0,"d":"0.00"},{"v":0,"d":"0.00"},{"v":0,"d":"0.00"},{"v":0,"d":"0.00"},{"v":0,"d":"0.00"},{"v":0,"d":"0.00"},{"v":0,"d":"0.00"}]
[{"$nulls":6},"",{"v":0,"d":"0.00"},{"v":0,"d":"0.00"},{"v":0,"d":"0.00"},{"v":0,"d":"0.00"},{"v":0,"d":"0.00"},{"v":0,"d":"0.00"},{"v":0,"d":"0.00"},{"v":0,"d":"0.00"},{"v":0,"d":"0.00"},{"v":0,"d":"0.00"},{"v":0,"d":"0.00"},{"v":0,"d":"0.00"},{"v":0,"d":"0.00"},{"v":0,"d":"0.00"},{"v":0,"d":"0.00"},{"v":0,"d":"0.00"},{"v":0,"d":"0.00"},{"v":0,"d":"0.00"},{"v":0,"d":"0.00"},{"v":0,"d":"0.00"}]
[{"$nulls":6},"BRT",{"v":0,"d":"0.00"},{"v":0,"d":"0.00"},{"v":0,"d":"0.00"},{"v":0,"d":"0.00"},{"v":0,"d":"0.00"},{"v":0,"d":"0.00"},{"v":0,"d":"0.00"},{"v":0,"d":"0.00"},{"v":0,"d":"0.00"},{"v":0,"d":"0.00"},{"v":0,"d":"0.00"},{"v":0,"d":"0.00"},{"v":0,"d":"0.00"},{"v":0,"d":"0.00"},{"v":0,"d":"0.00"},{"v":0,"d":"0.00"},{"v":0,"d":"0.00"},{"v":0,"d":"0.00"},{"v":0,"d":"0.00"},{"v":0,"d":"0.00"}]
[]
[{"$nulls":6},"Adjusted PM Emission Factor",null,{"$f":"I1172","v":0}]
[{"$nulls":7},{"$f":"H1173","v":0},{"$f":"I1173","v":1},2,3,4,5,6,7,8,9,10,11,12,13,14,15,16,17,18,19]
[{"$nulls":5},"NO BRT",{"$f":"G1174","v":"Cars"},{"$f":"H1174+(H1174*H801)","v":0},{"$f":"I1174+(I1174*I801)","v":0},0,0,0,0,0,0,0,0,0,0,0,0,0,0,0,0,0,0]
[{"$nulls":6},{"$f":"G1175","v":"2-wheeler"},{"$f":"H1175+(H1175*H802)","v":0},0,0,0,0,0,0,0,0,0,0,0,0,0,0,0,0,0,0,0]
[{"$nulls":6},"Taxi",0,0,0,0,0,0,0,0,0,0,0,0,0,0,0,0,0,0,0,0]
[{"$nulls":6},"",0,0,0,0,0,0,0,0,0,0,0,0,0,0,0,0,0,0,0,0]
[{"$nulls":6},"",0,0,0,0,0,0,0,0,0,0,0,0,0,0,0,0,0,0,0,0]
[{"$nulls":6},"3-wheeler",0,0,0,0,0,0,0,0,0,0,0,0,0,0,0,0,0,0,0,0]
[{"$nulls":6},"Bus",0,0,0,0,0,0,0,0,0,0,0,0,0,0,0,0,0,0,0,0]
[{"$nulls":6},"Mini-bus",0,0,0,0,0,0,0,0,0,0,0,0,0,0,0,0,0,0,0,0]
[{"$nulls":6},"",0,0,0,0,0,0,0,0,0,0,0,0,0,0,0,0,0,0,0,0]
[{"$nulls":6},"",0,0,0,0,0,0,0,0,0,0,0,0,0,0,0,0,0,0,0,0]
[{"$nulls":6},"BRT",0,0,0,0,0,0,0,0,0,0,0,0,0,0,0,0,0,0,0,0]
[]
[]
[{"$nulls":6},"NOx Emission Factor Gasoline"]
[]
[{"$nulls":10},"g/vkm",{"$nulls":3},"1st",null,"2nd"]
[{"$nulls":7},{"$f":"H7","v":0},{"$f":"I7","v":0},null,{"$f":"K7","v":0},9,19,null,"intercept","slope","intercept","slope",null,{"$f":"K1204","v":0},{"$f":"L1204","v":9},{"$f":"M1204","v":19},null,"1st","2nd"]
[{"$nulls":5},"NO BRT",{"$f":"G1188","v":"Cars"},{"$f":"IF(ISERROR(((L1205/K1205)^(1/9))-1),0,((L1205/K1205)^(1/9))-1)","v":{"v":0,"d":"0%"}},{"$f":"IF(ISERROR(((M1205/L1205)^(1/10))-1),0,((M1205/L1205)^(1/10))-1)","v":0},null,{"$f":"'IF Factors'!BJ31","v":0},{"$f":"OFFSET('IF Factors'!BJ31,0,5)","v":0},{"$f":"OFFSET('IF Factors'!BJ31,0,10)","v":0},null,{"$f":"INTERCEPT(K1205:L1205,$K$7:$L$7)","v":0},{"$f":"SLOPE(K1205:L1205,$K$7:$L$7)","v":0},{"$f":"INTERCEPT(L1205:M1205,$L$7:$M$7)","v":0},{"$f":"SLOPE(L1205:M1205,$L$7:$M$7)","v":0},null,{"$f":"IF(K1205<>0,0,1)","v":1},{"$f":"IF(L1205<>0,0,1)","v":1},{"$f":"IF(M1205<>0,0,1)","v":1},null,{"$f":"IF(T1205+U1205=1,1,0)","v":0},{"$f":"IF(U1205+V1205=1,1,0)","v":0}]
[{"$nulls":6},{"$f":"G1189","v":"2-wheeler"},{"v":0,"d":"0%"},0,null,{"$f":"'IF Factors'!BJ32","v":0},{"$f":"OFFSET('IF Factors'!BJ32,0,5)","v":0},{"$f":"OFFSET('IF Factors'!BJ32,0,10)","v":0},null,{"$f":"INTERCEPT(K1206:L1206,$K$7:$L$7)","v":0},{"$f":"SLOPE(K1206:L1206,$K$7:$L$7)","v":0},{"$f":"INTERCEPT(L1206:M1206,$L$7:$M$7)","v":0},{"$f":"SLOPE(L1206:M1206,$L$7:$M$7)","v":0},null,{"$f":"IF(K1206<>0,0,1)","v":1},1,1,null,{"$f":"IF(T1206+U1206=1,1,0)","v":0},0]
[{"$nulls":6},"Taxi",{"v":0,"d":"0%"},0,null,{"$f":"'IF Factors'!BJ33","v":0},{"$f":"OFFSET('IF Factors'!BJ33,0,5)","v":0},{"$f":"OFFSET('IF Factors'!BJ33,0,10)","v":0},null,0,0,0,0,null,1,1,1,null,0,0]
[{"$nulls":6},"",{"v":0,"d":"0%"},0,null,{"$f":"'IF Factors'!BJ34","v":0},{"$f":"OFFSET('IF Factors'!BJ34,0,5)","v":0},{"$f":"OFFSET('IF Factors'!BJ34,0,10)","v":0},null,0,0,0,0,null,1,1,1,null,0,0]
[{"$nulls":6},"",{"v":0,"d":"0%"},0,null,{"$f":"'IF Factors'!BJ35","v":0},{"$f":"OFFSET('IF Factors'!BJ35,0,5)","v":0},{"$f":"OFFSET('IF Factors'!BJ35,0,10)","v":0},null,0,0,0,0,null,1,1,1,null,0,0]
[{"$nulls":6},"3-wheeler",{"v":0,"d":"0%"},0,null,{"$f":"'IF Factors'!BJ36","v":0},{"$f":"OFFSET('IF Factors'!BJ36,0,5)","v":0},{"$f":"OFFSET('IF Factors'!BJ36,0,10)","v":0},null,0,0,0,0,null,1,1,1,null,0,0]
[{"$nulls":6},"Bus",{"v":0,"d":"0%"},0,null,{"$f":"'IF Factors'!BJ37","v":0},{"$f":"OFFSET('IF Factors'!BJ37,0,5)","v":0},{"$f":"OFFSET('IF Factors'!BJ37,0,10)","v":0},null,0,0,0,0,null,1,1,1,null,0,0]
[{"$nulls":6},"Mini-bus",{"v":0,"d":"0%"},0,null,{"$f":"'IF Factors'!BJ38","v":0},{"$f":"OFFSET('IF Factors'!BJ38,0,5)","v":0},{"$f":"OFFSET('IF Factors'!BJ38,0,10)","v":0},null,0,0,0,0,null,1,1,1,null,0,0]
[{"$nulls":6},"",{"v":0,"d":"0%"},0,null,{"$f":"'IF Factors'!BJ39","v":0},{"$f":"OFFSET('IF Factors'!BJ39,0,5)","v":0},{"$f":"OFFSET('IF Factors'!BJ39,0,10)","v":0},null,0,0,0,0,null,1,1,1,null,0,0]
[{"$nulls":6},"",{"v":0,"d":"0%"},0,null,{"$f":"'IF Factors'!BJ40","v":0},{"$f":"OFFSET('IF Factors'!BJ40,0,5)","v":0},{"$f":"OFFSET('IF Factors'!BJ40,0,10)","v":0},null,0,0,0,0,null,1,1,1,null,0,0]
[{"$nulls":6},"BRT",{"v":0,"d":"0%"},0,null,{"$f":"'IF Factors'!BJ41","v":0},{"$f":"OFFSET('IF Factors'!BJ41,0,5)","v":0},{"$f":"OFFSET('IF Factors'!BJ41,0,10)","v":0},null,0,0,0,0,null,1,1,1,null,0,0]
[]
[]
[]
[{"$nulls":6},"NOx Emission Factor",null,"Gasoline"]
[{"$nulls":7},{"$f":"H1187","v":0},{"$f":"I1187","v":1},2,3,4,5,6,7,8,9,10,11,12,13,14,15,16,17,18,19]
[{"$nulls":5},"NO BRT",{"$f":"G1188","v":"Cars"},{"$f":"K1205","v":{"v":0,"d":"0.00"}},{"$f":"(I$23*$P1205)+$O1205","v":{"v":0,"d":"0.00"}},{"$f":"(J$23*$P1205)+$O1205","v":{"v":0,"d":"0.00"}},{"v":0,"d":"0.00"},{"v":0,"d":"0.00"},{"v":0,"d":"0.00"},{"v":0,"d":"0.00"},{"v":0,"d":"0.00"},{"v":0,"d":"0.00"},{"$f":"L1205","v":{"v":0,"d":"0.00"}},{"$f":"(R$23*$R1205)+$Q1205","v":{"v":0,"d":"0.00"}},{"$f":"(S$23*$R1205)+$Q1205","v":{"v":0,"d":"0.00"}},{"v":0,"d":"0.00"},{"v":0,"d":"0.00"},{"v":0,"d":"0.00"},{"v":0,"d":"0.00"},{"v":0,"d":"0.00"},{"v":0,"d":"0.00"},{"v":0,"d":"0.00"},{"$f":"M1205","v":{"v":0,"d":"0.00"}}]
[{"$nulls":6},{"$f":"G1189","v":"2-wheeler"},{"$f":"K1206","v":{"v":0,"d":"0.00"}},{"$f":"(I$23*$P1206)+$O1206","v":{"v":0,"d":"0.00"}},{"v":0,"d":"0.00"},{"v":0,"d":"0.00"},{"v":0,"d":"0.00"},{"v":0,"d":"0.00"},{"v":0,"d":"0.00"},{"v":0,"d":"0.00"},{"v":0,"d":"0.00"},{"$f":"L1206","v":{"v":0,"d":"0.00"}},{"$f":"(R$23*$R1206)+$Q1206","v":{"v":0,"d":"0.00"}},{"v":0,"d":"0.00"},{"v":0,"d":"0.00"},{"v":0,"d":"0.00"},{"v":0,"d":"0.00"},{"v":0,"d":"0.00"},{"v":0,"d":"0.00"},{"v":0,"d":"0.00"},{"v":0,"d":"0.00"},{"$f":"M1206","v":{"v":0,"d":"0.00"}}]
[{"$nulls":6},"Taxi",{"v":0,"d":"0.00"},{"v":0,"d":"0.00"},{"v":0,"d":"0.00"},{"v":0,"d":"0.00"},{"v":0,"d":"0.00"},{"v":0,"d":"0.00"},{"v":0,"d":"0.00"},{"v":0,"d":"0.00"},{"v":0,"d":"0.00"},{"v":0,"d":"0.00"},{"v":0,"d":"0.00"},{"v":0,"d":"0.00"},{"v":0,"d":"0.00"},{"v":0,"d":"0.00"},{"v":0,"d":"0.00"},{"v":0,"d":"0.00"},{"v":0,"d":"0.00"},{"v":0,"d":"0.00"},{"v":0,"d":"0.00"},{"v":0,"d":"0.00"}]
[{"$nulls":6},"",{"v":0,"d":"0.00"},{"v":0,"d":"0.00"},{"v":0,"d":"0.00"},{"v":0,"d":"0.00"},{"v":0,"d":"0.00"},{"v":0,"d":"0.00"},{"v":0,"d":"0.00"},{"v":0,"d":"0.00"},{"v":0,"d":"0.00"},{"v":0,"d":"0.00"},{"v":0,"d":"0.00"},{"v":0,"d":"0.00"},{"v":0,"d":"0.00"},{"v":0,"d":"0.00"},{"v":0,"d":"0.00"},{"v":0,"d":"0.00"},{"v":0,"d":"0.00"},{"v":0,"d":"0.00"},{"v":0,"d":"0.00"},{"v":0,"d":"0.00"}]
[{"$nulls":6},"",{"v":0,"d":"0.00"},{"v":0,"d":"0.00"},{"v":0,"d":"0.00"},{"v":0,"d":"0.00"},{"v":0,"d":"0.00"},{"v":0,"d":"0.00"},{"v":0,"d":"0.00"},{"v":0,"d":"0.00"},{"v":0,"d":"0.00"},{"v":0,"d":"0.00"},{"v":0,"d":"0.00"},{"v":0,"d":"0.00"},{"v":0,"d":"0.00"},{"v":0,"d":"0.00"},{"v":0,"d":"0.00"},{"v":0,"d":"0.00"},{"v":0,"d":"0.00"},{"v":0,"d":"0.00"},{"v":0,"d":"0.00"},{"v":0,"d":"0.00"}]
[{"$nulls":6},"3-wheeler",{"v":0,"d":"0.00"},{"v":0,"d":"0.00"},{"v":0,"d":"0.00"},{"v":0,"d":"0.00"},{"v":0,"d":"0.00"},{"v":0,"d":"0.00"},{"v":0,"d":"0.00"},{"v":0,"d":"0.00"},{"v":0,"d":"0.00"},{"v":0,"d":"0.00"},{"v":0,"d":"0.00"},{"v":0,"d":"0.00"},{"v":0,"d":"0.00"},{"v":0,"d":"0.00"},{"v":0,"d":"0.00"},{"v":0,"d":"0.00"},{"v":0,"d":"0.00"},{"v":0,"d":"0.00"},{"v":0,"d":"0.00"},{"v":0,"d":"0.00"}]
[{"$nulls":6},"Bus",{"v":0,"d":"0.00"},{"v":0,"d":"0.00"},{"v":0,"d":"0.00"},{"v":0,"d":"0.00"},{"v":0,"d":"0.00"},{"v":0,"d":"0.00"},{"v":0,"d":"0.00"},{"v":0,"d":"0.00"},{"v":0,"d":"0.00"},{"v":0,"d":"0.00"},{"v":0,"d":"0.00"},{"v":0,"d":"0.00"},{"v":0,"d":"0.00"},{"v":0,"d":"0.00"},{"v":0,"d":"0.00"},{"v":0,"d":"0.00"},{"v":0,"d":"0.00"},{"v":0,"d":"0.00"},{"v":0,"d":"0.00"},{"v":0,"d":"0.00"}]
[{"$nulls":6},"Mini-bus",{"v":0,"d":"0.00"},{"v":0,"d":"0.00"},{"v":0,"d":"0.00"},{"v":0,"d":"0.00"},{"v":0,"d":"0.00"},{"v":0,"d":"0.00"},{"v":0,"d":"0.00"},{"v":0,"d":"0.00"},{"v":0,"d":"0.00"},{"v":0,"d":"0.00"},{"v":0,"d":"0.00"},{"v":0,"d":"0.00"},{"v":0,"d":"0.00"},{"v":0,"d":"0.00"},{"v":0,"d":"0.00"},{"v":0,"d":"0.00"},{"v":0,"d":"0.00"},{"v":0,"d":"0.00"},{"v":0,"d":"0.00"},{"v":0,"d":"0.00"}]
[{"$nulls":6},"",{"v":0,"d":"0.00"},{"v":0,"d":"0.00"},{"v":0,"d":"0.00"},{"v":0,"d":"0.00"},{"v":0,"d":"0.00"},{"v":0,"d":"0.00"},{"v":0,"d":"0.00"},{"v":0,"d":"0.00"},{"v":0,"d":"0.00"},{"v":0,"d":"0.00"},{"v":0,"d":"0.00"},{"v":0,"d":"0.00"},{"v":0,"d":"0.00"},{"v":0,"d":"0.00"},{"v":0,"d":"0.00"},{"v":0,"d":"0.00"},{"v":0,"d":"0.00"},{"v":0,"d":"0.00"},{"v":0,"d":"0.00"},{"v":0,"d":"0.00"}]
[{"$nulls":6},"",{"v":0,"d":"0.00"},{"v":0,"d":"0.00"},{"v":0,"d":"0.00"},{"v":0,"d":"0.00"},{"v":0,"d":"0.00"},{"v":0,"d":"0.00"},{"v":0,"d":"0.00"},{"v":0,"d":"0.00"},{"v":0,"d":"0.00"},{"v":0,"d":"0.00"},{"v":0,"d":"0.00"},{"v":0,"d":"0.00"},{"v":0,"d":"0.00"},{"v":0,"d":"0.00"},{"v":0,"d":"0.00"},{"v":0,"d":"0.00"},{"v":0,"d":"0.00"},{"v":0,"d":"0.00"},{"v":0,"d":"0.00"},{"v":0,"d":"0.00"}]
[{"$nulls":6},"BRT",{"v":0,"d":"0.00"},{"v":0,"d":"0.00"},{"v":0,"d":"0.00"},{"v":0,"d":"0.00"},{"v":0,"d":"0.00"},{"v":0,"d":"0.00"},{"v":0,"d":"0.00"},{"v":0,"d":"0.00"},{"v":0,"d":"0.00"},{"v":0,"d":"0.00"},{"v":0,"d":"0.00"},{"v":0,"d":"0.00"},{"v":0,"d":"0.00"},{"v":0,"d":"0.00"},{"v":0,"d":"0.00"},{"v":0,"d":"0.00"},{"v":0,"d":"0.00"},{"v":0,"d":"0.00"},{"v":0,"d":"0.00"},{"v":0,"d":"0.00"}]
[]
[{"$nulls":6},"Adjusted NOx Emission Factor",null,{"$f":"I1219","v":"Gasoline"}]
[{"$nulls":7},{"$f":"H1220","v":0},{"$f":"I1220","v":1},2,3,4,5,6,7,8,9,10,11,12,13,14,15,16,17,18,19]
[{"$nulls":5},"NO BRT",{"$f":"G1221","v":"Cars"},{"$f":"H1221+(H1221*H815)","v":0},{"$f":"I1221+(I1221*I815)","v":0},0,0,0,0,0,0,0,0,0,0,0,0,0,0,0,0,0,0]
[{"$nulls":6},{"$f":"G1222","v":"2-wheeler"},{"$f":"H1222+(H1222*H816)","v":0},0,0,0,0,0,0,0,0,0,0,0,0,0,0,0,0,0,0,0]
[{"$nulls":6},"Taxi",0,0,0,0,0,0,0,0,0,0,0,0,0,0,0,0,0,0,0,0]
[{"$nulls":6},"",0,0,0,0,0,0,0,0,0,0,0,0,0,0,0,0,0,0,0,0]
[{"$nulls":6},"",0,0,0,0,0,0,0,0,0,0,0,0,0,0,0,0,0,0,0,0]
[{"$nulls":6},"3-wheeler",0,0,0,0,0,0,0,0,0,0,0,0,0,0,0,0,0,0,0,0]
[{"$nulls":6},"Bus",0,0,0,0,0,0,0,0,0,0,0,0,0,0,0,0,0,0,0,0]
[{"$nulls":6},"Mini-bus",0,0,0,0,0,0,0,0,0,0,0,0,0,0,0,0,0,0,0,0]
[{"$nulls":6},"",0,0,0,0,0,0,0,0,0,0,0,0,0,0,0,0,0,0,0,0]
[{"$nulls":6},"",0,0,0,0,0,0,0,0,0,0,0,0,0,0,0,0,0,0,0,0]
[{"$nulls":6},"BRT",0,0,0,0,0,0,0,0,0,0,0,0,0,0,0,0,0,0,0,0]
[]
[]
[{"$nulls":6},"NOx Emission Factor Diesel"]
[]
[{"$nulls":10},"g/vkm",{"$nulls":3},"1st",null,"2nd"]
[{"$nulls":7},{"$f":"H1204","v":0},{"$f":"I1204","v":0},null,{"$f":"K1204","v":0},{"$f":"L1204","v":9},{"$f":"M1204","v":19},null,"intercept","slope","intercept","slope",null,{"$f":"K1251","v":0},{"$f":"L1251","v":9},{"$f":"M1251","v":19},null,"1st","2nd"]
[{"$nulls":5},"NO BRT",{"$f":"G1235","v":"Cars"},{"$f":"IF(ISERROR(((L1252/K1252)^(1/9))-1),0,((L1252/K1252)^(1/9))-1)","v":{"v":0,"d":"0%"}},{"$f":"IF(ISERROR(((M1252/L1252)^(1/10))-1),0,((M1252/L1252)^(1/10))-1)","v":0},null,{"$f":"'IF Factors'!BJ46","v":0},{"$f":"OFFSET('IF Factors'!BJ46,0,5)","v":0},{"$f":"OFFSET('IF Factors'!BJ46,0,10)","v":0},null,{"$f":"INTERCEPT(K1252:L1252,$K$7:$L$7)","v":0},{"$f":"SLOPE(K1252:L1252,$K$7:$L$7)","v":0},{"$f":"INTERCEPT(L1252:M1252,$L$7:$M$7)","v":0},{"$f":"SLOPE(L1252:M1252,$L$7:$M$7)","v":0},null,{"$f":"IF(K1252<>0,0,1)","v":1},{"$f":"IF(L1252<>0,0,1)","v":1},{"$f":"IF(M1252<>0,0,1)","v":1},null,{"$f":"IF(T1252+U1252=1,1,0)","v":0},{"$f":"IF(U1252+V1252=1,1,0)","v":0}]
[{"$nulls":6},{"$f":"G1236","v":"2-wheeler"},{"v":0,"d":"0%"},0,null,{"$f":"'IF Factors'!BJ47","v":0},{"$f":"OFFSET('IF Factors'!BJ47,0,5)","v":0},{"$f":"OFFSET('IF Factors'!BJ47,0,10)","v":0},null,{"$f":"INTERCEPT(K1253:L1253,$K$7:$L$7)","v":0},{"$f":"SLOPE(K1253:L1253,$K$7:$L$7)","v":0},{"$f":"INTERCEPT(L1253:M1253,$L$7:$M$7)","v":0},{"$f":"SLOPE(L1253:M1253,$L$7:$M$7)","v":0},null,{"$f":"IF(K1253<>0,0,1)","v":1},1,1,null,{"$f":"IF(T1253+U1253=1,1,0)","v":0},0]
[{"$nulls":6},"Taxi",{"v":0,"d":"0%"},0,null,{"$f":"'IF Factors'!BJ48","v":0},{"$f":"OFFSET('IF Factors'!BJ48,0,5)","v":0},{"$f":"OFFSET('IF Factors'!BJ48,0,10)","v":0},null,0,0,0,0,null,1,1,1,null,0,0]
[{"$nulls":6},"",{"v":0,"d":"0%"},0,null,{"$f":"'IF Factors'!BJ49","v":0},{"$f":"OFFSET('IF Factors'!BJ49,0,5)","v":0},{"$f":"OFFSET('IF Factors'!BJ49,0,10)","v":0},null,0,0,0,0,null,1,1,1,null,0,0]
[{"$nulls":6},"",{"v":0,"d":"0%"},0,null,{"$f":"'IF Factors'!BJ50","v":0},{"$f":"OFFSET('IF Factors'!BJ50,0,5)","v":0},{"$f":"OFFSET('IF Factors'!BJ50,0,10)","v":0},null,0,0,0,0,null,1,1,1,null,0,0]
[{"$nulls":6},"3-wheeler",{"v":0,"d":"0%"},0,null,{"$f":"'IF Factors'!BJ51","v":0},{"$f":"OFFSET('IF Factors'!BJ51,0,5)","v":0},{"$f":"OFFSET('IF Factors'!BJ51,0,10)","v":0},null,0,0,0,0,null,1,1,1,null,0,0]
[{"$nulls":6},"Bus",{"v":0,"d":"0%"},0,null,{"$f":"'IF Factors'!BJ52","v":0},{"$f":"OFFSET('IF Factors'!BJ52,0,5)","v":0},{"$f":"OFFSET('IF Factors'!BJ52,0,10)","v":0},null,0,0,0,0,null,1,1,1,null,0,0]
[{"$nulls":6},"Mini-bus",{"v":0,"d":"0%"},0,null,{"$f":"'IF Factors'!BJ53","v":0},{"$f":"OFFSET('IF Factors'!BJ53,0,5)","v":0},{"$f":"OFFSET('IF Factors'!BJ53,0,10)","v":0},null,0,0,0,0,null,1,1,1,null,0,0]
[{"$nulls":6},"",{"v":0,"d":"0%"},0,null,{"$f":"'IF Factors'!BJ54","v":0},{"$f":"OFFSET('IF Factors'!BJ54,0,5)","v":0},{"$f":"OFFSET('IF Factors'!BJ54,0,10)","v":0},null,0,0,0,0,null,1,1,1,null,0,0]
[{"$nulls":6},"",{"v":0,"d":"0%"},0,null,{"$f":"'IF Factors'!BJ55","v":0},{"$f":"OFFSET('IF Factors'!BJ55,0,5)","v":0},{"$f":"OFFSET('IF Factors'!BJ55,0,10)","v":0},null,0,0,0,0,null,1,1,1,null,0,0]
[{"$nulls":6},"BRT",{"v":0,"d":"0%"},0,null,{"$f":"'IF Factors'!BJ56","v":0},{"$f":"OFFSET('IF Factors'!BJ56,0,5)","v":0},{"$f":"OFFSET('IF Factors'!BJ56,0,10)","v":0},null,0,0,0,0,null,1,1,1,null,0,0]
[]
[]
[]
[{"$nulls":6},"NOx Emission Factor",null,"Diesel"]
[{"$nulls":7},{"$f":"H1234","v":0},{"$f":"I1234","v":1},2,3,4,5,6,7,8,9,10,11,12,13,14,15,16,17,18,19]
[{"$nulls":5},"NO BRT",{"$f":"G1235","v":"Cars"},{"$f":"K1252","v":{"v":0,"d":"0.00"}},{"$f":"(I$23*$P1252)+$O1252","v":{"v":0,"d":"0.00"}},{"$f":"(J$23*$P1252)+$O1252","v":{"v":0,"d":"0.00"}},{"v":0,"d":"0.00"},{"v":0,"d":"0.00"},{"v":0,"d":"0.00"},{"v":0,"d":"0.00"},{"v":0,"d":"0.00"},{"v":0,"d":"0.00"},{"$f":"L1252","v":{"v":0,"d":"0.00"}},{"$f":"(R$23*$R1252)+$Q1252","v":{"v":0,"d":"0.00"}},{"$f":"(S$23*$R1252)+$Q1252","v":{"v":0,"d":"0.00"}},{"v":0,"d":"0.00"},{"v":0,"d":"0.00"},{"v":0,"d":"0.00"},{"v":0,"d":"0.00"},{"v":0,"d":"0.00"},{"v":0,"d":"0.00"},{"v":0,"d":"0.00"},{"$f":"M1252","v":{"v":0,"d":"0.00"}}]
[{"$nulls":6},{"$f":"G1236","v":"2-wheeler"},{"$f":"K1253","v":{"v":0,"d":"0.00"}},{"$f":"(I$23*$P1253)+$O1253","v":{"v":0,"d":"0.00"}},{"v":0,"d":"0.00"},{"v":0,"d":"0.00"},{"v":0,"d":"0.00"},{"v":0,"d":"0.00"},{"v":0,"d":"0.00"},{"v":0,"d":"0.00"},{"v":0,"d":"0.00"},{"$f":"L1253","v":{"v":0,"d":"0.00"}},{"$f":"(R$23*$R1253)+$Q1253","v":{"v":0,"d":"0.00"}},{"v":0,"d":"0.00"},{"v":0,"d":"0.00"},{"v":0,"d":"0.00"},{"v":0,"d":"0.00"},{"v":0,"d":"0.00"},{"v":0,"d":"0.00"},{"v":0,"d":"0.00"},{"v":0,"d":"0.00"},{"$f":"M1253","v":{"v":0,"d":"0.00"}}]
[{"$nulls":6},"Taxi",{"v":0,"d":"0.00"},{"v":0,"d":"0.00"},{"v":0,"d":"0.00"},{"v":0,"d":"0.00"},{"v":0,"d":"0.00"},{"v":0,"d":"0.00"},{"v":0,"d":"0.00"},{"v":0,"d":"0.00"},{"v":0,"d":"0.00"},{"v":0,"d":"0.00"},{"v":0,"d":"0.00"},{"v":0,"d":"0.00"},{"v":0,"d":"0.00"},{"v":0,"d":"0.00"},{"v":0,"d":"0.00"},{"v":0,"d":"0.00"},{"v":0,"d":"0.00"},{"v":0,"d":"0.00"},{"v":0,"d":"0.00"},{"v":0,"d":"0.00"}]
[{"$nulls":6},"",{"v":0,"d":"0.00"},{"v":0,"d":"0.00"},{"v":0,"d":"0.00"},{"v":0,"d":"0.00"},{"v":0,"d":"0.00"},{"v":0,"d":"0.00"},{"v":0,"d":"0.00"},{"v":0,"d":"0.00"},{"v":0,"d":"0.00"},{"v":0,"d":"0.00"},{"v":0,"d":"0.00"},{"v":0,"d":"0.00"},{"v":0,"d":"0.00"},{"v":0,"d":"0.00"},{"v":0,"d":"0.00"},{"v":0,"d":"0.00"},{"v":0,"d":"0.00"},{"v":0,"d":"0.00"},{"v":0,"d":"0.00"},{"v":0,"d":"0.00"}]
[{"$nulls":6},"",{"v":0,"d":"0.00"},{"v":0,"d":"0.00"},{"v":0,"d":"0.00"},{"v":0,"d":"0.00"},{"v":0,"d":"0.00"},{"v":0,"d":"0.00"},{"v":0,"d":"0.00"},{"v":0,"d":"0.00"},{"v":0,"d":"0.00"},{"v":0,"d":"0.00"},{"v":0,"d":"0.00"},{"v":0,"d":"0.00"},{"v":0,"d":"0.00"},{"v":0,"d":"0.00"},{"v":0,"d":"0.00"},{"v":0,"d":"0.00"},{"v":0,"d":"0.00"},{"v":0,"d":"0.00"},{"v":0,"d":"0.00"},{"v":0,"d":"0.00"}]
[{"$nulls":6},"3-wheeler",{"v":0,"d":"0.00"},{"v":0,"d":"0.00"},{"v":0,"d":"0.00"},{"v":0,"d":"0.00"},{"v":0,"d":"0.00"},{"v":0,"d":"0.00"},{"v":0,"d":"0.00"},{"v":0,"d":"0.00"},{"v":0,"d":"0.00"},{"v":0,"d":"0.00"},{"v":0,"d":"0.00"},{"v":0,"d":"0.00"},{"v":0,"d":"0.00"},{"v":0,"d":"0.00"},{"v":0,"d":"0.00"},{"v":0,"d":"0.00"},{"v":0,"d":"0.00"},{"v":0,"d":"0.00"},{"v":0,"d":"0.00"},{"v":0,"d":"0.00"}]
[{"$nulls":6},"Bus",{"v":0,"d":"0.00"},{"v":0,"d":"0.00"},{"v":0,"d":"0.00"},{"v":0,"d":"0.00"},{"v":0,"d":"0.00"},{"v":0,"d":"0.00"},{"v":0,"d":"0.00"},{"v":0,"d":"0.00"},{"v":0,"d":"0.00"},{"v":0,"d":"0.00"},{"v":0,"d":"0.00"},{"v":0,"d":"0.00"},{"v":0,"d":"0.00"},{"v":0,"d":"0.00"},{"v":0,"d":"0.00"},{"v":0,"d":"0.00"},{"v":0,"d":"0.00"},{"v":0,"d":"0.00"},{"v":0,"d":"0.00"},{"v":0,"d":"0.00"}]
[{"$nulls":6},"Mini-bus",{"v":0,"d":"0.00"},{"v":0,"d":"0.00"},{"v":0,"d":"0.00"},{"v":0,"d":"0.00"},{"v":0,"d":"0.00"},{"v":0,"d":"0.00"},{"v":0,"d":"0.00"},{"v":0,"d":"0.00"},{"v":0,"d":"0.00"},{"v":0,"d":"0.00"},{"v":0,"d":"0.00"},{"v":0,"d":"0.00"},{"v":0,"d":"0.00"},{"v":0,"d":"0.00"},{"v":0,"d":"0.00"},{"v":0,"d":"0.00"},{"v":0,"d":"0.00"},{"v":0,"d":"0.00"},{"v":0,"d":"0.00"},{"v":0,"d":"0.00"}]
[{"$nulls":6},"",{"v":0,"d":"0.00"},{"v":0,"d":"0.00"},{"v":0,"d":"0.00"},{"v":0,"d":"0.00"},{"v":0,"d":"0.00"},{"v":0,"d":"0.00"},{"v":0,"d":"0.00"},{"v":0,"d":"0.00"},{"v":0,"d":"0.00"},{"v":0,"d":"0.00"},{"v":0,"d":"0.00"},{"v":0,"d":"0.00"},{"v":0,"d":"0.00"},{"v":0,"d":"0.00"},{"v":0,"d":"0.00"},{"v":0,"d":"0.00"},{"v":0,"d":"0.00"},{"v":0,"d":"0.00"},{"v":0,"d":"0.00"},{"v":0,"d":"0.00"}]
[{"$nulls":6},"",{"v":0,"d":"0.00"},{"v":0,"d":"0.00"},{"v":0,"d":"0.00"},{"v":0,"d":"0.00"},{"v":0,"d":"0.00"},{"v":0,"d":"0.00"},{"v":0,"d":"0.00"},{"v":0,"d":"0.00"},{"v":0,"d":"0.00"},{"v":0,"d":"0.00"},{"v":0,"d":"0.00"},{"v":0,"d":"0.00"},{"v":0,"d":"0.00"},{"v":0,"d":"0.00"},{"v":0,"d":"0.00"},{"v":0,"d":"0.00"},{"v":0,"d":"0.00"},{"v":0,"d":"0.00"},{"v":0,"d":"0.00"},{"v":0,"d":"0.00"}]
[{"$nulls":6},"BRT",{"v":0,"d":"0.00"},{"v":0,"d":"0.00"},{"v":0,"d":"0.00"},{"v":0,"d":"0.00"},{"v":0,"d":"0.00"},{"v":0,"d":"0.00"},{"v":0,"d":"0.00"},{"v":0,"d":"0.00"},{"v":0,"d":"0.00"},{"v":0,"d":"0.00"},{"v":0,"d":"0.00"},{"v":0,"d":"0.00"},{"v":0,"d":"0.00"},{"v":0,"d":"0.00"},{"v":0,"d":"0.00"},{"v":0,"d":"0.00"},{"v":0,"d":"0.00"},{"v":0,"d":"0.00"},{"v":0,"d":"0.00"},{"v":0,"d":"0.00"}]
[]
[{"$nulls":6},"Adjusted NOx Emission Factor",null,{"$f":"I1266","v":"Diesel"}]
[{"$nulls":7},{"$f":"H1267","v":0},{"$f":"I1267","v":1},2,3,4,5,6,7,8,9,10,11,12,13,14,15,16,17,18,19]
[{"$nulls":5},"NO BRT",{"$f":"G1268","v":"Cars"},{"$f":"H1268+(H1268*H815)","v":0},{"$f":"I1268+(I1268*I815)","v":0},0,0,0,0,0,0,0,0,0,0,0,0,0,0,0,0,0,0]
[{"$nulls":6},{"$f":"G1269","v":"2-wheeler"},{"$f":"H1269+(H1269*H816)","v":0},0,0,0,0,0,0,0,0,0,0,0,0,0,0,0,0,0,0,0]
[{"$nulls":6},"Taxi",0,0,0,0,0,0,0,0,0,0,0,0,0,0,0,0,0,0,0,0]
[{"$nulls":6},"",0,0,0,0,0,0,0,0,0,0,0,0,0,0,0,0,0,0,0,0]
[{"$nulls":6},"",0,0,0,0,0,0,0,0,0,0,0,0,0,0,0,0,0,0,0,0]
[{"$nulls":6},"3-wheeler",0,0,0,0,0,0,0,0,0,0,0,0,0,0,0,0,0,0,0,0]
[{"$nulls":6},"Bus",0,0,0,0,0,0,0,0,0,0,0,0,0,0,0,0,0,0,0,0]
[{"$nulls":6},"Mini-bus",0,0,0,0,0,0,0,0,0,0,0,0,0,0,0,0,0,0,0,0]
[{"$nulls":6},"",0,0,0,0,0,0,0,0,0,0,0,0,0,0,0,0,0,0,0,0]
[{"$nulls":6},"",0,0,0,0,0,0,0,0,0,0,0,0,0,0,0,0,0,0,0,0]
[{"$nulls":6},"BRT",0,0,0,0,0,0,0,0,0,0,0,0,0,0,0,0,0,0,0,0]
[]
[]
[{"$nulls":6},"NOx Emission Factor LPG"]
[]
[{"$nulls":10},"g/vkm",{"$nulls":3},"1st",null,"2nd"]
[{"$nulls":7},{"$f":"H1251","v":0},{"$f":"I1251","v":0},null,{"$f":"K1251","v":0},{"$f":"L1251","v":9},{"$f":"M1251","v":19},null,"intercept","slope","intercept","slope",null,{"$f":"K1298","v":0},{"$f":"L1298","v":9},{"$f":"M1298","v":19},null,"1st","2nd"]
[{"$nulls":5},"NO BRT",{"$f":"G1282","v":"Cars"},{"$f":"IF(ISERROR(((L1299/K1299)^(1/9))-1),0,((L1299/K1299)^(1/9))-1)","v":{"v":0,"d":"0%"}},{"$f":"IF(ISERROR(((M1299/L1299)^(1/10))-1),0,((M1299/L1299)^(1/10))-1)","v":0},null,{"$f":"'IF Factors'!BJ61","v":0},{"$f":"OFFSET('IF Factors'!BJ61,0,5)","v":0},{"$f":"OFFSET('IF Factors'!BJ61,0,10)","v":0},null,{"$f":"INTERCEPT(K1299:L1299,$K$7:$L$7)","v":0},{"$f":"SLOPE(K1299:L1299,$K$7:$L$7)","v":0},{"$f":"INTERCEPT(L1299:M1299,$L$7:$M$7)","v":0},{"$f":"SLOPE(L1299:M1299,$L$7:$M$7)","v":0},null,{"$f":"IF(K1299<>0,0,1)","v":1},{"$f":"IF(L1299<>0,0,1)","v":1},{"$f":"IF(M1299<>0,0,1)","v":1},null,{"$f":"IF(T1299+U1299=1,1,0)","v":0},{"$f":"IF(U1299+V1299=1,1,0)","v":0}]
[{"$nulls":6},{"$f":"G1283","v":"2-wheeler"},{"v":0,"d":"0%"},0,null,{"$f":"'IF Factors'!BJ62","v":0},{"$f":"OFFSET('IF Factors'!BJ62,0,5)","v":0},{"$f":"OFFSET('IF Factors'!BJ62,0,10)","v":0},null,{"$f":"INTERCEPT(K1300:L1300,$K$7:$L$7)","v":0},{"$f":"SLOPE(K1300:L1300,$K$7:$L$7)","v":0},{"$f":"INTERCEPT(L1300:M1300,$L$7:$M$7)","v":0},{"$f":"SLOPE(L1300:M1300,$L$7:$M$7)","v":0},null,{"$f":"IF(K1300<>0,0,1)","v":1},1,1,null,{"$f":"IF(T1300+U1300=1,1,0)","v":0},0]
[{"$nulls":6},"Taxi",{"v":0,"d":"0%"},0,null,{"$f":"'IF Factors'!BJ63","v":0},{"$f":"OFFSET('IF Factors'!BJ63,0,5)","v":0},{"$f":"OFFSET('IF Factors'!BJ63,0,10)","v":0},null,0,0,0,0,null,1,1,1,null,0,0]
[{"$nulls":6},"",{"v":0,"d":"0%"},0,null,{"$f":"'IF Factors'!BJ64","v":0},{"$f":"OFFSET('IF Factors'!BJ64,0,5)","v":0},{"$f":"OFFSET('IF Factors'!BJ64,0,10)","v":0},null,0,0,0,0,null,1,1,1,null,0,0]
[{"$nulls":6},"",{"v":0,"d":"0%"},0,null,{"$f":"'IF Factors'!BJ65","v":0},{"$f":"OFFSET('IF Factors'!BJ65,0,5)","v":0},{"$f":"OFFSET('IF Factors'!BJ65,0,10)","v":0},null,0,0,0,0,null,1,1,1,null,0,0]
[{"$nulls":6},"3-wheeler",{"v":0,"d":"0%"},0,null,{"$f":"'IF Factors'!BJ66","v":0},{"$f":"OFFSET('IF Factors'!BJ66,0,5)","v":0},{"$f":"OFFSET('IF Factors'!BJ66,0,10)","v":0},null,0,0,0,0,null,1,1,1,null,0,0]
[{"$nulls":6},"Bus",{"v":0,"d":"0%"},0,null,{"$f":"'IF Factors'!BJ67","v":0},{"$f":"OFFSET('IF Factors'!BJ67,0,5)","v":0},{"$f":"OFFSET('IF Factors'!BJ67,0,10)","v":0},null,0,0,0,0,null,1,1,1,null,0,0]
[{"$nulls":6},"Mini-bus",{"v":0,"d":"0%"},0,null,{"$f":"'IF Factors'!BJ68","v":0},{"$f":"OFFSET('IF Factors'!BJ68,0,5)","v":0},{"$f":"OFFSET('IF Factors'!BJ68,0,10)","v":0},null,0,0,0,0,null,1,1,1,null,0,0]
[{"$nulls":6},"",{"v":0,"d":"0%"},0,null,{"$f":"'IF Factors'!BJ69","v":0},{"$f":"OFFSET('IF Factors'!BJ69,0,5)","v":0},{"$f":"OFFSET('IF Factors'!BJ69,0,10)","v":0},null,0,0,0,0,null,1,1,1,null,0,0]
[{"$nulls":6},"",{"v":0,"d":"0%"},0,null,{"$f":"'IF Factors'!BJ70","v":0},{"$f":"OFFSET('IF Factors'!BJ70,0,5)","v":0},{"$f":"OFFSET('IF Factors'!BJ70,0,10)","v":0},null,0,0,0,0,null,1,1,1,null,0,0]
[{"$nulls":6},"BRT",{"v":0,"d":"0%"},0,null,{"$f":"'IF Factors'!BJ71","v":0},{"$f":"OFFSET('IF Factors'!BJ71,0,5)","v":0},{"$f":"OFFSET('IF Factors'!BJ71,0,10)","v":0},null,0,0,0,0,null,1,1,1,null,0,0]
[]
[]
[]
[{"$nulls":6},"NOx Emission Factor",null,"LPG"]
[{"$nulls":7},{"$f":"H1281","v":0},{"$f":"I1281","v":1},2,3,4,5,6,7,8,9,10,11,12,13,14,15,16,17,18,19]
[{"$nulls":5},"NO BRT",{"$f":"G1282","v":"Cars"},{"$f":"K1299","v":{"v":0,"d":"0.00"}},{"$f":"(I$23*$P1299)+$O1299","v":{"v":0,"d":"0.00"}},{"$f":"(J$23*$P1299)+$O1299","v":{"v":0,"d":"0.00"}},{"v":0,"d":"0.00"},{"v":0,"d":"0.00"},{"v":0,"d":"0.00"},{"v":0,"d":"0.00"},{"v":0,"d":"0.00"},{"v":0,"d":"0.00"},{"$f":"L1299","v":{"v":0,"d":"0.00"}},{"$f":"(R$23*$R1299)+$Q1299","v":{"v":0,"d":"0.00"}},{"$f":"(S$23*$R1299)+$Q1299","v":{"v":0,"d":"0.00"}},{"v":0,"d":"0.00"},{"v":0,"d":"0.00"},{"v":0,"d":"0.00"},{"v":0,"d":"0.00"},{"v":0,"d":"0.00"},{"v":0,"d":"0.00"},{"v":0,"d":"0.00"},{"$f":"M1299","v":{"v":0,"d":"0.00"}}]
[{"$nulls":6},{"$f":"G1283","v":"2-wheeler"},{"$f":"K1300","v":{"v":0,"d":"0.00"}},{"$f":"(I$23*$P1300)+$O1300","v":{"v":0,"d":"0.00"}},{"v":0,"d":"0.00"},{"v":0,"d":"0.00"},{"v":0,"d":"0.00"},{"v":0,"d":"0.00"},{"v":0,"d":"0.00"},{"v":0,"d":"0.00"},{"v":0,"d":"0.00"},{"$f":"L1300","v":{"v":0,"d":"0.00"}},{"$f":"(R$23*$R1300)+$Q1300","v":{"v":0,"d":"0.00"}},{"v":0,"d":"0.00"},{"v":0,"d":"0.00"},{"v":0,"d":"0.00"},{"v":0,"d":"0.00"},{"v":0,"d":"0.00"},{"v":0,"d":"0.00"},{"v":0,"d":"0.00"},{"v":0,"d":"0.00"},{"$f":"M1300","v":{"v":0,"d":"0.00"}}]
[{"$nulls":6},"Taxi",{"v":0,"d":"0.00"},{"v":0,"d":"0.00"},{"v":0,"d":"0.00"},{"v":0,"d":"0.00"},{"v":0,"d":"0.00"},{"v":0,"d":"0.00"},{"v":0,"d":"0.00"},{"v":0,"d":"0.00"},{"v":0,"d":"0.00"},{"v":0,"d":"0.00"},{"v":0,"d":"0.00"},{"v":0,"d":"0.00"},{"v":0,"d":"0.00"},{"v":0,"d":"0.00"},{"v":0,"d":"0.00"},{"v":0,"d":"0.00"},{"v":0,"d":"0.00"},{"v":0,"d":"0.00"},{"v":0,"d":"0.00"},{"v":0,"d":"0.00"}]
[{"$nulls":6},"",{"v":0,"d":"0.00"},{"v":0,"d":"0.00"},{"v":0,"d":"0.00"},{"v":0,"d":"0.00"},{"v":0,"d":"0.00"},{"v":0,"d":"0.00"},{"v":0,"d":"0.00"},{"v":0,"d":"0.00"},{"v":0,"d":"0.00"},{"v":0,"d":"0.00"},{"v":0,"d":"0.00"},{"v":0,"d":"0.00"},{"v":0,"d":"0.00"},{"v":0,"d":"0.00"},{"v":0,"d":"0.00"},{"v":0,"d":"0.00"},{"v":0,"d":"0.00"},{"v":0,"d":"0.00"},{"v":0,"d":"0.00"},{"v":0,"d":"0.00"}]
[{"$nulls":6},"",{"v":0,"d":"0.00"},{"v":0,"d":"0.00"},{"v":0,"d":"0.00"},{"v":0,"d":"0.00"},{"v":0,"d":"0.00"},{"v":0,"d":"0.00"},{"v":0,"d":"0.00"},{"v":0,"d":"0.00"},{"v":0,"d":"0.00"},{"v":0,"d":"0.00"},{"v":0,"d":"0.00"},{"v":0,"d":"0.00"},{"v":0,"d":"0.00"},{"v":0,"d":"0.00"},{"v":0,"d":"0.00"},{"v":0,"d":"0.00"},{"v":0,"d":"0.00"},{"v":0,"d":"0.00"},{"v":0,"d":"0.00"},{"v":0,"d":"0.00"}]
[{"$nulls":6},"3-wheeler",{"v":0,"d":"0.00"},{"v":0,"d":"0.00"},{"v":0,"d":"0.00"},{"v":0,"d":"0.00"},{"v":0,"d":"0.00"},{"v":0,"d":"0.00"},{"v":0,"d":"0.00"},{"v":0,"d":"0.00"},{"v":0,"d":"0.00"},{"v":0,"d":"0.00"},{"v":0,"d":"0.00"},{"v":0,"d":"0.00"},{"v":0,"d":"0.00"},{"v":0,"d":"0.00"},{"v":0,"d":"0.00"},{"v":0,"d":"0.00"},{"v":0,"d":"0.00"},{"v":0,"d":"0.00"},{"v":0,"d":"0.00"},{"v":0,"d":"0.00"}]
[{"$nulls":6},"Bus",{"v":0,"d":"0.00"},{"v":0,"d":"0.00"},{"v":0,"d":"0.00"},{"v":0,"d":"0.00"},{"v":0,"d":"0.00"},{"v":0,"d":"0.00"},{"v":0,"d":"0.00"},{"v":0,"d":"0.00"},{"v":0,"d":"0.00"},{"v":0,"d":"0.00"},{"v":0,"d":"0.00"},{"v":0,"d":"0.00"},{"v":0,"d":"0.00"},{"v":0,"d":"0.00"},{"v":0,"d":"0.00"},{"v":0,"d":"0.00"},{"v":0,"d":"0.00"},{"v":0,"d":"0.00"},{"v":0,"d":"0.00"},{"v":0,"d":"0.00"}]
[{"$nulls":6},"Mini-bus",{"v":0,"d":"0.00"},{"v":0,"d":"0.00"},{"v":0,"d":"0.00"},{"v":0,"d":"0.00"},{"v":0,"d":"0.00"},{"v":0,"d":"0.00"},{"v":0,"d":"0.00"},{"v":0,"d":"0.00"},{"v":0,"d":"0.00"},{"v":0,"d":"0.00"},{"v":0,"d":"0.00"},{"v":0,"d":"0.00"},{"v":0,"d":"0.00"},{"v":0,"d":"0.00"},{"v":0,"d":"0.00"},{"v":0,"d":"0.00"},{"v":0,"d":"0.00"},{"v":0,"d":"0.00"},{"v":0,"d":"0.00"},{"v":0,"d":"0.00"}]
[{"$nulls":6},"",{"v":0,"d":"0.00"},{"v":0,"d":"0.00"},{"v":0,"d":"0.00"},{"v":0,"d":"0.00"},{"v":0,"d":"0.00"},{"v":0,"d":"0.00"},{"v":0,"d":"0.00"},{"v":0,"d":"0.00"},{"v":0,"d":"0.00"},{"v":0,"d":"0.00"},{"v":0,"d":"0.00"},{"v":0,"d":"0.00"},{"v":0,"d":"0.00"},{"v":0,"d":"0.00"},{"v":0,"d":"0.00"},{"v":0,"d":"0.00"},{"v":0,"d":"0.00"},{"v":0,"d":"0.00"},{"v":0,"d":"0.00"},{"v":0,"d":"0.00"}]
[{"$nulls":6},"",{"v":0,"d":"0.00"},{"v":0,"d":"0.00"},{"v":0,"d":"0.00"},{"v":0,"d":"0.00"},{"v":0,"d":"0.00"},{"v":0,"d":"0.00"},{"v":0,"d":"0.00"},{"v":0,"d":"0.00"},{"v":0,"d":"0.00"},{"v":0,"d":"0.00"},{"v":0,"d":"0.00"},{"v":0,"d":"0.00"},{"v":0,"d":"0.00"},{"v":0,"d":"0.00"},{"v":0,"d":"0.00"},{"v":0,"d":"0.00"},{"v":0,"d":"0.00"},{"v":0,"d":"0.00"},{"v":0,"d":"0.00"},{"v":0,"d":"0.00"}]
[{"$nulls":6},"BRT",{"v":0,"d":"0.00"},{"v":0,"d":"0.00"},{"v":0,"d":"0.00"},{"v":0,"d":"0.00"},{"v":0,"d":"0.00"},{"v":0,"d":"0.00"},{"v":0,"d":"0.00"},{"v":0,"d":"0.00"},{"v":0,"d":"0.00"},{"v":0,"d":"0.00"},{"v":0,"d":"0.00"},{"v":0,"d":"0.00"},{"v":0,"d":"0.00"},{"v":0,"d":"0.00"},{"v":0,"d":"0.00"},{"v":0,"d":"0.00"},{"v":0,"d":"0.00"},{"v":0,"d":"0.00"},{"v":0,"d":"0.00"},{"v":0,"d":"0.00"}]
[]
[{"$nulls":6},"Adjusted NOx Emission Factor",null,{"$f":"I1313","v":"LPG"}]
[{"$nulls":7},{"$f":"H1314","v":0},{"$f":"I1314","v":1},2,3,4,5,6,7,8,9,10,11,12,13,14,15,16,17,18,19]
[{"$nulls":5},"NO BRT",{"$f":"G1315","v":"Cars"},{"$f":"H1315+(H1315*H815)","v":0},{"$f":"I1315+(I1315*I815)","v":0},0,0,0,0,0,0,0,0,0,0,0,0,0,0,0,0,0,0]
[{"$nulls":6},{"$f":"G1316","v":"2-wheeler"},{"$f":"H1316+(H1316*H816)","v":0},0,0,0,0,0,0,0,0,0,0,0,0,0,0,0,0,0,0,0]
[{"$nulls":6},"Taxi",0,0,0,0,0,0,0,0,0,0,0,0,0,0,0,0,0,0,0,0]
[{"$nulls":6},"",0,0,0,0,0,0,0,0,0,0,0,0,0,0,0,0,0,0,0,0]
[{"$nulls":6},"",0,0,0,0,0,0,0,0,0,0,0,0,0,0,0,0,0,0,0,0]
[{"$nulls":6},"3-wheeler",0,0,0,0,0,0,0,0,0,0,0,0,0,0,0,0,0,0,0,0]
[{"$nulls":6},"Bus",0,0,0,0,0,0,0,0,0,0,0,0,0,0,0,0,0,0,0,0]
[{"$nulls":6},"Mini-bus",0,0,0,0,0,0,0,0,0,0,0,0,0,0,0,0,0,0,0,0]
[{"$nulls":6},"",0,0,0,0,0,0,0,0,0,0,0,0,0,0,0,0,0,0,0,0]
[{"$nulls":6},"",0,0,0,0,0,0,0,0,0,0,0,0,0,0,0,0,0,0,0,0]
[{"$nulls":6},"BRT",0,0,0,0,0,0,0,0,0,0,0,0,0,0,0,0,0,0,0,0]
[]
[]
[{"$nulls":6},"NOx Emission Factor CNG"]
[]
[{"$nulls":10},"g/vkm",{"$nulls":3},"1st",null,"2nd"]
[{"$nulls":7},{"$f":"H1298","v":0},{"$f":"I1298","v":0},null,{"$f":"K1298","v":0},{"$f":"L1298","v":9},{"$f":"M1298","v":19},null,"intercept","slope","intercept","slope",null,{"$f":"K1345","v":0},{"$f":"L1345","v":9},{"$f":"M1345","v":19},null,"1st","2nd"]
[{"$nulls":5},"NO BRT",{"$f":"G1329","v":"Cars"},{"$f":"IF(ISERROR(((L1346/K1346)^(1/9))-1),0,((L1346/K1346)^(1/9))-1)","v":{"v":0,"d":"0%"}},{"$f":"IF(ISERROR(((M1346/L1346)^(1/10))-1),0,((M1346/L1346)^(1/10))-1)","v":0},null,{"$f":"'IF Factors'!BJ76","v":0},{"$f":"OFFSET('IF Factors'!BJ76,0,5)","v":0},{"$f":"OFFSET('IF Factors'!BJ76,0,10)","v":0},null,{"$f":"INTERCEPT(K1346:L1346,$K$7:$L$7)","v":0},{"$f":"SLOPE(K1346:L1346,$K$7:$L$7)","v":0},{"$f":"INTERCEPT(L1346:M1346,$L$7:$M$7)","v":0},{"$f":"SLOPE(L1346:M1346,$L$7:$M$7)","v":0},null,{"$f":"IF(K1346<>0,0,1)","v":1},{"$f":"IF(L1346<>0,0,1)","v":1},{"$f":"IF(M1346<>0,0,1)","v":1},null,{"$f":"IF(T1346+U1346=1,1,0)","v":0},{"$f":"IF(U1346+V1346=1,1,0)","v":0}]
[{"$nulls":6},{"$f":"G1330","v":"2-wheeler"},{"v":0,"d":"0%"},0,null,{"$f":"'IF Factors'!BJ77","v":0},{"$f":"OFFSET('IF Factors'!BJ77,0,5)","v":0},{"$f":"OFFSET('IF Factors'!BJ77,0,10)","v":0},null,{"$f":"INTERCEPT(K1347:L1347,$K$7:$L$7)","v":0},{"$f":"SLOPE(K1347:L1347,$K$7:$L$7)","v":0},{"$f":"INTERCEPT(L1347:M1347,$L$7:$M$7)","v":0},{"$f":"SLOPE(L1347:M1347,$L$7:$M$7)","v":0},null,{"$f":"IF(K1347<>0,0,1)","v":1},1,1,null,{"$f":"IF(T1347+U1347=1,1,0)","v":0},0]
[{"$nulls":6},"Taxi",{"v":0,"d":"0%"},0,null,{"$f":"'IF Factors'!BJ78","v":0},{"$f":"OFFSET('IF Factors'!BJ78,0,5)","v":0},{"$f":"OFFSET('IF Factors'!BJ78,0,10)","v":0},null,0,0,0,0,null,1,1,1,null,0,0]
[{"$nulls":6},"",{"v":0,"d":"0%"},0,null,{"$f":"'IF Factors'!BJ79","v":0},{"$f":"OFFSET('IF Factors'!BJ79,0,5)","v":0},{"$f":"OFFSET('IF Factors'!BJ79,0,10)","v":0},null,0,0,0,0,null,1,1,1,null,0,0]
[{"$nulls":6},"",{"v":0,"d":"0%"},0,null,{"$f":"'IF Factors'!BJ80","v":0},{"$f":"OFFSET('IF Factors'!BJ80,0,5)","v":0},{"$f":"OFFSET('IF Factors'!BJ80,0,10)","v":0},null,0,0,0,0,null,1,1,1,null,0,0]
[{"$nulls":6},"3-wheeler",{"v":0,"d":"0%"},0,null,{"$f":"'IF Factors'!BJ81","v":0},{"$f":"OFFSET('IF Factors'!BJ81,0,5)","v":0},{"$f":"OFFSET('IF Factors'!BJ81,0,10)","v":0},null,0,0,0,0,null,1,1,1,null,0,0]
[{"$nulls":6},"Bus",{"v":0,"d":"0%"},0,null,{"$f":"'IF Factors'!BJ82","v":0},{"$f":"OFFSET('IF Factors'!BJ82,0,5)","v":0},{"$f":"OFFSET('IF Factors'!BJ82,0,10)","v":0},null,0,0,0,0,null,1,1,1,null,0,0]
[{"$nulls":6},"Mini-bus",{"v":0,"d":"0%"},0,null,{"$f":"'IF Factors'!BJ83","v":0},{"$f":"OFFSET('IF Factors'!BJ83,0,5)","v":0},{"$f":"OFFSET('IF Factors'!BJ83,0,10)","v":0},null,0,0,0,0,null,1,1,1,null,0,0]
[{"$nulls":6},"",{"v":0,"d":"0%"},0,null,{"$f":"'IF Factors'!BJ84","v":0},{"$f":"OFFSET('IF Factors'!BJ84,0,5)","v":0},{"$f":"OFFSET('IF Factors'!BJ84,0,10)","v":0},null,0,0,0,0,null,1,1,1,null,0,0]
[{"$nulls":6},"",{"v":0,"d":"0%"},0,null,{"$f":"'IF Factors'!BJ85","v":0},{"$f":"OFFSET('IF Factors'!BJ85,0,5)","v":0},{"$f":"OFFSET('IF Factors'!BJ85,0,10)","v":0},null,0,0,0,0,null,1,1,1,null,0,0]
[{"$nulls":6},"BRT",{"v":0,"d":"0%"},0,null,{"$f":"'IF Factors'!BJ86","v":0},{"$f":"OFFSET('IF Factors'!BJ86,0,5)","v":0},{"$f":"OFFSET('IF Factors'!BJ86,0,10)","v":0},null,0,0,0,0,null,1,1,1,null,0,0]
[]
[]
[]
[{"$nulls":6},"NOx Emission Factor",null,"CNG"]
[{"$nulls":7},{"$f":"H1328","v":0},{"$f":"I1328","v":1},2,3,4,5,6,7,8,9,10,11,12,13,14,15,16,17,18,19]
[{"$nulls":5},"NO BRT",{"$f":"G1329","v":"Cars"},{"$f":"K1346","v":{"v":0,"d":"0.00"}},{"$f":"(I$23*$P1346)+$O1346","v":{"v":0,"d":"0.00"}},{"$f":"(J$23*$P1346)+$O1346","v":{"v":0,"d":"0.00"}},{"v":0,"d":"0.00"},{"v":0,"d":"0.00"},{"v":0,"d":"0.00"},{"v":0,"d":"0.00"},{"v":0,"d":"0.00"},{"v":0,"d":"0.00"},{"$f":"L1346","v":{"v":0,"d":"0.00"}},{"$f":"(R$23*$R1346)+$Q1346","v":{"v":0,"d":"0.00"}},{"$f":"(S$23*$R1346)+$Q1346","v":{"v":0,"d":"0.00"}},{"v":0,"d":"0.00"},{"v":0,"d":"0.00"},{"v":0,"d":"0.00"},{"v":0,"d":"0.00"},{"v":0,"d":"0.00"},{"v":0,"d":"0.00"},{"v":0,"d":"0.00"},{"$f":"M1346","v":{"v":0,"d":"0.00"}}]
[{"$nulls":6},{"$f":"G1330","v":"2-wheeler"},{"$f":"K1347","v":{"v":0,"d":"0.00"}},{"$f":"(I$23*$P1347)+$O1347","v":{"v":0,"d":"0.00"}},{"v":0,"d":"0.00"},{"v":0,"d":"0.00"},{"v":0,"d":"0.00"},{"v":0,"d":"0.00"},{"v":0,"d":"0.00"},{"v":0,"d":"0.00"},{"v":0,"d":"0.00"},{"$f":"L1347","v":{"v":0,"d":"0.00"}},{"$f":"(R$23*$R1347)+$Q1347","v":{"v":0,"d":"0.00"}},{"v":0,"d":"0.00"},{"v":0,"d":"0.00"},{"v":0,"d":"0.00"},{"v":0,"d":"0.00"},{"v":0,"d":"0.00"},{"v":0,"d":"0.00"},{"v":0,"d":"0.00"},{"v":0,"d":"0.00"},{"$f":"M1347","v":{"v":0,"d":"0.00"}}]
[{"$nulls":6},"Taxi",{"v":0,"d":"0.00"},{"v":0,"d":"0.00"},{"v":0,"d":"0.00"},{"v":0,"d":"0.00"},{"v":0,"d":"0.00"},{"v":0,"d":"0.00"},{"v":0,"d":"0.00"},{"v":0,"d":"0.00"},{"v":0,"d":"0.00"},{"v":0,"d":"0.00"},{"v":0,"d":"0.00"},{"v":0,"d":"0.00"},{"v":0,"d":"0.00"},{"v":0,"d":"0.00"},{"v":0,"d":"0.00"},{"v":0,"d":"0.00"},{"v":0,"d":"0.00"},{"v":0,"d":"0.00"},{"v":0,"d":"0.00"},{"v":0,"d":"0.00"}]
[{"$nulls":6},"",{"v":0,"d":"0.00"},{"v":0,"d":"0.00"},{"v":0,"d":"0.00"},{"v":0,"d":"0.00"},{"v":0,"d":"0.00"},{"v":0,"d":"0.00"},{"v":0,"d":"0.00"},{"v":0,"d":"0.00"},{"v":0,"d":"0.00"},{"v":0,"d":"0.00"},{"v":0,"d":"0.00"},{"v":0,"d":"0.00"},{"v":0,"d":"0.00"},{"v":0,"d":"0.00"},{"v":0,"d":"0.00"},{"v":0,"d":"0.00"},{"v":0,"d":"0.00"},{"v":0,"d":"0.00"},{"v":0,"d":"0.00"},{"v":0,"d":"0.00"}]
[{"$nulls":6},"",{"v":0,"d":"0.00"},{"v":0,"d":"0.00"},{"v":0,"d":"0.00"},{"v":0,"d":"0.00"},{"v":0,"d":"0.00"},{"v":0,"d":"0.00"},{"v":0,"d":"0.00"},{"v":0,"d":"0.00"},{"v":0,"d":"0.00"},{"v":0,"d":"0.00"},{"v":0,"d":"0.00"},{"v":0,"d":"0.00"},{"v":0,"d":"0.00"},{"v":0,"d":"0.00"},{"v":0,"d":"0.00"},{"v":0,"d":"0.00"},{"v":0,"d":"0.00"},{"v":0,"d":"0.00"},{"v":0,"d":"0.00"},{"v":0,"d":"0.00"}]
[{"$nulls":6},"3-wheeler",{"v":0,"d":"0.00"},{"v":0,"d":"0.00"},{"v":0,"d":"0.00"},{"v":0,"d":"0.00"},{"v":0,"d":"0.00"},{"v":0,"d":"0.00"},{"v":0,"d":"0.00"},{"v":0,"d":"0.00"},{"v":0,"d":"0.00"},{"v":0,"d":"0.00"},{"v":0,"d":"0.00"},{"v":0,"d":"0.00"},{"v":0,"d":"0.00"},{"v":0,"d":"0.00"},{"v":0,"d":"0.00"},{"v":0,"d":"0.00"},{"v":0,"d":"0.00"},{"v":0,"d":"0.00"},{"v":0,"d":"0.00"},{"v":0,"d":"0.00"}]
[{"$nulls":6},"Bus",{"v":0,"d":"0.00"},{"v":0,"d":"0.00"},{"v":0,"d":"0.00"},{"v":0,"d":"0.00"},{"v":0,"d":"0.00"},{"v":0,"d":"0.00"},{"v":0,"d":"0.00"},{"v":0,"d":"0.00"},{"v":0,"d":"0.00"},{"v":0,"d":"0.00"},{"v":0,"d":"0.00"},{"v":0,"d":"0.00"},{"v":0,"d":"0.00"},{"v":0,"d":"0.00"},{"v":0,"d":"0.00"},{"v":0,"d":"0.00"},{"v":0,"d":"0.00"},{"v":0,"d":"0.00"},{"v":0,"d":"0.00"},{"v":0,"d":"0.00"}]
[{"$nulls":6},"Mini-bus",{"v":0,"d":"0.00"},{"v":0,"d":"0.00"},{"v":0,"d":"0.00"},{"v":0,"d":"0.00"},{"v":0,"d":"0.00"},{"v":0,"d":"0.00"},{"v":0,"d":"0.00"},{"v":0,"d":"0.00"},{"v":0,"d":"0.00"},{"v":0,"d":"0.00"},{"v":0,"d":"0.00"},{"v":0,"d":"0.00"},{"v":0,"d":"0.00"},{"v":0,"d":"0.00"},{"v":0,"d":"0.00"},{"v":0,"d":"0.00"},{"v":0,"d":"0.00"},{"v":0,"d":"0.00"},{"v":0,"d":"0.00"},{"v":0,"d":"0.00"}]
[{"$nulls":6},"",{"v":0,"d":"0.00"},{"v":0,"d":"0.00"},{"v":0,"d":"0.00"},{"v":0,"d":"0.00"},{"v":0,"d":"0.00"},{"v":0,"d":"0.00"},{"v":0,"d":"0.00"},{"v":0,"d":"0.00"},{"v":0,"d":"0.00"},{"v":0,"d":"0.00"},{"v":0,"d":"0.00"},{"v":0,"d":"0.00"},{"v":0,"d":"0.00"},{"v":0,"d":"0.00"},{"v":0,"d":"0.00"},{"v":0,"d":"0.00"},{"v":0,"d":"0.00"},{"v":0,"d":"0.00"},{"v":0,"d":"0.00"},{"v":0,"d":"0.00"}]
[{"$nulls":6},"",{"v":0,"d":"0.00"},{"v":0,"d":"0.00"},{"v":0,"d":"0.00"},{"v":0,"d":"0.00"},{"v":0,"d":"0.00"},{"v":0,"d":"0.00"},{"v":0,"d":"0.00"},{"v":0,"d":"0.00"},{"v":0,"d":"0.00"},{"v":0,"d":"0.00"},{"v":0,"d":"0.00"},{"v":0,"d":"0.00"},{"v":0,"d":"0.00"},{"v":0,"d":"0.00"},{"v":0,"d":"0.00"},{"v":0,"d":"0.00"},{"v":0,"d":"0.00"},{"v":0,"d":"0.00"},{"v":0,"d":"0.00"},{"v":0,"d":"0.00"}]
[{"$nulls":6},"BRT",{"v":0,"d":"0.00"},{"v":0,"d":"0.00"},{"v":0,"d":"0.00"},{"v":0,"d":"0.00"},{"v":0,"d":"0.00"},{"v":0,"d":"0.00"},{"v":0,"d":"0.00"},{"v":0,"d":"0.00"},{"v":0,"d":"0.00"},{"v":0,"d":"0.00"},{"v":0,"d":"0.00"},{"v":0,"d":"0.00"},{"v":0,"d":"0.00"},{"v":0,"d":"0.00"},{"v":0,"d":"0.00"},{"v":0,"d":"0.00"},{"v":0,"d":"0.00"},{"v":0,"d":"0.00"},{"v":0,"d":"0.00"},{"v":0,"d":"0.00"}]
[]
[{"$nulls":6},"Adjusted NOx Emission Factor",null,{"$f":"I1360","v":"CNG"}]
[{"$nulls":7},{"$f":"H1361","v":0},{"$f":"I1361","v":1},2,3,4,5,6,7,8,9,10,11,12,13,14,15,16,17,18,19]
[{"$nulls":5},"NO BRT",{"$f":"G1362","v":"Cars"},{"$f":"H1362+(H1362*H815)","v":0},{"$f":"I1362+(I1362*I815)","v":0},0,0,0,0,0,0,0,0,0,0,0,0,0,0,0,0,0,0]
[{"$nulls":6},{"$f":"G1363","v":"2-wheeler"},{"$f":"H1363+(H1363*H816)","v":0},0,0,0,0,0,0,0,0,0,0,0,0,0,0,0,0,0,0,0]
[{"$nulls":6},"Taxi",0,0,0,0,0,0,0,0,0,0,0,0,0,0,0,0,0,0,0,0]
[{"$nulls":6},"",0,0,0,0,0,0,0,0,0,0,0,0,0,0,0,0,0,0,0,0]
[{"$nulls":6},"",0,0,0,0,0,0,0,0,0,0,0,0,0,0,0,0,0,0,0,0]
[{"$nulls":6},"3-wheeler",0,0,0,0,0,0,0,0,0,0,0,0,0,0,0,0,0,0,0,0]
[{"$nulls":6},"Bus",0,0,0,0,0,0,0,0,0,0,0,0,0,0,0,0,0,0,0,0]
[{"$nulls":6},"Mini-bus",0,0,0,0,0,0,0,0,0,0,0,0,0,0,0,0,0,0,0,0]
[{"$nulls":6},"",0,0,0,0,0,0,0,0,0,0,0,0,0,0,0,0,0,0,0,0]
[{"$nulls":6},"",0,0,0,0,0,0,0,0,0,0,0,0,0,0,0,0,0,0,0,0]
[{"$nulls":6},"BRT",0,0,0,0,0,0,0,0,0,0,0,0,0,0,0,0,0,0,0,0]
[]
[]
[{"$nulls":6},"NOx Emission Factor Electric"]
[]
[{"$nulls":10},"g/vkm",{"$nulls":3},"1st",null,"2nd"]
[{"$nulls":7},{"$f":"H1345","v":0},{"$f":"I1345","v":0},null,{"$f":"K1345","v":0},{"$f":"L1345","v":9},{"$f":"M1345","v":19},null,"intercept","slope","intercept","slope",null,{"$f":"K1392","v":0},{"$f":"L1392","v":9},{"$f":"M1392","v":19},null,"1st","2nd"]
[{"$nulls":5},"NO BRT",{"$f":"G1376","v":"Cars"},{"$f":"IF(ISERROR(((L1393/K1393)^(1/9))-1),0,((L1393/K1393)^(1/9))-1)","v":{"v":0,"d":"0%"}},{"$f":"IF(ISERROR(((M1393/L1393)^(1/10))-1),0,((M1393/L1393)^(1/10))-1)","v":0},null,{"$f":"'IF Factors'!BJ91","v":0},{"$f":"OFFSET('IF Factors'!BJ91,0,5)","v":0},{"$f":"OFFSET('IF Factors'!BJ91,0,10)","v":0},null,{"$f":"INTERCEPT(K1393:L1393,$K$7:$L$7)","v":0},{"$f":"SLOPE(K1393:L1393,$K$7:$L$7)","v":0},{"$f":"INTERCEPT(L1393:M1393,$L$7:$M$7)","v":0},{"$f":"SLOPE(L1393:M1393,$L$7:$M$7)","v":0},null,{"$f":"IF(K1393<>0,0,1)","v":1},{"$f":"IF(L1393<>0,0,1)","v":1},{"$f":"IF(M1393<>0,0,1)","v":1},null,{"$f":"IF(T1393+U1393=1,1,0)","v":0},{"$f":"IF(U1393+V1393=1,1,0)","v":0}]
[{"$nulls":6},{"$f":"G1377","v":"2-wheeler"},{"v":0,"d":"0%"},0,null,{"$f":"'IF Factors'!BJ92","v":0},{"$f":"OFFSET('IF Factors'!BJ92,0,5)","v":0},{"$f":"OFFSET('IF Factors'!BJ92,0,10)","v":0},null,{"$f":"INTERCEPT(K1394:L1394,$K$7:$L$7)","v":0},{"$f":"SLOPE(K1394:L1394,$K$7:$L$7)","v":0},{"$f":"INTERCEPT(L1394:M1394,$L$7:$M$7)","v":0},{"$f":"SLOPE(L1394:M1394,$L$7:$M$7)","v":0},null,{"$f":"IF(K1394<>0,0,1)","v":1},1,1,null,{"$f":"IF(T1394+U1394=1,1,0)","v":0},0]
[{"$nulls":6},"Taxi",{"v":0,"d":"0%"},0,null,{"$f":"'IF Factors'!BJ93","v":0},{"$f":"OFFSET('IF Factors'!BJ93,0,5)","v":0},{"$f":"OFFSET('IF Factors'!BJ93,0,10)","v":0},null,0,0,0,0,null,1,1,1,null,0,0]
[{"$nulls":6},"",{"v":0,"d":"0%"},0,null,{"$f":"'IF Factors'!BJ94","v":0},{"$f":"OFFSET('IF Factors'!BJ94,0,5)","v":0},{"$f":"OFFSET('IF Factors'!BJ94,0,10)","v":0},null,0,0,0,0,null,1,1,1,null,0,0]
[{"$nulls":6},"",{"v":0,"d":"0%"},0,null,{"$f":"'IF Factors'!BJ95","v":0},{"$f":"OFFSET('IF Factors'!BJ95,0,5)","v":0},{"$f":"OFFSET('IF Factors'!BJ95,0,10)","v":0},null,0,0,0,0,null,1,1,1,null,0,0]
[{"$nulls":6},"3-wheeler",{"v":0,"d":"0%"},0,null,{"$f":"'IF Factors'!BJ96","v":0},{"$f":"OFFSET('IF Factors'!BJ96,0,5)","v":0},{"$f":"OFFSET('IF Factors'!BJ96,0,10)","v":0},null,0,0,0,0,null,1,1,1,null,0,0]
[{"$nulls":6},"Bus",{"v":0,"d":"0%"},0,null,{"$f":"'IF Factors'!BJ97","v":0},{"$f":"OFFSET('IF Factors'!BJ97,0,5)","v":0},{"$f":"OFFSET('IF Factors'!BJ97,0,10)","v":0},null,0,0,0,0,null,1,1,1,null,0,0]
[{"$nulls":6},"Mini-bus",{"v":0,"d":"0%"},0,null,{"$f":"'IF Factors'!BJ98","v":0},{"$f":"OFFSET('IF Factors'!BJ98,0,5)","v":0},{"$f":"OFFSET('IF Factors'!BJ98,0,10)","v":0},null,0,0,0,0,null,1,1,1,null,0,0]
[{"$nulls":6},"",{"v":0,"d":"0%"},0,null,{"$f":"'IF Factors'!BJ99","v":0},{"$f":"OFFSET('IF Factors'!BJ99,0,5)","v":0},{"$f":"OFFSET('IF Factors'!BJ99,0,10)","v":0},null,0,0,0,0,null,1,1,1,null,0,0]
[{"$nulls":6},"",{"v":0,"d":"0%"},0,null,{"$f":"'IF Factors'!BJ100","v":0},{"$f":"OFFSET('IF Factors'!BJ100,0,5)","v":0},{"$f":"OFFSET('IF Factors'!BJ100,0,10)","v":0},null,0,0,0,0,null,1,1,1,null,0,0]
[{"$nulls":6},"BRT",{"v":0,"d":"0%"},0,null,{"$f":"'IF Factors'!BJ101","v":0},{"$f":"OFFSET('IF Factors'!BJ101,0,5)","v":0},{"$f":"OFFSET('IF Factors'!BJ101,0,10)","v":0},null,0,0,0,0,null,1,1,1,null,0,0]
[]
[]
[]
[{"$nulls":6},"NOx Emission Factor",null,"Electric"]
[{"$nulls":7},{"$f":"H1375","v":0},{"$f":"I1375","v":1},2,3,4,5,6,7,8,9,10,11,12,13,14,15,16,17,18,19]
[{"$nulls":5},"NO BRT",{"$f":"G1376","v":"Cars"},{"$f":"K1393","v":{"v":0,"d":"0.00"}},{"$f":"(I$23*$P1393)+$O1393","v":{"v":0,"d":"0.00"}},{"$f":"(J$23*$P1393)+$O1393","v":{"v":0,"d":"0.00"}},{"v":0,"d":"0.00"},{"v":0,"d":"0.00"},{"v":0,"d":"0.00"},{"v":0,"d":"0.00"},{"v":0,"d":"0.00"},{"v":0,"d":"0.00"},{"$f":"L1393","v":{"v":0,"d":"0.00"}},{"$f":"(R$23*$R1393)+$Q1393","v":{"v":0,"d":"0.00"}},{"$f":"(S$23*$R1393)+$Q1393","v":{"v":0,"d":"0.00"}},{"v":0,"d":"0.00"},{"v":0,"d":"0.00"},{"v":0,"d":"0.00"},{"v":0,"d":"0.00"},{"v":0,"d":"0.00"},{"v":0,"d":"0.00"},{"v":0,"d":"0.00"},{"$f":"M1393","v":{"v":0,"d":"0.00"}}]
[{"$nulls":6},{"$f":"G1377","v":"2-wheeler"},{"$f":"K1394","v":{"v":0,"d":"0.00"}},{"$f":"(I$23*$P1394)+$O1394","v":{"v":0,"d":"0.00"}},{"v":0,"d":"0.00"},{"v":0,"d":"0.00"},{"v":0,"d":"0.00"},{"v":0,"d":"0.00"},{"v":0,"d":"0.00"},{"v":0,"d":"0.00"},{"v":0,"d":"0.00"},{"$f":"L1394","v":{"v":0,"d":"0.00"}},{"$f":"(R$23*$R1394)+$Q1394","v":{"v":0,"d":"0.00"}},{"v":0,"d":"0.00"},{"v":0,"d":"0.00"},{"v":0,"d":"0.00"},{"v":0,"d":"0.00"},{"v":0,"d":"0.00"},{"v":0,"d":"0.00"},{"v":0,"d":"0.00"},{"v":0,"d":"0.00"},{"$f":"M1394","v":{"v":0,"d":"0.00"}}]
[{"$nulls":6},"Taxi",{"v":0,"d":"0.00"},{"v":0,"d":"0.00"},{"v":0,"d":"0.00"},{"v":0,"d":"0.00"},{"v":0,"d":"0.00"},{"v":0,"d":"0.00"},{"v":0,"d":"0.00"},{"v":0,"d":"0.00"},{"v":0,"d":"0.00"},{"v":0,"d":"0.00"},{"v":0,"d":"0.00"},{"v":0,"d":"0.00"},{"v":0,"d":"0.00"},{"v":0,"d":"0.00"},{"v":0,"d":"0.00"},{"v":0,"d":"0.00"},{"v":0,"d":"0.00"},{"v":0,"d":"0.00"},{"v":0,"d":"0.00"},{"v":0,"d":"0.00"}]
[{"$nulls":6},"",{"v":0,"d":"0.00"},{"v":0,"d":"0.00"},{"v":0,"d":"0.00"},{"v":0,"d":"0.00"},{"v":0,"d":"0.00"},{"v":0,"d":"0.00"},{"v":0,"d":"0.00"},{"v":0,"d":"0.00"},{"v":0,"d":"0.00"},{"v":0,"d":"0.00"},{"v":0,"d":"0.00"},{"v":0,"d":"0.00"},{"v":0,"d":"0.00"},{"v":0,"d":"0.00"},{"v":0,"d":"0.00"},{"v":0,"d":"0.00"},{"v":0,"d":"0.00"},{"v":0,"d":"0.00"},{"v":0,"d":"0.00"},{"v":0,"d":"0.00"}]
[{"$nulls":6},"",{"v":0,"d":"0.00"},{"v":0,"d":"0.00"},{"v":0,"d":"0.00"},{"v":0,"d":"0.00"},{"v":0,"d":"0.00"},{"v":0,"d":"0.00"},{"v":0,"d":"0.00"},{"v":0,"d":"0.00"},{"v":0,"d":"0.00"},{"v":0,"d":"0.00"},{"v":0,"d":"0.00"},{"v":0,"d":"0.00"},{"v":0,"d":"0.00"},{"v":0,"d":"0.00"},{"v":0,"d":"0.00"},{"v":0,"d":"0.00"},{"v":0,"d":"0.00"},{"v":0,"d":"0.00"},{"v":0,"d":"0.00"},{"v":0,"d":"0.00"}]
[{"$nulls":6},"3-wheeler",{"v":0,"d":"0.00"},{"v":0,"d":"0.00"},{"v":0,"d":"0.00"},{"v":0,"d":"0.00"},{"v":0,"d":"0.00"},{"v":0,"d":"0.00"},{"v":0,"d":"0.00"},{"v":0,"d":"0.00"},{"v":0,"d":"0.00"},{"v":0,"d":"0.00"},{"v":0,"d":"0.00"},{"v":0,"d":"0.00"},{"v":0,"d":"0.00"},{"v":0,"d":"0.00"},{"v":0,"d":"0.00"},{"v":0,"d":"0.00"},{"v":0,"d":"0.00"},{"v":0,"d":"0.00"},{"v":0,"d":"0.00"},{"v":0,"d":"0.00"}]
[{"$nulls":6},"Bus",{"v":0,"d":"0.00"},{"v":0,"d":"0.00"},{"v":0,"d":"0.00"},{"v":0,"d":"0.00"},{"v":0,"d":"0.00"},{"v":0,"d":"0.00"},{"v":0,"d":"0.00"},{"v":0,"d":"0.00"},{"v":0,"d":"0.00"},{"v":0,"d":"0.00"},{"v":0,"d":"0.00"},{"v":0,"d":"0.00"},{"v":0,"d":"0.00"},{"v":0,"d":"0.00"},{"v":0,"d":"0.00"},{"v":0,"d":"0.00"},{"v":0,"d":"0.00"},{"v":0,"d":"0.00"},{"v":0,"d":"0.00"},{"v":0,"d":"0.00"}]
[{"$nulls":6},"Mini-bus",{"v":0,"d":"0.00"},{"v":0,"d":"0.00"},{"v":0,"d":"0.00"},{"v":0,"d":"0.00"},{"v":0,"d":"0.00"},{"v":0,"d":"0.00"},{"v":0,"d":"0.00"},{"v":0,"d":"0.00"},{"v":0,"d":"0.00"},{"v":0,"d":"0.00"},{"v":0,"d":"0.00"},{"v":0,"d":"0.00"},{"v":0,"d":"0.00"},{"v":0,"d":"0.00"},{"v":0,"d":"0.00"},{"v":0,"d":"0.00"},{"v":0,"d":"0.00"},{"v":0,"d":"0.00"},{"v":0,"d":"0.00"},{"v":0,"d":"0.00"}]
[{"$nulls":6},"",{"v":0,"d":"0.00"},{"v":0,"d":"0.00"},{"v":0,"d":"0.00"},{"v":0,"d":"0.00"},{"v":0,"d":"0.00"},{"v":0,"d":"0.00"},{"v":0,"d":"0.00"},{"v":0,"d":"0.00"},{"v":0,"d":"0.00"},{"v":0,"d":"0.00"},{"v":0,"d":"0.00"},{"v":0,"d":"0.00"},{"v":0,"d":"0.00"},{"v":0,"d":"0.00"},{"v":0,"d":"0.00"},{"v":0,"d":"0.00"},{"v":0,"d":"0.00"},{"v":0,"d":"0.00"},{"v":0,"d":"0.00"},{"v":0,"d":"0.00"}]
[{"$nulls":6},"",{"v":0,"d":"0.00"},{"v":0,"d":"0.00"},{"v":0,"d":"0.00"},{"v":0,"d":"0.00"},{"v":0,"d":"0.00"},{"v":0,"d":"0.00"},{"v":0,"d":"0.00"},{"v":0,"d":"0.00"},{"v":0,"d":"0.00"},{"v":0,"d":"0.00"},{"v":0,"d":"0.00"},{"v":0,"d":"0.00"},{"v":0,"d":"0.00"},{"v":0,"d":"0.00"},{"v":0,"d":"0.00"},{"v":0,"d":"0.00"},{"v":0,"d":"0.00"},{"v":0,"d":"0.00"},{"v":0,"d":"0.00"},{"v":0,"d":"0.00"}]
[{"$nulls":6},"BRT",{"v":0,"d":"0.00"},{"v":0,"d":"0.00"},{"v":0,"d":"0.00"},{"v":0,"d":"0.00"},{"v":0,"d":"0.00"},{"v":0,"d":"0.00"},{"v":0,"d":"0.00"},{"v":0,"d":"0.00"},{"v":0,"d":"0.00"},{"v":0,"d":"0.00"},{"v":0,"d":"0.00"},{"v":0,"d":"0.00"},{"v":0,"d":"0.00"},{"v":0,"d":"0.00"},{"v":0,"d":"0.00"},{"v":0,"d":"0.00"},{"v":0,"d":"0.00"},{"v":0,"d":"0.00"},{"v":0,"d":"0.00"},{"v":0,"d":"0.00"}]
[]
[{"$nulls":6},"Adjusted NOx Emission Factor",null,{"$f":"I1407","v":"Electric"}]
[{"$nulls":7},{"$f":"H1408","v":0},{"$f":"I1408","v":1},2,3,4,5,6,7,8,9,10,11,12,13,14,15,16,17,18,19]
[{"$nulls":5},"NO BRT",{"$f":"G1409","v":"Cars"},{"$f":"H1409+(H1409*H815)","v":0},{"$f":"I1409+(I1409*I815)","v":0},0,0,0,0,0,0,0,0,0,0,0,0,0,0,0,0,0,0]
[{"$nulls":6},{"$f":"G1410","v":"2-wheeler"},{"$f":"H1410+(H1410*H816)","v":0},0,0,0,0,0,0,0,0,0,0,0,0,0,0,0,0,0,0,0]
[{"$nulls":6},"Taxi",0,0,0,0,0,0,0,0,0,0,0,0,0,0,0,0,0,0,0,0]
[{"$nulls":6},"",0,0,0,0,0,0,0,0,0,0,0,0,0,0,0,0,0,0,0,0]
[{"$nulls":6},"",0,0,0,0,0,0,0,0,0,0,0,0,0,0,0,0,0,0,0,0]
[{"$nulls":6},"3-wheeler",0,0,0,0,0,0,0,0,0,0,0,0,0,0,0,0,0,0,0,0]
[{"$nulls":6},"Bus",0,0,0,0,0,0,0,0,0,0,0,0,0,0,0,0,0,0,0,0]
[{"$nulls":6},"Mini-bus",0,0,0,0,0,0,0,0,0,0,0,0,0,0,0,0,0,0,0,0]
[{"$nulls":6},"",0,0,0,0,0,0,0,0,0,0,0,0,0,0,0,0,0,0,0,0]
[{"$nulls":6},"",0,0,0,0,0,0,0,0,0,0,0,0,0,0,0,0,0,0,0,0]
[{"$nulls":6},"BRT",0,0,0,0,0,0,0,0,0,0,0,0,0,0,0,0,0,0,0,0]
[]
[]
[{"$nulls":6},{"$f":"IF('IF Factors'!J290=\"\",\"not included\",CONCATENATE(\"NOx Emission Factor \",'IF Factors'!J290))","v":"not included"}]
[]
[{"$nulls":10},"g/vkm",{"$nulls":3},"1st",null,"2nd"]
[{"$nulls":7},{"$f":"H1392","v":0},{"$f":"I1392","v":0},null,{"$f":"K1392","v":0},{"$f":"L1392","v":9},{"$f":"M1392","v":19},null,"intercept","slope","intercept","slope",null,{"$f":"K1439","v":0},{"$f":"L1439","v":9},{"$f":"M1439","v":19},null,"1st","2nd"]
[{"$nulls":5},"NO BRT",{"$f":"G1423","v":"Cars"},{"$f":"IF(ISERROR(((L1440/K1440)^(1/9))-1),0,((L1440/K1440)^(1/9))-1)","v":{"v":0,"d":"0%"}},{"$f":"IF(ISERROR(((M1440/L1440)^(1/10))-1),0,((M1440/L1440)^(1/10))-1)","v":0},null,{"$f":"'IF Factors'!BJ106","v":0},{"$f":"OFFSET('IF Factors'!BJ106,0,5)","v":0},{"$f":"OFFSET('IF Factors'!BJ106,0,10)","v":0},null,{"$f":"INTERCEPT(K1440:L1440,$K$7:$L$7)","v":0},{"$f":"SLOPE(K1440:L1440,$K$7:$L$7)","v":0},{"$f":"INTERCEPT(L1440:M1440,$L$7:$M$7)","v":0},{"$f":"SLOPE(L1440:M1440,$L$7:$M$7)","v":0},null,{"$f":"IF(K1440<>0,0,1)","v":1},{"$f":"IF(L1440<>0,0,1)","v":1},{"$f":"IF(M1440<>0,0,1)","v":1},null,{"$f":"IF(T1440+U1440=1,1,0)","v":0},{"$f":"IF(U1440+V1440=1,1,0)","v":0}]
[{"$nulls":6},{"$f":"G1424","v":"2-wheeler"},{"v":0,"d":"0%"},0,null,{"$f":"'IF Factors'!BJ107","v":0},{"$f":"OFFSET('IF Factors'!BJ107,0,5)","v":0},{"$f":"OFFSET('IF Factors'!BJ107,0,10)","v":0},null,{"$f":"INTERCEPT(K1441:L1441,$K$7:$L$7)","v":0},{"$f":"SLOPE(K1441:L1441,$K$7:$L$7)","v":0},{"$f":"INTERCEPT(L1441:M1441,$L$7:$M$7)","v":0},{"$f":"SLOPE(L1441:M1441,$L$7:$M$7)","v":0},null,{"$f":"IF(K1441<>0,0,1)","v":1},1,1,null,{"$f":"IF(T1441+U1441=1,1,0)","v":0},0]
[{"$nulls":6},"Taxi",{"v":0,"d":"0%"},0,null,{"$f":"'IF Factors'!BJ108","v":0},{"$f":"OFFSET('IF Factors'!BJ108,0,5)","v":0},{"$f":"OFFSET('IF Factors'!BJ108,0,10)","v":0},null,0,0,0,0,null,1,1,1,null,0,0]
[{"$nulls":6},"",{"v":0,"d":"0%"},0,null,{"$f":"'IF Factors'!BJ109","v":0},{"$f":"OFFSET('IF Factors'!BJ109,0,5)","v":0},{"$f":"OFFSET('IF Factors'!BJ109,0,10)","v":0},null,0,0,0,0,null,1,1,1,null,0,0]
[{"$nulls":6},"",{"v":0,"d":"0%"},0,null,{"$f":"'IF Factors'!BJ110","v":0},{"$f":"OFFSET('IF Factors'!BJ110,0,5)","v":0},{"$f":"OFFSET('IF Factors'!BJ110,0,10)","v":0},null,0,0,0,0,null,1,1,1,null,0,0]
[{"$nulls":6},"3-wheeler",{"v":0,"d":"0%"},0,null,{"$f":"'IF Factors'!BJ111","v":0},{"$f":"OFFSET('IF Factors'!BJ111,0,5)","v":0},{"$f":"OFFSET('IF Factors'!BJ111,0,10)","v":0},null,0,0,0,0,null,1,1,1,null,0,0]
[{"$nulls":6},"Bus",{"v":0,"d":"0%"},0,null,{"$f":"'IF Factors'!BJ112","v":0},{"$f":"OFFSET('IF Factors'!BJ112,0,5)","v":0},{"$f":"OFFSET('IF Factors'!BJ112,0,10)","v":0},null,0,0,0,0,null,1,1,1,null,0,0]
[{"$nulls":6},"Mini-bus",{"v":0,"d":"0%"},0,null,{"$f":"'IF Factors'!BJ113","v":0},{"$f":"OFFSET('IF Factors'!BJ113,0,5)","v":0},{"$f":"OFFSET('IF Factors'!BJ113,0,10)","v":0},null,0,0,0,0,null,1,1,1,null,0,0]
[{"$nulls":6},"",{"v":0,"d":"0%"},0,null,{"$f":"'IF Factors'!BJ114","v":0},{"$f":"OFFSET('IF Factors'!BJ114,0,5)","v":0},{"$f":"OFFSET('IF Factors'!BJ114,0,10)","v":0},null,0,0,0,0,null,1,1,1,null,0,0]
[{"$nulls":6},"",{"v":0,"d":"0%"},0,null,{"$f":"'IF Factors'!BJ115","v":0},{"$f":"OFFSET('IF Factors'!BJ115,0,5)","v":0},{"$f":"OFFSET('IF Factors'!BJ115,0,10)","v":0},null,0,0,0,0,null,1,1,1,null,0,0]
[{"$nulls":6},"BRT",{"v":0,"d":"0%"},0,null,{"$f":"'IF Factors'!BJ116","v":0},{"$f":"OFFSET('IF Factors'!BJ116,0,5)","v":0},{"$f":"OFFSET('IF Factors'!BJ116,0,10)","v":0},null,0,0,0,0,null,1,1,1,null,0,0]
[]
[]
[]
[{"$nulls":6},"NOx Emission Factor"]
[{"$nulls":7},{"$f":"H1422","v":0},{"$f":"I1422","v":1},2,3,4,5,6,7,8,9,10,11,12,13,14,15,16,17,18,19]
[{"$nulls":5},"NO BRT",{"$f":"G1423","v":"Cars"},{"$f":"K1440","v":{"v":0,"d":"0.00"}},{"$f":"(I$23*$P1440)+$O1440","v":{"v":0,"d":"0.00"}},{"$f":"(J$23*$P1440)+$O1440","v":{"v":0,"d":"0.00"}},{"v":0,"d":"0.00"},{"v":0,"d":"0.00"},{"v":0,"d":"0.00"},{"v":0,"d":"0.00"},{"v":0,"d":"0.00"},{"v":0,"d":"0.00"},{"$f":"L1440","v":{"v":0,"d":"0.00"}},{"$f":"(R$23*$R1440)+$Q1440","v":{"v":0,"d":"0.00"}},{"$f":"(S$23*$R1440)+$Q1440","v":{"v":0,"d":"0.00"}},{"v":0,"d":"0.00"},{"v":0,"d":"0.00"},{"v":0,"d":"0.00"},{"v":0,"d":"0.00"},{"v":0,"d":"0.00"},{"v":0,"d":"0.00"},{"v":0,"d":"0.00"},{"$f":"M1440","v":{"v":0,"d":"0.00"}}]
[{"$nulls":6},{"$f":"G1424","v":"2-wheeler"},{"$f":"K1441","v":{"v":0,"d":"0.00"}},{"$f":"(I$23*$P1441)+$O1441","v":{"v":0,"d":"0.00"}},{"v":0,"d":"0.00"},{"v":0,"d":"0.00"},{"v":0,"d":"0.00"},{"v":0,"d":"0.00"},{"v":0,"d":"0.00"},{"v":0,"d":"0.00"},{"v":0,"d":"0.00"},{"$f":"L1441","v":{"v":0,"d":"0.00"}},{"$f":"(R$23*$R1441)+$Q1441","v":{"v":0,"d":"0.00"}},{"v":0,"d":"0.00"},{"v":0,"d":"0.00"},{"v":0,"d":"0.00"},{"v":0,"d":"0.00"},{"v":0,"d":"0.00"},{"v":0,"d":"0.00"},{"v":0,"d":"0.00"},{"v":0,"d":"0.00"},{"$f":"M1441","v":{"v":0,"d":"0.00"}}]
[{"$nulls":6},"Taxi",{"v":0,"d":"0.00"},{"v":0,"d":"0.00"},{"v":0,"d":"0.00"},{"v":0,"d":"0.00"},{"v":0,"d":"0.00"},{"v":0,"d":"0.00"},{"v":0,"d":"0.00"},{"v":0,"d":"0.00"},{"v":0,"d":"0.00"},{"v":0,"d":"0.00"},{"v":0,"d":"0.00"},{"v":0,"d":"0.00"},{"v":0,"d":"0.00"},{"v":0,"d":"0.00"},{"v":0,"d":"0.00"},{"v":0,"d":"0.00"},{"v":0,"d":"0.00"},{"v":0,"d":"0.00"},{"v":0,"d":"0.00"},{"v":0,"d":"0.00"}]
[{"$nulls":6},"",{"v":0,"d":"0.00"},{"v":0,"d":"0.00"},{"v":0,"d":"0.00"},{"v":0,"d":"0.00"},{"v":0,"d":"0.00"},{"v":0,"d":"0.00"},{"v":0,"d":"0.00"},{"v":0,"d":"0.00"},{"v":0,"d":"0.00"},{"v":0,"d":"0.00"},{"v":0,"d":"0.00"},{"v":0,"d":"0.00"},{"v":0,"d":"0.00"},{"v":0,"d":"0.00"},{"v":0,"d":"0.00"},{"v":0,"d":"0.00"},{"v":0,"d":"0.00"},{"v":0,"d":"0.00"},{"v":0,"d":"0.00"},{"v":0,"d":"0.00"}]
[{"$nulls":6},"",{"v":0,"d":"0.00"},{"v":0,"d":"0.00"},{"v":0,"d":"0.00"},{"v":0,"d":"0.00"},{"v":0,"d":"0.00"},{"v":0,"d":"0.00"},{"v":0,"d":"0.00"},{"v":0,"d":"0.00"},{"v":0,"d":"0.00"},{"v":0,"d":"0.00"},{"v":0,"d":"0.00"},{"v":0,"d":"0.00"},{"v":0,"d":"0.00"},{"v":0,"d":"0.00"},{"v":0,"d":"0.00"},{"v":0,"d":"0.00"},{"v":0,"d":"0.00"},{"v":0,"d":"0.00"},{"v":0,"d":"0.00"},{"v":0,"d":"0.00"}]
[{"$nulls":6},"3-wheeler",{"v":0,"d":"0.00"},{"v":0,"d":"0.00"},{"v":0,"d":"0.00"},{"v":0,"d":"0.00"},{"v":0,"d":"0.00"},{"v":0,"d":"0.00"},{"v":0,"d":"0.00"},{"v":0,"d":"0.00"},{"v":0,"d":"0.00"},{"v":0,"d":"0.00"},{"v":0,"d":"0.00"},{"v":0,"d":"0.00"},{"v":0,"d":"0.00"},{"v":0,"d":"0.00"},{"v":0,"d":"0.00"},{"v":0,"d":"0.00"},{"v":0,"d":"0.00"},{"v":0,"d":"0.00"},{"v":0,"d":"0.00"},{"v":0,"d":"0.00"}]
[{"$nulls":6},"Bus",{"v":0,"d":"0.00"},{"v":0,"d":"0.00"},{"v":0,"d":"0.00"},{"v":0,"d":"0.00"},{"v":0,"d":"0.00"},{"v":0,"d":"0.00"},{"v":0,"d":"0.00"},{"v":0,"d":"0.00"},{"v":0,"d":"0.00"},{"v":0,"d":"0.00"},{"v":0,"d":"0.00"},{"v":0,"d":"0.00"},{"v":0,"d":"0.00"},{"v":0,"d":"0.00"},{"v":0,"d":"0.00"},{"v":0,"d":"0.00"},{"v":0,"d":"0.00"},{"v":0,"d":"0.00"},{"v":0,"d":"0.00"},{"v":0,"d":"0.00"}]
[{"$nulls":6},"Mini-bus",{"v":0,"d":"0.00"},{"v":0,"d":"0.00"},{"v":0,"d":"0.00"},{"v":0,"d":"0.00"},{"v":0,"d":"0.00"},{"v":0,"d":"0.00"},{"v":0,"d":"0.00"},{"v":0,"d":"0.00"},{"v":0,"d":"0.00"},{"v":0,"d":"0.00"},{"v":0,"d":"0.00"},{"v":0,"d":"0.00"},{"v":0,"d":"0.00"},{"v":0,"d":"0.00"},{"v":0,"d":"0.00"},{"v":0,"d":"0.00"},{"v":0,"d":"0.00"},{"v":0,"d":"0.00"},{"v":0,"d":"0.00"},{"v":0,"d":"0.00"}]
[{"$nulls":6},"",{"v":0,"d":"0.00"},{"v":0,"d":"0.00"},{"v":0,"d":"0.00"},{"v":0,"d":"0.00"},{"v":0,"d":"0.00"},{"v":0,"d":"0.00"},{"v":0,"d":"0.00"},{"v":0,"d":"0.00"},{"v":0,"d":"0.00"},{"v":0,"d":"0.00"},{"v":0,"d":"0.00"},{"v":0,"d":"0.00"},{"v":0,"d":"0.00"},{"v":0,"d":"0.00"},{"v":0,"d":"0.00"},{"v":0,"d":"0.00"},{"v":0,"d":"0.00"},{"v":0,"d":"0.00"},{"v":0,"d":"0.00"},{"v":0,"d":"0.00"}]
[{"$nulls":6},"",{"v":0,"d":"0.00"},{"v":0,"d":"0.00"},{"v":0,"d":"0.00"},{"v":0,"d":"0.00"},{"v":0,"d":"0.00"},{"v":0,"d":"0.00"},{"v":0,"d":"0.00"},{"v":0,"d":"0.00"},{"v":0,"d":"0.00"},{"v":0,"d":"0.00"},{"v":0,"d":"0.00"},{"v":0,"d":"0.00"},{"v":0,"d":"0.00"},{"v":0,"d":"0.00"},{"v":0,"d":"0.00"},{"v":0,"d":"0.00"},{"v":0,"d":"0.00"},{"v":0,"d":"0.00"},{"v":0,"d":"0.00"},{"v":0,"d":"0.00"}]
[{"$nulls":6},"BRT",{"v":0,"d":"0.00"},{"v":0,"d":"0.00"},{"v":0,"d":"0.00"},{"v":0,"d":"0.00"},{"v":0,"d":"0.00"},{"v":0,"d":"0.00"},{"v":0,"d":"0.00"},{"v":0,"d":"0.00"},{"v":0,"d":"0.00"},{"v":0,"d":"0.00"},{"v":0,"d":"0.00"},{"v":0,"d":"0.00"},{"v":0,"d":"0.00"},{"v":0,"d":"0.00"},{"v":0,"d":"0.00"},{"v":0,"d":"0.00"},{"v":0,"d":"0.00"},{"v":0,"d":"0.00"},{"v":0,"d":"0.00"},{"v":0,"d":"0.00"}]
[]
[{"$nulls":6},"Adjusted NOx Emission Factor",null,{"$f":"I1454","v":0}]
[{"$nulls":7},{"$f":"H1455","v":0},{"$f":"I1455","v":1},2,3,4,5,6,7,8,9,10,11,12,13,14,15,16,17,18,19]
[{"$nulls":5},"NO BRT",{"$f":"G1456","v":"Cars"},{"$f":"H1456+(H1456*H815)","v":0},{"$f":"I1456+(I1456*I815)","v":0},0,0,0,0,0,0,0,0,0,0,0,0,0,0,0,0,0,0]
[{"$nulls":6},{"$f":"G1457","v":"2-wheeler"},{"$f":"H1457+(H1457*H816)","v":0},0,0,0,0,0,0,0,0,0,0,0,0,0,0,0,0,0,0,0]
[{"$nulls":6},"Taxi",0,0,0,0,0,0,0,0,0,0,0,0,0,0,0,0,0,0,0,0]
[{"$nulls":6},"",0,0,0,0,0,0,0,0,0,0,0,0,0,0,0,0,0,0,0,0]
[{"$nulls":6},"",0,0,0,0,0,0,0,0,0,0,0,0,0,0,0,0,0,0,0,0]
[{"$nulls":6},"3-wheeler",0,0,0,0,0,0,0,0,0,0,0,0,0,0,0,0,0,0,0,0]
[{"$nulls":6},"Bus",0,0,0,0,0,0,0,0,0,0,0,0,0,0,0,0,0,0,0,0]
[{"$nulls":6},"Mini-bus",0,0,0,0,0,0,0,0,0,0,0,0,0,0,0,0,0,0,0,0]
[{"$nulls":6},"",0,0,0,0,0,0,0,0,0,0,0,0,0,0,0,0,0,0,0,0]
[{"$nulls":6},"",0,0,0,0,0,0,0,0,0,0,0,0,0,0,0,0,0,0,0,0]
[{"$nulls":6},"BRT",0,0,0,0,0,0,0,0,0,0,0,0,0,0,0,0,0,0,0,0]
[]
[]
[{"$nulls":6},"CO2 Emission Factor Gasoline"]
[]
[{"$nulls":10},"g/UNIT OF CONSUMPTION",{"$nulls":3},"1st",null,"2nd"]
[{"$nulls":7},{"$f":"H7","v":0},{"$f":"I7","v":0},null,{"$f":"K7","v":0},9,19,null,"intercept","slope","intercept","slope",null,{"$f":"K1486","v":0},{"$f":"L1486","v":9},{"$f":"M1486","v":19},null,"1st","2nd"]
[{"$nulls":5},"NO BRT",{"$f":"G1470","v":"Cars"},{"$f":"IF(ISERROR(((L1487/K1487)^(1/9))-1),0,((L1487/K1487)^(1/9))-1)","v":{"v":0,"d":"0%"}},{"$f":"IF(ISERROR(((M1487/L1487)^(1/10))-1),0,((M1487/L1487)^(1/10))-1)","v":0},null,{"$f":"'IF Factors'!CK31","v":0},{"$f":"OFFSET('IF Factors'!CK31,0,5)","v":0},{"$f":"OFFSET('IF Factors'!CK31,0,10)","v":0},null,{"$f":"INTERCEPT(K1487:L1487,$K$7:$L$7)","v":0},{"$f":"SLOPE(K1487:L1487,$K$7:$L$7)","v":0},{"$f":"INTERCEPT(L1487:M1487,$L$7:$M$7)","v":0},{"$f":"SLOPE(L1487:M1487,$L$7:$M$7)","v":0},null,{"$f":"IF(K1487<>0,0,1)","v":1},{"$f":"IF(L1487<>0,0,1)","v":1},{"$f":"IF(M1487<>0,0,1)","v":1},null,{"$f":"IF(T1487+U1487=1,1,0)","v":0},{"$f":"IF(U1487+V1487=1,1,0)","v":0}]
[{"$nulls":6},{"$f":"G1471","v":"2-wheeler"},{"v":0,"d":"0%"},0,null,{"$f":"'IF Factors'!CK32","v":0},{"$f":"OFFSET('IF Factors'!CK32,0,5)","v":0},{"$f":"OFFSET('IF Factors'!CK32,0,10)","v":0},null,{"$f":"INTERCEPT(K1488:L1488,$K$7:$L$7)","v":0},{"$f":"SLOPE(K1488:L1488,$K$7:$L$7)","v":0},{"$f":"INTERCEPT(L1488:M1488,$L$7:$M$7)","v":0},{"$f":"SLOPE(L1488:M1488,$L$7:$M$7)","v":0},null,{"$f":"IF(K1488<>0,0,1)","v":1},1,1,null,{"$f":"IF(T1488+U1488=1,1,0)","v":0},0]
[{"$nulls":6},"Taxi",{"v":0,"d":"0%"},0,null,{"$f":"'IF Factors'!CK33","v":0},{"$f":"OFFSET('IF Factors'!CK33,0,5)","v":0},{"$f":"OFFSET('IF Factors'!CK33,0,10)","v":0},null,0,0,0,0,null,1,1,1,null,0,0]
[{"$nulls":6},"",{"v":0,"d":"0%"},0,null,{"$f":"'IF Factors'!CK34","v":0},{"$f":"OFFSET('IF Factors'!CK34,0,5)","v":0},{"$f":"OFFSET('IF Factors'!CK34,0,10)","v":0},null,0,0,0,0,null,1,1,1,null,0,0]
[{"$nulls":6},"",{"v":0,"d":"0%"},0,null,{"$f":"'IF Factors'!CK35","v":0},{"$f":"OFFSET('IF Factors'!CK35,0,5)","v":0},{"$f":"OFFSET('IF Factors'!CK35,0,10)","v":0},null,0,0,0,0,null,1,1,1,null,0,0]
[{"$nulls":6},"3-wheeler",{"v":0,"d":"0%"},0,null,{"$f":"'IF Factors'!CK36","v":0},{"$f":"OFFSET('IF Factors'!CK36,0,5)","v":0},{"$f":"OFFSET('IF Factors'!CK36,0,10)","v":0},null,0,0,0,0,null,1,1,1,null,0,0]
[{"$nulls":6},"Bus",{"v":0,"d":"0%"},0,null,{"$f":"'IF Factors'!CK37","v":0},{"$f":"OFFSET('IF Factors'!CK37,0,5)","v":0},{"$f":"OFFSET('IF Factors'!CK37,0,10)","v":0},null,0,0,0,0,null,1,1,1,null,0,0]
[{"$nulls":6},"Mini-bus",{"v":0,"d":"0%"},0,null,{"$f":"'IF Factors'!CK38","v":0},{"$f":"OFFSET('IF Factors'!CK38,0,5)","v":0},{"$f":"OFFSET('IF Factors'!CK38,0,10)","v":0},null,0,0,0,0,null,1,1,1,null,0,0]
[{"$nulls":6},"",{"v":0,"d":"0%"},0,null,{"$f":"'IF Factors'!CK39","v":0},{"$f":"OFFSET('IF Factors'!CK39,0,5)","v":0},{"$f":"OFFSET('IF Factors'!CK39,0,10)","v":0},null,0,0,0,0,null,1,1,1,null,0,0]
[{"$nulls":6},"",{"v":0,"d":"0%"},0,null,{"$f":"'IF Factors'!CK40","v":0},{"$f":"OFFSET('IF Factors'!CK40,0,5)","v":0},{"$f":"OFFSET('IF Factors'!CK40,0,10)","v":0},null,0,0,0,0,null,1,1,1,null,0,0]
[{"$nulls":6},"BRT",{"v":0,"d":"0%"},0,null,{"$f":"'IF Factors'!CK41","v":0},{"$f":"OFFSET('IF Factors'!CK41,0,5)","v":0},{"$f":"OFFSET('IF Factors'!CK41,0,10)","v":0},null,0,0,0,0,null,1,1,1,null,0,0]
[]
[]
[]
[{"$nulls":6},"CO2 Emission Factor",null,"Gasoline"]
[{"$nulls":7},{"$f":"H1469","v":0},{"$f":"I1469","v":1},2,3,4,5,6,7,8,9,10,11,12,13,14,15,16,17,18,19]
[{"$nulls":5},"NO BRT",{"$f":"G1470","v":"Cars"},{"$f":"K1487","v":{"v":0,"d":"0.00"}},{"$f":"(I$23*$P1487)+$O1487","v":{"v":0,"d":"0.00"}},{"$f":"(J$23*$P1487)+$O1487","v":{"v":0,"d":"0.00"}},{"v":0,"d":"0.00"},{"v":0,"d":"0.00"},{"v":0,"d":"0.00"},{"v":0,"d":"0.00"},{"v":0,"d":"0.00"},{"v":0,"d":"0.00"},{"$f":"L1487","v":{"v":0,"d":"0.00"}},{"$f":"(R$23*$R1487)+$Q1487","v":{"v":0,"d":"0.00"}},{"$f":"(S$23*$R1487)+$Q1487","v":{"v":0,"d":"0.00"}},{"v":0,"d":"0.00"},{"v":0,"d":"0.00"},{"v":0,"d":"0.00"},{"v":0,"d":"0.00"},{"v":0,"d":"0.00"},{"v":0,"d":"0.00"},{"v":0,"d":"0.00"},{"$f":"M1487","v":{"v":0,"d":"0.00"}}]
[{"$nulls":6},{"$f":"G1471","v":"2-wheeler"},{"$f":"K1488","v":{"v":0,"d":"0.00"}},{"$f":"(I$23*$P1488)+$O1488","v":{"v":0,"d":"0.00"}},{"v":0,"d":"0.00"},{"v":0,"d":"0.00"},{"v":0,"d":"0.00"},{"v":0,"d":"0.00"},{"v":0,"d":"0.00"},{"v":0,"d":"0.00"},{"v":0,"d":"0.00"},{"$f":"L1488","v":{"v":0,"d":"0.00"}},{"$f":"(R$23*$R1488)+$Q1488","v":{"v":0,"d":"0.00"}},{"v":0,"d":"0.00"},{"v":0,"d":"0.00"},{"v":0,"d":"0.00"},{"v":0,"d":"0.00"},{"v":0,"d":"0.00"},{"v":0,"d":"0.00"},{"v":0,"d":"0.00"},{"v":0,"d":"0.00"},{"$f":"M1488","v":{"v":0,"d":"0.00"}}]
[{"$nulls":6},"Taxi",{"v":0,"d":"0.00"},{"v":0,"d":"0.00"},{"v":0,"d":"0.00"},{"v":0,"d":"0.00"},{"v":0,"d":"0.00"},{"v":0,"d":"0.00"},{"v":0,"d":"0.00"},{"v":0,"d":"0.00"},{"v":0,"d":"0.00"},{"v":0,"d":"0.00"},{"v":0,"d":"0.00"},{"v":0,"d":"0.00"},{"v":0,"d":"0.00"},{"v":0,"d":"0.00"},{"v":0,"d":"0.00"},{"v":0,"d":"0.00"},{"v":0,"d":"0.00"},{"v":0,"d":"0.00"},{"v":0,"d":"0.00"},{"v":0,"d":"0.00"}]
[{"$nulls":6},"",{"v":0,"d":"0.00"},{"v":0,"d":"0.00"},{"v":0,"d":"0.00"},{"v":0,"d":"0.00"},{"v":0,"d":"0.00"},{"v":0,"d":"0.00"},{"v":0,"d":"0.00"},{"v":0,"d":"0.00"},{"v":0,"d":"0.00"},{"v":0,"d":"0.00"},{"v":0,"d":"0.00"},{"v":0,"d":"0.00"},{"v":0,"d":"0.00"},{"v":0,"d":"0.00"},{"v":0,"d":"0.00"},{"v":0,"d":"0.00"},{"v":0,"d":"0.00"},{"v":0,"d":"0.00"},{"v":0,"d":"0.00"},{"v":0,"d":"0.00"}]
[{"$nulls":6},"",{"v":0,"d":"0.00"},{"v":0,"d":"0.00"},{"v":0,"d":"0.00"},{"v":0,"d":"0.00"},{"v":0,"d":"0.00"},{"v":0,"d":"0.00"},{"v":0,"d":"0.00"},{"v":0,"d":"0.00"},{"v":0,"d":"0.00"},{"v":0,"d":"0.00"},{"v":0,"d":"0.00"},{"v":0,"d":"0.00"},{"v":0,"d":"0.00"},{"v":0,"d":"0.00"},{"v":0,"d":"0.00"},{"v":0,"d":"0.00"},{"v":0,"d":"0.00"},{"v":0,"d":"0.00"},{"v":0,"d":"0.00"},{"v":0,"d":"0.00"}]
[{"$nulls":6},"3-wheeler",{"v":0,"d":"0.00"},{"v":0,"d":"0.00"},{"v":0,"d":"0.00"},{"v":0,"d":"0.00"},{"v":0,"d":"0.00"},{"v":0,"d":"0.00"},{"v":0,"d":"0.00"},{"v":0,"d":"0.00"},{"v":0,"d":"0.00"},{"v":0,"d":"0.00"},{"v":0,"d":"0.00"},{"v":0,"d":"0.00"},{"v":0,"d":"0.00"},{"v":0,"d":"0.00"},{"v":0,"d":"0.00"},{"v":0,"d":"0.00"},{"v":0,"d":"0.00"},{"v":0,"d":"0.00"},{"v":0,"d":"0.00"},{"v":0,"d":"0.00"}]
[{"$nulls":6},"Bus",{"v":0,"d":"0.00"},{"v":0,"d":"0.00"},{"v":0,"d":"0.00"},{"v":0,"d":"0.00"},{"v":0,"d":"0.00"},{"v":0,"d":"0.00"},{"v":0,"d":"0.00"},{"v":0,"d":"0.00"},{"v":0,"d":"0.00"},{"v":0,"d":"0.00"},{"v":0,"d":"0.00"},{"v":0,"d":"0.00"},{"v":0,"d":"0.00"},{"v":0,"d":"0.00"},{"v":0,"d":"0.00"},{"v":0,"d":"0.00"},{"v":0,"d":"0.00"},{"v":0,"d":"0.00"},{"v":0,"d":"0.00"},{"v":0,"d":"0.00"}]
[{"$nulls":6},"Mini-bus",{"v":0,"d":"0.00"},{"v":0,"d":"0.00"},{"v":0,"d":"0.00"},{"v":0,"d":"0.00"},{"v":0,"d":"0.00"},{"v":0,"d":"0.00"},{"v":0,"d":"0.00"},{"v":0,"d":"0.00"},{"v":0,"d":"0.00"},{"v":0,"d":"0.00"},{"v":0,"d":"0.00"},{"v":0,"d":"0.00"},{"v":0,"d":"0.00"},{"v":0,"d":"0.00"},{"v":0,"d":"0.00"},{"v":0,"d":"0.00"},{"v":0,"d":"0.00"},{"v":0,"d":"0.00"},{"v":0,"d":"0.00"},{"v":0,"d":"0.00"}]
[{"$nulls":6},"",{"v":0,"d":"0.00"},{"v":0,"d":"0.00"},{"v":0,"d":"0.00"},{"v":0,"d":"0.00"},{"v":0,"d":"0.00"},{"v":0,"d":"0.00"},{"v":0,"d":"0.00"},{"v":0,"d":"0.00"},{"v":0,"d":"0.00"},{"v":0,"d":"0.00"},{"v":0,"d":"0.00"},{"v":0,"d":"0.00"},{"v":0,"d":"0.00"},{"v":0,"d":"0.00"},{"v":0,"d":"0.00"},{"v":0,"d":"0.00"},{"v":0,"d":"0.00"},{"v":0,"d":"0.00"},{"v":0,"d":"0.00"},{"v":0,"d":"0.00"}]
[{"$nulls":6},"",{"v":0,"d":"0.00"},{"v":0,"d":"0.00"},{"v":0,"d":"0.00"},{"v":0,"d":"0.00"},{"v":0,"d":"0.00"},{"v":0,"d":"0.00"},{"v":0,"d":"0.00"},{"v":0,"d":"0.00"},{"v":0,"d":"0.00"},{"v":0,"d":"0.00"},{"v":0,"d":"0.00"},{"v":0,"d":"0.00"},{"v":0,"d":"0.00"},{"v":0,"d":"0.00"},{"v":0,"d":"0.00"},{"v":0,"d":"0.00"},{"v":0,"d":"0.00"},{"v":0,"d":"0.00"},{"v":0,"d":"0.00"},{"v":0,"d":"0.00"}]
[{"$nulls":6},"BRT",{"v":0,"d":"0.00"},{"v":0,"d":"0.00"},{"v":0,"d":"0.00"},{"v":0,"d":"0.00"},{"v":0,"d":"0.00"},{"v":0,"d":"0.00"},{"v":0,"d":"0.00"},{"v":0,"d":"0.00"},{"v":0,"d":"0.00"},{"v":0,"d":"0.00"},{"v":0,"d":"0.00"},{"v":0,"d":"0.00"},{"v":0,"d":"0.00"},{"v":0,"d":"0.00"},{"v":0,"d":"0.00"},{"v":0,"d":"0.00"},{"v":0,"d":"0.00"},{"v":0,"d":"0.00"},{"v":0,"d":"0.00"},{"v":0,"d":"0.00"}]
[]
[{"$nulls":6},"Adjusted CO2 Emission Factor",null,{"$f":"I1501","v":"Gasoline"}]
[{"$nulls":7},{"$f":"H1502","v":0},{"$f":"I1502","v":1},2,3,4,5,6,7,8,9,10,11,12,13,14,15,16,17,18,19]
{"$rows_empty":13}
[{"$nulls":6},"CO2 Emission Factor Diesel"]
[]
[{"$nulls":10},"g/UNIT OF CONSUMPTION",{"$nulls":3},"1st",null,"2nd"]
[{"$nulls":7},{"$f":"H1486","v":0},{"$f":"I1486","v":0},null,{"$f":"K1486","v":0},{"$f":"L1486","v":9},{"$f":"M1486","v":19},null,"intercept","slope","intercept","slope",null,{"$f":"K1533","v":0},{"$f":"L1533","v":9},{"$f":"M1533","v":19},null,"1st","2nd"]
[{"$nulls":5},"NO BRT",{"$f":"G1503","v":"Cars"},{"$f":"IF(ISERROR(((L1534/K1534)^(1/9))-1),0,((L1534/K1534)^(1/9))-1)","v":{"v":0,"d":"0%"}},{"$f":"IF(ISERROR(((M1534/L1534)^(1/10))-1),0,((M1534/L1534)^(1/10))-1)","v":0},null,{"$f":"'IF Factors'!CK46","v":0},{"$f":"OFFSET('IF Factors'!CK46,0,5)","v":0},{"$f":"OFFSET('IF Factors'!CK46,0,10)","v":0},null,{"$f":"INTERCEPT(K1534:L1534,$K$7:$L$7)","v":0},{"$f":"SLOPE(K1534:L1534,$K$7:$L$7)","v":0},{"$f":"INTERCEPT(L1534:M1534,$L$7:$M$7)","v":0},{"$f":"SLOPE(L1534:M1534,$L$7:$M$7)","v":0},null,{"$f":"IF(K1534<>0,0,1)","v":1},{"$f":"IF(L1534<>0,0,1)","v":1},{"$f":"IF(M1534<>0,0,1)","v":1},null,{"$f":"IF(T1534+U1534=1,1,0)","v":0},{"$f":"IF(U1534+V1534=1,1,0)","v":0}]
[{"$nulls":6},{"$f":"G1504","v":"2-wheeler"},{"v":0,"d":"0%"},0,null,{"$f":"'IF Factors'!CK47","v":0},{"$f":"OFFSET('IF Factors'!CK47,0,5)","v":0},{"$f":"OFFSET('IF Factors'!CK47,0,10)","v":0},null,{"$f":"INTERCEPT(K1535:L1535,$K$7:$L$7)","v":0},{"$f":"SLOPE(K1535:L1535,$K$7:$L$7)","v":0},{"$f":"INTERCEPT(L1535:M1535,$L$7:$M$7)","v":0},{"$f":"SLOPE(L1535:M1535,$L$7:$M$7)","v":0},null,{"$f":"IF(K1535<>0,0,1)","v":1},1,1,null,{"$f":"IF(T1535+U1535=1,1,0)","v":0},0]
[{"$nulls":6},"Taxi",{"v":0,"d":"0%"},0,null,{"$f":"'IF Factors'!CK48","v":0},{"$f":"OFFSET('IF Factors'!CK48,0,5)","v":0},{"$f":"OFFSET('IF Factors'!CK48,0,10)","v":0},null,0,0,0,0,null,1,1,1,null,0,0]
[{"$nulls":6},"",{"v":0,"d":"0%"},0,null,{"$f":"'IF Factors'!CK49","v":0},{"$f":"OFFSET('IF Factors'!CK49,0,5)","v":0},{"$f":"OFFSET('IF Factors'!CK49,0,10)","v":0},null,0,0,0,0,null,1,1,1,null,0,0]
[{"$nulls":6},"",{"v":0,"d":"0%"},0,null,{"$f":"'IF Factors'!CK50","v":0},{"$f":"OFFSET('IF Factors'!CK50,0,5)","v":0},{"$f":"OFFSET('IF Factors'!CK50,0,10)","v":0},null,0,0,0,0,null,1,1,1,null,0,0]
[{"$nulls":6},"3-wheeler",{"v":0,"d":"0%"},0,null,{"$f":"'IF Factors'!CK51","v":0},{"$f":"OFFSET('IF Factors'!CK51,0,5)","v":0},{"$f":"OFFSET('IF Factors'!CK51,0,10)","v":0},null,0,0,0,0,null,1,1,1,null,0,0]
[{"$nulls":6},"Bus",{"v":0,"d":"0%"},0,null,{"$f":"'IF Factors'!CK52","v":0},{"$f":"OFFSET('IF Factors'!CK52,0,5)","v":0},{"$f":"OFFSET('IF Factors'!CK52,0,10)","v":0},null,0,0,0,0,null,1,1,1,null,0,0]
[{"$nulls":6},"Mini-bus",{"v":0,"d":"0%"},0,null,{"$f":"'IF Factors'!CK53","v":0},{"$f":"OFFSET('IF Factors'!CK53,0,5)","v":0},{"$f":"OFFSET('IF Factors'!CK53,0,10)","v":0},null,0,0,0,0,null,1,1,1,null,0,0]
[{"$nulls":6},"",{"v":0,"d":"0%"},0,null,{"$f":"'IF Factors'!CK54","v":0},{"$f":"OFFSET('IF Factors'!CK54,0,5)","v":0},{"$f":"OFFSET('IF Factors'!CK54,0,10)","v":0},null,0,0,0,0,null,1,1,1,null,0,0]
[{"$nulls":6},"",{"v":0,"d":"0%"},0,null,{"$f":"'IF Factors'!CK55","v":0},{"$f":"OFFSET('IF Factors'!CK55,0,5)","v":0},{"$f":"OFFSET('IF Factors'!CK55,0,10)","v":0},null,0,0,0,0,null,1,1,1,null,0,0]
[{"$nulls":6},"BRT",{"v":0,"d":"0%"},0,null,{"$f":"'IF Factors'!CK56","v":0},{"$f":"OFFSET('IF Factors'!CK56,0,5)","v":0},{"$f":"OFFSET('IF Factors'!CK56,0,10)","v":0},null,0,{"$f":"SLOPE(K1544:L1544,$K$7:$L$7)","v":0},0,{"$f":"SLOPE(L1544:M1544,$L$7:$M$7)","v":0},null,1,1,1,null,0,0]
[]
[]
[]
[{"$nulls":6},"CO2 Emission Factor",null,"Diesel"]
[{"$nulls":7},{"$f":"H1516","v":0},{"$f":"I1516","v":1},2,3,4,5,6,7,8,9,10,11,12,13,14,15,16,17,18,19]
[{"$nulls":5},"NO BRT",{"$f":"G1534","v":"Cars"},{"$f":"K1534","v":{"v":0,"d":"0.00"}},{"$f":"(I$23*$P1534)+$O1534","v":{"v":0,"d":"0.00"}},{"$f":"(J$23*$P1534)+$O1534","v":{"v":0,"d":"0.00"}},{"v":0,"d":"0.00"},{"v":0,"d":"0.00"},{"v":0,"d":"0.00"},{"v":0,"d":"0.00"},{"v":0,"d":"0.00"},{"v":0,"d":"0.00"},{"$f":"L1534","v":{"v":0,"d":"0.00"}},{"$f":"(R$23*$R1534)+$Q1534","v":{"v":0,"d":"0.00"}},{"$f":"(S$23*$R1534)+$Q1534","v":{"v":0,"d":"0.00"}},{"v":0,"d":"0.00"},{"v":0,"d":"0.00"},{"v":0,"d":"0.00"},{"v":0,"d":"0.00"},{"v":0,"d":"0.00"},{"v":0,"d":"0.00"},{"v":0,"d":"0.00"},{"$f":"M1534","v":{"v":0,"d":"0.00"}}]
[{"$nulls":6},{"$f":"G1535","v":"2-wheeler"},{"$f":"K1535","v":{"v":0,"d":"0.00"}},{"$f":"(I$23*$P1535)+$O1535","v":{"v":0,"d":"0.00"}},{"v":0,"d":"0.00"},{"v":0,"d":"0.00"},{"v":0,"d":"0.00"},{"v":0,"d":"0.00"},{"v":0,"d":"0.00"},{"v":0,"d":"0.00"},{"v":0,"d":"0.00"},{"$f":"L1535","v":{"v":0,"d":"0.00"}},{"$f":"(R$23*$R1535)+$Q1535","v":{"v":0,"d":"0.00"}},{"v":0,"d":"0.00"},{"v":0,"d":"0.00"},{"v":0,"d":"0.00"},{"v":0,"d":"0.00"},{"v":0,"d":"0.00"},{"v":0,"d":"0.00"},{"v":0,"d":"0.00"},{"v":0,"d":"0.00"},{"$f":"M1535","v":{"v":0,"d":"0.00"}}]
[{"$nulls":6},"Taxi",{"v":0,"d":"0.00"},{"v":0,"d":"0.00"},{"v":0,"d":"0.00"},{"v":0,"d":"0.00"},{"v":0,"d":"0.00"},{"v":0,"d":"0.00"},{"v":0,"d":"0.00"},{"v":0,"d":"0.00"},{"v":0,"d":"0.00"},{"v":0,"d":"0.00"},{"v":0,"d":"0.00"},{"v":0,"d":"0.00"},{"v":0,"d":"0.00"},{"v":0,"d":"0.00"},{"v":0,"d":"0.00"},{"v":0,"d":"0.00"},{"v":0,"d":"0.00"},{"v":0,"d":"0.00"},{"v":0,"d":"0.00"},{"v":0,"d":"0.00"}]
[{"$nulls":6},"",{"v":0,"d":"0.00"},{"v":0,"d":"0.00"},{"v":0,"d":"0.00"},{"v":0,"d":"0.00"},{"v":0,"d":"0.00"},{"v":0,"d":"0.00"},{"v":0,"d":"0.00"},{"v":0,"d":"0.00"},{"v":0,"d":"0.00"},{"v":0,"d":"0.00"},{"v":0,"d":"0.00"},{"v":0,"d":"0.00"},{"v":0,"d":"0.00"},{"v":0,"d":"0.00"},{"v":0,"d":"0.00"},{"v":0,"d":"0.00"},{"v":0,"d":"0.00"},{"v":0,"d":"0.00"},{"v":0,"d":"0.00"},{"v":0,"d":"0.00"}]
[{"$nulls":6},"",{"v":0,"d":"0.00"},{"v":0,"d":"0.00"},{"v":0,"d":"0.00"},{"v":0,"d":"0.00"},{"v":0,"d":"0.00"},{"v":0,"d":"0.00"},{"v":0,"d":"0.00"},{"v":0,"d":"0.00"},{"v":0,"d":"0.00"},{"v":0,"d":"0.00"},{"v":0,"d":"0.00"},{"v":0,"d":"0.00"},{"v":0,"d":"0.00"},{"v":0,"d":"0.00"},{"v":0,"d":"0.00"},{"v":0,"d":"0.00"},{"v":0,"d":"0.00"},{"v":0,"d":"0.00"},{"v":0,"d":"0.00"},{"v":0,"d":"0.00"}]
[{"$nulls":6},"3-wheeler",{"v":0,"d":"0.00"},{"v":0,"d":"0.00"},{"v":0,"d":"0.00"},{"v":0,"d":"0.00"},{"v":0,"d":"0.00"},{"v":0,"d":"0.00"},{"v":0,"d":"0.00"},{"v":0,"d":"0.00"},{"v":0,"d":"0.00"},{"v":0,"d":"0.00"},{"v":0,"d":"0.00"},{"v":0,"d":"0.00"},{"v":0,"d":"0.00"},{"v":0,"d":"0.00"},{"v":0,"d":"0.00"},{"v":0,"d":"0.00"},{"v":0,"d":"0.00"},{"v":0,"d":"0.00"},{"v":0,"d":"0.00"},{"v":0,"d":"0.00"}]
[{"$nulls":6},"Bus",{"v":0,"d":"0.00"},{"v":0,"d":"0.00"},{"v":0,"d":"0.00"},{"v":0,"d":"0.00"},{"v":0,"d":"0.00"},{"v":0,"d":"0.00"},{"v":0,"d":"0.00"},{"v":0,"d":"0.00"},{"v":0,"d":"0.00"},{"v":0,"d":"0.00"},{"v":0,"d":"0.00"},{"v":0,"d":"0.00"},{"v":0,"d":"0.00"},{"v":0,"d":"0.00"},{"v":0,"d":"0.00"},{"v":0,"d":"0.00"},{"v":0,"d":"0.00"},{"v":0,"d":"0.00"},{"v":0,"d":"0.00"},{"v":0,"d":"0.00"}]
[{"$nulls":6},"Mini-bus",{"v":0,"d":"0.00"},{"v":0,"d":"0.00"},{"v":0,"d":"0.00"},{"v":0,"d":"0.00"},{"v":0,"d":"0.00"},{"v":0,"d":"0.00"},{"v":0,"d":"0.00"},{"v":0,"d":"0.00"},{"v":0,"d":"0.00"},{"v":0,"d":"0.00"},{"v":0,"d":"0.00"},{"v":0,"d":"0.00"},{"v":0,"d":"0.00"},{"v":0,"d":"0.00"},{"v":0,"d":"0.00"},{"v":0,"d":"0.00"},{"v":0,"d":"0.00"},{"v":0,"d":"0.00"},{"v":0,"d":"0.00"},{"v":0,"d":"0.00"}]
[{"$nulls":6},"",{"v":0,"d":"0.00"},{"v":0,"d":"0.00"},{"v":0,"d":"0.00"},{"v":0,"d":"0.00"},{"v":0,"d":"0.00"},{"v":0,"d":"0.00"},{"v":0,"d":"0.00"},{"v":0,"d":"0.00"},{"v":0,"d":"0.00"},{"v":0,"d":"0.00"},{"v":0,"d":"0.00"},{"v":0,"d":"0.00"},{"v":0,"d":"0.00"},{"v":0,"d":"0.00"},{"v":0,"d":"0.00"},{"v":0,"d":"0.00"},{"v":0,"d":"0.00"},{"v":0,"d":"0.00"},{"v":0,"d":"0.00"},{"v":0,"d":"0.00"}]
[{"$nulls":6},"",{"v":0,"d":"0.00"},{"v":0,"d":"0.00"},{"v":0,"d":"0.00"},{"v":0,"d":"0.00"},{"v":0,"d":"0.00"},{"v":0,"d":"0.00"},{"v":0,"d":"0.00"},{"v":0,"d":"0.00"},{"v":0,"d":"0.00"},{"v":0,"d":"0.00"},{"v":0,"d":"0.00"},{"v":0,"d":"0.00"},{"v":0,"d":"0.00"},{"v":0,"d":"0.00"},{"v":0,"d":"0.00"},{"v":0,"d":"0.00"},{"v":0,"d":"0.00"},{"v":0,"d":"0.00"},{"v":0,"d":"0.00"},{"v":0,"d":"0.00"}]
[{"$nulls":6},"BRT",{"v":0,"d":"0.00"},{"v":0,"d":"0.00"},{"v":0,"d":"0.00"},{"v":0,"d":"0.00"},{"v":0,"d":"0.00"},{"v":0,"d":"0.00"},{"v":0,"d":"0.00"},{"v":0,"d":"0.00"},{"v":0,"d":"0.00"},{"v":0,"d":"0.00"},{"v":0,"d":"0.00"},{"v":0,"d":"0.00"},{"v":0,"d":"0.00"},{"v":0,"d":"0.00"},{"v":0,"d":"0.00"},{"v":0,"d":"0.00"},{"v":0,"d":"0.00"},{"v":0,"d":"0.00"},{"v":0,"d":"0.00"},{"v":0,"d":"0.00"}]
[]
[{"$nulls":6},"Adjusted CO2 Emission Factor",null,{"$f":"I1548","v":"Diesel"}]
[{"$nulls":7},{"$f":"H1549","v":0},{"$f":"I1549","v":1},2,3,4,5,6,7,8,9,10,11,12,13,14,15,16,17,18,19]
[{"$nulls":5},"NO BRT"]
{"$rows_empty":12}
[{"$nulls":6},"CO2 Emission Factor LPG"]
[]
[{"$nulls":10},"g/UNIT OF CONSUMPTION",{"$nulls":3},"1st",null,"2nd"]
[{"$nulls":7},{"$f":"H1533","v":0},{"$f":"I1533","v":0},null,{"$f":"K1533","v":0},{"$f":"L1533","v":9},{"$f":"M1533","v":19},null,"intercept","slope","intercept","slope",null,{"$f":"K1580","v":0},{"$f":"L1580","v":9},{"$f":"M1580","v":19},null,"1st","2nd"]
[{"$nulls":5},"NO BRT",{"$f":"G1550","v":"Cars"},{"$f":"IF(ISERROR(((L1581/K1581)^(1/9))-1),0,((L1581/K1581)^(1/9))-1)","v":{"v":0,"d":"0%"}},{"$f":"IF(ISERROR(((M1581/L1581)^(1/10))-1),0,((M1581/L1581)^(1/10))-1)","v":0},null,{"$f":"'IF Factors'!CK61","v":0},{"$f":"OFFSET('IF Factors'!CK61,0,5)","v":0},{"$f":"OFFSET('IF Factors'!CK61,0,10)","v":0},null,{"$f":"INTERCEPT(K1581:L1581,$K$7:$L$7)","v":0},{"$f":"SLOPE(K1581:L1581,$K$7:$L$7)","v":0},{"$f":"INTERCEPT(L1581:M1581,$L$7:$M$7)","v":0},{"$f":"SLOPE(L1581:M1581,$L$7:$M$7)","v":0},null,{"$f":"IF(K1581<>0,0,1)","v":1},{"$f":"IF(L1581<>0,0,1)","v":1},{"$f":"IF(M1581<>0,0,1)","v":1},null,{"$f":"IF(T1581+U1581=1,1,0)","v":0},{"$f":"IF(U1581+V1581=1,1,0)","v":0}]
[{"$nulls":6},{"$f":"G1551","v":"2-wheeler"},{"v":0,"d":"0%"},0,null,{"$f":"'IF Factors'!CK62","v":0},{"$f":"OFFSET('IF Factors'!CK62,0,5)","v":0},{"$f":"OFFSET('IF Factors'!CK62,0,10)","v":0},null,{"$f":"INTERCEPT(K1582:L1582,$K$7:$L$7)","v":0},{"$f":"SLOPE(K1582:L1582,$K$7:$L$7)","v":0},{"$f":"INTERCEPT(L1582:M1582,$L$7:$M$7)","v":0},{"$f":"SLOPE(L1582:M1582,$L$7:$M$7)","v":0},null,{"$f":"IF(K1582<>0,0,1)","v":1},1,1,null,{"$f":"IF(T1582+U1582=1,1,0)","v":0},0]
[{"$nulls":6},"Taxi",{"v":0,"d":"0%"},0,null,{"$f":"'IF Factors'!CK63","v":0},{"$f":"OFFSET('IF Factors'!CK63,0,5)","v":0},{"$f":"OFFSET('IF Factors'!CK63,0,10)","v":0},null,0,0,0,0,null,1,1,1,null,0,0]
[{"$nulls":6},"",{"v":0,"d":"0%"},0,null,{"$f":"'IF Factors'!CK64","v":0},{"$f":"OFFSET('IF Factors'!CK64,0,5)","v":0},{"$f":"OFFSET('IF Factors'!CK64,0,10)","v":0},null,0,0,0,0,null,1,1,1,null,0,0]
[{"$nulls":6},"",{"v":0,"d":"0%"},0,null,{"$f":"'IF Factors'!CK65","v":0},{"$f":"OFFSET('IF Factors'!CK65,0,5)","v":0},{"$f":"OFFSET('IF Factors'!CK65,0,10)","v":0},null,0,0,0,0,null,1,1,1,null,0,0]
[{"$nulls":6},"3-wheeler",{"v":0,"d":"0%"},0,null,{"$f":"'IF Factors'!CK66","v":0},{"$f":"OFFSET('IF Factors'!CK66,0,5)","v":0},{"$f":"OFFSET('IF Factors'!CK66,0,10)","v":0},null,0,0,0,0,null,1,1,1,null,0,0]
[{"$nulls":6},"Bus",{"v":0,"d":"0%"},0,null,{"$f":"'IF Factors'!CK67","v":0},{"$f":"OFFSET('IF Factors'!CK67,0,5)","v":0},{"$f":"OFFSET('IF Factors'!CK67,0,10)","v":0},null,0,0,0,0,null,1,1,1,null,0,0]
[{"$nulls":6},"Mini-bus",{"v":0,"d":"0%"},0,null,{"$f":"'IF Factors'!CK68","v":0},{"$f":"OFFSET('IF Factors'!CK68,0,5)","v":0},{"$f":"OFFSET('IF Factors'!CK68,0,10)","v":0},null,0,0,0,0,null,1,1,1,null,0,0]
[{"$nulls":6},"",{"v":0,"d":"0%"},0,null,{"$f":"'IF Factors'!CK69","v":0},{"$f":"OFFSET('IF Factors'!CK69,0,5)","v":0},{"$f":"OFFSET('IF Factors'!CK69,0,10)","v":0},null,0,0,0,0,null,1,1,1,null,0,0]
[{"$nulls":6},"",{"v":0,"d":"0%"},0,null,{"$f":"'IF Factors'!CK70","v":0},{"$f":"OFFSET('IF Factors'!CK70,0,5)","v":0},{"$f":"OFFSET('IF Factors'!CK70,0,10)","v":0},null,0,0,0,0,null,1,1,1,null,0,0]
[{"$nulls":6},"BRT",{"v":0,"d":"0%"},0,null,{"$f":"'IF Factors'!CK71","v":0},{"$f":"OFFSET('IF Factors'!CK71,0,5)","v":0},{"$f":"OFFSET('IF Factors'!CK71,0,10)","v":0},null,0,0,0,0,null,1,1,1,null,0,0]
[]
[]
[]
[{"$nulls":6},"CO2 Emission Factor",null,"LPG"]
[{"$nulls":7},{"$f":"H1563","v":0},{"$f":"I1563","v":1},2,3,4,5,6,7,8,9,10,11,12,13,14,15,16,17,18,19]
[{"$nulls":5},"NO BRT",{"$f":"G1581","v":"Cars"},{"$f":"K1581","v":{"v":0,"d":"0.00"}},{"$f":"(I$23*$P1581)+$O1581","v":{"v":0,"d":"0.00"}},{"$f":"(J$23*$P1581)+$O1581","v":{"v":0,"d":"0.00"}},{"v":0,"d":"0.00"},{"v":0,"d":"0.00"},{"v":0,"d":"0.00"},{"v":0,"d":"0.00"},{"v":0,"d":"0.00"},{"v":0,"d":"0.00"},{"$f":"L1581","v":{"v":0,"d":"0.00"}},{"$f":"(R$23*$R1581)+$Q1581","v":{"v":0,"d":"0.00"}},{"$f":"(S$23*$R1581)+$Q1581","v":{"v":0,"d":"0.00"}},{"v":0,"d":"0.00"},{"v":0,"d":"0.00"},{"v":0,"d":"0.00"},{"v":0,"d":"0.00"},{"v":0,"d":"0.00"},{"v":0,"d":"0.00"},{"v":0,"d":"0.00"},{"$f":"M1581","v":{"v":0,"d":"0.00"}}]
[{"$nulls":6},{"$f":"G1582","v":"2-wheeler"},{"$f":"K1582","v":{"v":0,"d":"0.00"}},{"$f":"(I$23*$P1582)+$O1582","v":{"v":0,"d":"0.00"}},{"v":0,"d":"0.00"},{"v":0,"d":"0.00"},{"v":0,"d":"0.00"},{"v":0,"d":"0.00"},{"v":0,"d":"0.00"},{"v":0,"d":"0.00"},{"v":0,"d":"0.00"},{"$f":"L1582","v":{"v":0,"d":"0.00"}},{"$f":"(R$23*$R1582)+$Q1582","v":{"v":0,"d":"0.00"}},{"v":0,"d":"0.00"},{"v":0,"d":"0.00"},{"v":0,"d":"0.00"},{"v":0,"d":"0.00"},{"v":0,"d":"0.00"},{"v":0,"d":"0.00"},{"v":0,"d":"0.00"},{"v":0,"d":"0.00"},{"$f":"M1582","v":{"v":0,"d":"0.00"}}]
[{"$nulls":6},"Taxi",{"v":0,"d":"0.00"},{"v":0,"d":"0.00"},{"v":0,"d":"0.00"},{"v":0,"d":"0.00"},{"v":0,"d":"0.00"},{"v":0,"d":"0.00"},{"v":0,"d":"0.00"},{"v":0,"d":"0.00"},{"v":0,"d":"0.00"},{"v":0,"d":"0.00"},{"v":0,"d":"0.00"},{"v":0,"d":"0.00"},{"v":0,"d":"0.00"},{"v":0,"d":"0.00"},{"v":0,"d":"0.00"},{"v":0,"d":"0.00"},{"v":0,"d":"0.00"},{"v":0,"d":"0.00"},{"v":0,"d":"0.00"},{"v":0,"d":"0.00"}]
[{"$nulls":6},"",{"v":0,"d":"0.00"},{"v":0,"d":"0.00"},{"v":0,"d":"0.00"},{"v":0,"d":"0.00"},{"v":0,"d":"0.00"},{"v":0,"d":"0.00"},{"v":0,"d":"0.00"},{"v":0,"d":"0.00"},{"v":0,"d":"0.00"},{"v":0,"d":"0.00"},{"v":0,"d":"0.00"},{"v":0,"d":"0.00"},{"v":0,"d":"0.00"},{"v":0,"d":"0.00"},{"v":0,"d":"0.00"},{"v":0,"d":"0.00"},{"v":0,"d":"0.00"},{"v":0,"d":"0.00"},{"v":0,"d":"0.00"},{"v":0,"d":"0.00"}]
[{"$nulls":6},"",{"v":0,"d":"0.00"},{"v":0,"d":"0.00"},{"v":0,"d":"0.00"},{"v":0,"d":"0.00"},{"v":0,"d":"0.00"},{"v":0,"d":"0.00"},{"v":0,"d":"0.00"},{"v":0,"d":"0.00"},{"v":0,"d":"0.00"},{"v":0,"d":"0.00"},{"v":0,"d":"0.00"},{"v":0,"d":"0.00"},{"v":0,"d":"0.00"},{"v":0,"d":"0.00"},{"v":0,"d":"0.00"},{"v":0,"d":"0.00"},{"v":0,"d":"0.00"},{"v":0,"d":"0.00"},{"v":0,"d":"0.00"},{"v":0,"d":"0.00"}]
[{"$nulls":6},"3-wheeler",{"v":0,"d":"0.00"},{"v":0,"d":"0.00"},{"v":0,"d":"0.00"},{"v":0,"d":"0.00"},{"v":0,"d":"0.00"},{"v":0,"d":"0.00"},{"v":0,"d":"0.00"},{"v":0,"d":"0.00"},{"v":0,"d":"0.00"},{"v":0,"d":"0.00"},{"v":0,"d":"0.00"},{"v":0,"d":"0.00"},{"v":0,"d":"0.00"},{"v":0,"d":"0.00"},{"v":0,"d":"0.00"},{"v":0,"d":"0.00"},{"v":0,"d":"0.00"},{"v":0,"d":"0.00"},{"v":0,"d":"0.00"},{"v":0,"d":"0.00"}]
[{"$nulls":6},"Bus",{"v":0,"d":"0.00"},{"v":0,"d":"0.00"},{"v":0,"d":"0.00"},{"v":0,"d":"0.00"},{"v":0,"d":"0.00"},{"v":0,"d":"0.00"},{"v":0,"d":"0.00"},{"v":0,"d":"0.00"},{"v":0,"d":"0.00"},{"v":0,"d":"0.00"},{"v":0,"d":"0.00"},{"v":0,"d":"0.00"},{"v":0,"d":"0.00"},{"v":0,"d":"0.00"},{"v":0,"d":"0.00"},{"v":0,"d":"0.00"},{"v":0,"d":"0.00"},{"v":0,"d":"0.00"},{"v":0,"d":"0.00"},{"v":0,"d":"0.00"}]
[{"$nulls":6},"Mini-bus",{"v":0,"d":"0.00"},{"v":0,"d":"0.00"},{"v":0,"d":"0.00"},{"v":0,"d":"0.00"},{"v":0,"d":"0.00"},{"v":0,"d":"0.00"},{"v":0,"d":"0.00"},{"v":0,"d":"0.00"},{"v":0,"d":"0.00"},{"v":0,"d":"0.00"},{"v":0,"d":"0.00"},{"v":0,"d":"0.00"},{"v":0,"d":"0.00"},{"v":0,"d":"0.00"},{"v":0,"d":"0.00"},{"v":0,"d":"0.00"},{"v":0,"d":"0.00"},{"v":0,"d":"0.00"},{"v":0,"d":"0.00"},{"v":0,"d":"0.00"}]
[{"$nulls":6},"",{"v":0,"d":"0.00"},{"v":0,"d":"0.00"},{"v":0,"d":"0.00"},{"v":0,"d":"0.00"},{"v":0,"d":"0.00"},{"v":0,"d":"0.00"},{"v":0,"d":"0.00"},{"v":0,"d":"0.00"},{"v":0,"d":"0.00"},{"v":0,"d":"0.00"},{"v":0,"d":"0.00"},{"v":0,"d":"0.00"},{"v":0,"d":"0.00"},{"v":0,"d":"0.00"},{"v":0,"d":"0.00"},{"v":0,"d":"0.00"},{"v":0,"d":"0.00"},{"v":0,"d":"0.00"},{"v":0,"d":"0.00"},{"v":0,"d":"0.00"}]
[{"$nulls":6},"",{"v":0,"d":"0.00"},{"v":0,"d":"0.00"},{"v":0,"d":"0.00"},{"v":0,"d":"0.00"},{"v":0,"d":"0.00"},{"v":0,"d":"0.00"},{"v":0,"d":"0.00"},{"v":0,"d":"0.00"},{"v":0,"d":"0.00"},{"v":0,"d":"0.00"},{"v":0,"d":"0.00"},{"v":0,"d":"0.00"},{"v":0,"d":"0.00"},{"v":0,"d":"0.00"},{"v":0,"d":"0.00"},{"v":0,"d":"0.00"},{"v":0,"d":"0.00"},{"v":0,"d":"0.00"},{"v":0,"d":"0.00"},{"v":0,"d":"0.00"}]
[{"$nulls":6},"BRT",{"v":0,"d":"0.00"},{"v":0,"d":"0.00"},{"v":0,"d":"0.00"},{"v":0,"d":"0.00"},{"v":0,"d":"0.00"},{"v":0,"d":"0.00"},{"v":0,"d":"0.00"},{"v":0,"d":"0.00"},{"v":0,"d":"0.00"},{"v":0,"d":"0.00"},{"v":0,"d":"0.00"},{"v":0,"d":"0.00"},{"v":0,"d":"0.00"},{"v":0,"d":"0.00"},{"v":0,"d":"0.00"},{"v":0,"d":"0.00"},{"v":0,"d":"0.00"},{"v":0,"d":"0.00"},{"v":0,"d":"0.00"},{"v":0,"d":"0.00"}]
[]
[{"$nulls":6},"Adjusted CO2 Emission Factor",null,{"$f":"I1595","v":"LPG"}]
[{"$nulls":7},{"$f":"H1596","v":0},{"$f":"I1596","v":1},2,3,4,5,6,7,8,9,10,11,12,13,14,15,16,17,18,19]
[{"$nulls":5},"NO BRT"]
{"$rows_empty":12}
[{"$nulls":6},"CO2 Emission Factor CNG"]
[]
[{"$nulls":10},"g/UNIT OF CONSUMPTION",{"$nulls":3},"1st",null,"2nd"]
[{"$nulls":7},{"$f":"H1580","v":0},{"$f":"I1580","v":0},null,{"$f":"K1580","v":0},{"$f":"L1580","v":9},{"$f":"M1580","v":19},null,"intercept","slope","intercept","slope",null,{"$f":"K1627","v":0},{"$f":"L1627","v":9},{"$f":"M1627","v":19},null,"1st","2nd"]
[{"$nulls":5},"NO BRT",{"$f":"G1597","v":"Cars"},{"$f":"IF(ISERROR(((L1628/K1628)^(1/9))-1),0,((L1628/K1628)^(1/9))-1)","v":{"v":0,"d":"0%"}},{"$f":"IF(ISERROR(((M1628/L1628)^(1/10))-1),0,((M1628/L1628)^(1/10))-1)","v":0},null,{"$f":"'IF Factors'!CK76","v":0},{"$f":"OFFSET('IF Factors'!CK76,0,5)","v":0},{"$f":"OFFSET('IF Factors'!CK76,0,10)","v":0},null,{"$f":"INTERCEPT(K1628:L1628,$K$7:$L$7)","v":0},{"$f":"SLOPE(K1628:L1628,$K$7:$L$7)","v":0},{"$f":"INTERCEPT(L1628:M1628,$L$7:$M$7)","v":0},{"$f":"SLOPE(L1628:M1628,$L$7:$M$7)","v":0},null,{"$f":"IF(K1628<>0,0,1)","v":1},{"$f":"IF(L1628<>0,0,1)","v":1},{"$f":"IF(M1628<>0,0,1)","v":1},null,{"$f":"IF(T1628+U1628=1,1,0)","v":0},{"$f":"IF(U1628+V1628=1,1,0)","v":0}]
[{"$nulls":6},{"$f":"G1598","v":"2-wheeler"},{"v":0,"d":"0%"},0,null,{"$f":"'IF Factors'!CK77","v":0},{"$f":"OFFSET('IF Factors'!CK77,0,5)","v":0},{"$f":"OFFSET('IF Factors'!CK77,0,10)","v":0},null,{"$f":"INTERCEPT(K1629:L1629,$K$7:$L$7)","v":0},{"$f":"SLOPE(K1629:L1629,$K$7:$L$7)","v":0},{"$f":"INTERCEPT(L1629:M1629,$L$7:$M$7)","v":0},{"$f":"SLOPE(L1629:M1629,$L$7:$M$7)","v":0},null,{"$f":"IF(K1629<>0,0,1)","v":1},1,1,null,{"$f":"IF(T1629+U1629=1,1,0)","v":0},0]
[{"$nulls":6},"Taxi",{"v":0,"d":"0%"},0,null,{"$f":"'IF Factors'!CK78","v":0},{"$f":"OFFSET('IF Factors'!CK78,0,5)","v":0},{"$f":"OFFSET('IF Factors'!CK78,0,10)","v":0},null,0,0,0,0,null,1,1,1,null,0,0]
[{"$nulls":6},"",{"v":0,"d":"0%"},0,null,{"$f":"'IF Factors'!CK79","v":0},{"$f":"OFFSET('IF Factors'!CK79,0,5)","v":0},{"$f":"OFFSET('IF Factors'!CK79,0,10)","v":0},null,0,0,0,0,null,1,1,1,null,0,0]
[{"$nulls":6},"",{"v":0,"d":"0%"},0,null,{"$f":"'IF Factors'!CK80","v":0},{"$f":"OFFSET('IF Factors'!CK80,0,5)","v":0},{"$f":"OFFSET('IF Factors'!CK80,0,10)","v":0},null,0,0,0,0,null,1,1,1,null,0,0]
[{"$nulls":6},"3-wheeler",{"v":0,"d":"0%"},0,null,{"$f":"'IF Factors'!CK81","v":0},{"$f":"OFFSET('IF Factors'!CK81,0,5)","v":0},{"$f":"OFFSET('IF Factors'!CK81,0,10)","v":0},null,0,0,0,0,null,1,1,1,null,0,0]
[{"$nulls":6},"Bus",{"v":0,"d":"0%"},0,null,{"$f":"'IF Factors'!CK82","v":0},{"$f":"OFFSET('IF Factors'!CK82,0,5)","v":0},{"$f":"OFFSET('IF Factors'!CK82,0,10)","v":0},null,0,0,0,0,null,1,1,1,null,0,0]
[{"$nulls":6},"Mini-bus",{"v":0,"d":"0%"},0,null,{"$f":"'IF Factors'!CK83","v":0},{"$f":"OFFSET('IF Factors'!CK83,0,5)","v":0},{"$f":"OFFSET('IF Factors'!CK83,0,10)","v":0},null,0,0,0,0,null,1,1,1,null,0,0]
[{"$nulls":6},"",{"v":0,"d":"0%"},0,null,{"$f":"'IF Factors'!CK84","v":0},{"$f":"OFFSET('IF Factors'!CK84,0,5)","v":0},{"$f":"OFFSET('IF Factors'!CK84,0,10)","v":0},null,0,0,0,0,null,1,1,1,null,0,0]
[{"$nulls":6},"",{"v":0,"d":"0%"},0,null,{"$f":"'IF Factors'!CK85","v":0},{"$f":"OFFSET('IF Factors'!CK85,0,5)","v":0},{"$f":"OFFSET('IF Factors'!CK85,0,10)","v":0},null,0,0,0,0,null,1,1,1,null,0,0]
[{"$nulls":6},"BRT",{"v":0,"d":"0%"},0,null,{"$f":"'IF Factors'!CK86","v":0},{"$f":"OFFSET('IF Factors'!CK86,0,5)","v":0},{"$f":"OFFSET('IF Factors'!CK86,0,10)","v":0},null,0,0,0,0,null,1,1,1,null,0,0]
[]
[]
[]
[{"$nulls":6},"CO2 Emission Factor",null,"CNG"]
[{"$nulls":7},{"$f":"H1610","v":0},{"$f":"I1610","v":1},2,3,4,5,6,7,8,9,10,11,12,13,14,15,16,17,18,19]
[{"$nulls":5},"NO BRT",{"$f":"G1628","v":"Cars"},{"$f":"K1628","v":{"v":0,"d":"0.00"}},{"$f":"(I$23*$P1628)+$O1628","v":{"v":0,"d":"0.00"}},{"$f":"(J$23*$P1628)+$O1628","v":{"v":0,"d":"0.00"}},{"v":0,"d":"0.00"},{"v":0,"d":"0.00"},{"v":0,"d":"0.00"},{"v":0,"d":"0.00"},{"v":0,"d":"0.00"},{"v":0,"d":"0.00"},{"$f":"L1628","v":{"v":0,"d":"0.00"}},{"$f":"(R$23*$R1628)+$Q1628","v":{"v":0,"d":"0.00"}},{"$f":"(S$23*$R1628)+$Q1628","v":{"v":0,"d":"0.00"}},{"v":0,"d":"0.00"},{"v":0,"d":"0.00"},{"v":0,"d":"0.00"},{"v":0,"d":"0.00"},{"v":0,"d":"0.00"},{"v":0,"d":"0.00"},{"v":0,"d":"0.00"},{"$f":"M1628","v":{"v":0,"d":"0.00"}}]
[{"$nulls":6},{"$f":"G1629","v":"2-wheeler"},{"$f":"K1629","v":{"v":0,"d":"0.00"}},{"$f":"(I$23*$P1629)+$O1629","v":{"v":0,"d":"0.00"}},{"v":0,"d":"0.00"},{"v":0,"d":"0.00"},{"v":0,"d":"0.00"},{"v":0,"d":"0.00"},{"v":0,"d":"0.00"},{"v":0,"d":"0.00"},{"v":0,"d":"0.00"},{"$f":"L1629","v":{"v":0,"d":"0.00"}},{"$f":"(R$23*$R1629)+$Q1629","v":{"v":0,"d":"0.00"}},{"v":0,"d":"0.00"},{"v":0,"d":"0.00"},{"v":0,"d":"0.00"},{"v":0,"d":"0.00"},{"v":0,"d":"0.00"},{"v":0,"d":"0.00"},{"v":0,"d":"0.00"},{"v":0,"d":"0.00"},{"$f":"M1629","v":{"v":0,"d":"0.00"}}]
[{"$nulls":6},"Taxi",{"v":0,"d":"0.00"},{"v":0,"d":"0.00"},{"v":0,"d":"0.00"},{"v":0,"d":"0.00"},{"v":0,"d":"0.00"},{"v":0,"d":"0.00"},{"v":0,"d":"0.00"},{"v":0,"d":"0.00"},{"v":0,"d":"0.00"},{"v":0,"d":"0.00"},{"v":0,"d":"0.00"},{"v":0,"d":"0.00"},{"v":0,"d":"0.00"},{"v":0,"d":"0.00"},{"v":0,"d":"0.00"},{"v":0,"d":"0.00"},{"v":0,"d":"0.00"},{"v":0,"d":"0.00"},{"v":0,"d":"0.00"},{"v":0,"d":"0.00"}]
[{"$nulls":6},"",{"v":0,"d":"0.00"},{"v":0,"d":"0.00"},{"v":0,"d":"0.00"},{"v":0,"d":"0.00"},{"v":0,"d":"0.00"},{"v":0,"d":"0.00"},{"v":0,"d":"0.00"},{"v":0,"d":"0.00"},{"v":0,"d":"0.00"},{"v":0,"d":"0.00"},{"v":0,"d":"0.00"},{"v":0,"d":"0.00"},{"v":0,"d":"0.00"},{"v":0,"d":"0.00"},{"v":0,"d":"0.00"},{"v":0,"d":"0.00"},{"v":0,"d":"0.00"},{"v":0,"d":"0.00"},{"v":0,"d":"0.00"},{"v":0,"d":"0.00"}]
[{"$nulls":6},"",{"v":0,"d":"0.00"},{"v":0,"d":"0.00"},{"v":0,"d":"0.00"},{"v":0,"d":"0.00"},{"v":0,"d":"0.00"},{"v":0,"d":"0.00"},{"v":0,"d":"0.00"},{"v":0,"d":"0.00"},{"v":0,"d":"0.00"},{"v":0,"d":"0.00"},{"v":0,"d":"0.00"},{"v":0,"d":"0.00"},{"v":0,"d":"0.00"},{"v":0,"d":"0.00"},{"v":0,"d":"0.00"},{"v":0,"d":"0.00"},{"v":0,"d":"0.00"},{"v":0,"d":"0.00"},{"v":0,"d":"0.00"},{"v":0,"d":"0.00"}]
[{"$nulls":6},"3-wheeler",{"v":0,"d":"0.00"},{"v":0,"d":"0.00"},{"v":0,"d":"0.00"},{"v":0,"d":"0.00"},{"v":0,"d":"0.00"},{"v":0,"d":"0.00"},{"v":0,"d":"0.00"},{"v":0,"d":"0.00"},{"v":0,"d":"0.00"},{"v":0,"d":"0.00"},{"v":0,"d":"0.00"},{"v":0,"d":"0.00"},{"v":0,"d":"0.00"},{"v":0,"d":"0.00"},{"v":0,"d":"0.00"},{"v":0,"d":"0.00"},{"v":0,"d":"0.00"},{"v":0,"d":"0.00"},{"v":0,"d":"0.00"},{"v":0,"d":"0.00"}]
[{"$nulls":6},"Bus",{"v":0,"d":"0.00"},{"v":0,"d":"0.00"},{"v":0,"d":"0.00"},{"v":0,"d":"0.00"},{"v":0,"d":"0.00"},{"v":0,"d":"0.00"},{"v":0,"d":"0.00"},{"v":0,"d":"0.00"},{"v":0,"d":"0.00"},{"v":0,"d":"0.00"},{"v":0,"d":"0.00"},{"v":0,"d":"0.00"},{"v":0,"d":"0.00"},{"v":0,"d":"0.00"},{"v":0,"d":"0.00"},{"v":0,"d":"0.00"},{"v":0,"d":"0.00"},{"v":0,"d":"0.00"},{"v":0,"d":"0.00"},{"v":0,"d":"0.00"}]
[{"$nulls":6},"Mini-bus",{"v":0,"d":"0.00"},{"v":0,"d":"0.00"},{"v":0,"d":"0.00"},{"v":0,"d":"0.00"},{"v":0,"d":"0.00"},{"v":0,"d":"0.00"},{"v":0,"d":"0.00"},{"v":0,"d":"0.00"},{"v":0,"d":"0.00"},{"v":0,"d":"0.00"},{"v":0,"d":"0.00"},{"v":0,"d":"0.00"},{"v":0,"d":"0.00"},{"v":0,"d":"0.00"},{"v":0,"d":"0.00"},{"v":0,"d":"0.00"},{"v":0,"d":"0.00"},{"v":0,"d":"0.00"},{"v":0,"d":"0.00"},{"v":0,"d":"0.00"}]
[{"$nulls":6},"",{"v":0,"d":"0.00"},{"v":0,"d":"0.00"},{"v":0,"d":"0.00"},{"v":0,"d":"0.00"},{"v":0,"d":"0.00"},{"v":0,"d":"0.00"},{"v":0,"d":"0.00"},{"v":0,"d":"0.00"},{"v":0,"d":"0.00"},{"v":0,"d":"0.00"},{"v":0,"d":"0.00"},{"v":0,"d":"0.00"},{"v":0,"d":"0.00"},{"v":0,"d":"0.00"},{"v":0,"d":"0.00"},{"v":0,"d":"0.00"},{"v":0,"d":"0.00"},{"v":0,"d":"0.00"},{"v":0,"d":"0.00"},{"v":0,"d":"0.00"}]
[{"$nulls":6},"",{"v":0,"d":"0.00"},{"v":0,"d":"0.00"},{"v":0,"d":"0.00"},{"v":0,"d":"0.00"},{"v":0,"d":"0.00"},{"v":0,"d":"0.00"},{"v":0,"d":"0.00"},{"v":0,"d":"0.00"},{"v":0,"d":"0.00"},{"v":0,"d":"0.00"},{"v":0,"d":"0.00"},{"v":0,"d":"0.00"},{"v":0,"d":"0.00"},{"v":0,"d":"0.00"},{"v":0,"d":"0.00"},{"v":0,"d":"0.00"},{"v":0,"d":"0.00"},{"v":0,"d":"0.00"},{"v":0,"d":"0.00"},{"v":0,"d":"0.00"}]
[{"$nulls":6},"BRT",{"v":0,"d":"0.00"},{"v":0,"d":"0.00"},{"v":0,"d":"0.00"},{"v":0,"d":"0.00"},{"v":0,"d":"0.00"},{"v":0,"d":"0.00"},{"v":0,"d":"0.00"},{"v":0,"d":"0.00"},{"v":0,"d":"0.00"},{"v":0,"d":"0.00"},{"v":0,"d":"0.00"},{"v":0,"d":"0.00"},{"v":0,"d":"0.00"},{"v":0,"d":"0.00"},{"v":0,"d":"0.00"},{"v":0,"d":"0.00"},{"v":0,"d":"0.00"},{"v":0,"d":"0.00"},{"v":0,"d":"0.00"},{"v":0,"d":"0.00"}]
[]
[{"$nulls":6},"Adjusted CO2 Emission Factor",null,{"$f":"I1642","v":"CNG"}]
[{"$nulls":7},{"$f":"H1643","v":0},{"$f":"I1643","v":1},2,3,4,5,6,7,8,9,10,11,12,13,14,15,16,17,18,19]
{"$rows_empty":13}
[{"$nulls":6},"CO2 Emission Factor Electric"]
[]
[{"$nulls":10},"g/UNIT OF CONSUMPTION",{"$nulls":3},"1st",null,"2nd"]
[{"$nulls":7},{"$f":"H1627","v":0},{"$f":"I1627","v":0},null,{"$f":"K1627","v":0},{"$f":"L1627","v":9},{"$f":"M1627","v":19},null,"intercept","slope","intercept","slope",null,{"$f":"K1674","v":0},{"$f":"L1674","v":9},{"$f":"M1674","v":19},null,"1st","2nd"]
[{"$nulls":5},"NO BRT",{"$f":"G1644","v":"Cars"},{"$f":"IF(ISERROR(((L1675/K1675)^(1/9))-1),0,((L1675/K1675)^(1/9))-1)","v":{"v":0,"d":"0%"}},{"$f":"IF(ISERROR(((M1675/L1675)^(1/10))-1),0,((M1675/L1675)^(1/10))-1)","v":0},null,{"$f":"'IF Factors'!CK91","v":0},{"$f":"OFFSET('IF Factors'!CK91,0,5)","v":0},{"$f":"OFFSET('IF Factors'!CK91,0,10)","v":0},null,{"$f":"INTERCEPT(K1675:L1675,$K$7:$L$7)","v":0},{"$f":"SLOPE(K1675:L1675,$K$7:$L$7)","v":0},{"$f":"INTERCEPT(L1675:M1675,$L$7:$M$7)","v":0},{"$f":"SLOPE(L1675:M1675,$L$7:$M$7)","v":0},null,{"$f":"IF(K1675<>0,0,1)","v":1},{"$f":"IF(L1675<>0,0,1)","v":1},{"$f":"IF(M1675<>0,0,1)","v":1},null,{"$f":"IF(T1675+U1675=1,1,0)","v":0},{"$f":"IF(U1675+V1675=1,1,0)","v":0}]
[{"$nulls":6},{"$f":"G1645","v":"2-wheeler"},{"v":0,"d":"0%"},0,null,{"$f":"'IF Factors'!CK92","v":0},{"$f":"OFFSET('IF Factors'!CK92,0,5)","v":0},{"$f":"OFFSET('IF Factors'!CK92,0,10)","v":0},null,{"$f":"INTERCEPT(K1676:L1676,$K$7:$L$7)","v":0},{"$f":"SLOPE(K1676:L1676,$K$7:$L$7)","v":0},{"$f":"INTERCEPT(L1676:M1676,$L$7:$M$7)","v":0},{"$f":"SLOPE(L1676:M1676,$L$7:$M$7)","v":0},null,{"$f":"IF(K1676<>0,0,1)","v":1},1,1,null,{"$f":"IF(T1676+U1676=1,1,0)","v":0},0]
[{"$nulls":6},"Taxi",{"v":0,"d":"0%"},0,null,{"$f":"'IF Factors'!CK93","v":0},{"$f":"OFFSET('IF Factors'!CK93,0,5)","v":0},{"$f":"OFFSET('IF Factors'!CK93,0,10)","v":0},null,0,0,0,0,null,1,1,1,null,0,0]
[{"$nulls":6},"",{"v":0,"d":"0%"},0,null,{"$f":"'IF Factors'!CK94","v":0},{"$f":"OFFSET('IF Factors'!CK94,0,5)","v":0},{"$f":"OFFSET('IF Factors'!CK94,0,10)","v":0},null,0,0,0,0,null,1,1,1,null,0,0]
[{"$nulls":6},"",{"v":0,"d":"0%"},0,null,{"$f":"'IF Factors'!CK95","v":0},{"$f":"OFFSET('IF Factors'!CK95,0,5)","v":0},{"$f":"OFFSET('IF Factors'!CK95,0,10)","v":0},null,0,0,0,0,null,1,1,1,null,0,0]
[{"$nulls":6},"3-wheeler",{"v":0,"d":"0%"},0,null,{"$f":"'IF Factors'!CK96","v":0},{"$f":"OFFSET('IF Factors'!CK96,0,5)","v":0},{"$f":"OFFSET('IF Factors'!CK96,0,10)","v":0},null,0,0,0,0,null,1,1,1,null,0,0]
[{"$nulls":6},"Bus",{"v":0,"d":"0%"},0,null,{"$f":"'IF Factors'!CK97","v":0},{"$f":"OFFSET('IF Factors'!CK97,0,5)","v":0},{"$f":"OFFSET('IF Factors'!CK97,0,10)","v":0},null,0,0,0,0,null,1,1,1,null,0,0]
[{"$nulls":6},"Mini-bus",{"v":0,"d":"0%"},0,null,{"$f":"'IF Factors'!CK98","v":0},{"$f":"OFFSET('IF Factors'!CK98,0,5)","v":0},{"$f":"OFFSET('IF Factors'!CK98,0,10)","v":0},null,0,0,0,0,null,1,1,1,null,0,0]
[{"$nulls":6},"",{"v":0,"d":"0%"},0,null,{"$f":"'IF Factors'!CK99","v":0},{"$f":"OFFSET('IF Factors'!CK99,0,5)","v":0},{"$f":"OFFSET('IF Factors'!CK99,0,10)","v":0},null,0,0,0,0,null,1,1,1,null,0,0]
[{"$nulls":6},"",{"v":0,"d":"0%"},0,null,{"$f":"'IF Factors'!CK100","v":0},{"$f":"OFFSET('IF Factors'!CK100,0,5)","v":0},{"$f":"OFFSET('IF Factors'!CK100,0,10)","v":0},null,0,0,0,0,null,1,1,1,null,0,0]
[{"$nulls":6},"BRT",{"v":0,"d":"0%"},0,null,{"$f":"'IF Factors'!CK101","v":0},{"$f":"OFFSET('IF Factors'!CK101,0,5)","v":0},{"$f":"OFFSET('IF Factors'!CK101,0,10)","v":0},null,0,0,0,0,null,1,1,1,null,0,0]
[]
[]
[]
[{"$nulls":6},"CO2 Emission Factor",null,"Electric"]
[{"$nulls":7},{"$f":"H1657","v":0},{"$f":"I1657","v":1},2,3,4,5,6,7,8,9,10,11,12,13,14,15,16,17,18,19]
[{"$nulls":5},"NO BRT",{"$f":"G1675","v":"Cars"},{"$f":"K1675","v":{"v":0,"d":"0.00"}},{"$f":"(I$23*$P1675)+$O1675","v":{"v":0,"d":"0.00"}},{"$f":"(J$23*$P1675)+$O1675","v":{"v":0,"d":"0.00"}},{"v":0,"d":"0.00"},{"v":0,"d":"0.00"},{"v":0,"d":"0.00"},{"v":0,"d":"0.00"},{"v":0,"d":"0.00"},{"v":0,"d":"0.00"},{"$f":"L1675","v":{"v":0,"d":"0.00"}},{"$f":"(R$23*$R1675)+$Q1675","v":{"v":0,"d":"0.00"}},{"$f":"(S$23*$R1675)+$Q1675","v":{"v":0,"d":"0.00"}},{"v":0,"d":"0.00"},{"v":0,"d":"0.00"},{"v":0,"d":"0.00"},{"v":0,"d":"0.00"},{"v":0,"d":"0.00"},{"v":0,"d":"0.00"},{"v":0,"d":"0.00"},{"$f":"M1675","v":{"v":0,"d":"0.00"}}]
[{"$nulls":6},{"$f":"G1676","v":"2-wheeler"},{"$f":"K1676","v":{"v":0,"d":"0.00"}},{"$f":"(I$23*$P1676)+$O1676","v":{"v":0,"d":"0.00"}},{"v":0,"d":"0.00"},{"v":0,"d":"0.00"},{"v":0,"d":"0.00"},{"v":0,"d":"0.00"},{"v":0,"d":"0.00"},{"v":0,"d":"0.00"},{"v":0,"d":"0.00"},{"$f":"L1676","v":{"v":0,"d":"0.00"}},{"$f":"(R$23*$R1676)+$Q1676","v":{"v":0,"d":"0.00"}},{"v":0,"d":"0.00"},{"v":0,"d":"0.00"},{"v":0,"d":"0.00"},{"v":0,"d":"0.00"},{"v":0,"d":"0.00"},{"v":0,"d":"0.00"},{"v":0,"d":"0.00"},{"v":0,"d":"0.00"},{"$f":"M1676","v":{"v":0,"d":"0.00"}}]
[{"$nulls":6},"Taxi",{"v":0,"d":"0.00"},{"v":0,"d":"0.00"},{"v":0,"d":"0.00"},{"v":0,"d":"0.00"},{"v":0,"d":"0.00"},{"v":0,"d":"0.00"},{"v":0,"d":"0.00"},{"v":0,"d":"0.00"},{"v":0,"d":"0.00"},{"v":0,"d":"0.00"},{"v":0,"d":"0.00"},{"v":0,"d":"0.00"},{"v":0,"d":"0.00"},{"v":0,"d":"0.00"},{"v":0,"d":"0.00"},{"v":0,"d":"0.00"},{"v":0,"d":"0.00"},{"v":0,"d":"0.00"},{"v":0,"d":"0.00"},{"v":0,"d":"0.00"}]
[{"$nulls":6},"",{"v":0,"d":"0.00"},{"v":0,"d":"0.00"},{"v":0,"d":"0.00"},{"v":0,"d":"0.00"},{"v":0,"d":"0.00"},{"v":0,"d":"0.00"},{"v":0,"d":"0.00"},{"v":0,"d":"0.00"},{"v":0,"d":"0.00"},{"v":0,"d":"0.00"},{"v":0,"d":"0.00"},{"v":0,"d":"0.00"},{"v":0,"d":"0.00"},{"v":0,"d":"0.00"},{"v":0,"d":"0.00"},{"v":0,"d":"0.00"},{"v":0,"d":"0.00"},{"v":0,"d":"0.00"},{"v":0,"d":"0.00"},{"v":0,"d":"0.00"}]
[{"$nulls":6},"",{"v":0,"d":"0.00"},{"v":0,"d":"0.00"},{"v":0,"d":"0.00"},{"v":0,"d":"0.00"},{"v":0,"d":"0.00"},{"v":0,"d":"0.00"},{"v":0,"d":"0.00"},{"v":0,"d":"0.00"},{"v":0,"d":"0.00"},{"v":0,"d":"0.00"},{"v":0,"d":"0.00"},{"v":0,"d":"0.00"},{"v":0,"d":"0.00"},{"v":0,"d":"0.00"},{"v":0,"d":"0.00"},{"v":0,"d":"0.00"},{"v":0,"d":"0.00"},{"v":0,"d":"0.00"},{"v":0,"d":"0.00"},{"v":0,"d":"0.00"}]
[{"$nulls":6},"3-wheeler",{"v":0,"d":"0.00"},{"v":0,"d":"0.00"},{"v":0,"d":"0.00"},{"v":0,"d":"0.00"},{"v":0,"d":"0.00"},{"v":0,"d":"0.00"},{"v":0,"d":"0.00"},{"v":0,"d":"0.00"},{"v":0,"d":"0.00"},{"v":0,"d":"0.00"},{"v":0,"d":"0.00"},{"v":0,"d":"0.00"},{"v":0,"d":"0.00"},{"v":0,"d":"0.00"},{"v":0,"d":"0.00"},{"v":0,"d":"0.00"},{"v":0,"d":"0.00"},{"v":0,"d":"0.00"},{"v":0,"d":"0.00"},{"v":0,"d":"0.00"}]
[{"$nulls":6},"Bus",{"v":0,"d":"0.00"},{"v":0,"d":"0.00"},{"v":0,"d":"0.00"},{"v":0,"d":"0.00"},{"v":0,"d":"0.00"},{"v":0,"d":"0.00"},{"v":0,"d":"0.00"},{"v":0,"d":"0.00"},{"v":0,"d":"0.00"},{"v":0,"d":"0.00"},{"v":0,"d":"0.00"},{"v":0,"d":"0.00"},{"v":0,"d":"0.00"},{"v":0,"d":"0.00"},{"v":0,"d":"0.00"},{"v":0,"d":"0.00"},{"v":0,"d":"0.00"},{"v":0,"d":"0.00"},{"v":0,"d":"0.00"},{"v":0,"d":"0.00"}]
[{"$nulls":6},"Mini-bus",{"v":0,"d":"0.00"},{"v":0,"d":"0.00"},{"v":0,"d":"0.00"},{"v":0,"d":"0.00"},{"v":0,"d":"0.00"},{"v":0,"d":"0.00"},{"v":0,"d":"0.00"},{"v":0,"d":"0.00"},{"v":0,"d":"0.00"},{"v":0,"d":"0.00"},{"v":0,"d":"0.00"},{"v":0,"d":"0.00"},{"v":0,"d":"0.00"},{"v":0,"d":"0.00"},{"v":0,"d":"0.00"},{"v":0,"d":"0.00"},{"v":0,"d":"0.00"},{"v":0,"d":"0.00"},{"v":0,"d":"0.00"},{"v":0,"d":"0.00"}]
[{"$nulls":6},"",{"v":0,"d":"0.00"},{"v":0,"d":"0.00"},{"v":0,"d":"0.00"},{"v":0,"d":"0.00"},{"v":0,"d":"0.00"},{"v":0,"d":"0.00"},{"v":0,"d":"0.00"},{"v":0,"d":"0.00"},{"v":0,"d":"0.00"},{"v":0,"d":"0.00"},{"v":0,"d":"0.00"},{"v":0,"d":"0.00"},{"v":0,"d":"0.00"},{"v":0,"d":"0.00"},{"v":0,"d":"0.00"},{"v":0,"d":"0.00"},{"v":0,"d":"0.00"},{"v":0,"d":"0.00"},{"v":0,"d":"0.00"},{"v":0,"d":"0.00"}]
[{"$nulls":6},"",{"v":0,"d":"0.00"},{"v":0,"d":"0.00"},{"v":0,"d":"0.00"},{"v":0,"d":"0.00"},{"v":0,"d":"0.00"},{"v":0,"d":"0.00"},{"v":0,"d":"0.00"},{"v":0,"d":"0.00"},{"v":0,"d":"0.00"},{"v":0,"d":"0.00"},{"v":0,"d":"0.00"},{"v":0,"d":"0.00"},{"v":0,"d":"0.00"},{"v":0,"d":"0.00"},{"v":0,"d":"0.00"},{"v":0,"d":"0.00"},{"v":0,"d":"0.00"},{"v":0,"d":"0.00"},{"v":0,"d":"0.00"},{"v":0,"d":"0.00"}]
[{"$nulls":6},"BRT",{"v":0,"d":"0.00"},{"v":0,"d":"0.00"},{"v":0,"d":"0.00"},{"v":0,"d":"0.00"},{"v":0,"d":"0.00"},{"v":0,"d":"0.00"},{"v":0,"d":"0.00"},{"v":0,"d":"0.00"},{"v":0,"d":"0.00"},{"v":0,"d":"0.00"},{"v":0,"d":"0.00"},{"v":0,"d":"0.00"},{"v":0,"d":"0.00"},{"v":0,"d":"0.00"},{"v":0,"d":"0.00"},{"v":0,"d":"0.00"},{"v":0,"d":"0.00"},{"v":0,"d":"0.00"},{"v":0,"d":"0.00"},{"v":0,"d":"0.00"}]
[]
[{"$nulls":6},"Adjusted CO2 Emission Factor",null,{"$f":"I1689","v":"Electric"}]
[{"$nulls":7},{"$f":"H1690","v":0},{"$f":"I1690","v":1},2,3,4,5,6,7,8,9,10,11,12,13,14,15,16,17,18,19]
{"$rows_empty":13}
[{"$nulls":6},{"$f":"IF('IF Factors'!J572=\"\",\"not included\",CONCATENATE(\"CO2 Emission Factor \",'IF Factors'!J572))","v":"not included"}]
[]
[{"$nulls":10},"g/UNIT OF CONSUMPTION",{"$nulls":3},"1st",null,"2nd"]
[{"$nulls":7},{"$f":"H1674","v":0},{"$f":"I1674","v":0},null,{"$f":"K1674","v":0},{"$f":"L1674","v":9},{"$f":"M1674","v":19},null,"intercept","slope","intercept","slope",null,{"$f":"K1721","v":0},{"$f":"L1721","v":9},{"$f":"M1721","v":19},null,"1st","2nd"]
[{"$nulls":5},"NO BRT",{"$f":"G1691","v":"Cars"},{"$f":"IF(ISERROR(((L1722/K1722)^(1/9))-1),0,((L1722/K1722)^(1/9))-1)","v":{"v":0,"d":"0%"}},{"$f":"IF(ISERROR(((M1722/L1722)^(1/10))-1),0,((M1722/L1722)^(1/10))-1)","v":0},null,{"$f":"'IF Factors'!CK106","v":0},{"$f":"OFFSET('IF Factors'!CK106,0,5)","v":0},{"$f":"OFFSET('IF Factors'!CK106,0,10)","v":0},null,{"$f":"INTERCEPT(K1722:L1722,$K$7:$L$7)","v":0},{"$f":"SLOPE(K1722:L1722,$K$7:$L$7)","v":0},{"$f":"INTERCEPT(L1722:M1722,$L$7:$M$7)","v":0},{"$f":"SLOPE(L1722:M1722,$L$7:$M$7)","v":0},null,{"$f":"IF(K1722<>0,0,1)","v":1},{"$f":"IF(L1722<>0,0,1)","v":1},{"$f":"IF(M1722<>0,0,1)","v":1},null,{"$f":"IF(T1722+U1722=1,1,0)","v":0},{"$f":"IF(U1722+V1722=1,1,0)","v":0}]
[{"$nulls":6},{"$f":"G1692","v":"2-wheeler"},{"v":0,"d":"0%"},0,null,{"$f":"'IF Factors'!CK107","v":0},{"$f":"OFFSET('IF Factors'!CK107,0,5)","v":0},{"$f":"OFFSET('IF Factors'!CK107,0,10)","v":0},null,{"$f":"INTERCEPT(K1723:L1723,$K$7:$L$7)","v":0},{"$f":"SLOPE(K1723:L1723,$K$7:$L$7)","v":0},{"$f":"INTERCEPT(L1723:M1723,$L$7:$M$7)","v":0},{"$f":"SLOPE(L1723:M1723,$L$7:$M$7)","v":0},null,{"$f":"IF(K1723<>0,0,1)","v":1},1,1,null,{"$f":"IF(T1723+U1723=1,1,0)","v":0},0]
[{"$nulls":6},"Taxi",{"v":0,"d":"0%"},0,null,{"$f":"'IF Factors'!CK108","v":0},{"$f":"OFFSET('IF Factors'!CK108,0,5)","v":0},{"$f":"OFFSET('IF Factors'!CK108,0,10)","v":0},null,0,0,0,0,null,1,1,1,null,0,0]
[{"$nulls":6},"",{"v":0,"d":"0%"},0,null,{"$f":"'IF Factors'!CK109","v":0},{"$f":"OFFSET('IF Factors'!CK109,0,5)","v":0},{"$f":"OFFSET('IF Factors'!CK109,0,10)","v":0},null,0,0,0,0,null,1,1,1,null,0,0]
[{"$nulls":6},"",{"v":0,"d":"0%"},0,null,{"$f":"'IF Factors'!CK110","v":0},{"$f":"OFFSET('IF Factors'!CK110,0,5)","v":0},{"$f":"OFFSET('IF Factors'!CK110,0,10)","v":0},null,0,0,0,0,null,1,1,1,null,0,0]
[{"$nulls":6},"3-wheeler",{"v":0,"d":"0%"},0,null,{"$f":"'IF Factors'!CK111","v":0},{"$f":"OFFSET('IF Factors'!CK111,0,5)","v":0},{"$f":"OFFSET('IF Factors'!CK111,0,10)","v":0},null,0,0,0,0,null,1,1,1,null,0,0]
[{"$nulls":6},"Bus",{"v":0,"d":"0%"},0,null,{"$f":"'IF Factors'!CK112","v":0},{"$f":"OFFSET('IF Factors'!CK112,0,5)","v":0},{"$f":"OFFSET('IF Factors'!CK112,0,10)","v":0},null,0,0,0,0,null,1,1,1,null,0,0]
[{"$nulls":6},"Mini-bus",{"v":0,"d":"0%"},0,null,{"$f":"'IF Factors'!CK113","v":0},{"$f":"OFFSET('IF Factors'!CK113,0,5)","v":0},{"$f":"OFFSET('IF Factors'!CK113,0,10)","v":0},null,0,0,0,0,null,1,1,1,null,0,0]
[{"$nulls":6},"",{"v":0,"d":"0%"},0,null,{"$f":"'IF Factors'!CK114","v":0},{"$f":"OFFSET('IF Factors'!CK114,0,5)","v":0},{"$f":"OFFSET('IF Factors'!CK114,0,10)","v":0},null,0,0,0,0,null,1,1,1,null,0,0]
[{"$nulls":6},"",{"v":0,"d":"0%"},0,null,{"$f":"'IF Factors'!CK115","v":0},{"$f":"OFFSET('IF Factors'!CK115,0,5)","v":0},{"$f":"OFFSET('IF Factors'!CK115,0,10)","v":0},null,0,0,0,0,null,1,1,1,null,0,0]
[{"$nulls":6},"BRT",{"v":0,"d":"0%"},0,null,{"$f":"'IF Factors'!CK116","v":0},{"$f":"OFFSET('IF Factors'!CK116,0,5)","v":0},{"$f":"OFFSET('IF Factors'!CK116,0,10)","v":0},null,0,0,0,0,null,1,1,1,null,0,0]
[]
[]
[]
[{"$nulls":6},"CO2 Emission Factor"]
[{"$nulls":7},{"$f":"H1704","v":0},{"$f":"I1704","v":1},2,3,4,5,6,7,8,9,10,11,12,13,14,15,16,17,18,19]
[{"$nulls":5},"NO BRT",{"$f":"G1722","v":"Cars"},{"$f":"K1722","v":{"v":0,"d":"0.00"}},{"$f":"(I$23*$P1722)+$O1722","v":{"v":0,"d":"0.00"}},{"$f":"(J$23*$P1722)+$O1722","v":{"v":0,"d":"0.00"}},{"v":0,"d":"0.00"},{"v":0,"d":"0.00"},{"v":0,"d":"0.00"},{"v":0,"d":"0.00"},{"v":0,"d":"0.00"},{"v":0,"d":"0.00"},{"$f":"L1722","v":{"v":0,"d":"0.00"}},{"$f":"(R$23*$R1722)+$Q1722","v":{"v":0,"d":"0.00"}},{"$f":"(S$23*$R1722)+$Q1722","v":{"v":0,"d":"0.00"}},{"v":0,"d":"0.00"},{"v":0,"d":"0.00"},{"v":0,"d":"0.00"},{"v":0,"d":"0.00"},{"v":0,"d":"0.00"},{"v":0,"d":"0.00"},{"v":0,"d":"0.00"},{"$f":"M1722","v":{"v":0,"d":"0.00"}}]
[{"$nulls":6},{"$f":"G1723","v":"2-wheeler"},{"$f":"K1723","v":{"v":0,"d":"0.00"}},{"$f":"(I$23*$P1723)+$O1723","v":{"v":0,"d":"0.00"}},{"v":0,"d":"0.00"},{"v":0,"d":"0.00"},{"v":0,"d":"0.00"},{"v":0,"d":"0.00"},{"v":0,"d":"0.00"},{"v":0,"d":"0.00"},{"v":0,"d":"0.00"},{"$f":"L1723","v":{"v":0,"d":"0.00"}},{"$f":"(R$23*$R1723)+$Q1723","v":{"v":0,"d":"0.00"}},{"v":0,"d":"0.00"},{"v":0,"d":"0.00"},{"v":0,"d":"0.00"},{"v":0,"d":"0.00"},{"v":0,"d":"0.00"},{"v":0,"d":"0.00"},{"v":0,"d":"0.00"},{"v":0,"d":"0.00"},{"$f":"M1723","v":{"v":0,"d":"0.00"}}]
[{"$nulls":6},"Taxi",{"v":0,"d":"0.00"},{"v":0,"d":"0.00"},{"v":0,"d":"0.00"},{"v":0,"d":"0.00"},{"v":0,"d":"0.00"},{"v":0,"d":"0.00"},{"v":0,"d":"0.00"},{"v":0,"d":"0.00"},{"v":0,"d":"0.00"},{"v":0,"d":"0.00"},{"v":0,"d":"0.00"},{"v":0,"d":"0.00"},{"v":0,"d":"0.00"},{"v":0,"d":"0.00"},{"v":0,"d":"0.00"},{"v":0,"d":"0.00"},{"v":0,"d":"0.00"},{"v":0,"d":"0.00"},{"v":0,"d":"0.00"},{"v":0,"d":"0.00"}]
[{"$nulls":6},"",{"v":0,"d":"0.00"},{"v":0,"d":"0.00"},{"v":0,"d":"0.00"},{"v":0,"d":"0.00"},{"v":0,"d":"0.00"},{"v":0,"d":"0.00"},{"v":0,"d":"0.00"},{"v":0,"d":"0.00"},{"v":0,"d":"0.00"},{"v":0,"d":"0.00"},{"v":0,"d":"0.00"},{"v":0,"d":"0.00"},{"v":0,"d":"0.00"},{"v":0,"d":"0.00"},{"v":0,"d":"0.00"},{"v":0,"d":"0.00"},{"v":0,"d":"0.00"},{"v":0,"d":"0.00"},{"v":0,"d":"0.00"},{"v":0,"d":"0.00"}]
[{"$nulls":6},"",{"v":0,"d":"0.00"},{"v":0,"d":"0.00"},{"v":0,"d":"0.00"},{"v":0,"d":"0.00"},{"v":0,"d":"0.00"},{"v":0,"d":"0.00"},{"v":0,"d":"0.00"},{"v":0,"d":"0.00"},{"v":0,"d":"0.00"},{"v":0,"d":"0.00"},{"v":0,"d":"0.00"},{"v":0,"d":"0.00"},{"v":0,"d":"0.00"},{"v":0,"d":"0.00"},{"v":0,"d":"0.00"},{"v":0,"d":"0.00"},{"v":0,"d":"0.00"},{"v":0,"d":"0.00"},{"v":0,"d":"0.00"},{"v":0,"d":"0.00"}]
[{"$nulls":6},"3-wheeler",{"v":0,"d":"0.00"},{"v":0,"d":"0.00"},{"v":0,"d":"0.00"},{"v":0,"d":"0.00"},{"v":0,"d":"0.00"},{"v":0,"d":"0.00"},{"v":0,"d":"0.00"},{"v":0,"d":"0.00"},{"v":0,"d":"0.00"},{"v":0,"d":"0.00"},{"v":0,"d":"0.00"},{"v":0,"d":"0.00"},{"v":0,"d":"0.00"},{"v":0,"d":"0.00"},{"v":0,"d":"0.00"},{"v":0,"d":"0.00"},{"v":0,"d":"0.00"},{"v":0,"d":"0.00"},{"v":0,"d":"0.00"},{"v":0,"d":"0.00"}]
[{"$nulls":6},"Bus",{"v":0,"d":"0.00"},{"v":0,"d":"0.00"},{"v":0,"d":"0.00"},{"v":0,"d":"0.00"},{"v":0,"d":"0.00"},{"v":0,"d":"0.00"},{"v":0,"d":"0.00"},{"v":0,"d":"0.00"},{"v":0,"d":"0.00"},{"v":0,"d":"0.00"},{"v":0,"d":"0.00"},{"v":0,"d":"0.00"},{"v":0,"d":"0.00"},{"v":0,"d":"0.00"},{"v":0,"d":"0.00"},{"v":0,"d":"0.00"},{"v":0,"d":"0.00"},{"v":0,"d":"0.00"},{"v":0,"d":"0.00"},{"v":0,"d":"0.00"}]
[{"$nulls":6},"Mini-bus",{"v":0,"d":"0.00"},{"v":0,"d":"0.00"},{"v":0,"d":"0.00"},{"v":0,"d":"0.00"},{"v":0,"d":"0.00"},{"v":0,"d":"0.00"},{"v":0,"d":"0.00"},{"v":0,"d":"0.00"},{"v":0,"d":"0.00"},{"v":0,"d":"0.00"},{"v":0,"d":"0.00"},{"v":0,"d":"0.00"},{"v":0,"d":"0.00"},{"v":0,"d":"0.00"},{"v":0,"d":"0.00"},{"v":0,"d":"0.00"},{"v":0,"d":"0.00"},{"v":0,"d":"0.00"},{"v":0,"d":"0.00"},{"v":0,"d":"0.00"}]
[{"$nulls":6},"",{"v":0,"d":"0.00"},{"v":0,"d":"0.00"},{"v":0,"d":"0.00"},{"v":0,"d":"0.00"},{"v":0,"d":"0.00"},{"v":0,"d":"0.00"},{"v":0,"d":"0.00"},{"v":0,"d":"0.00"},{"v":0,"d":"0.00"},{"v":0,"d":"0.00"},{"v":0,"d":"0.00"},{"v":0,"d":"0.00"},{"v":0,"d":"0.00"},{"v":0,"d":"0.00"},{"v":0,"d":"0.00"},{"v":0,"d":"0.00"},{"v":0,"d":"0.00"},{"v":0,"d":"0.00"},{"v":0,"d":"0.00"},{"v":0,"d":"0.00"}]
[{"$nulls":6},"",{"v":0,"d":"0.00"},{"v":0,"d":"0.00"},{"v":0,"d":"0.00"},{"v":0,"d":"0.00"},{"v":0,"d":"0.00"},{"v":0,"d":"0.00"},{"v":0,"d":"0.00"},{"v":0,"d":"0.00"},{"v":0,"d":"0.00"},{"v":0,"d":"0.00"},{"v":0,"d":"0.00"},{"v":0,"d":"0.00"},{"v":0,"d":"0.00"},{"v":0,"d":"0.00"},{"v":0,"d":"0.00"},{"v":0,"d":"0.00"},{"v":0,"d":"0.00"},{"v":0,"d":"0.00"},{"v":0,"d":"0.00"},{"v":0,"d":"0.00"}]
[{"$nulls":6},"BRT",{"v":0,"d":"0.00"},{"v":0,"d":"0.00"},{"v":0,"d":"0.00"},{"v":0,"d":"0.00"},{"v":0,"d":"0.00"},{"v":0,"d":"0.00"},{"v":0,"d":"0.00"},{"v":0,"d":"0.00"},{"v":0,"d":"0.00"},{"v":0,"d":"0.00"},{"v":0,"d":"0.00"},{"v":0,"d":"0.00"},{"v":0,"d":"0.00"},{"v":0,"d":"0.00"},{"v":0,"d":"0.00"},{"v":0,"d":"0.00"},{"v":0,"d":"0.00"},{"v":0,"d":"0.00"},{"v":0,"d":"0.00"},{"v":0,"d":"0.00"}]
[]
[{"$nulls":6},"Adjusted CO2 Emission Factor",null,{"$f":"I1736","v":0}]
[{"$nulls":7},{"$f":"H1737","v":0},{"$f":"I1737","v":1},2,3,4,5,6,7,8,9,10,11,12,13,14,15,16,17,18,19]
[{"$nulls":5},"NO BRT",{"$f":"G1738","v":"Cars"}]
[{"$nulls":6},{"$f":"G1739","v":"2-wheeler"}]
[{"$nulls":6},"Taxi"]
[{"$nulls":6},""]
[{"$nulls":6},""]
[{"$nulls":6},"3-wheeler"]
[{"$nulls":6},"Bus"]
[{"$nulls":6},"Mini-bus"]
[{"$nulls":6},""]
[{"$nulls":6},""]
[{"$nulls":6},"BRT"]
[]
[]
[]
[{"$nulls":6},"Gasoline PM"]
[{"$nulls":7},{"$f":"H23","v":0},{"$f":"I23","v":1},2,3,4,5,6,7,8,9,10,11,12,13,14,15,16,17,18,19]
[{"$nulls":5},"NO BRT",{"$f":"G1752","v":"Cars"},{"$f":"H203*H953","v":0},0,0,0,0,0,0,0,0,0,0,0,0,0,0,0,0,0,0,0]
[{"$nulls":6},{"$f":"G1753","v":"2-wheeler"},0,0,0,0,0,0,0,0,0,0,0,0,0,0,0,0,0,0,0,0]
[{"$nulls":6},"Taxi",0,0,0,0,0,0,0,0,0,0,0,0,0,0,0,0,0,0,0,0]
[{"$nulls":6},"",0,0,0,0,0,0,0,0,0,0,0,0,0,0,0,0,0,0,0,0]
[{"$nulls":6},"",0,0,0,0,0,0,0,0,0,0,0,0,0,0,0,0,0,0,0,0]
[{"$nulls":6},"3-wheeler",0,0,0,0,0,0,0,0,0,0,0,0,0,0,0,0,0,0,0,0]
[{"$nulls":6},"Bus",0,0,0,0,0,0,0,0,0,0,0,0,0,0,0,0,0,0,0,0]
[{"$nulls":6},"Mini-bus",0,0,0,0,0,0,0,0,0,0,0,0,0,0,0,0,0,0,0,0]
[{"$nulls":6},"",0,0,0,0,0,0,0,0,0,0,0,0,0,0,0,0,0,0,0,0]
[{"$nulls":6},"",0,0,0,0,0,0,0,0,0,0,0,0,0,0,0,0,0,0,0,0]
[{"$nulls":6},"BRT",0,0,0,0,0,0,0,0,0,0,0,0,0,0,0,0,0,0,0,0]
[]
[]
[{"$nulls":6},"Diesel PM"]
[{"$nulls":7},{"$f":"H1767","v":0},{"$f":"I1767","v":1},2,3,4,5,6,7,8,9,10,11,12,13,14,15,16,17,18,19]
[{"$nulls":5},"NO BRT",{"$f":"G1768","v":"Cars"},{"$f":"H250*H1000","v":0},0,0,0,0,0,0,0,0,0,0,0,0,0,0,0,0,0,0,0]
[{"$nulls":6},{"$f":"G1769","v":"2-wheeler"},0,0,0,0,0,0,0,0,0,0,0,0,0,0,0,0,0,0,0,0]
[{"$nulls":6},"Taxi",0,0,0,0,0,0,0,0,0,0,0,0,0,0,0,0,0,0,0,0]
[{"$nulls":6},"",0,0,0,0,0,0,0,0,0,0,0,0,0,0,0,0,0,0,0,0]
[{"$nulls":6},"",0,0,0,0,0,0,0,0,0,0,0,0,0,0,0,0,0,0,0,0]
[{"$nulls":6},"3-wheeler",0,0,0,0,0,0,0,0,0,0,0,0,0,0,0,0,0,0,0,0]
[{"$nulls":6},"Bus",0,0,0,0,0,0,0,0,0,0,0,0,0,0,0,0,0,0,0,0]
[{"$nulls":6},"Mini-bus",0,0,0,0,0,0,0,0,0,0,0,0,0,0,0,0,0,0,0,0]
[{"$nulls":6},"",0,0,0,0,0,0,0,0,0,0,0,0,0,0,0,0,0,0,0,0]
[{"$nulls":6},"",0,0,0,0,0,0,0,0,0,0,0,0,0,0,0,0,0,0,0,0]
[{"$nulls":6},"BRT",0,0,0,0,0,0,0,0,0,0,0,0,0,0,0,0,0,0,0,0]
[]
[]
[{"$nulls":6},"LPG PM"]
[{"$nulls":7},{"$f":"H1782","v":0},{"$f":"I1782","v":1},2,3,4,5,6,7,8,9,10,11,12,13,14,15,16,17,18,19]
[{"$nulls":5},"NO BRT",{"$f":"G1783","v":"Cars"},{"$f":"H297*H1047","v":0},0,0,0,0,0,0,0,0,0,0,0,0,0,0,0,0,0,0,0]
[{"$nulls":6},{"$f":"G1784","v":"2-wheeler"},0,0,0,0,0,0,0,0,0,0,0,0,0,0,0,0,0,0,0,0]
[{"$nulls":6},"Taxi",0,0,0,0,0,0,0,0,0,0,0,0,0,0,0,0,0,0,0,0]
[{"$nulls":6},"",0,0,0,0,0,0,0,0,0,0,0,0,0,0,0,0,0,0,0,0]
[{"$nulls":6},"",0,0,0,0,0,0,0,0,0,0,0,0,0,0,0,0,0,0,0,0]
[{"$nulls":6},"3-wheeler",0,0,0,0,0,0,0,0,0,0,0,0,0,0,0,0,0,0,0,0]
[{"$nulls":6},"Bus",0,0,0,0,0,0,0,0,0,0,0,0,0,0,0,0,0,0,0,0]
[{"$nulls":6},"Mini-bus",0,0,0,0,0,0,0,0,0,0,0,0,0,0,0,0,0,0,0,0]
[{"$nulls":6},"",0,0,0,0,0,0,0,0,0,0,0,0,0,0,0,0,0,0,0,0]
[{"$nulls":6},"",0,0,0,0,0,0,0,0,0,0,0,0,0,0,0,0,0,0,0,0]
[{"$nulls":6},"BRT",0,0,0,0,0,0,0,0,0,0,0,0,0,0,0,0,0,0,0,0]
[]
[]
[{"$nulls":6},"CNG PM"]
[{"$nulls":7},{"$f":"H1797","v":0},{"$f":"I1797","v":1},2,3,4,5,6,7,8,9,10,11,12,13,14,15,16,17,18,19]
[{"$nulls":5},"NO BRT",{"$f":"G1798","v":"Cars"},{"$f":"H344*H1094","v":0},0,0,0,0,0,0,0,0,0,0,0,0,0,0,0,0,0,0,0]
[{"$nulls":6},{"$f":"G1799","v":"2-wheeler"},0,0,0,0,0,0,0,0,0,0,0,0,0,0,0,0,0,0,0,0]
[{"$nulls":6},"Taxi",0,0,0,0,0,0,0,0,0,0,0,0,0,0,0,0,0,0,0,0]
[{"$nulls":6},"",0,0,0,0,0,0,0,0,0,0,0,0,0,0,0,0,0,0,0,0]
[{"$nulls":6},"",0,0,0,0,0,0,0,0,0,0,0,0,0,0,0,0,0,0,0,0]
[{"$nulls":6},"3-wheeler",0,0,0,0,0,0,0,0,0,0,0,0,0,0,0,0,0,0,0,0]
[{"$nulls":6},"Bus",0,0,0,0,0,0,0,0,0,0,0,0,0,0,0,0,0,0,0,0]
[{"$nulls":6},"Mini-bus",0,0,0,0,0,0,0,0,0,0,0,0,0,0,0,0,0,0,0,0]
[{"$nulls":6},"",0,0,0,0,0,0,0,0,0,0,0,0,0,0,0,0,0,0,0,0]
[{"$nulls":6},"",0,0,0,0,0,0,0,0,0,0,0,0,0,0,0,0,0,0,0,0]
[{"$nulls":6},"BRT",0,0,0,0,0,0,0,0,0,0,0,0,0,0,0,0,0,0,0,0]
[]
[]
[{"$nulls":6},"Electric PM"]
[{"$nulls":7},{"$f":"H1812","v":0},{"$f":"I1812","v":1},2,3,4,5,6,7,8,9,10,11,12,13,14,15,16,17,18,19]
[{"$nulls":5},"NO BRT",{"$f":"G1813","v":"Cars"},{"$f":"H391*H1141","v":0},0,0,0,0,0,0,0,0,0,0,0,0,0,0,0,0,0,0,0]
[{"$nulls":6},{"$f":"G1814","v":"2-wheeler"},0,0,0,0,0,0,0,0,0,0,0,0,0,0,0,0,0,0,0,0]
[{"$nulls":6},"Taxi",0,0,0,0,0,0,0,0,0,0,0,0,0,0,0,0,0,0,0,0]
[{"$nulls":6},"",0,0,0,0,0,0,0,0,0,0,0,0,0,0,0,0,0,0,0,0]
[{"$nulls":6},"",0,0,0,0,0,0,0,0,0,0,0,0,0,0,0,0,0,0,0,0]
[{"$nulls":6},"3-wheeler",0,0,0,0,0,0,0,0,0,0,0,0,0,0,0,0,0,0,0,0]
[{"$nulls":6},"Bus",0,0,0,0,0,0,0,0,0,0,0,0,0,0,0,0,0,0,0,0]
[{"$nulls":6},"Mini-bus",0,0,0,0,0,0,0,0,0,0,0,0,0,0,0,0,0,0,0,0]
[{"$nulls":6},"",0,0,0,0,0,0,0,0,0,0,0,0,0,0,0,0,0,0,0,0]
[{"$nulls":6},"",0,0,0,0,0,0,0,0,0,0,0,0,0,0,0,0,0,0,0,0]
[{"$nulls":6},"BRT",0,0,0,0,0,0,0,0,0,0,0,0,0,0,0,0,0,0,0,0]
[]
[]
[{"$nulls":6},"Other PM"]
[{"$nulls":7},{"$f":"H1827","v":0},{"$f":"I1827","v":1},2,3,4,5,6,7,8,9,10,11,12,13,14,15,16,17,18,19]
[{"$nulls":5},"NO BRT",{"$f":"G1828","v":"Cars"},{"$f":"H438*H1188","v":0},0,0,0,0,0,0,0,0,0,0,0,0,0,0,0,0,0,0,0]
[{"$nulls":6},{"$f":"G1829","v":"2-wheeler"},0,0,0,0,0,0,0,0,0,0,0,0,0,0,0,0,0,0,0,0]
[{"$nulls":6},"Taxi",0,0,0,0,0,0,0,0,0,0,0,0,0,0,0,0,0,0,0,0]
[{"$nulls":6},"",0,0,0,0,0,0,0,0,0,0,0,0,0,0,0,0,0,0,0,0]
[{"$nulls":6},"",0,0,0,0,0,0,0,0,0,0,0,0,0,0,0,0,0,0,0,0]
[{"$nulls":6},"3-wheeler",0,0,0,0,0,0,0,0,0,0,0,0,0,0,0,0,0,0,0,0]
[{"$nulls":6},"Bus",0,0,0,0,0,0,0,0,0,0,0,0,0,0,0,0,0,0,0,0]
[{"$nulls":6},"Mini-bus",0,0,0,0,0,0,0,0,0,0,0,0,0,0,0,0,0,0,0,0]
[{"$nulls":6},"",0,0,0,0,0,0,0,0,0,0,0,0,0,0,0,0,0,0,0,0]
[{"$nulls":6},"",0,0,0,0,0,0,0,0,0,0,0,0,0,0,0,0,0,0,0,0]
[{"$nulls":6},"BRT",0,0,0,0,0,0,0,0,0,0,0,0,0,0,0,0,0,0,0,0]
[]
[]
[]
[{"$nulls":6},"Gasoline NOx"]
[{"$nulls":7},{"$f":"H1842","v":0},{"$f":"I1842","v":1},2,3,4,5,6,7,8,9,10,11,12,13,14,15,16,17,18,19]
[{"$nulls":5},"NO BRT",{"$f":"G1843","v":"Cars"},{"$f":"H203*H1235","v":0},0,0,0,0,0,0,0,0,0,0,0,0,0,0,0,0,0,0,0]
[{"$nulls":6},{"$f":"G1844","v":"2-wheeler"},0,0,0,0,0,0,0,0,0,0,0,0,0,0,0,0,0,0,0,0]
[{"$nulls":6},"Taxi",0,0,0,0,0,0,0,0,0,0,0,0,0,0,0,0,0,0,0,0]
[{"$nulls":6},"",0,0,0,0,0,0,0,0,0,0,0,0,0,0,0,0,0,0,0,0]
[{"$nulls":6},"",0,0,0,0,0,0,0,0,0,0,0,0,0,0,0,0,0,0,0,0]
[{"$nulls":6},"3-wheeler",0,0,0,0,0,0,0,0,0,0,0,0,0,0,0,0,0,0,0,0]
[{"$nulls":6},"Bus",0,0,0,0,0,0,0,0,0,0,0,0,0,0,0,0,0,0,0,0]
[{"$nulls":6},"Mini-bus",0,0,0,0,0,0,0,0,0,0,0,0,0,0,0,0,0,0,0,0]
[{"$nulls":6},"",0,0,0,0,0,0,0,0,0,0,0,0,0,0,0,0,0,0,0,0]
[{"$nulls":6},"",0,0,0,0,0,0,0,0,0,0,0,0,0,0,0,0,0,0,0,0]
[{"$nulls":6},"BRT",0,0,0,0,0,0,0,0,0,0,0,0,0,0,0,0,0,0,0,0]
[]
[]
[{"$nulls":6},"Diesel NOx"]
[{"$nulls":7},{"$f":"H1858","v":0},{"$f":"I1858","v":1},2,3,4,5,6,7,8,9,10,11,12,13,14,15,16,17,18,19]
[{"$nulls":5},"NO BRT",{"$f":"G1859","v":"Cars"},{"$f":"H250*H1282","v":0},0,0,0,0,0,0,0,0,0,0,0,0,0,0,0,0,0,0,0]
[{"$nulls":6},{"$f":"G1860","v":"2-wheeler"},0,0,0,0,0,0,0,0,0,0,0,0,0,0,0,0,0,0,0,0]
[{"$nulls":6},"Taxi",0,0,0,0,0,0,0,0,0,0,0,0,0,0,0,0,0,0,0,0]
[{"$nulls":6},"",0,0,0,0,0,0,0,0,0,0,0,0,0,0,0,0,0,0,0,0]
[{"$nulls":6},"",0,0,0,0,0,0,0,0,0,0,0,0,0,0,0,0,0,0,0,0]
[{"$nulls":6},"3-wheeler",0,0,0,0,0,0,0,0,0,0,0,0,0,0,0,0,0,0,0,0]
[{"$nulls":6},"Bus",0,0,0,0,0,0,0,0,0,0,0,0,0,0,0,0,0,0,0,0]
[{"$nulls":6},"Mini-bus",0,0,0,0,0,0,0,0,0,0,0,0,0,0,0,0,0,0,0,0]
[{"$nulls":6},"",0,0,0,0,0,0,0,0,0,0,0,0,0,0,0,0,0,0,0,0]
[{"$nulls":6},"",0,0,0,0,0,0,0,0,0,0,0,0,0,0,0,0,0,0,0,0]
[{"$nulls":6},"BRT",0,0,0,0,0,0,0,0,0,0,0,0,0,0,0,0,0,0,0,0]
[]
[]
[{"$nulls":6},"LPG NOx"]
[{"$nulls":7},{"$f":"H1873","v":0},{"$f":"I1873","v":1},2,3,4,5,6,7,8,9,10,11,12,13,14,15,16,17,18,19]
[{"$nulls":5},"NO BRT",{"$f":"G1874","v":"Cars"},{"$f":"H297*H1329","v":0},0,0,0,0,0,0,0,0,0,0,0,0,0,0,0,0,0,0,0]
[{"$nulls":6},{"$f":"G1875","v":"2-wheeler"},0,0,0,0,0,0,0,0,0,0,0,0,0,0,0,0,0,0,0,0]
[{"$nulls":6},"Taxi",0,0,0,0,0,0,0,0,0,0,0,0,0,0,0,0,0,0,0,0]
[{"$nulls":6},"",0,0,0,0,0,0,0,0,0,0,0,0,0,0,0,0,0,0,0,0]
[{"$nulls":6},"",0,0,0,0,0,0,0,0,0,0,0,0,0,0,0,0,0,0,0,0]
[{"$nulls":6},"3-wheeler",0,0,0,0,0,0,0,0,0,0,0,0,0,0,0,0,0,0,0,0]
[{"$nulls":6},"Bus",0,0,0,0,0,0,0,0,0,0,0,0,0,0,0,0,0,0,0,0]
[{"$nulls":6},"Mini-bus",0,0,0,0,0,0,0,0,0,0,0,0,0,0,0,0,0,0,0,0]
[{"$nulls":6},"",0,0,0,0,0,0,0,0,0,0,0,0,0,0,0,0,0,0,0,0]
[{"$nulls":6},"",0,0,0,0,0,0,0,0,0,0,0,0,0,0,0,0,0,0,0,0]
[{"$nulls":6},"BRT",0,0,0,0,0,0,0,0,0,0,0,0,0,0,0,0,0,0,0,0]
[]
[]
[{"$nulls":6},"CNG NOx"]
[{"$nulls":7},{"$f":"H1888","v":0},{"$f":"I1888","v":1},2,3,4,5,6,7,8,9,10,11,12,13,14,15,16,17,18,19]
[{"$nulls":5},"NO BRT",{"$f":"G1889","v":"Cars"},{"$f":"H344*H1376","v":0},0,0,0,0,0,0,0,0,0,0,0,0,0,0,0,0,0,0,0]
[{"$nulls":6},{"$f":"G1890","v":"2-wheeler"},0,0,0,0,0,0,0,0,0,0,0,0,0,0,0,0,0,0,0,0]
[{"$nulls":6},"Taxi",0,0,0,0,0,0,0,0,0,0,0,0,0,0,0,0,0,0,0,0]
[{"$nulls":6},"",0,0,0,0,0,0,0,0,0,0,0,0,0,0,0,0,0,0,0,0]
[{"$nulls":6},"",0,0,0,0,0,0,0,0,0,0,0,0,0,0,0,0,0,0,0,0]
[{"$nulls":6},"3-wheeler",0,0,0,0,0,0,0,0,0,0,0,0,0,0,0,0,0,0,0,0]
[{"$nulls":6},"Bus",0,0,0,0,0,0,0,0,0,0,0,0,0,0,0,0,0,0,0,0]
[{"$nulls":6},"Mini-bus",0,0,0,0,0,0,0,0,0,0,0,0,0,0,0,0,0,0,0,0]
[{"$nulls":6},"",0,0,0,0,0,0,0,0,0,0,0,0,0,0,0,0,0,0,0,0]
[{"$nulls":6},"",0,0,0,0,0,0,0,0,0,0,0,0,0,0,0,0,0,0,0,0]
[{"$nulls":6},"BRT",0,0,0,0,0,0,0,0,0,0,0,0,0,0,0,0,0,0,0,0]
[]
[]
[{"$nulls":6},"Electric NOx"]
[{"$nulls":7},{"$f":"H1903","v":0},{"$f":"I1903","v":1},2,3,4,5,6,7,8,9,10,11,12,13,14,15,16,17,18,19]
[{"$nulls":5},"NO BRT",{"$f":"G1904","v":"Cars"},{"$f":"H391*H1423","v":0},0,0,0,0,0,0,0,0,0,0,0,0,0,0,0,0,0,0,0]
[{"$nulls":6},{"$f":"G1905","v":"2-wheeler"},0,0,0,0,0,0,0,0,0,0,0,0,0,0,0,0,0,0,0,0]
[{"$nulls":6},"Taxi",0,0,0,0,0,0,0,0,0,0,0,0,0,0,0,0,0,0,0,0]
[{"$nulls":6},"",0,0,0,0,0,0,0,0,0,0,0,0,0,0,0,0,0,0,0,0]
[{"$nulls":6},"",0,0,0,0,0,0,0,0,0,0,0,0,0,0,0,0,0,0,0,0]
[{"$nulls":6},"3-wheeler",0,0,0,0,0,0,0,0,0,0,0,0,0,0,0,0,0,0,0,0]
[{"$nulls":6},"Bus",0,0,0,0,0,0,0,0,0,0,0,0,0,0,0,0,0,0,0,0]
[{"$nulls":6},"Mini-bus",0,0,0,0,0,0,0,0,0,0,0,0,0,0,0,0,0,0,0,0]
[{"$nulls":6},"",0,0,0,0,0,0,0,0,0,0,0,0,0,0,0,0,0,0,0,0]
[{"$nulls":6},"",0,0,0,0,0,0,0,0,0,0,0,0,0,0,0,0,0,0,0,0]
[{"$nulls":6},"BRT",0,0,0,0,0,0,0,0,0,0,0,0,0,0,0,0,0,0,0,0]
[]
[]
[{"$nulls":6},"Other NOx"]
[{"$nulls":7},{"$f":"H1918","v":0},{"$f":"I1918","v":1},2,3,4,5,6,7,8,9,10,11,12,13,14,15,16,17,18,19]
[{"$nulls":5},"NO BRT",{"$f":"G1919","v":"Cars"},{"$f":"H438*H1470","v":0},0,0,0,0,0,0,0,0,0,0,0,0,0,0,0,0,0,0,0]
[{"$nulls":6},{"$f":"G1920","v":"2-wheeler"},0,0,0,0,0,0,0,0,0,0,0,0,0,0,0,0,0,0,0,0]
[{"$nulls":6},"Taxi",0,0,0,0,0,0,0,0,0,0,0,0,0,0,0,0,0,0,0,0]
[{"$nulls":6},"",0,0,0,0,0,0,0,0,0,0,0,0,0,0,0,0,0,0,0,0]
[{"$nulls":6},"",0,0,0,0,0,0,0,0,0,0,0,0,0,0,0,0,0,0,0,0]
[{"$nulls":6},"3-wheeler",0,0,0,0,0,0,0,0,0,0,0,0,0,0,0,0,0,0,0,0]
[{"$nulls":6},"Bus",0,0,0,0,0,0,0,0,0,0,0,0,0,0,0,0,0,0,0,0]
[{"$nulls":6},"Mini-bus",0,0,0,0,0,0,0,0,0,0,0,0,0,0,0,0,0,0,0,0]
[{"$nulls":6},"",0,0,0,0,0,0,0,0,0,0,0,0,0,0,0,0,0,0,0,0]
[{"$nulls":6},"",0,0,0,0,0,0,0,0,0,0,0,0,0,0,0,0,0,0,0,0]
[{"$nulls":6},"BRT",0,0,0,0,0,0,0,0,0,0,0,0,0,0,0,0,0,0,0,0]
[]
[]
[]
[{"$nulls":6},"Gasoline CO2"]
[{"$nulls":7},{"$f":"H1933","v":0},{"$f":"I1933","v":1},2,3,4,5,6,7,8,9,10,11,12,13,14,15,16,17,18,19]
[{"$nulls":5},"NO BRT",{"$f":"G1934","v":"Cars"},{"$f":"H831*H1503","v":0},{"$f":"I831*I1503","v":0},0,0,0,0,0,0,0,0,0,0,0,0,0,0,0,0,0,0]
[{"$nulls":6},{"$f":"G1935","v":"2-wheeler"},{"$f":"H832*H1504","v":0},0,0,0,0,0,0,0,0,0,0,0,0,0,0,0,0,0,0,0]
[{"$nulls":6},"Taxi",0,0,0,0,0,0,0,0,0,0,0,0,0,0,0,0,0,0,0,0]
[{"$nulls":6},"",0,0,0,0,0,0,0,0,0,0,0,0,0,0,0,0,0,0,0,0]
[{"$nulls":6},"",0,0,0,0,0,0,0,0,0,0,0,0,0,0,0,0,0,0,0,0]
[{"$nulls":6},"3-wheeler",0,0,0,0,0,0,0,0,0,0,0,0,0,0,0,0,0,0,0,0]
[{"$nulls":6},"Bus",0,0,0,0,0,0,0,0,0,0,0,0,0,0,0,0,0,0,0,0]
[{"$nulls":6},"Mini-bus",0,0,0,0,0,0,0,0,0,0,0,0,0,0,0,0,0,0,0,0]
[{"$nulls":6},"",0,0,0,0,0,0,0,0,0,0,0,0,0,0,0,0,0,0,0,0]
[{"$nulls":6},"",0,0,0,0,0,0,0,0,0,0,0,0,0,0,0,0,0,0,0,0]
[{"$nulls":6},"BRT",0,0,0,0,0,0,0,0,0,0,0,0,0,0,0,0,0,0,0,0]
[]
[]
[{"$nulls":6},"Diesel CO2"]
[{"$nulls":7},{"$f":"H1949","v":0},{"$f":"I1949","v":1},2,3,4,5,6,7,8,9,10,11,12,13,14,15,16,17,18,19]
[{"$nulls":5},"NO BRT",{"$f":"G1950","v":"Cars"},{"$f":"H846*H1550","v":0},{"$f":"I846*I1550","v":0},0,0,0,0,0,0,0,0,0,0,0,0,0,0,0,0,0,0]
[{"$nulls":6},{"$f":"G1951","v":"2-wheeler"},{"$f":"H847*H1551","v":0},0,0,0,0,0,0,0,0,0,0,0,0,0,0,0,0,0,0,0]
[{"$nulls":6},"Taxi",0,0,0,0,0,0,0,0,0,0,0,0,0,0,0,0,0,0,0,0]
[{"$nulls":6},"",0,0,0,0,0,0,0,0,0,0,0,0,0,0,0,0,0,0,0,0]
[{"$nulls":6},"",0,0,0,0,0,0,0,0,0,0,0,0,0,0,0,0,0,0,0,0]
[{"$nulls":6},"3-wheeler",0,0,0,0,0,0,0,0,0,0,0,0,0,0,0,0,0,0,0,0]
[{"$nulls":6},"Bus",0,0,0,0,0,0,0,0,0,0,0,0,0,0,0,0,0,0,0,0]
[{"$nulls":6},"Mini-bus",0,0,0,0,0,0,0,0,0,0,0,0,0,0,0,0,0,0,0,0]
[{"$nulls":6},"",0,0,0,0,0,0,0,0,0,0,0,0,0,0,0,0,0,0,0,0]
[{"$nulls":6},"",0,0,0,0,0,0,0,0,0,0,0,0,0,0,0,0,0,0,0,0]
[{"$nulls":6},"BRT",0,0,0,0,0,0,0,0,0,{"$f":"Q856*Q1560","v":0},0,0,0,0,0,0,0,0,0,0]
[]
[]
[{"$nulls":6},"LPG CO2"]
[{"$nulls":7},{"$f":"H1964","v":0},{"$f":"I1964","v":1},2,3,4,5,6,7,8,9,10,11,12,13,14,15,16,17,18,19]
[{"$nulls":5},"NO BRT",{"$f":"G1965","v":"Cars"},{"$f":"H861*H1597","v":0},{"$f":"I861*I1597","v":0},0,0,0,0,0,0,0,0,0,0,0,0,0,0,0,0,0,0]
[{"$nulls":6},{"$f":"G1966","v":"2-wheeler"},{"$f":"H862*H1598","v":0},0,0,0,0,0,0,0,0,0,0,0,0,0,0,0,0,0,0,0]
[{"$nulls":6},"Taxi",0,0,0,0,0,0,0,0,0,0,0,0,0,0,0,0,0,0,0,0]
[{"$nulls":6},"",0,0,0,0,0,0,0,0,0,0,0,0,0,0,0,0,0,0,0,0]
[{"$nulls":6},"",0,0,0,0,0,0,0,0,0,0,0,0,0,0,0,0,0,0,0,0]
[{"$nulls":6},"3-wheeler",0,0,0,0,0,0,0,0,0,0,0,0,0,0,0,0,0,0,0,0]
[{"$nulls":6},"Bus",0,0,0,0,0,0,0,0,0,0,0,0,0,0,0,0,0,0,0,0]
[{"$nulls":6},"Mini-bus",0,0,0,0,0,0,0,0,0,0,0,0,0,0,0,0,0,0,0,0]
[{"$nulls":6},"",0,0,0,0,0,0,0,0,0,0,0,0,0,0,0,0,0,0,0,0]
[{"$nulls":6},"",0,0,0,0,0,0,0,0,0,0,0,0,0,0,0,0,0,0,0,0]
[{"$nulls":6},"BRT",0,0,0,0,0,0,0,0,0,0,0,0,0,0,0,0,0,0,0,0]
[]
[]
[{"$nulls":6},"CNG CO2"]
[{"$nulls":7},{"$f":"H1979","v":0},{"$f":"I1979","v":1},2,3,4,5,6,7,8,9,10,11,12,13,14,15,16,17,18,19]
[{"$nulls":5},"NO BRT",{"$f":"G1980","v":"Cars"},{"$f":"H876*H1644","v":0},{"$f":"I876*I1644","v":0},0,0,0,0,0,0,0,0,0,0,0,0,0,0,0,0,0,0]
[{"$nulls":6},{"$f":"G1981","v":"2-wheeler"},{"$f":"H877*H1645","v":0},0,0,0,0,0,0,0,0,0,0,0,0,0,0,0,0,0,0,0]
[{"$nulls":6},"Taxi",0,0,0,0,0,0,0,0,0,0,0,0,0,0,0,0,0,0,0,0]
[{"$nulls":6},"",0,0,0,0,0,0,0,0,0,0,0,0,0,0,0,0,0,0,0,0]
[{"$nulls":6},"",0,0,0,0,0,0,0,0,0,0,0,0,0,0,0,0,0,0,0,0]
[{"$nulls":6},"3-wheeler",0,0,0,0,0,0,0,0,0,0,0,0,0,0,0,0,0,0,0,0]
[{"$nulls":6},"Bus",0,0,0,0,0,0,0,0,0,0,0,0,0,0,0,0,0,0,0,0]
[{"$nulls":6},"Mini-bus",0,0,0,0,0,0,0,0,0,0,0,0,0,0,0,0,0,0,0,0]
[{"$nulls":6},"",0,0,0,0,0,0,0,0,0,0,0,0,0,0,0,0,0,0,0,0]
[{"$nulls":6},"",0,0,0,0,0,0,0,0,0,0,0,0,0,0,0,0,0,0,0,0]
[{"$nulls":6},"BRT",0,0,0,0,0,0,0,0,0,0,0,0,0,0,0,0,0,0,0,0]
[]
[]
[{"$nulls":6},"Electric CO2"]
[{"$nulls":7},{"$f":"H1994","v":0},{"$f":"I1994","v":1},2,3,4,5,6,7,8,9,10,11,12,13,14,15,16,17,18,19]
[{"$nulls":5},"NO BRT",{"$f":"G1995","v":"Cars"},{"$f":"H891*H1691","v":0},{"$f":"I891*I1691","v":0},0,0,0,0,0,0,0,0,0,0,0,0,0,0,0,0,0,0]
[{"$nulls":6},{"$f":"G1996","v":"2-wheeler"},{"$f":"H892*H1692","v":0},0,0,0,0,0,0,0,0,0,0,0,0,0,0,0,0,0,0,0]
[{"$nulls":6},"Taxi",0,0,0,0,0,0,0,0,0,0,0,0,0,0,0,0,0,0,0,0]
[{"$nulls":6},"",0,0,0,0,0,0,0,0,0,0,0,0,0,0,0,0,0,0,0,0]
[{"$nulls":6},"",0,0,0,0,0,0,0,0,0,0,0,0,0,0,0,0,0,0,0,0]
[{"$nulls":6},"3-wheeler",0,0,0,0,0,0,0,0,0,0,0,0,0,0,0,0,0,0,0,0]
[{"$nulls":6},"Bus",0,0,0,0,0,0,0,0,0,0,0,0,0,0,0,0,0,0,0,0]
[{"$nulls":6},"Mini-bus",0,0,0,0,0,0,0,0,0,0,0,0,0,0,0,0,0,0,0,0]
[{"$nulls":6},"",0,0,0,0,0,0,0,0,0,0,0,0,0,0,0,0,0,0,0,0]
[{"$nulls":6},"",0,0,0,0,0,0,0,0,0,0,0,0,0,0,0,0,0,0,0,0]
[{"$nulls":6},"BRT",0,0,0,0,0,0,0,0,0,0,0,0,0,0,0,0,0,0,0,0]
[]
[]
[{"$nulls":6},"Other CO2"]
[{"$nulls":7},{"$f":"H2009","v":0},{"$f":"I2009","v":1},2,3,4,5,6,7,8,9,10,11,12,13,14,15,16,17,18,19]
[{"$nulls":5},"NO BRT",{"$f":"G2010","v":"Cars"},{"$f":"H906*H1738","v":0},{"$f":"I906*I1738","v":0},0,0,0,0,0,0,0,0,0,0,0,0,0,0,0,0,0,0]
[{"$nulls":6},{"$f":"G2011","v":"2-wheeler"},{"$f":"H907*H1739","v":0},0,0,0,0,0,0,0,0,0,0,0,0,0,0,0,0,0,0,0]
[{"$nulls":6},"Taxi",0,0,0,0,0,0,0,0,0,0,0,0,0,0,0,0,0,0,0,0]
[{"$nulls":6},"",0,0,0,0,0,0,0,0,0,0,0,0,0,0,0,0,0,0,0,0]
[{"$nulls":6},"",0,0,0,0,0,0,0,0,0,0,0,0,0,0,0,0,0,0,0,0]
[{"$nulls":6},"3-wheeler",0,0,0,0,0,0,0,0,0,0,0,0,0,0,0,0,0,0,0,0]
[{"$nulls":6},"Bus",0,0,0,0,0,0,0,0,0,0,0,0,0,0,0,0,0,0,0,0]
[{"$nulls":6},"Mini-bus",0,0,0,0,0,0,0,0,0,0,0,0,0,0,0,0,0,0,0,0]
[{"$nulls":6},"",0,0,0,0,0,0,0,0,0,0,0,0,0,0,0,0,0,0,0,0]
[{"$nulls":6},"",0,0,0,0,0,0,0,0,0,0,0,0,0,0,0,0,0,0,0,0]
[{"$nulls":6},"BRT",0,0,0,0,0,0,0,0,0,0,0,0,0,0,0,0,0,0,0,0]
[]
[{"$nulls":6},"TOTAL PM","GRAMS","Daily"]
[{"$nulls":7},{"$f":"H2024","v":0},{"$f":"I2024","v":1},2,3,4,5,6,7,8,9,10,11,12,13,14,15,16,17,18,19]
[{"$nulls":5},"NO BRT",{"$f":"G2025","v":"Cars"},{"$f":"SUM(H1768,H1783,H1798,H1813,H1828,H1843)","v":0},{"$f":"SUM(I1768,I1783,I1798,I1813,I1828,I1843)","v":0},0,0,0,0,0,0,0,0,0,0,0,0,0,0,0,0,0,0,null,{"$f":"SUM(H2039:AA2039)","v":0}]
[{"$nulls":6},{"$f":"G2026","v":"2-wheeler"},{"$f":"SUM(H1769,H1784,H1799,H1814,H1829,H1844)","v":0},0,0,0,0,0,0,0,0,0,0,0,0,0,0,0,0,0,0,0,null,{"$f":"SUM(H2040:AA2040)","v":0}]
[{"$nulls":6},"Taxi",0,0,0,0,0,0,0,0,0,0,0,0,0,0,0,0,0,0,0,0,null,0]
[{"$nulls":6},"",0,0,0,0,0,0,0,0,0,0,0,0,0,0,0,0,0,0,0,0,null,0]
[{"$nulls":6},"",0,0,0,0,0,0,0,0,0,0,0,0,0,0,0,0,0,0,0,0,null,0]
[{"$nulls":6},"3-wheeler",0,0,0,0,0,0,0,0,0,0,0,0,0,0,0,0,0,0,0,0,null,0]
[{"$nulls":6},"Bus",0,0,0,0,0,0,0,0,0,0,0,0,0,0,0,0,0,0,0,0,null,0]
[{"$nulls":6},"Mini-bus",0,0,0,0,0,0,0,0,0,0,0,0,0,0,0,0,0,0,0,0,null,0]
[{"$nulls":6},"",0,0,0,0,0,0,0,0,0,0,0,0,0,0,0,0,0,0,0,0,null,0]
[{"$nulls":6},"",0,0,0,0,0,0,0,0,0,0,0,0,0,0,0,0,0,0,0,0,null,0]
[{"$nulls":6},"BRT",0,0,0,0,0,0,0,0,0,0,0,0,0,0,0,0,0,0,0,0,null,0]
[]
[{"$nulls":6},"TOTAL Nox","GRAMS","Daily"]
[{"$nulls":7},{"$f":"H2038","v":0},{"$f":"I2038","v":1},2,3,4,5,6,7,8,9,10,11,12,13,14,15,16,17,18,19]
[{"$nulls":5},"NO BRT",{"$f":"G2039","v":"Cars"},{"$f":"SUM(H1859,H1874,H1889,H1904,H1919,H1934)","v":0},{"$f":"SUM(I1859,I1874,I1889,I1904,I1919,I1934)","v":0},0,0,0,0,0,0,0,0,0,0,0,0,0,0,0,0,0,0,null,{"$f":"SUM(H2053:AA2053)","v":0}]
[{"$nulls":6},{"$f":"G2040","v":"2-wheeler"},{"$f":"SUM(H1860,H1875,H1890,H1905,H1920,H1935)","v":0},0,0,0,0,0,0,0,0,0,0,0,0,0,0,0,0,0,0,0,null,{"$f":"SUM(H2054:AA2054)","v":0}]
[{"$nulls":6},"Taxi",0,0,0,0,0,0,0,0,0,0,0,0,0,0,0,0,0,0,0,0,null,0]
[{"$nulls":6},"",0,0,0,0,0,0,0,0,0,0,0,0,0,0,0,0,0,0,0,0,null,0]
[{"$nulls":6},"",0,0,0,0,0,0,0,0,0,0,0,0,0,0,0,0,0,0,0,0,null,0]
[{"$nulls":6},"3-wheeler",0,0,0,0,0,0,0,0,0,0,0,0,0,0,0,0,0,0,0,0,null,0]
[{"$nulls":6},"Bus",0,0,0,0,0,0,0,0,0,0,0,0,0,0,0,0,0,0,0,0,null,0]
[{"$nulls":6},"Mini-bus",0,0,0,0,0,0,0,0,0,0,0,0,0,0,0,0,0,0,0,0,null,0]
[{"$nulls":6},"",0,0,0,0,0,0,0,0,0,0,0,0,0,0,0,0,0,0,0,0,null,0]
[{"$nulls":6},"",0,0,0,0,0,0,0,0,0,0,0,0,0,0,0,0,0,0,0,0,null,0]
[{"$nulls":6},"BRT",0,0,0,0,0,0,0,0,0,0,0,0,0,0,0,0,0,0,0,0,null,0]
[]
[{"$nulls":6},"TOTAL CO2","KG","Daily"]
[{"$nulls":7},{"$f":"H2024","v":0},{"$f":"I2024","v":1},2,3,4,5,6,7,8,9,10,11,12,13,14,15,16,17,18,19]
[{"$nulls":5},"NO BRT",{"$f":"G2025","v":"Cars"},{"$f":"SUM(H2025,H2010,H1995,H1980,H1965,H1950)","v":0},{"$f":"SUM(I2025,I2010,I1995,I1980,I1965,I1950)","v":0},0,0,0,0,0,0,0,0,0,0,0,0,0,0,0,0,0,0,null,{"$f":"SUM(H2067:AA2067)","v":0}]
[{"$nulls":6},"2-wheeler",{"$f":"SUM(H2026,H2011,H1996,H1981,H1966,H1951)","v":0},0,0,0,0,0,0,0,0,0,0,0,0,0,0,0,0,0,0,0,null,{"$f":"SUM(H2068:AA2068)","v":0}]
[{"$nulls":6},"Taxi",0,0,0,0,0,0,0,0,0,0,0,0,0,0,0,0,0,0,0,0,null,0]
[{"$nulls":6},"",0,0,0,0,0,0,0,0,0,0,0,0,0,0,0,0,0,0,0,0,null,0]
[{"$nulls":6},"",0,0,0,0,0,0,0,0,0,0,0,0,0,0,0,0,0,0,0,0,null,0]
[{"$nulls":6},"3-wheeler",0,0,0,0,0,0,0,0,0,0,0,0,0,0,0,0,0,0,0,0,null,0]
[{"$nulls":6},"Bus",0,0,0,0,0,0,0,0,0,0,0,0,0,0,0,0,0,0,0,0,null,0]
[{"$nulls":6},"Mini-bus",0,0,0,0,0,0,0,0,0,0,0,0,0,0,0,0,0,0,0,0,null,0]
[{"$nulls":6},"",0,0,0,0,0,0,0,0,0,0,0,0,0,0,0,0,0,0,0,0,null,0]
[{"$nulls":6},"",0,0,0,0,0,0,0,0,0,0,0,0,0,0,0,0,0,0,0,0,null,0]
[{"$nulls":6},"BRT",0,0,0,0,0,0,0,0,0,0,0,0,0,0,0,0,0,0,0,0,null,0]
[]
[{"$nulls":6},"PM"]
[{"$nulls":7},{"$f":"H2066","v":0},{"$f":"I2066","v":1},2,3,4,5,6,7,8,9,10,11,12,13,14,15,16,17,18,19]
[{"$nulls":6},"Total other modes",{"$f":"SUM(H2039:H2048)","v":0},{"$f":"SUM(I2039:I2048)","v":0},0,0,0,0,0,0,0,0,0,0,0,0,0,0,0,0,0,0]
[{"$nulls":6},"Total Savings (Total others - BRT)",{"$f":"H2081-H2049","v":0},{"$f":"I2081-I2049","v":0},0,0,0,0,0,0,0,0,0,0,0,0,0,0,0,0,0,0]
[{"$nulls":6},"Yearly PM Savings or Increase (grams)",{"$f":"H2082*Full!$F$16","v":0},{"$f":"I2082*Full!$F$16","v":0},{"$f":"J2082*Full!$F$16","v":0},{"$f":"K2082*Full!$F$16","v":0},{"$f":"L2082*Full!$F$16","v":0},{"$f":"M2082*Full!$F$16","v":0},{"$f":"N2082*Full!$F$16","v":0},{"$f":"O2082*Full!$F$16","v":0},{"$f":"P2082*Full!$F$16","v":0},{"$f":"Q2082*Full!$F$16","v":0},{"$f":"R2082*Full!$F$16","v":0},{"$f":"S2082*Full!$F$16","v":0},{"$f":"T2082*Full!$F$16","v":0},{"$f":"U2082*Full!$F$16","v":0},{"$f":"V2082*Full!$F$16","v":0},{"$f":"W2082*Full!$F$16","v":0},{"$f":"X2082*Full!$F$16","v":0},{"$f":"Y2082*Full!$F$16","v":0},{"$f":"Z2082*Full!$F$16","v":0},{"$f":"AA2082*Full!$F$16","v":0}]
[{"$nulls":6},"Yearly PM Savings or Increase (tons)",{"$f":"H2083/1000000","v":0},{"$f":"I2083/1000000","v":0},0,0,0,0,0,0,0,0,0,0,0,0,0,0,0,0,0,0]
[]
[{"$nulls":6},"Nox"]
[{"$nulls":7},{"$f":"H2080","v":0},{"$f":"I2080","v":1},2,3,4,5,6,7,8,9,10,11,12,13,14,15,16,17,18,19]
[{"$nulls":6},"Total other modes",{"$f":"SUM(H2053:H2062)","v":0},{"$f":"SUM(I2053:I2062)","v":0},0,0,0,0,0,0,0,0,0,0,0,0,0,0,0,0,0,0]
[{"$nulls":6},"Total Savings (Total others - BRT)",{"$f":"H2088-H2063","v":0},{"$f":"I2088-I2063","v":0},0,0,0,0,0,0,0,0,0,0,0,0,0,0,0,0,0,0]
[{"$nulls":6},"Yearly NOx Savings or Increase (grams)",{"$f":"H2089*Full!$F$16","v":0},{"$f":"I2089*Full!$F$16","v":0},{"$f":"J2089*Full!$F$16","v":0},{"$f":"K2089*Full!$F$16","v":0},{"$f":"L2089*Full!$F$16","v":0},{"$f":"M2089*Full!$F$16","v":0},{"$f":"N2089*Full!$F$16","v":0},{"$f":"O2089*Full!$F$16","v":0},{"$f":"P2089*Full!$F$16","v":0},{"$f":"Q2089*Full!$F$16","v":0},{"$f":"R2089*Full!$F$16","v":0},{"$f":"S2089*Full!$F$16","v":0},{"$f":"T2089*Full!$F$16","v":0},{"$f":"U2089*Full!$F$16","v":0},{"$f":"V2089*Full!$F$16","v":0},{"$f":"W2089*Full!$F$16","v":0},{"$f":"X2089*Full!$F$16","v":0},{"$f":"Y2089*Full!$F$16","v":0},{"$f":"Z2089*Full!$F$16","v":0},{"$f":"AA2089*Full!$F$16","v":0}]
[{"$nulls":6},"Yearly NOx Savings or Increase (tons)",{"$f":"H2090/1000000","v":0},{"$f":"I2090/1000000","v":0},0,0,0,0,0,0,0,0,0,0,0,0,0,0,0,0,0,0]
[]
[{"$nulls":6},"CO2"]
[{"$nulls":7},{"$f":"H2087","v":0},{"$f":"I2087","v":1},2,3,4,5,6,7,8,9,10,11,12,13,14,15,16,17,18,19]
[{"$nulls":6},"Total other modes",{"$f":"SUM(H2067:H2076)","v":0},{"$f":"SUM(I2067:I2076)","v":0},0,0,0,0,0,0,0,0,0,0,0,0,0,0,0,0,0,0]
[{"$nulls":6},"Total Savings (Total others - BRT)",{"$f":"H2095-H2077","v":0},{"$f":"I2095-I2077","v":0},0,0,0,0,0,0,0,0,0,0,0,0,0,0,0,0,0,0]
[{"$nulls":6},"Yearly CO2 Savings or Increase (kg)",{"$f":"H2096*Full!$F$16","v":0},{"$f":"I2096*Full!$F$16","v":0},{"$f":"J2096*Full!$F$16","v":0},{"$f":"K2096*Full!$F$16","v":0},{"$f":"L2096*Full!$F$16","v":0},{"$f":"M2096*Full!$F$16","v":0},{"$f":"N2096*Full!$F$16","v":0},{"$f":"O2096*Full!$F$16","v":0},{"$f":"P2096*Full!$F$16","v":0},{"$f":"Q2096*Full!$F$16","v":0},{"$f":"R2096*Full!$F$16","v":0},{"$f":"S2096*Full!$F$16","v":0},{"$f":"T2096*Full!$F$16","v":0},{"$f":"U2096*Full!$F$16","v":0},{"$f":"V2096*Full!$F$16","v":0},{"$f":"W2096*Full!$F$16","v":0},{"$f":"X2096*Full!$F$16","v":0},{"$f":"Y2096*Full!$F$16","v":0},{"$f":"Z2096*Full!$F$16","v":0},{"$f":"AA2096*Full!$F$16","v":0}]
[{"$nulls":6},"Yearly CO2 Savings or Increase (tons)",{"$f":"H2097/1000","v":0},{"$f":"I2097/1000","v":0},0,0,0,0,0,0,0,0,0,0,0,0,0,0,0,0,0,{"$f":"AA2097/1000","v":0}]
[]
[{"$nulls":6},"Construction CO2 Emissions"]
[{"$nulls":7},{"$f":"Full!G42","v":0},{"$f":"Full!H42","v":9},{"$f":"Full!I42","v":19}]
[{"$nulls":6},"Cumulative length",{"$f":"Full!G43","v":0},{"$f":"Full!H43","v":0},{"$f":"Full!I43","v":0}]
[{"$nulls":6},"Difference in length",{"$f":"H2102","v":0},{"$f":"I2102-H2102","v":0},{"$f":"J2102-I2102","v":0}]
[{"$nulls":6},"Quantity"]
[{"$nulls":6},{"$f":"Full!F219","v":"Cement"},{"$f":"Full!G219","v":737.8},{"$f":"Full!H219","v":737.8},{"$f":"Full!I219","v":737.8}]
[{"$nulls":6},{"$f":"Full!F220","v":"Bitumen"},{"$f":"Full!G220","v":403.5},{"$f":"Full!H220","v":403.5},{"$f":"Full!I220","v":403.5}]
[{"$nulls":6},{"$f":"Full!F221","v":"Steel"},{"$f":"Full!G221","v":143.2},{"$f":"Full!H221","v":143.2},{"$f":"Full!I221","v":143.2}]
[{"$nulls":6},{"$f":"CONCATENATE(\"CO2 EF \",G2105)","v":"CO2 EF Cement"},{"$f":"Full!J219","v":0.99},{"$f":"H2108","v":0.99},0.99]
[{"$nulls":6},{"$f":"CONCATENATE(\"CO2 EF \",G2106)","v":"CO2 EF Bitumen"},{"$f":"Full!J220","v":0.03},0.03,0.03]
[{"$nulls":6},"CO2 EF Steel",{"$f":"Full!J221","v":2.5},2.5,2.5]
[]
[{"$nulls":6},"Total CO2 Emissions (tons)",{"$f":"((H2105*H2108)+(H2106*H2109)+(H2107*H2110))*H2103","v":0},{"$f":"((I2105*I2108)+(I2106*I2109)+(I2107*I2110))*I2103","v":0},{"$f":"((J2105*J2108)+(J2106*J2109)+(J2107*J2110))*J2103","v":0}]
[]
[{"$nulls":6},"Yearly PM","tons"]
[{"$nulls":7},{"$f":"H2094","v":0},{"$f":"I2094","v":1},2,3,4,5,6,7,8,9,10,11,12,13,14,15,16,17,18,19]
[{"$nulls":5},"NO BRT",{"$f":"G2067","v":"Cars"},{"$f":"(H1768+H1783+H1798+H1813+H1828+H1843)*Full!$F$16/10^6","v":0},{"$f":"(I1768+I1783+I1798+I1813+I1828+I1843)*Full!$F$16/10^6","v":0},{"$f":"(J1768+J1783+J1798+J1813+J1828+J1843)*Full!$F$16/10^6","v":0},{"$f":"(K1768+K1783+K1798+K1813+K1828+K1843)*Full!$F$16/10^6","v":0},{"$f":"(L1768+L1783+L1798+L1813+L1828+L1843)*Full!$F$16/10^6","v":0},{"$f":"(M1768+M1783+M1798+M1813+M1828+M1843)*Full!$F$16/10^6","v":0},{"$f":"(N1768+N1783+N1798+N1813+N1828+N1843)*Full!$F$16/10^6","v":0},{"$f":"(O1768+O1783+O1798+O1813+O1828+O1843)*Full!$F$16/10^6","v":0},{"$f":"(P1768+P1783+P1798+P1813+P1828+P1843)*Full!$F$16/10^6","v":0},{"$f":"(Q1768+Q1783+Q1798+Q1813+Q1828+Q1843)*Full!$F$16/10^6","v":0},{"$f":"(R1768+R1783+R1798+R1813+R1828+R1843)*Full!$F$16/10^6","v":0},{"$f":"(S1768+S1783+S1798+S1813+S1828+S1843)*Full!$F$16/10^6","v":0},{"$f":"(T1768+T1783+T1798+T1813+T1828+T1843)*Full!$F$16/10^6","v":0},{"$f":"(U1768+U1783+U1798+U1813+U1828+U1843)*Full!$F$16/10^6","v":0},{"$f":"(V1768+V1783+V1798+V1813+V1828+V1843)*Full!$F$16/10^6","v":0},{"$f":"(W1768+W1783+W1798+W1813+W1828+W1843)*Full!$F$16/10^6","v":0},{"$f":"(X1768+X1783+X1798+X1813+X1828+X1843)*Full!$F$16/10^6","v":0},{"$f":"(Y1768+Y1783+Y1798+Y1813+Y1828+Y1843)*Full!$F$16/10^6","v":0},{"$f":"(Z1768+Z1783+Z1798+Z1813+Z1828+Z1843)*Full!$F$16/10^6","v":0},{"$f":"(AA1768+AA1783+AA1798+AA1813+AA1828+AA1843)*Full!$F$16/10^6","v":0}]
[{"$nulls":6},{"$f":"G2068","v":"2-wheeler"},{"$f":"(H1769+H1784+H1799+H1814+H1829+H1844)*Full!$F$16/10^6","v":0},{"$f":"(I1769+I1784+I1799+I1814+I1829+I1844)*Full!$F$16/10^6","v":0},{"$f":"(J1769+J1784+J1799+J1814+J1829+J1844)*Full!$F$16/10^6","v":0},{"$f":"(K1769+K1784+K1799+K1814+K1829+K1844)*Full!$F$16/10^6","v":0},{"$f":"(L1769+L1784+L1799+L1814+L1829+L1844)*Full!$F$16/10^6","v":0},{"$f":"(M1769+M1784+M1799+M1814+M1829+M1844)*Full!$F$16/10^6","v":0},{"$f":"(N1769+N1784+N1799+N1814+N1829+N1844)*Full!$F$16/10^6","v":0},{"$f":"(O1769+O1784+O1799+O1814+O1829+O1844)*Full!$F$16/10^6","v":0},{"$f":"(P1769+P1784+P1799+P1814+P1829+P1844)*Full!$F$16/10^6","v":0},{"$f":"(Q1769+Q1784+Q1799+Q1814+Q1829+Q1844)*Full!$F$16/10^6","v":0},{"$f":"(R1769+R1784+R1799+R1814+R1829+R1844)*Full!$F$16/10^6","v":0},{"$f":"(S1769+S1784+S1799+S1814+S1829+S1844)*Full!$F$16/10^6","v":0},{"$f":"(T1769+T1784+T1799+T1814+T1829+T1844)*Full!$F$16/10^6","v":0},{"$f":"(U1769+U1784+U1799+U1814+U1829+U1844)*Full!$F$16/10^6","v":0},{"$f":"(V1769+V1784+V1799+V1814+V1829+V1844)*Full!$F$16/10^6","v":0},{"$f":"(W1769+W1784+W1799+W1814+W1829+W1844)*Full!$F$16/10^6","v":0},{"$f":"(X1769+X1784+X1799+X1814+X1829+X1844)*Full!$F$16/10^6","v":0},{"$f":"(Y1769+Y1784+Y1799+Y1814+Y1829+Y1844)*Full!$F$16/10^6","v":0},{"$f":"(Z1769+Z1784+Z1799+Z1814+Z1829+Z1844)*Full!$F$16/10^6","v":0},{"$f":"(AA1769+AA1784+AA1799+AA1814+AA1829+AA1844)*Full!$F$16/10^6","v":0}]
[{"$nulls":6},"Taxi",{"$f":"(H1770+H1785+H1800+H1815+H1830+H1845)*Full!$F$16/10^6","v":0},{"$f":"(I1770+I1785+I1800+I1815+I1830+I1845)*Full!$F$16/10^6","v":0},{"$f":"(J1770+J1785+J1800+J1815+J1830+J1845)*Full!$F$16/10^6","v":0},{"$f":"(K1770+K1785+K1800+K1815+K1830+K1845)*Full!$F$16/10^6","v":0},{"$f":"(L1770+L1785+L1800+L1815+L1830+L1845)*Full!$F$16/10^6","v":0},{"$f":"(M1770+M1785+M1800+M1815+M1830+M1845)*Full!$F$16/10^6","v":0},{"$f":"(N1770+N1785+N1800+N1815+N1830+N1845)*Full!$F$16/10^6","v":0},{"$f":"(O1770+O1785+O1800+O1815+O1830+O1845)*Full!$F$16/10^6","v":0},{"$f":"(P1770+P1785+P1800+P1815+P1830+P1845)*Full!$F$16/10^6","v":0},{"$f":"(Q1770+Q1785+Q1800+Q1815+Q1830+Q1845)*Full!$F$16/10^6","v":0},{"$f":"(R1770+R1785+R1800+R1815+R1830+R1845)*Full!$F$16/10^6","v":0},{"$f":"(S1770+S1785+S1800+S1815+S1830+S1845)*Full!$F$16/10^6","v":0},{"$f":"(T1770+T1785+T1800+T1815+T1830+T1845)*Full!$F$16/10^6","v":0},{"$f":"(U1770+U1785+U1800+U1815+U1830+U1845)*Full!$F$16/10^6","v":0},{"$f":"(V1770+V1785+V1800+V1815+V1830+V1845)*Full!$F$16/10^6","v":0},{"$f":"(W1770+W1785+W1800+W1815+W1830+W1845)*Full!$F$16/10^6","v":0},{"$f":"(X1770+X1785+X1800+X1815+X1830+X1845)*Full!$F$16/10^6","v":0},{"$f":"(Y1770+Y1785+Y1800+Y1815+Y1830+Y1845)*Full!$F$16/10^6","v":0},{"$f":"(Z1770+Z1785+Z1800+Z1815+Z1830+Z1845)*Full!$F$16/10^6","v":0},{"$f":"(AA1770+AA1785+AA1800+AA1815+AA1830+AA1845)*Full!$F$16/10^6","v":0}]
[{"$nulls":6},"",{"$f":"(H1771+H1786+H1801+H1816+H1831+H1846)*Full!$F$16/10^6","v":0},{"$f":"(I1771+I1786+I1801+I1816+I1831+I1846)*Full!$F$16/10^6","v":0},{"$f":"(J1771+J1786+J1801+J1816+J1831+J1846)*Full!$F$16/10^6","v":0},{"$f":"(K1771+K1786+K1801+K1816+K1831+K1846)*Full!$F$16/10^6","v":0},{"$f":"(L1771+L1786+L1801+L1816+L1831+L1846)*Full!$F$16/10^6","v":0},{"$f":"(M1771+M1786+M1801+M1816+M1831+M1846)*Full!$F$16/10^6","v":0},{"$f":"(N1771+N1786+N1801+N1816+N1831+N1846)*Full!$F$16/10^6","v":0},{"$f":"(O1771+O1786+O1801+O1816+O1831+O1846)*Full!$F$16/10^6","v":0},{"$f":"(P1771+P1786+P1801+P1816+P1831+P1846)*Full!$F$16/10^6","v":0},{"$f":"(Q1771+Q1786+Q1801+Q1816+Q1831+Q1846)*Full!$F$16/10^6","v":0},{"$f":"(R1771+R1786+R1801+R1816+R1831+R1846)*Full!$F$16/10^6","v":0},{"$f":"(S1771+S1786+S1801+S1816+S1831+S1846)*Full!$F$16/10^6","v":0},{"$f":"(T1771+T1786+T1801+T1816+T1831+T1846)*Full!$F$16/10^6","v":0},{"$f":"(U1771+U1786+U1801+U1816+U1831+U1846)*Full!$F$16/10^6","v":0},{"$f":"(V1771+V1786+V1801+V1816+V1831+V1846)*Full!$F$16/10^6","v":0},{"$f":"(W1771+W1786+W1801+W1816+W1831+W1846)*Full!$F$16/10^6","v":0},{"$f":"(X1771+X1786+X1801+X1816+X1831+X1846)*Full!$F$16/10^6","v":0},{"$f":"(Y1771+Y1786+Y1801+Y1816+Y1831+Y1846)*Full!$F$16/10^6","v":0},{"$f":"(Z1771+Z1786+Z1801+Z1816+Z1831+Z1846)*Full!$F$16/10^6","v":0},{"$f":"(AA1771+AA1786+AA1801+AA1816+AA1831+AA1846)*Full!$F$16/10^6","v":0}]
[{"$nulls":6},"",{"$f":"(H1772+H1787+H1802+H1817+H1832+H1847)*Full!$F$16/10^6","v":0},{"$f":"(I1772+I1787+I1802+I1817+I1832+I1847)*Full!$F$16/10^6","v":0},{"$f":"(J1772+J1787+J1802+J1817+J1832+J1847)*Full!$F$16/10^6","v":0},{"$f":"(K1772+K1787+K1802+K1817+K1832+K1847)*Full!$F$16/10^6","v":0},{"$f":"(L1772+L1787+L1802+L1817+L1832+L1847)*Full!$F$16/10^6","v":0},{"$f":"(M1772+M1787+M1802+M1817+M1832+M1847)*Full!$F$16/10^6","v":0},{"$f":"(N1772+N1787+N1802+N1817+N1832+N1847)*Full!$F$16/10^6","v":0},{"$f":"(O1772+O1787+O1802+O1817+O1832+O1847)*Full!$F$16/10^6","v":0},{"$f":"(P1772+P1787+P1802+P1817+P1832+P1847)*Full!$F$16/10^6","v":0},{"$f":"(Q1772+Q1787+Q1802+Q1817+Q1832+Q1847)*Full!$F$16/10^6","v":0},{"$f":"(R1772+R1787+R1802+R1817+R1832+R1847)*Full!$F$16/10^6","v":0},{"$f":"(S1772+S1787+S1802+S1817+S1832+S1847)*Full!$F$16/10^6","v":0},{"$f":"(T1772+T1787+T1802+T1817+T1832+T1847)*Full!$F$16/10^6","v":0},{"$f":"(U1772+U1787+U1802+U1817+U1832+U1847)*Full!$F$16/10^6","v":0},{"$f":"(V1772+V1787+V1802+V1817+V1832+V1847)*Full!$F$16/10^6","v":0},{"$f":"(W1772+W1787+W1802+W1817+W1832+W1847)*Full!$F$16/10^6","v":0},{"$f":"(X1772+X1787+X1802+X1817+X1832+X1847)*Full!$F$16/10^6","v":0},{"$f":"(Y1772+Y1787+Y1802+Y1817+Y1832+Y1847)*Full!$F$16/10^6","v":0},{"$f":"(Z1772+Z1787+Z1802+Z1817+Z1832+Z1847)*Full!$F$16/10^6","v":0},{"$f":"(AA1772+AA1787+AA1802+AA1817+AA1832+AA1847)*Full!$F$16/10^6","v":0}]
[{"$nulls":6},"3-wheeler",{"$f":"(H1773+H1788+H1803+H1818+H1833+H1848)*Full!$F$16/10^6","v":0},{"$f":"(I1773+I1788+I1803+I1818+I1833+I1848)*Full!$F$16/10^6","v":0},{"$f":"(J1773+J1788+J1803+J1818+J1833+J1848)*Full!$F$16/10^6","v":0},{"$f":"(K1773+K1788+K1803+K1818+K1833+K1848)*Full!$F$16/10^6","v":0},{"$f":"(L1773+L1788+L1803+L1818+L1833+L1848)*Full!$F$16/10^6","v":0},{"$f":"(M1773+M1788+M1803+M1818+M1833+M1848)*Full!$F$16/10^6","v":0},{"$f":"(N1773+N1788+N1803+N1818+N1833+N1848)*Full!$F$16/10^6","v":0},{"$f":"(O1773+O1788+O1803+O1818+O1833+O1848)*Full!$F$16/10^6","v":0},{"$f":"(P1773+P1788+P1803+P1818+P1833+P1848)*Full!$F$16/10^6","v":0},{"$f":"(Q1773+Q1788+Q1803+Q1818+Q1833+Q1848)*Full!$F$16/10^6","v":0},{"$f":"(R1773+R1788+R1803+R1818+R1833+R1848)*Full!$F$16/10^6","v":0},{"$f":"(S1773+S1788+S1803+S1818+S1833+S1848)*Full!$F$16/10^6","v":0},{"$f":"(T1773+T1788+T1803+T1818+T1833+T1848)*Full!$F$16/10^6","v":0},{"$f":"(U1773+U1788+U1803+U1818+U1833+U1848)*Full!$F$16/10^6","v":0},{"$f":"(V1773+V1788+V1803+V1818+V1833+V1848)*Full!$F$16/10^6","v":0},{"$f":"(W1773+W1788+W1803+W1818+W1833+W1848)*Full!$F$16/10^6","v":0},{"$f":"(X1773+X1788+X1803+X1818+X1833+X1848)*Full!$F$16/10^6","v":0},{"$f":"(Y1773+Y1788+Y1803+Y1818+Y1833+Y1848)*Full!$F$16/10^6","v":0},{"$f":"(Z1773+Z1788+Z1803+Z1818+Z1833+Z1848)*Full!$F$16/10^6","v":0},{"$f":"(AA1773+AA1788+AA1803+AA1818+AA1833+AA1848)*Full!$F$16/10^6","v":0}]
[{"$nulls":6},"Bus",{"$f":"(H1774+H1789+H1804+H1819+H1834+H1849)*Full!$F$16/10^6","v":0},{"$f":"(I1774+I1789+I1804+I1819+I1834+I1849)*Full!$F$16/10^6","v":0},{"$f":"(J1774+J1789+J1804+J1819+J1834+J1849)*Full!$F$16/10^6","v":0},{"$f":"(K1774+K1789+K1804+K1819+K1834+K1849)*Full!$F$16/10^6","v":0},{"$f":"(L1774+L1789+L1804+L1819+L1834+L1849)*Full!$F$16/10^6","v":0},{"$f":"(M1774+M1789+M1804+M1819+M1834+M1849)*Full!$F$16/10^6","v":0},{"$f":"(N1774+N1789+N1804+N1819+N1834+N1849)*Full!$F$16/10^6","v":0},{"$f":"(O1774+O1789+O1804+O1819+O1834+O1849)*Full!$F$16/10^6","v":0},{"$f":"(P1774+P1789+P1804+P1819+P1834+P1849)*Full!$F$16/10^6","v":0},{"$f":"(Q1774+Q1789+Q1804+Q1819+Q1834+Q1849)*Full!$F$16/10^6","v":0},{"$f":"(R1774+R1789+R1804+R1819+R1834+R1849)*Full!$F$16/10^6","v":0},{"$f":"(S1774+S1789+S1804+S1819+S1834+S1849)*Full!$F$16/10^6","v":0},{"$f":"(T1774+T1789+T1804+T1819+T1834+T1849)*Full!$F$16/10^6","v":0},{"$f":"(U1774+U1789+U1804+U1819+U1834+U1849)*Full!$F$16/10^6","v":0},{"$f":"(V1774+V1789+V1804+V1819+V1834+V1849)*Full!$F$16/10^6","v":0},{"$f":"(W1774+W1789+W1804+W1819+W1834+W1849)*Full!$F$16/10^6","v":0},{"$f":"(X1774+X1789+X1804+X1819+X1834+X1849)*Full!$F$16/10^6","v":0},{"$f":"(Y1774+Y1789+Y1804+Y1819+Y1834+Y1849)*Full!$F$16/10^6","v":0},{"$f":"(Z1774+Z1789+Z1804+Z1819+Z1834+Z1849)*Full!$F$16/10^6","v":0},{"$f":"(AA1774+AA1789+AA1804+AA1819+AA1834+AA1849)*Full!$F$16/10^6","v":0}]
[{"$nulls":6},"Mini-bus",{"$f":"(H1775+H1790+H1805+H1820+H1835+H1850)*Full!$F$16/10^6","v":0},{"$f":"(I1775+I1790+I1805+I1820+I1835+I1850)*Full!$F$16/10^6","v":0},{"$f":"(J1775+J1790+J1805+J1820+J1835+J1850)*Full!$F$16/10^6","v":0},{"$f":"(K1775+K1790+K1805+K1820+K1835+K1850)*Full!$F$16/10^6","v":0},{"$f":"(L1775+L1790+L1805+L1820+L1835+L1850)*Full!$F$16/10^6","v":0},{"$f":"(M1775+M1790+M1805+M1820+M1835+M1850)*Full!$F$16/10^6","v":0},{"$f":"(N1775+N1790+N1805+N1820+N1835+N1850)*Full!$F$16/10^6","v":0},{"$f":"(O1775+O1790+O1805+O1820+O1835+O1850)*Full!$F$16/10^6","v":0},{"$f":"(P1775+P1790+P1805+P1820+P1835+P1850)*Full!$F$16/10^6","v":0},{"$f":"(Q1775+Q1790+Q1805+Q1820+Q1835+Q1850)*Full!$F$16/10^6","v":0},{"$f":"(R1775+R1790+R1805+R1820+R1835+R1850)*Full!$F$16/10^6","v":0},{"$f":"(S1775+S1790+S1805+S1820+S1835+S1850)*Full!$F$16/10^6","v":0},{"$f":"(T1775+T1790+T1805+T1820+T1835+T1850)*Full!$F$16/10^6","v":0},{"$f":"(U1775+U1790+U1805+U1820+U1835+U1850)*Full!$F$16/10^6","v":0},{"$f":"(V1775+V1790+V1805+V1820+V1835+V1850)*Full!$F$16/10^6","v":0},{"$f":"(W1775+W1790+W1805+W1820+W1835+W1850)*Full!$F$16/10^6","v":0},{"$f":"(X1775+X1790+X1805+X1820+X1835+X1850)*Full!$F$16/10^6","v":0},{"$f":"(Y1775+Y1790+Y1805+Y1820+Y1835+Y1850)*Full!$F$16/10^6","v":0},{"$f":"(Z1775+Z1790+Z1805+Z1820+Z1835+Z1850)*Full!$F$16/10^6","v":0},{"$f":"(AA1775+AA1790+AA1805+AA1820+AA1835+AA1850)*Full!$F$16/10^6","v":0}]
[{"$nulls":6},"",{"$f":"(H1776+H1791+H1806+H1821+H1836+H1851)*Full!$F$16/10^6","v":0},{"$f":"(I1776+I1791+I1806+I1821+I1836+I1851)*Full!$F$16/10^6","v":0},{"$f":"(J1776+J1791+J1806+J1821+J1836+J1851)*Full!$F$16/10^6","v":0},{"$f":"(K1776+K1791+K1806+K1821+K1836+K1851)*Full!$F$16/10^6","v":0},{"$f":"(L1776+L1791+L1806+L1821+L1836+L1851)*Full!$F$16/10^6","v":0},{"$f":"(M1776+M1791+M1806+M1821+M1836+M1851)*Full!$F$16/10^6","v":0},{"$f":"(N1776+N1791+N1806+N1821+N1836+N1851)*Full!$F$16/10^6","v":0},{"$f":"(O1776+O1791+O1806+O1821+O1836+O1851)*Full!$F$16/10^6","v":0},{"$f":"(P1776+P1791+P1806+P1821+P1836+P1851)*Full!$F$16/10^6","v":0},{"$f":"(Q1776+Q1791+Q1806+Q1821+Q1836+Q1851)*Full!$F$16/10^6","v":0},{"$f":"(R1776+R1791+R1806+R1821+R1836+R1851)*Full!$F$16/10^6","v":0},{"$f":"(S1776+S1791+S1806+S1821+S1836+S1851)*Full!$F$16/10^6","v":0},{"$f":"(T1776+T1791+T1806+T1821+T1836+T1851)*Full!$F$16/10^6","v":0},{"$f":"(U1776+U1791+U1806+U1821+U1836+U1851)*Full!$F$16/10^6","v":0},{"$f":"(V1776+V1791+V1806+V1821+V1836+V1851)*Full!$F$16/10^6","v":0},{"$f":"(W1776+W1791+W1806+W1821+W1836+W1851)*Full!$F$16/10^6","v":0},{"$f":"(X1776+X1791+X1806+X1821+X1836+X1851)*Full!$F$16/10^6","v":0},{"$f":"(Y1776+Y1791+Y1806+Y1821+Y1836+Y1851)*Full!$F$16/10^6","v":0},{"$f":"(Z1776+Z1791+Z1806+Z1821+Z1836+Z1851)*Full!$F$16/10^6","v":0},{"$f":"(AA1776+AA1791+AA1806+AA1821+AA1836+AA1851)*Full!$F$16/10^6","v":0}]
[{"$nulls":6},"",{"$f":"(H1777+H1792+H1807+H1822+H1837+H1852)*Full!$F$16/10^6","v":0},{"$f":"(I1777+I1792+I1807+I1822+I1837+I1852)*Full!$F$16/10^6","v":0},{"$f":"(J1777+J1792+J1807+J1822+J1837+J1852)*Full!$F$16/10^6","v":0},{"$f":"(K1777+K1792+K1807+K1822+K1837+K1852)*Full!$F$16/10^6","v":0},{"$f":"(L1777+L1792+L1807+L1822+L1837+L1852)*Full!$F$16/10^6","v":0},{"$f":"(M1777+M1792+M1807+M1822+M1837+M1852)*Full!$F$16/10^6","v":0},{"$f":"(N1777+N1792+N1807+N1822+N1837+N1852)*Full!$F$16/10^6","v":0},{"$f":"(O1777+O1792+O1807+O1822+O1837+O1852)*Full!$F$16/10^6","v":0},{"$f":"(P1777+P1792+P1807+P1822+P1837+P1852)*Full!$F$16/10^6","v":0},{"$f":"(Q1777+Q1792+Q1807+Q1822+Q1837+Q1852)*Full!$F$16/10^6","v":0},{"$f":"(R1777+R1792+R1807+R1822+R1837+R1852)*Full!$F$16/10^6","v":0},{"$f":"(S1777+S1792+S1807+S1822+S1837+S1852)*Full!$F$16/10^6","v":0},{"$f":"(T1777+T1792+T1807+T1822+T1837+T1852)*Full!$F$16/10^6","v":0},{"$f":"(U1777+U1792+U1807+U1822+U1837+U1852)*Full!$F$16/10^6","v":0},{"$f":"(V1777+V1792+V1807+V1822+V1837+V1852)*Full!$F$16/10^6","v":0},{"$f":"(W1777+W1792+W1807+W1822+W1837+W1852)*Full!$F$16/10^6","v":0},{"$f":"(X1777+X1792+X1807+X1822+X1837+X1852)*Full!$F$16/10^6","v":0},{"$f":"(Y1777+Y1792+Y1807+Y1822+Y1837+Y1852)*Full!$F$16/10^6","v":0},{"$f":"(Z1777+Z1792+Z1807+Z1822+Z1837+Z1852)*Full!$F$16/10^6","v":0},{"$f":"(AA1777+AA1792+AA1807+AA1822+AA1837+AA1852)*Full!$F$16/10^6","v":0}]
[{"$nulls":6},"BRT",{"$f":"(H1778+H1793+H1808+H1823+H1838+H1853)*Full!$F$16/10^6","v":0},{"$f":"(I1778+I1793+I1808+I1823+I1838+I1853)*Full!$F$16/10^6","v":0},{"$f":"(J1778+J1793+J1808+J1823+J1838+J1853)*Full!$F$16/10^6","v":0},{"$f":"(K1778+K1793+K1808+K1823+K1838+K1853)*Full!$F$16/10^6","v":0},{"$f":"(L1778+L1793+L1808+L1823+L1838+L1853)*Full!$F$16/10^6","v":0},{"$f":"(M1778+M1793+M1808+M1823+M1838+M1853)*Full!$F$16/10^6","v":0},{"$f":"(N1778+N1793+N1808+N1823+N1838+N1853)*Full!$F$16/10^6","v":0},{"$f":"(O1778+O1793+O1808+O1823+O1838+O1853)*Full!$F$16/10^6","v":0},{"$f":"(P1778+P1793+P1808+P1823+P1838+P1853)*Full!$F$16/10^6","v":0},{"$f":"(Q1778+Q1793+Q1808+Q1823+Q1838+Q1853)*Full!$F$16/10^6","v":0},{"$f":"(R1778+R1793+R1808+R1823+R1838+R1853)*Full!$F$16/10^6","v":0},{"$f":"(S1778+S1793+S1808+S1823+S1838+S1853)*Full!$F$16/10^6","v":0},{"$f":"(T1778+T1793+T1808+T1823+T1838+T1853)*Full!$F$16/10^6","v":0},{"$f":"(U1778+U1793+U1808+U1823+U1838+U1853)*Full!$F$16/10^6","v":0},{"$f":"(V1778+V1793+V1808+V1823+V1838+V1853)*Full!$F$16/10^6","v":0},{"$f":"(W1778+W1793+W1808+W1823+W1838+W1853)*Full!$F$16/10^6","v":0},{"$f":"(X1778+X1793+X1808+X1823+X1838+X1853)*Full!$F$16/10^6","v":0},{"$f":"(Y1778+Y1793+Y1808+Y1823+Y1838+Y1853)*Full!$F$16/10^6","v":0},{"$f":"(Z1778+Z1793+Z1808+Z1823+Z1838+Z1853)*Full!$F$16/10^6","v":0},{"$f":"(AA1778+AA1793+AA1808+AA1823+AA1838+AA1853)*Full!$F$16/10^6","v":0}]
[]
[{"$nulls":6},"Yearly Nox ","tons"]
[{"$nulls":7},{"$f":"H2115","v":0},{"$f":"I2115","v":1},2,3,4,5,6,7,8,9,10,11,12,13,14,15,16,17,18,19]
[{"$nulls":5},"NO BRT",{"$f":"G2116","v":"Cars"},{"$f":"SUM(H1859,H1874,H1889,H1904,H1919,H1934)*Full!$F$16/10^6","v":0},{"$f":"SUM(I1859,I1874,I1889,I1904,I1919,I1934)*Full!$F$16/10^6","v":0},{"$f":"SUM(J1859,J1874,J1889,J1904,J1919,J1934)*Full!$F$16/10^6","v":0},{"$f":"SUM(K1859,K1874,K1889,K1904,K1919,K1934)*Full!$F$16/10^6","v":0},{"$f":"SUM(L1859,L1874,L1889,L1904,L1919,L1934)*Full!$F$16/10^6","v":0},{"$f":"SUM(M1859,M1874,M1889,M1904,M1919,M1934)*Full!$F$16/10^6","v":0},{"$f":"SUM(N1859,N1874,N1889,N1904,N1919,N1934)*Full!$F$16/10^6","v":0},{"$f":"SUM(O1859,O1874,O1889,O1904,O1919,O1934)*Full!$F$16/10^6","v":0},{"$f":"SUM(P1859,P1874,P1889,P1904,P1919,P1934)*Full!$F$16/10^6","v":0},{"$f":"SUM(Q1859,Q1874,Q1889,Q1904,Q1919,Q1934)*Full!$F$16/10^6","v":0},{"$f":"SUM(R1859,R1874,R1889,R1904,R1919,R1934)*Full!$F$16/10^6","v":0},{"$f":"SUM(S1859,S1874,S1889,S1904,S1919,S1934)*Full!$F$16/10^6","v":0},{"$f":"SUM(T1859,T1874,T1889,T1904,T1919,T1934)*Full!$F$16/10^6","v":0},{"$f":"SUM(U1859,U1874,U1889,U1904,U1919,U1934)*Full!$F$16/10^6","v":0},{"$f":"SUM(V1859,V1874,V1889,V1904,V1919,V1934)*Full!$F$16/10^6","v":0},{"$f":"SUM(W1859,W1874,W1889,W1904,W1919,W1934)*Full!$F$16/10^6","v":0},{"$f":"SUM(X1859,X1874,X1889,X1904,X1919,X1934)*Full!$F$16/10^6","v":0},{"$f":"SUM(Y1859,Y1874,Y1889,Y1904,Y1919,Y1934)*Full!$F$16/10^6","v":0},{"$f":"SUM(Z1859,Z1874,Z1889,Z1904,Z1919,Z1934)*Full!$F$16/10^6","v":0},{"$f":"SUM(AA1859,AA1874,AA1889,AA1904,AA1919,AA1934)*Full!$F$16/10^6","v":0}]
[{"$nulls":6},{"$f":"G2117","v":"2-wheeler"},{"$f":"SUM(H1860,H1875,H1890,H1905,H1920,H1935)*Full!$F$16/10^6","v":0},{"$f":"SUM(I1860,I1875,I1890,I1905,I1920,I1935)*Full!$F$16/10^6","v":0},{"$f":"SUM(J1860,J1875,J1890,J1905,J1920,J1935)*Full!$F$16/10^6","v":0},{"$f":"SUM(K1860,K1875,K1890,K1905,K1920,K1935)*Full!$F$16/10^6","v":0},{"$f":"SUM(L1860,L1875,L1890,L1905,L1920,L1935)*Full!$F$16/10^6","v":0},{"$f":"SUM(M1860,M1875,M1890,M1905,M1920,M1935)*Full!$F$16/10^6","v":0},{"$f":"SUM(N1860,N1875,N1890,N1905,N1920,N1935)*Full!$F$16/10^6","v":0},{"$f":"SUM(O1860,O1875,O1890,O1905,O1920,O1935)*Full!$F$16/10^6","v":0},{"$f":"SUM(P1860,P1875,P1890,P1905,P1920,P1935)*Full!$F$16/10^6","v":0},{"$f":"SUM(Q1860,Q1875,Q1890,Q1905,Q1920,Q1935)*Full!$F$16/10^6","v":0},{"$f":"SUM(R1860,R1875,R1890,R1905,R1920,R1935)*Full!$F$16/10^6","v":0},{"$f":"SUM(S1860,S1875,S1890,S1905,S1920,S1935)*Full!$F$16/10^6","v":0},{"$f":"SUM(T1860,T1875,T1890,T1905,T1920,T1935)*Full!$F$16/10^6","v":0},{"$f":"SUM(U1860,U1875,U1890,U1905,U1920,U1935)*Full!$F$16/10^6","v":0},{"$f":"SUM(V1860,V1875,V1890,V1905,V1920,V1935)*Full!$F$16/10^6","v":0},{"$f":"SUM(W1860,W1875,W1890,W1905,W1920,W1935)*Full!$F$16/10^6","v":0},{"$f":"SUM(X1860,X1875,X1890,X1905,X1920,X1935)*Full!$F$16/10^6","v":0},{"$f":"SUM(Y1860,Y1875,Y1890,Y1905,Y1920,Y1935)*Full!$F$16/10^6","v":0},{"$f":"SUM(Z1860,Z1875,Z1890,Z1905,Z1920,Z1935)*Full!$F$16/10^6","v":0},{"$f":"SUM(AA1860,AA1875,AA1890,AA1905,AA1920,AA1935)*Full!$F$16/10^6","v":0}]
[{"$nulls":6},"Taxi",{"$f":"SUM(H1861,H1876,H1891,H1906,H1921,H1936)*Full!$F$16/10^6","v":0},{"$f":"SUM(I1861,I1876,I1891,I1906,I1921,I1936)*Full!$F$16/10^6","v":0},{"$f":"SUM(J1861,J1876,J1891,J1906,J1921,J1936)*Full!$F$16/10^6","v":0},{"$f":"SUM(K1861,K1876,K1891,K1906,K1921,K1936)*Full!$F$16/10^6","v":0},{"$f":"SUM(L1861,L1876,L1891,L1906,L1921,L1936)*Full!$F$16/10^6","v":0},{"$f":"SUM(M1861,M1876,M1891,M1906,M1921,M1936)*Full!$F$16/10^6","v":0},{"$f":"SUM(N1861,N1876,N1891,N1906,N1921,N1936)*Full!$F$16/10^6","v":0},{"$f":"SUM(O1861,O1876,O1891,O1906,O1921,O1936)*Full!$F$16/10^6","v":0},{"$f":"SUM(P1861,P1876,P1891,P1906,P1921,P1936)*Full!$F$16/10^6","v":0},{"$f":"SUM(Q1861,Q1876,Q1891,Q1906,Q1921,Q1936)*Full!$F$16/10^6","v":0},{"$f":"SUM(R1861,R1876,R1891,R1906,R1921,R1936)*Full!$F$16/10^6","v":0},{"$f":"SUM(S1861,S1876,S1891,S1906,S1921,S1936)*Full!$F$16/10^6","v":0},{"$f":"SUM(T1861,T1876,T1891,T1906,T1921,T1936)*Full!$F$16/10^6","v":0},{"$f":"SUM(U1861,U1876,U1891,U1906,U1921,U1936)*Full!$F$16/10^6","v":0},{"$f":"SUM(V1861,V1876,V1891,V1906,V1921,V1936)*Full!$F$16/10^6","v":0},{"$f":"SUM(W1861,W1876,W1891,W1906,W1921,W1936)*Full!$F$16/10^6","v":0},{"$f":"SUM(X1861,X1876,X1891,X1906,X1921,X1936)*Full!$F$16/10^6","v":0},{"$f":"SUM(Y1861,Y1876,Y1891,Y1906,Y1921,Y1936)*Full!$F$16/10^6","v":0},{"$f":"SUM(Z1861,Z1876,Z1891,Z1906,Z1921,Z1936)*Full!$F$16/10^6","v":0},{"$f":"SUM(AA1861,AA1876,AA1891,AA1906,AA1921,AA1936)*Full!$F$16/10^6","v":0}]
[{"$nulls":6},"",{"$f":"SUM(H1862,H1877,H1892,H1907,H1922,H1937)*Full!$F$16/10^6","v":0},{"$f":"SUM(I1862,I1877,I1892,I1907,I1922,I1937)*Full!$F$16/10^6","v":0},{"$f":"SUM(J1862,J1877,J1892,J1907,J1922,J1937)*Full!$F$16/10^6","v":0},{"$f":"SUM(K1862,K1877,K1892,K1907,K1922,K1937)*Full!$F$16/10^6","v":0},{"$f":"SUM(L1862,L1877,L1892,L1907,L1922,L1937)*Full!$F$16/10^6","v":0},{"$f":"SUM(M1862,M1877,M1892,M1907,M1922,M1937)*Full!$F$16/10^6","v":0},{"$f":"SUM(N1862,N1877,N1892,N1907,N1922,N1937)*Full!$F$16/10^6","v":0},{"$f":"SUM(O1862,O1877,O1892,O1907,O1922,O1937)*Full!$F$16/10^6","v":0},{"$f":"SUM(P1862,P1877,P1892,P1907,P1922,P1937)*Full!$F$16/10^6","v":0},{"$f":"SUM(Q1862,Q1877,Q1892,Q1907,Q1922,Q1937)*Full!$F$16/10^6","v":0},{"$f":"SUM(R1862,R1877,R1892,R1907,R1922,R1937)*Full!$F$16/10^6","v":0},{"$f":"SUM(S1862,S1877,S1892,S1907,S1922,S1937)*Full!$F$16/10^6","v":0},{"$f":"SUM(T1862,T1877,T1892,T1907,T1922,T1937)*Full!$F$16/10^6","v":0},{"$f":"SUM(U1862,U1877,U1892,U1907,U1922,U1937)*Full!$F$16/10^6","v":0},{"$f":"SUM(V1862,V1877,V1892,V1907,V1922,V1937)*Full!$F$16/10^6","v":0},{"$f":"SUM(W1862,W1877,W1892,W1907,W1922,W1937)*Full!$F$16/10^6","v":0},{"$f":"SUM(X1862,X1877,X1892,X1907,X1922,X1937)*Full!$F$16/10^6","v":0},{"$f":"SUM(Y1862,Y1877,Y1892,Y1907,Y1922,Y1937)*Full!$F$16/10^6","v":0},{"$f":"SUM(Z1862,Z1877,Z1892,Z1907,Z1922,Z1937)*Full!$F$16/10^6","v":0},{"$f":"SUM(AA1862,AA1877,AA1892,AA1907,AA1922,AA1937)*Full!$F$16/10^6","v":0}]
[{"$nulls":6},"",{"$f":"SUM(H1863,H1878,H1893,H1908,H1923,H1938)*Full!$F$16/10^6","v":0},{"$f":"SUM(I1863,I1878,I1893,I1908,I1923,I1938)*Full!$F$16/10^6","v":0},{"$f":"SUM(J1863,J1878,J1893,J1908,J1923,J1938)*Full!$F$16/10^6","v":0},{"$f":"SUM(K1863,K1878,K1893,K1908,K1923,K1938)*Full!$F$16/10^6","v":0},{"$f":"SUM(L1863,L1878,L1893,L1908,L1923,L1938)*Full!$F$16/10^6","v":0},{"$f":"SUM(M1863,M1878,M1893,M1908,M1923,M1938)*Full!$F$16/10^6","v":0},{"$f":"SUM(N1863,N1878,N1893,N1908,N1923,N1938)*Full!$F$16/10^6","v":0},{"$f":"SUM(O1863,O1878,O1893,O1908,O1923,O1938)*Full!$F$16/10^6","v":0},{"$f":"SUM(P1863,P1878,P1893,P1908,P1923,P1938)*Full!$F$16/10^6","v":0},{"$f":"SUM(Q1863,Q1878,Q1893,Q1908,Q1923,Q1938)*Full!$F$16/10^6","v":0},{"$f":"SUM(R1863,R1878,R1893,R1908,R1923,R1938)*Full!$F$16/10^6","v":0},{"$f":"SUM(S1863,S1878,S1893,S1908,S1923,S1938)*Full!$F$16/10^6","v":0},{"$f":"SUM(T1863,T1878,T1893,T1908,T1923,T1938)*Full!$F$16/10^6","v":0},{"$f":"SUM(U1863,U1878,U1893,U1908,U1923,U1938)*Full!$F$16/10^6","v":0},{"$f":"SUM(V1863,V1878,V1893,V1908,V1923,V1938)*Full!$F$16/10^6","v":0},{"$f":"SUM(W1863,W1878,W1893,W1908,W1923,W1938)*Full!$F$16/10^6","v":0},{"$f":"SUM(X1863,X1878,X1893,X1908,X1923,X1938)*Full!$F$16/10^6","v":0},{"$f":"SUM(Y1863,Y1878,Y1893,Y1908,Y1923,Y1938)*Full!$F$16/10^6","v":0},{"$f":"SUM(Z1863,Z1878,Z1893,Z1908,Z1923,Z1938)*Full!$F$16/10^6","v":0},{"$f":"SUM(AA1863,AA1878,AA1893,AA1908,AA1923,AA1938)*Full!$F$16/10^6","v":0}]
[{"$nulls":6},"3-wheeler",{"$f":"SUM(H1864,H1879,H1894,H1909,H1924,H1939)*Full!$F$16/10^6","v":0},{"$f":"SUM(I1864,I1879,I1894,I1909,I1924,I1939)*Full!$F$16/10^6","v":0},{"$f":"SUM(J1864,J1879,J1894,J1909,J1924,J1939)*Full!$F$16/10^6","v":0},{"$f":"SUM(K1864,K1879,K1894,K1909,K1924,K1939)*Full!$F$16/10^6","v":0},{"$f":"SUM(L1864,L1879,L1894,L1909,L1924,L1939)*Full!$F$16/10^6","v":0},{"$f":"SUM(M1864,M1879,M1894,M1909,M1924,M1939)*Full!$F$16/10^6","v":0},{"$f":"SUM(N1864,N1879,N1894,N1909,N1924,N1939)*Full!$F$16/10^6","v":0},{"$f":"SUM(O1864,O1879,O1894,O1909,O1924,O1939)*Full!$F$16/10^6","v":0},{"$f":"SUM(P1864,P1879,P1894,P1909,P1924,P1939)*Full!$F$16/10^6","v":0},{"$f":"SUM(Q1864,Q1879,Q1894,Q1909,Q1924,Q1939)*Full!$F$16/10^6","v":0},{"$f":"SUM(R1864,R1879,R1894,R1909,R1924,R1939)*Full!$F$16/10^6","v":0},{"$f":"SUM(S1864,S1879,S1894,S1909,S1924,S1939)*Full!$F$16/10^6","v":0},{"$f":"SUM(T1864,T1879,T1894,T1909,T1924,T1939)*Full!$F$16/10^6","v":0},{"$f":"SUM(U1864,U1879,U1894,U1909,U1924,U1939)*Full!$F$16/10^6","v":0},{"$f":"SUM(V1864,V1879,V1894,V1909,V1924,V1939)*Full!$F$16/10^6","v":0},{"$f":"SUM(W1864,W1879,W1894,W1909,W1924,W1939)*Full!$F$16/10^6","v":0},{"$f":"SUM(X1864,X1879,X1894,X1909,X1924,X1939)*Full!$F$16/10^6","v":0},{"$f":"SUM(Y1864,Y1879,Y1894,Y1909,Y1924,Y1939)*Full!$F$16/10^6","v":0},{"$f":"SUM(Z1864,Z1879,Z1894,Z1909,Z1924,Z1939)*Full!$F$16/10^6","v":0},{"$f":"SUM(AA1864,AA1879,AA1894,AA1909,AA1924,AA1939)*Full!$F$16/10^6","v":0}]
[{"$nulls":6},"Bus",{"$f":"SUM(H1865,H1880,H1895,H1910,H1925,H1940)*Full!$F$16/10^6","v":0},{"$f":"SUM(I1865,I1880,I1895,I1910,I1925,I1940)*Full!$F$16/10^6","v":0},{"$f":"SUM(J1865,J1880,J1895,J1910,J1925,J1940)*Full!$F$16/10^6","v":0},{"$f":"SUM(K1865,K1880,K1895,K1910,K1925,K1940)*Full!$F$16/10^6","v":0},{"$f":"SUM(L1865,L1880,L1895,L1910,L1925,L1940)*Full!$F$16/10^6","v":0},{"$f":"SUM(M1865,M1880,M1895,M1910,M1925,M1940)*Full!$F$16/10^6","v":0},{"$f":"SUM(N1865,N1880,N1895,N1910,N1925,N1940)*Full!$F$16/10^6","v":0},{"$f":"SUM(O1865,O1880,O1895,O1910,O1925,O1940)*Full!$F$16/10^6","v":0},{"$f":"SUM(P1865,P1880,P1895,P1910,P1925,P1940)*Full!$F$16/10^6","v":0},{"$f":"SUM(Q1865,Q1880,Q1895,Q1910,Q1925,Q1940)*Full!$F$16/10^6","v":0},{"$f":"SUM(R1865,R1880,R1895,R1910,R1925,R1940)*Full!$F$16/10^6","v":0},{"$f":"SUM(S1865,S1880,S1895,S1910,S1925,S1940)*Full!$F$16/10^6","v":0},{"$f":"SUM(T1865,T1880,T1895,T1910,T1925,T1940)*Full!$F$16/10^6","v":0},{"$f":"SUM(U1865,U1880,U1895,U1910,U1925,U1940)*Full!$F$16/10^6","v":0},{"$f":"SUM(V1865,V1880,V1895,V1910,V1925,V1940)*Full!$F$16/10^6","v":0},{"$f":"SUM(W1865,W1880,W1895,W1910,W1925,W1940)*Full!$F$16/10^6","v":0},{"$f":"SUM(X1865,X1880,X1895,X1910,X1925,X1940)*Full!$F$16/10^6","v":0},{"$f":"SUM(Y1865,Y1880,Y1895,Y1910,Y1925,Y1940)*Full!$F$16/10^6","v":0},{"$f":"SUM(Z1865,Z1880,Z1895,Z1910,Z1925,Z1940)*Full!$F$16/10^6","v":0},{"$f":"SUM(AA1865,AA1880,AA1895,AA1910,AA1925,AA1940)*Full!$F$16/10^6","v":0}]
[{"$nulls":6},"Mini-bus",{"$f":"SUM(H1866,H1881,H1896,H1911,H1926,H1941)*Full!$F$16/10^6","v":0},{"$f":"SUM(I1866,I1881,I1896,I1911,I1926,I1941)*Full!$F$16/10^6","v":0},{"$f":"SUM(J1866,J1881,J1896,J1911,J1926,J1941)*Full!$F$16/10^6","v":0},{"$f":"SUM(K1866,K1881,K1896,K1911,K1926,K1941)*Full!$F$16/10^6","v":0},{"$f":"SUM(L1866,L1881,L1896,L1911,L1926,L1941)*Full!$F$16/10^6","v":0},{"$f":"SUM(M1866,M1881,M1896,M1911,M1926,M1941)*Full!$F$16/10^6","v":0},{"$f":"SUM(N1866,N1881,N1896,N1911,N1926,N1941)*Full!$F$16/10^6","v":0},{"$f":"SUM(O1866,O1881,O1896,O1911,O1926,O1941)*Full!$F$16/10^6","v":0},{"$f":"SUM(P1866,P1881,P1896,P1911,P1926,P1941)*Full!$F$16/10^6","v":0},{"$f":"SUM(Q1866,Q1881,Q1896,Q1911,Q1926,Q1941)*Full!$F$16/10^6","v":0},{"$f":"SUM(R1866,R1881,R1896,R1911,R1926,R1941)*Full!$F$16/10^6","v":0},{"$f":"SUM(S1866,S1881,S1896,S1911,S1926,S1941)*Full!$F$16/10^6","v":0},{"$f":"SUM(T1866,T1881,T1896,T1911,T1926,T1941)*Full!$F$16/10^6","v":0},{"$f":"SUM(U1866,U1881,U1896,U1911,U1926,U1941)*Full!$F$16/10^6","v":0},{"$f":"SUM(V1866,V1881,V1896,V1911,V1926,V1941)*Full!$F$16/10^6","v":0},{"$f":"SUM(W1866,W1881,W1896,W1911,W1926,W1941)*Full!$F$16/10^6","v":0},{"$f":"SUM(X1866,X1881,X1896,X1911,X1926,X1941)*Full!$F$16/10^6","v":0},{"$f":"SUM(Y1866,Y1881,Y1896,Y1911,Y1926,Y1941)*Full!$F$16/10^6","v":0},{"$f":"SUM(Z1866,Z1881,Z1896,Z1911,Z1926,Z1941)*Full!$F$16/10^6","v":0},{"$f":"SUM(AA1866,AA1881,AA1896,AA1911,AA1926,AA1941)*Full!$F$16/10^6","v":0}]
[{"$nulls":6},"",{"$f":"SUM(H1867,H1882,H1897,H1912,H1927,H1942)*Full!$F$16/10^6","v":0},{"$f":"SUM(I1867,I1882,I1897,I1912,I1927,I1942)*Full!$F$16/10^6","v":0},{"$f":"SUM(J1867,J1882,J1897,J1912,J1927,J1942)*Full!$F$16/10^6","v":0},{"$f":"SUM(K1867,K1882,K1897,K1912,K1927,K1942)*Full!$F$16/10^6","v":0},{"$f":"SUM(L1867,L1882,L1897,L1912,L1927,L1942)*Full!$F$16/10^6","v":0},{"$f":"SUM(M1867,M1882,M1897,M1912,M1927,M1942)*Full!$F$16/10^6","v":0},{"$f":"SUM(N1867,N1882,N1897,N1912,N1927,N1942)*Full!$F$16/10^6","v":0},{"$f":"SUM(O1867,O1882,O1897,O1912,O1927,O1942)*Full!$F$16/10^6","v":0},{"$f":"SUM(P1867,P1882,P1897,P1912,P1927,P1942)*Full!$F$16/10^6","v":0},{"$f":"SUM(Q1867,Q1882,Q1897,Q1912,Q1927,Q1942)*Full!$F$16/10^6","v":0},{"$f":"SUM(R1867,R1882,R1897,R1912,R1927,R1942)*Full!$F$16/10^6","v":0},{"$f":"SUM(S1867,S1882,S1897,S1912,S1927,S1942)*Full!$F$16/10^6","v":0},{"$f":"SUM(T1867,T1882,T1897,T1912,T1927,T1942)*Full!$F$16/10^6","v":0},{"$f":"SUM(U1867,U1882,U1897,U1912,U1927,U1942)*Full!$F$16/10^6","v":0},{"$f":"SUM(V1867,V1882,V1897,V1912,V1927,V1942)*Full!$F$16/10^6","v":0},{"$f":"SUM(W1867,W1882,W1897,W1912,W1927,W1942)*Full!$F$16/10^6","v":0},{"$f":"SUM(X1867,X1882,X1897,X1912,X1927,X1942)*Full!$F$16/10^6","v":0},{"$f":"SUM(Y1867,Y1882,Y1897,Y1912,Y1927,Y1942)*Full!$F$16/10^6","v":0},{"$f":"SUM(Z1867,Z1882,Z1897,Z1912,Z1927,Z1942)*Full!$F$16/10^6","v":0},{"$f":"SUM(AA1867,AA1882,AA1897,AA1912,AA1927,AA1942)*Full!$F$16/10^6","v":0}]
[{"$nulls":6},"",{"$f":"SUM(H1868,H1883,H1898,H1913,H1928,H1943)*Full!$F$16/10^6","v":0},{"$f":"SUM(I1868,I1883,I1898,I1913,I1928,I1943)*Full!$F$16/10^6","v":0},{"$f":"SUM(J1868,J1883,J1898,J1913,J1928,J1943)*Full!$F$16/10^6","v":0},{"$f":"SUM(K1868,K1883,K1898,K1913,K1928,K1943)*Full!$F$16/10^6","v":0},{"$f":"SUM(L1868,L1883,L1898,L1913,L1928,L1943)*Full!$F$16/10^6","v":0},{"$f":"SUM(M1868,M1883,M1898,M1913,M1928,M1943)*Full!$F$16/10^6","v":0},{"$f":"SUM(N1868,N1883,N1898,N1913,N1928,N1943)*Full!$F$16/10^6","v":0},{"$f":"SUM(O1868,O1883,O1898,O1913,O1928,O1943)*Full!$F$16/10^6","v":0},{"$f":"SUM(P1868,P1883,P1898,P1913,P1928,P1943)*Full!$F$16/10^6","v":0},{"$f":"SUM(Q1868,Q1883,Q1898,Q1913,Q1928,Q1943)*Full!$F$16/10^6","v":0},{"$f":"SUM(R1868,R1883,R1898,R1913,R1928,R1943)*Full!$F$16/10^6","v":0},{"$f":"SUM(S1868,S1883,S1898,S1913,S1928,S1943)*Full!$F$16/10^6","v":0},{"$f":"SUM(T1868,T1883,T1898,T1913,T1928,T1943)*Full!$F$16/10^6","v":0},{"$f":"SUM(U1868,U1883,U1898,U1913,U1928,U1943)*Full!$F$16/10^6","v":0},{"$f":"SUM(V1868,V1883,V1898,V1913,V1928,V1943)*Full!$F$16/10^6","v":0},{"$f":"SUM(W1868,W1883,W1898,W1913,W1928,W1943)*Full!$F$16/10^6","v":0},{"$f":"SUM(X1868,X1883,X1898,X1913,X1928,X1943)*Full!$F$16/10^6","v":0},{"$f":"SUM(Y1868,Y1883,Y1898,Y1913,Y1928,Y1943)*Full!$F$16/10^6","v":0},{"$f":"SUM(Z1868,Z1883,Z1898,Z1913,Z1928,Z1943)*Full!$F$16/10^6","v":0},{"$f":"SUM(AA1868,AA1883,AA1898,AA1913,AA1928,AA1943)*Full!$F$16/10^6","v":0}]
[{"$nulls":6},"BRT",{"$f":"SUM(H1869,H1884,H1899,H1914,H1929,H1944)*Full!$F$16/10^6","v":0},{"$f":"SUM(I1869,I1884,I1899,I1914,I1929,I1944)*Full!$F$16/10^6","v":0},{"$f":"SUM(J1869,J1884,J1899,J1914,J1929,J1944)*Full!$F$16/10^6","v":0},{"$f":"SUM(K1869,K1884,K1899,K1914,K1929,K1944)*Full!$F$16/10^6","v":0},{"$f":"SUM(L1869,L1884,L1899,L1914,L1929,L1944)*Full!$F$16/10^6","v":0},{"$f":"SUM(M1869,M1884,M1899,M1914,M1929,M1944)*Full!$F$16/10^6","v":0},{"$f":"SUM(N1869,N1884,N1899,N1914,N1929,N1944)*Full!$F$16/10^6","v":0},{"$f":"SUM(O1869,O1884,O1899,O1914,O1929,O1944)*Full!$F$16/10^6","v":0},{"$f":"SUM(P1869,P1884,P1899,P1914,P1929,P1944)*Full!$F$16/10^6","v":0},{"$f":"SUM(Q1869,Q1884,Q1899,Q1914,Q1929,Q1944)*Full!$F$16/10^6","v":0},{"$f":"SUM(R1869,R1884,R1899,R1914,R1929,R1944)*Full!$F$16/10^6","v":0},{"$f":"SUM(S1869,S1884,S1899,S1914,S1929,S1944)*Full!$F$16/10^6","v":0},{"$f":"SUM(T1869,T1884,T1899,T1914,T1929,T1944)*Full!$F$16/10^6","v":0},{"$f":"SUM(U1869,U1884,U1899,U1914,U1929,U1944)*Full!$F$16/10^6","v":0},{"$f":"SUM(V1869,V1884,V1899,V1914,V1929,V1944)*Full!$F$16/10^6","v":0},{"$f":"SUM(W1869,W1884,W1899,W1914,W1929,W1944)*Full!$F$16/10^6","v":0},{"$f":"SUM(X1869,X1884,X1899,X1914,X1929,X1944)*Full!$F$16/10^6","v":0},{"$f":"SUM(Y1869,Y1884,Y1899,Y1914,Y1929,Y1944)*Full!$F$16/10^6","v":0},{"$f":"SUM(Z1869,Z1884,Z1899,Z1914,Z1929,Z1944)*Full!$F$16/10^6","v":0},{"$f":"SUM(AA1869,AA1884,AA1899,AA1914,AA1929,AA1944)*Full!$F$16/10^6","v":0}]
[]
[]
[{"$nulls":7},{"$f":"H2129","v":0},{"$f":"I2129","v":1},2,3,4,5,6,7,8,9,10,11,12,13,14,15,16,17,18,19]
[{"$nulls":5},"NO BRT",{"$f":"G2130","v":"Cars"},{"$f":"SUM(H1950,H1965,H1980,H1995,H2010,H2025)*Full!$F$16/10^3","v":0},{"$f":"SUM(I1950,I1965,I1980,I1995,I2010,I2025)*Full!$F$16/10^3","v":0},{"$f":"SUM(J1950,J1965,J1980,J1995,J2010,J2025)*Full!$F$16/10^3","v":0},{"$f":"SUM(K1950,K1965,K1980,K1995,K2010,K2025)*Full!$F$16/10^3","v":0},{"$f":"SUM(L1950,L1965,L1980,L1995,L2010,L2025)*Full!$F$16/10^3","v":0},{"$f":"SUM(M1950,M1965,M1980,M1995,M2010,M2025)*Full!$F$16/10^3","v":0},{"$f":"SUM(N1950,N1965,N1980,N1995,N2010,N2025)*Full!$F$16/10^3","v":0},{"$f":"SUM(O1950,O1965,O1980,O1995,O2010,O2025)*Full!$F$16/10^3","v":0},{"$f":"SUM(P1950,P1965,P1980,P1995,P2010,P2025)*Full!$F$16/10^3","v":0},{"$f":"SUM(Q1950,Q1965,Q1980,Q1995,Q2010,Q2025)*Full!$F$16/10^3","v":0},{"$f":"SUM(R1950,R1965,R1980,R1995,R2010,R2025)*Full!$F$16/10^3","v":0},{"$f":"SUM(S1950,S1965,S1980,S1995,S2010,S2025)*Full!$F$16/10^3","v":0},{"$f":"SUM(T1950,T1965,T1980,T1995,T2010,T2025)*Full!$F$16/10^3","v":0},{"$f":"SUM(U1950,U1965,U1980,U1995,U2010,U2025)*Full!$F$16/10^3","v":0},{"$f":"SUM(V1950,V1965,V1980,V1995,V2010,V2025)*Full!$F$16/10^3","v":0},{"$f":"SUM(W1950,W1965,W1980,W1995,W2010,W2025)*Full!$F$16/10^3","v":0},{"$f":"SUM(X1950,X1965,X1980,X1995,X2010,X2025)*Full!$F$16/10^3","v":0},{"$f":"SUM(Y1950,Y1965,Y1980,Y1995,Y2010,Y2025)*Full!$F$16/10^3","v":0},{"$f":"SUM(Z1950,Z1965,Z1980,Z1995,Z2010,Z2025)*Full!$F$16/10^3","v":0},{"$f":"SUM(AA1950,AA1965,AA1980,AA1995,AA2010,AA2025)*Full!$F$16/10^3","v":0}]
[{"$nulls":6},{"$f":"G2131","v":"2-wheeler"},{"$f":"SUM(H1951,H1966,H1981,H1996,H2011,H2026)*Full!$F$16/10^3","v":0},{"$f":"SUM(I1951,I1966,I1981,I1996,I2011,I2026)*Full!$F$16/10^3","v":0},{"$f":"SUM(J1951,J1966,J1981,J1996,J2011,J2026)*Full!$F$16/10^3","v":0},{"$f":"SUM(K1951,K1966,K1981,K1996,K2011,K2026)*Full!$F$16/10^3","v":0},{"$f":"SUM(L1951,L1966,L1981,L1996,L2011,L2026)*Full!$F$16/10^3","v":0},{"$f":"SUM(M1951,M1966,M1981,M1996,M2011,M2026)*Full!$F$16/10^3","v":0},{"$f":"SUM(N1951,N1966,N1981,N1996,N2011,N2026)*Full!$F$16/10^3","v":0},{"$f":"SUM(O1951,O1966,O1981,O1996,O2011,O2026)*Full!$F$16/10^3","v":0},{"$f":"SUM(P1951,P1966,P1981,P1996,P2011,P2026)*Full!$F$16/10^3","v":0},{"$f":"SUM(Q1951,Q1966,Q1981,Q1996,Q2011,Q2026)*Full!$F$16/10^3","v":0},{"$f":"SUM(R1951,R1966,R1981,R1996,R2011,R2026)*Full!$F$16/10^3","v":0},{"$f":"SUM(S1951,S1966,S1981,S1996,S2011,S2026)*Full!$F$16/10^3","v":0},{"$f":"SUM(T1951,T1966,T1981,T1996,T2011,T2026)*Full!$F$16/10^3","v":0},{"$f":"SUM(U1951,U1966,U1981,U1996,U2011,U2026)*Full!$F$16/10^3","v":0},{"$f":"SUM(V1951,V1966,V1981,V1996,V2011,V2026)*Full!$F$16/10^3","v":0},{"$f":"SUM(W1951,W1966,W1981,W1996,W2011,W2026)*Full!$F$16/10^3","v":0},{"$f":"SUM(X1951,X1966,X1981,X1996,X2011,X2026)*Full!$F$16/10^3","v":0},{"$f":"SUM(Y1951,Y1966,Y1981,Y1996,Y2011,Y2026)*Full!$F$16/10^3","v":0},{"$f":"SUM(Z1951,Z1966,Z1981,Z1996,Z2011,Z2026)*Full!$F$16/10^3","v":0},{"$f":"SUM(AA1951,AA1966,AA1981,AA1996,AA2011,AA2026)*Full!$F$16/10^3","v":0}]
[{"$nulls":6},"Taxi",{"$f":"SUM(H1952,H1967,H1982,H1997,H2012,H2027)*Full!$F$16/10^3","v":0},{"$f":"SUM(I1952,I1967,I1982,I1997,I2012,I2027)*Full!$F$16/10^3","v":0},{"$f":"SUM(J1952,J1967,J1982,J1997,J2012,J2027)*Full!$F$16/10^3","v":0},{"$f":"SUM(K1952,K1967,K1982,K1997,K2012,K2027)*Full!$F$16/10^3","v":0},{"$f":"SUM(L1952,L1967,L1982,L1997,L2012,L2027)*Full!$F$16/10^3","v":0},{"$f":"SUM(M1952,M1967,M1982,M1997,M2012,M2027)*Full!$F$16/10^3","v":0},{"$f":"SUM(N1952,N1967,N1982,N1997,N2012,N2027)*Full!$F$16/10^3","v":0},{"$f":"SUM(O1952,O1967,O1982,O1997,O2012,O2027)*Full!$F$16/10^3","v":0},{"$f":"SUM(P1952,P1967,P1982,P1997,P2012,P2027)*Full!$F$16/10^3","v":0},{"$f":"SUM(Q1952,Q1967,Q1982,Q1997,Q2012,Q2027)*Full!$F$16/10^3","v":0},{"$f":"SUM(R1952,R1967,R1982,R1997,R2012,R2027)*Full!$F$16/10^3","v":0},{"$f":"SUM(S1952,S1967,S1982,S1997,S2012,S2027)*Full!$F$16/10^3","v":0},{"$f":"SUM(T1952,T1967,T1982,T1997,T2012,T2027)*Full!$F$16/10^3","v":0},{"$f":"SUM(U1952,U1967,U1982,U1997,U2012,U2027)*Full!$F$16/10^3","v":0},{"$f":"SUM(V1952,V1967,V1982,V1997,V2012,V2027)*Full!$F$16/10^3","v":0},{"$f":"SUM(W1952,W1967,W1982,W1997,W2012,W2027)*Full!$F$16/10^3","v":0},{"$f":"SUM(X1952,X1967,X1982,X1997,X2012,X2027)*Full!$F$16/10^3","v":0},{"$f":"SUM(Y1952,Y1967,Y1982,Y1997,Y2012,Y2027)*Full!$F$16/10^3","v":0},{"$f":"SUM(Z1952,Z1967,Z1982,Z1997,Z2012,Z2027)*Full!$F$16/10^3","v":0},{"$f":"SUM(AA1952,AA1967,AA1982,AA1997,AA2012,AA2027)*Full!$F$16/10^3","v":0}]
[{"$nulls":6},"",{"$f":"SUM(H1953,H1968,H1983,H1998,H2013,H2028)*Full!$F$16/10^3","v":0},{"$f":"SUM(I1953,I1968,I1983,I1998,I2013,I2028)*Full!$F$16/10^3","v":0},{"$f":"SUM(J1953,J1968,J1983,J1998,J2013,J2028)*Full!$F$16/10^3","v":0},{"$f":"SUM(K1953,K1968,K1983,K1998,K2013,K2028)*Full!$F$16/10^3","v":0},{"$f":"SUM(L1953,L1968,L1983,L1998,L2013,L2028)*Full!$F$16/10^3","v":0},{"$f":"SUM(M1953,M1968,M1983,M1998,M2013,M2028)*Full!$F$16/10^3","v":0},{"$f":"SUM(N1953,N1968,N1983,N1998,N2013,N2028)*Full!$F$16/10^3","v":0},{"$f":"SUM(O1953,O1968,O1983,O1998,O2013,O2028)*Full!$F$16/10^3","v":0},{"$f":"SUM(P1953,P1968,P1983,P1998,P2013,P2028)*Full!$F$16/10^3","v":0},{"$f":"SUM(Q1953,Q1968,Q1983,Q1998,Q2013,Q2028)*Full!$F$16/10^3","v":0},{"$f":"SUM(R1953,R1968,R1983,R1998,R2013,R2028)*Full!$F$16/10^3","v":0},{"$f":"SUM(S1953,S1968,S1983,S1998,S2013,S2028)*Full!$F$16/10^3","v":0},{"$f":"SUM(T1953,T1968,T1983,T1998,T2013,T2028)*Full!$F$16/10^3","v":0},{"$f":"SUM(U1953,U1968,U1983,U1998,U2013,U2028)*Full!$F$16/10^3","v":0},{"$f":"SUM(V1953,V1968,V1983,V1998,V2013,V2028)*Full!$F$16/10^3","v":0},{"$f":"SUM(W1953,W1968,W1983,W1998,W2013,W2028)*Full!$F$16/10^3","v":0},{"$f":"SUM(X1953,X1968,X1983,X1998,X2013,X2028)*Full!$F$16/10^3","v":0},{"$f":"SUM(Y1953,Y1968,Y1983,Y1998,Y2013,Y2028)*Full!$F$16/10^3","v":0},{"$f":"SUM(Z1953,Z1968,Z1983,Z1998,Z2013,Z2028)*Full!$F$16/10^3","v":0},{"$f":"SUM(AA1953,AA1968,AA1983,AA1998,AA2013,AA2028)*Full!$F$16/10^3","v":0}]
[{"$nulls":6},"",{"$f":"SUM(H1954,H1969,H1984,H1999,H2014,H2029)*Full!$F$16/10^3","v":0},{"$f":"SUM(I1954,I1969,I1984,I1999,I2014,I2029)*Full!$F$16/10^3","v":0},{"$f":"SUM(J1954,J1969,J1984,J1999,J2014,J2029)*Full!$F$16/10^3","v":0},{"$f":"SUM(K1954,K1969,K1984,K1999,K2014,K2029)*Full!$F$16/10^3","v":0},{"$f":"SUM(L1954,L1969,L1984,L1999,L2014,L2029)*Full!$F$16/10^3","v":0},{"$f":"SUM(M1954,M1969,M1984,M1999,M2014,M2029)*Full!$F$16/10^3","v":0},{"$f":"SUM(N1954,N1969,N1984,N1999,N2014,N2029)*Full!$F$16/10^3","v":0},{"$f":"SUM(O1954,O1969,O1984,O1999,O2014,O2029)*Full!$F$16/10^3","v":0},{"$f":"SUM(P1954,P1969,P1984,P1999,P2014,P2029)*Full!$F$16/10^3","v":0},{"$f":"SUM(Q1954,Q1969,Q1984,Q1999,Q2014,Q2029)*Full!$F$16/10^3","v":0},{"$f":"SUM(R1954,R1969,R1984,R1999,R2014,R2029)*Full!$F$16/10^3","v":0},{"$f":"SUM(S1954,S1969,S1984,S1999,S2014,S2029)*Full!$F$16/10^3","v":0},{"$f":"SUM(T1954,T1969,T1984,T1999,T2014,T2029)*Full!$F$16/10^3","v":0},{"$f":"SUM(U1954,U1969,U1984,U1999,U2014,U2029)*Full!$F$16/10^3","v":0},{"$f":"SUM(V1954,V1969,V1984,V1999,V2014,V2029)*Full!$F$16/10^3","v":0},{"$f":"SUM(W1954,W1969,W1984,W1999,W2014,W2029)*Full!$F$16/10^3","v":0},{"$f":"SUM(X1954,X1969,X1984,X1999,X2014,X2029)*Full!$F$16/10^3","v":0},{"$f":"SUM(Y1954,Y1969,Y1984,Y1999,Y2014,Y2029)*Full!$F$16/10^3","v":0},{"$f":"SUM(Z1954,Z1969,Z1984,Z1999,Z2014,Z2029)*Full!$F$16/10^3","v":0},{"$f":"SUM(AA1954,AA1969,AA1984,AA1999,AA2014,AA2029)*Full!$F$16/10^3","v":0}]
[{"$nulls":6},"3-wheeler",{"$f":"SUM(H1955,H1970,H1985,H2000,H2015,H2030)*Full!$F$16/10^3","v":0},{"$f":"SUM(I1955,I1970,I1985,I2000,I2015,I2030)*Full!$F$16/10^3","v":0},{"$f":"SUM(J1955,J1970,J1985,J2000,J2015,J2030)*Full!$F$16/10^3","v":0},{"$f":"SUM(K1955,K1970,K1985,K2000,K2015,K2030)*Full!$F$16/10^3","v":0},{"$f":"SUM(L1955,L1970,L1985,L2000,L2015,L2030)*Full!$F$16/10^3","v":0},{"$f":"SUM(M1955,M1970,M1985,M2000,M2015,M2030)*Full!$F$16/10^3","v":0},{"$f":"SUM(N1955,N1970,N1985,N2000,N2015,N2030)*Full!$F$16/10^3","v":0},{"$f":"SUM(O1955,O1970,O1985,O2000,O2015,O2030)*Full!$F$16/10^3","v":0},{"$f":"SUM(P1955,P1970,P1985,P2000,P2015,P2030)*Full!$F$16/10^3","v":0},{"$f":"SUM(Q1955,Q1970,Q1985,Q2000,Q2015,Q2030)*Full!$F$16/10^3","v":0},{"$f":"SUM(R1955,R1970,R1985,R2000,R2015,R2030)*Full!$F$16/10^3","v":0},{"$f":"SUM(S1955,S1970,S1985,S2000,S2015,S2030)*Full!$F$16/10^3","v":0},{"$f":"SUM(T1955,T1970,T1985,T2000,T2015,T2030)*Full!$F$16/10^3","v":0},{"$f":"SUM(U1955,U1970,U1985,U2000,U2015,U2030)*Full!$F$16/10^3","v":0},{"$f":"SUM(V1955,V1970,V1985,V2000,V2015,V2030)*Full!$F$16/10^3","v":0},{"$f":"SUM(W1955,W1970,W1985,W2000,W2015,W2030)*Full!$F$16/10^3","v":0},{"$f":"SUM(X1955,X1970,X1985,X2000,X2015,X2030)*Full!$F$16/10^3","v":0},{"$f":"SUM(Y1955,Y1970,Y1985,Y2000,Y2015,Y2030)*Full!$F$16/10^3","v":0},{"$f":"SUM(Z1955,Z1970,Z1985,Z2000,Z2015,Z2030)*Full!$F$16/10^3","v":0},{"$f":"SUM(AA1955,AA1970,AA1985,AA2000,AA2015,AA2030)*Full!$F$16/10^3","v":0}]
[{"$nulls":6},"Bus",{"$f":"SUM(H1956,H1971,H1986,H2001,H2016,H2031)*Full!$F$16/10^3","v":0},{"$f":"SUM(I1956,I1971,I1986,I2001,I2016,I2031)*Full!$F$16/10^3","v":0},{"$f":"SUM(J1956,J1971,J1986,J2001,J2016,J2031)*Full!$F$16/10^3","v":0},{"$f":"SUM(K1956,K1971,K1986,K2001,K2016,K2031)*Full!$F$16/10^3","v":0},{"$f":"SUM(L1956,L1971,L1986,L2001,L2016,L2031)*Full!$F$16/10^3","v":0},{"$f":"SUM(M1956,M1971,M1986,M2001,M2016,M2031)*Full!$F$16/10^3","v":0},{"$f":"SUM(N1956,N1971,N1986,N2001,N2016,N2031)*Full!$F$16/10^3","v":0},{"$f":"SUM(O1956,O1971,O1986,O2001,O2016,O2031)*Full!$F$16/10^3","v":0},{"$f":"SUM(P1956,P1971,P1986,P2001,P2016,P2031)*Full!$F$16/10^3","v":0},{"$f":"SUM(Q1956,Q1971,Q1986,Q2001,Q2016,Q2031)*Full!$F$16/10^3","v":0},{"$f":"SUM(R1956,R1971,R1986,R2001,R2016,R2031)*Full!$F$16/10^3","v":0},{"$f":"SUM(S1956,S1971,S1986,S2001,S2016,S2031)*Full!$F$16/10^3","v":0},{"$f":"SUM(T1956,T1971,T1986,T2001,T2016,T2031)*Full!$F$16/10^3","v":0},{"$f":"SUM(U1956,U1971,U1986,U2001,U2016,U2031)*Full!$F$16/10^3","v":0},{"$f":"SUM(V1956,V1971,V1986,V2001,V2016,V2031)*Full!$F$16/10^3","v":0},{"$f":"SUM(W1956,W1971,W1986,W2001,W2016,W2031)*Full!$F$16/10^3","v":0},{"$f":"SUM(X1956,X1971,X1986,X2001,X2016,X2031)*Full!$F$16/10^3","v":0},{"$f":"SUM(Y1956,Y1971,Y1986,Y2001,Y2016,Y2031)*Full!$F$16/10^3","v":0},{"$f":"SUM(Z1956,Z1971,Z1986,Z2001,Z2016,Z2031)*Full!$F$16/10^3","v":0},{"$f":"SUM(AA1956,AA1971,AA1986,AA2001,AA2016,AA2031)*Full!$F$16/10^3","v":0}]
[{"$nulls":6},"Mini-bus",{"$f":"SUM(H1957,H1972,H1987,H2002,H2017,H2032)*Full!$F$16/10^3","v":0},{"$f":"SUM(I1957,I1972,I1987,I2002,I2017,I2032)*Full!$F$16/10^3","v":0},{"$f":"SUM(J1957,J1972,J1987,J2002,J2017,J2032)*Full!$F$16/10^3","v":0},{"$f":"SUM(K1957,K1972,K1987,K2002,K2017,K2032)*Full!$F$16/10^3","v":0},{"$f":"SUM(L1957,L1972,L1987,L2002,L2017,L2032)*Full!$F$16/10^3","v":0},{"$f":"SUM(M1957,M1972,M1987,M2002,M2017,M2032)*Full!$F$16/10^3","v":0},{"$f":"SUM(N1957,N1972,N1987,N2002,N2017,N2032)*Full!$F$16/10^3","v":0},{"$f":"SUM(O1957,O1972,O1987,O2002,O2017,O2032)*Full!$F$16/10^3","v":0},{"$f":"SUM(P1957,P1972,P1987,P2002,P2017,P2032)*Full!$F$16/10^3","v":0},{"$f":"SUM(Q1957,Q1972,Q1987,Q2002,Q2017,Q2032)*Full!$F$16/10^3","v":0},{"$f":"SUM(R1957,R1972,R1987,R2002,R2017,R2032)*Full!$F$16/10^3","v":0},{"$f":"SUM(S1957,S1972,S1987,S2002,S2017,S2032)*Full!$F$16/10^3","v":0},{"$f":"SUM(T1957,T1972,T1987,T2002,T2017,T2032)*Full!$F$16/10^3","v":0},{"$f":"SUM(U1957,U1972,U1987,U2002,U2017,U2032)*Full!$F$16/10^3","v":0},{"$f":"SUM(V1957,V1972,V1987,V2002,V2017,V2032)*Full!$F$16/10^3","v":0},{"$f":"SUM(W1957,W1972,W1987,W2002,W2017,W2032)*Full!$F$16/10^3","v":0},{"$f":"SUM(X1957,X1972,X1987,X2002,X2017,X2032)*Full!$F$16/10^3","v":0},{"$f":"SUM(Y1957,Y1972,Y1987,Y2002,Y2017,Y2032)*Full!$F$16/10^3","v":0},{"$f":"SUM(Z1957,Z1972,Z1987,Z2002,Z2017,Z2032)*Full!$F$16/10^3","v":0},{"$f":"SUM(AA1957,AA1972,AA1987,AA2002,AA2017,AA2032)*Full!$F$16/10^3","v":0}]
[{"$nulls":6},"",{"$f":"SUM(H1958,H1973,H1988,H2003,H2018,H2033)*Full!$F$16/10^3","v":0},{"$f":"SUM(I1958,I1973,I1988,I2003,I2018,I2033)*Full!$F$16/10^3","v":0},{"$f":"SUM(J1958,J1973,J1988,J2003,J2018,J2033)*Full!$F$16/10^3","v":0},{"$f":"SUM(K1958,K1973,K1988,K2003,K2018,K2033)*Full!$F$16/10^3","v":0},{"$f":"SUM(L1958,L1973,L1988,L2003,L2018,L2033)*Full!$F$16/10^3","v":0},{"$f":"SUM(M1958,M1973,M1988,M2003,M2018,M2033)*Full!$F$16/10^3","v":0},{"$f":"SUM(N1958,N1973,N1988,N2003,N2018,N2033)*Full!$F$16/10^3","v":0},{"$f":"SUM(O1958,O1973,O1988,O2003,O2018,O2033)*Full!$F$16/10^3","v":0},{"$f":"SUM(P1958,P1973,P1988,P2003,P2018,P2033)*Full!$F$16/10^3","v":0},{"$f":"SUM(Q1958,Q1973,Q1988,Q2003,Q2018,Q2033)*Full!$F$16/10^3","v":0},{"$f":"SUM(R1958,R1973,R1988,R2003,R2018,R2033)*Full!$F$16/10^3","v":0},{"$f":"SUM(S1958,S1973,S1988,S2003,S2018,S2033)*Full!$F$16/10^3","v":0},{"$f":"SUM(T1958,T1973,T1988,T2003,T2018,T2033)*Full!$F$16/10^3","v":0},{"$f":"SUM(U1958,U1973,U1988,U2003,U2018,U2033)*Full!$F$16/10^3","v":0},{"$f":"SUM(V1958,V1973,V1988,V2003,V2018,V2033)*Full!$F$16/10^3","v":0},{"$f":"SUM(W1958,W1973,W1988,W2003,W2018,W2033)*Full!$F$16/10^3","v":0},{"$f":"SUM(X1958,X1973,X1988,X2003,X2018,X2033)*Full!$F$16/10^3","v":0},{"$f":"SUM(Y1958,Y1973,Y1988,Y2003,Y2018,Y2033)*Full!$F$16/10^3","v":0},{"$f":"SUM(Z1958,Z1973,Z1988,Z2003,Z2018,Z2033)*Full!$F$16/10^3","v":0},{"$f":"SUM(AA1958,AA1973,AA1988,AA2003,AA2018,AA2033)*Full!$F$16/10^3","v":0}]
[{"$nulls":6},"",{"$f":"SUM(H1959,H1974,H1989,H2004,H2019,H2034)*Full!$F$16/10^3","v":0},{"$f":"SUM(I1959,I1974,I1989,I2004,I2019,I2034)*Full!$F$16/10^3","v":0},{"$f":"SUM(J1959,J1974,J1989,J2004,J2019,J2034)*Full!$F$16/10^3","v":0},{"$f":"SUM(K1959,K1974,K1989,K2004,K2019,K2034)*Full!$F$16/10^3","v":0},{"$f":"SUM(L1959,L1974,L1989,L2004,L2019,L2034)*Full!$F$16/10^3","v":0},{"$f":"SUM(M1959,M1974,M1989,M2004,M2019,M2034)*Full!$F$16/10^3","v":0},{"$f":"SUM(N1959,N1974,N1989,N2004,N2019,N2034)*Full!$F$16/10^3","v":0},{"$f":"SUM(O1959,O1974,O1989,O2004,O2019,O2034)*Full!$F$16/10^3","v":0},{"$f":"SUM(P1959,P1974,P1989,P2004,P2019,P2034)*Full!$F$16/10^3","v":0},{"$f":"SUM(Q1959,Q1974,Q1989,Q2004,Q2019,Q2034)*Full!$F$16/10^3","v":0},{"$f":"SUM(R1959,R1974,R1989,R2004,R2019,R2034)*Full!$F$16/10^3","v":0},{"$f":"SUM(S1959,S1974,S1989,S2004,S2019,S2034)*Full!$F$16/10^3","v":0},{"$f":"SUM(T1959,T1974,T1989,T2004,T2019,T2034)*Full!$F$16/10^3","v":0},{"$f":"SUM(U1959,U1974,U1989,U2004,U2019,U2034)*Full!$F$16/10^3","v":0},{"$f":"SUM(V1959,V1974,V1989,V2004,V2019,V2034)*Full!$F$16/10^3","v":0},{"$f":"SUM(W1959,W1974,W1989,W2004,W2019,W2034)*Full!$F$16/10^3","v":0},{"$f":"SUM(X1959,X1974,X1989,X2004,X2019,X2034)*Full!$F$16/10^3","v":0},{"$f":"SUM(Y1959,Y1974,Y1989,Y2004,Y2019,Y2034)*Full!$F$16/10^3","v":0},{"$f":"SUM(Z1959,Z1974,Z1989,Z2004,Z2019,Z2034)*Full!$F$16/10^3","v":0},{"$f":"SUM(AA1959,AA1974,AA1989,AA2004,AA2019,AA2034)*Full!$F$16/10^3","v":0}]
[{"$nulls":6},"BRT",{"$f":"SUM(H1960,H1975,H1990,H2005,H2020,H2035)*Full!$F$16/10^3","v":0},{"$f":"SUM(I1960,I1975,I1990,I2005,I2020,I2035)*Full!$F$16/10^3","v":0},{"$f":"SUM(J1960,J1975,J1990,J2005,J2020,J2035)*Full!$F$16/10^3","v":0},{"$f":"SUM(K1960,K1975,K1990,K2005,K2020,K2035)*Full!$F$16/10^3","v":0},{"$f":"SUM(L1960,L1975,L1990,L2005,L2020,L2035)*Full!$F$16/10^3","v":0},{"$f":"SUM(M1960,M1975,M1990,M2005,M2020,M2035)*Full!$F$16/10^3","v":0},{"$f":"SUM(N1960,N1975,N1990,N2005,N2020,N2035)*Full!$F$16/10^3","v":0},{"$f":"SUM(O1960,O1975,O1990,O2005,O2020,O2035)*Full!$F$16/10^3","v":0},{"$f":"SUM(P1960,P1975,P1990,P2005,P2020,P2035)*Full!$F$16/10^3","v":0},{"$f":"SUM(Q1960,Q1975,Q1990,Q2005,Q2020,Q2035)*Full!$F$16/10^3","v":0},{"$f":"SUM(R1960,R1975,R1990,R2005,R2020,R2035)*Full!$F$16/10^3","v":0},{"$f":"SUM(S1960,S1975,S1990,S2005,S2020,S2035)*Full!$F$16/10^3","v":0},{"$f":"SUM(T1960,T1975,T1990,T2005,T2020,T2035)*Full!$F$16/10^3","v":0},{"$f":"SUM(U1960,U1975,U1990,U2005,U2020,U2035)*Full!$F$16/10^3","v":0},{"$f":"SUM(V1960,V1975,V1990,V2005,V2020,V2035)*Full!$F$16/10^3","v":0},{"$f":"SUM(W1960,W1975,W1990,W2005,W2020,W2035)*Full!$F$16/10^3","v":0},{"$f":"SUM(X1960,X1975,X1990,X2005,X2020,X2035)*Full!$F$16/10^3","v":0},{"$f":"SUM(Y1960,Y1975,Y1990,Y2005,Y2020,Y2035)*Full!$F$16/10^3","v":0},{"$f":"SUM(Z1960,Z1975,Z1990,Z2005,Z2020,Z2035)*Full!$F$16/10^3","v":0},{"$f":"SUM(AA1960,AA1975,AA1990,AA2005,AA2020,AA2035)*Full!$F$16/10^3","v":0}]
[]
[{"$nulls":6},"Yearly VKT","(million VKT)"]
[{"$nulls":7},{"$f":"H2143","v":0},{"$f":"I2143","v":1},2,3,4,5,6,7,8,9,10,11,12,13,14,15,16,17,18,19]
[{"$nulls":5},"NO BRT",{"$f":"G2144","v":"Cars"},{"$f":"H123*Full!$F$16/10^6","v":0},{"$f":"I123*Full!$F$16/10^6","v":0},{"$f":"J123*Full!$F$16/10^6","v":0},{"$f":"K123*Full!$F$16/10^6","v":0},{"$f":"L123*Full!$F$16/10^6","v":0},{"$f":"M123*Full!$F$16/10^6","v":0},{"$f":"N123*Full!$F$16/10^6","v":0},{"$f":"O123*Full!$F$16/10^6","v":0},{"$f":"P123*Full!$F$16/10^6","v":0},{"$f":"Q123*Full!$F$16/10^6","v":0},{"$f":"R123*Full!$F$16/10^6","v":0},{"$f":"S123*Full!$F$16/10^6","v":0},{"$f":"T123*Full!$F$16/10^6","v":0},{"$f":"U123*Full!$F$16/10^6","v":0},{"$f":"V123*Full!$F$16/10^6","v":0},{"$f":"W123*Full!$F$16/10^6","v":0},{"$f":"X123*Full!$F$16/10^6","v":0},{"$f":"Y123*Full!$F$16/10^6","v":0},{"$f":"Z123*Full!$F$16/10^6","v":0},{"$f":"AA123*Full!$F$16/10^6","v":0}]
[{"$nulls":6},{"$f":"G2145","v":"2-wheeler"},{"$f":"H124*Full!$F$16/10^6","v":0},{"$f":"I124*Full!$F$16/10^6","v":0},{"$f":"J124*Full!$F$16/10^6","v":0},{"$f":"K124*Full!$F$16/10^6","v":0},{"$f":"L124*Full!$F$16/10^6","v":0},{"$f":"M124*Full!$F$16/10^6","v":0},{"$f":"N124*Full!$F$16/10^6","v":0},{"$f":"O124*Full!$F$16/10^6","v":0},{"$f":"P124*Full!$F$16/10^6","v":0},{"$f":"Q124*Full!$F$16/10^6","v":0},{"$f":"R124*Full!$F$16/10^6","v":0},{"$f":"S124*Full!$F$16/10^6","v":0},{"$f":"T124*Full!$F$16/10^6","v":0},{"$f":"U124*Full!$F$16/10^6","v":0},{"$f":"V124*Full!$F$16/10^6","v":0},{"$f":"W124*Full!$F$16/10^6","v":0},{"$f":"X124*Full!$F$16/10^6","v":0},{"$f":"Y124*Full!$F$16/10^6","v":0},{"$f":"Z124*Full!$F$16/10^6","v":0},{"$f":"AA124*Full!$F$16/10^6","v":0}]
[{"$nulls":6},"Taxi",{"$f":"H125*Full!$F$16/10^6","v":0},{"$f":"I125*Full!$F$16/10^6","v":0},{"$f":"J125*Full!$F$16/10^6","v":0},{"$f":"K125*Full!$F$16/10^6","v":0},{"$f":"L125*Full!$F$16/10^6","v":0},{"$f":"M125*Full!$F$16/10^6","v":0},{"$f":"N125*Full!$F$16/10^6","v":0},{"$f":"O125*Full!$F$16/10^6","v":0},{"$f":"P125*Full!$F$16/10^6","v":0},{"$f":"Q125*Full!$F$16/10^6","v":0},{"$f":"R125*Full!$F$16/10^6","v":0},{"$f":"S125*Full!$F$16/10^6","v":0},{"$f":"T125*Full!$F$16/10^6","v":0},{"$f":"U125*Full!$F$16/10^6","v":0},{"$f":"V125*Full!$F$16/10^6","v":0},{"$f":"W125*Full!$F$16/10^6","v":0},{"$f":"X125*Full!$F$16/10^6","v":0},{"$f":"Y125*Full!$F$16/10^6","v":0},{"$f":"Z125*Full!$F$16/10^6","v":0},{"$f":"AA125*Full!$F$16/10^6","v":0}]
[{"$nulls":6},"",{"$f":"H126*Full!$F$16/10^6","v":0},{"$f":"I126*Full!$F$16/10^6","v":0},{"$f":"J126*Full!$F$16/10^6","v":0},{"$f":"K126*Full!$F$16/10^6","v":0},{"$f":"L126*Full!$F$16/10^6","v":0},{"$f":"M126*Full!$F$16/10^6","v":0},{"$f":"N126*Full!$F$16/10^6","v":0},{"$f":"O126*Full!$F$16/10^6","v":0},{"$f":"P126*Full!$F$16/10^6","v":0},{"$f":"Q126*Full!$F$16/10^6","v":0},{"$f":"R126*Full!$F$16/10^6","v":0},{"$f":"S126*Full!$F$16/10^6","v":0},{"$f":"T126*Full!$F$16/10^6","v":0},{"$f":"U126*Full!$F$16/10^6","v":0},{"$f":"V126*Full!$F$16/10^6","v":0},{"$f":"W126*Full!$F$16/10^6","v":0},{"$f":"X126*Full!$F$16/10^6","v":0},{"$f":"Y126*Full!$F$16/10^6","v":0},{"$f":"Z126*Full!$F$16/10^6","v":0},{"$f":"AA126*Full!$F$16/10^6","v":0}]
[{"$nulls":6},"",{"$f":"H127*Full!$F$16/10^6","v":0},{"$f":"I127*Full!$F$16/10^6","v":0},{"$f":"J127*Full!$F$16/10^6","v":0},{"$f":"K127*Full!$F$16/10^6","v":0},{"$f":"L127*Full!$F$16/10^6","v":0},{"$f":"M127*Full!$F$16/10^6","v":0},{"$f":"N127*Full!$F$16/10^6","v":0},{"$f":"O127*Full!$F$16/10^6","v":0},{"$f":"P127*Full!$F$16/10^6","v":0},{"$f":"Q127*Full!$F$16/10^6","v":0},{"$f":"R127*Full!$F$16/10^6","v":0},{"$f":"S127*Full!$F$16/10^6","v":0},{"$f":"T127*Full!$F$16/10^6","v":0},{"$f":"U127*Full!$F$16/10^6","v":0},{"$f":"V127*Full!$F$16/10^6","v":0},{"$f":"W127*Full!$F$16/10^6","v":0},{"$f":"X127*Full!$F$16/10^6","v":0},{"$f":"Y127*Full!$F$16/10^6","v":0},{"$f":"Z127*Full!$F$16/10^6","v":0},{"$f":"AA127*Full!$F$16/10^6","v":0}]
[{"$nulls":6},"3-wheeler",{"$f":"H128*Full!$F$16/10^6","v":0},{"$f":"I128*Full!$F$16/10^6","v":0},{"$f":"J128*Full!$F$16/10^6","v":0},{"$f":"K128*Full!$F$16/10^6","v":0},{"$f":"L128*Full!$F$16/10^6","v":0},{"$f":"M128*Full!$F$16/10^6","v":0},{"$f":"N128*Full!$F$16/10^6","v":0},{"$f":"O128*Full!$F$16/10^6","v":0},{"$f":"P128*Full!$F$16/10^6","v":0},{"$f":"Q128*Full!$F$16/10^6","v":0},{"$f":"R128*Full!$F$16/10^6","v":0},{"$f":"S128*Full!$F$16/10^6","v":0},{"$f":"T128*Full!$F$16/10^6","v":0},{"$f":"U128*Full!$F$16/10^6","v":0},{"$f":"V128*Full!$F$16/10^6","v":0},{"$f":"W128*Full!$F$16/10^6","v":0},{"$f":"X128*Full!$F$16/10^6","v":0},{"$f":"Y128*Full!$F$16/10^6","v":0},{"$f":"Z128*Full!$F$16/10^6","v":0},{"$f":"AA128*Full!$F$16/10^6","v":0}]
[{"$nulls":6},"Bus",{"$f":"H129*Full!$F$16/10^6","v":0},{"$f":"I129*Full!$F$16/10^6","v":0},{"$f":"J129*Full!$F$16/10^6","v":0},{"$f":"K129*Full!$F$16/10^6","v":0},{"$f":"L129*Full!$F$16/10^6","v":0},{"$f":"M129*Full!$F$16/10^6","v":0},{"$f":"N129*Full!$F$16/10^6","v":0},{"$f":"O129*Full!$F$16/10^6","v":0},{"$f":"P129*Full!$F$16/10^6","v":0},{"$f":"Q129*Full!$F$16/10^6","v":0},{"$f":"R129*Full!$F$16/10^6","v":0},{"$f":"S129*Full!$F$16/10^6","v":0},{"$f":"T129*Full!$F$16/10^6","v":0},{"$f":"U129*Full!$F$16/10^6","v":0},{"$f":"V129*Full!$F$16/10^6","v":0},{"$f":"W129*Full!$F$16/10^6","v":0},{"$f":"X129*Full!$F$16/10^6","v":0},{"$f":"Y129*Full!$F$16/10^6","v":0},{"$f":"Z129*Full!$F$16/10^6","v":0},{"$f":"AA129*Full!$F$16/10^6","v":0}]
[{"$nulls":6},"Mini-bus",{"$f":"H130*Full!$F$16/10^6","v":0},{"$f":"I130*Full!$F$16/10^6","v":0},{"$f":"J130*Full!$F$16/10^6","v":0},{"$f":"K130*Full!$F$16/10^6","v":0},{"$f":"L130*Full!$F$16/10^6","v":0},{"$f":"M130*Full!$F$16/10^6","v":0},{"$f":"N130*Full!$F$16/10^6","v":0},{"$f":"O130*Full!$F$16/10^6","v":0},{"$f":"P130*Full!$F$16/10^6","v":0},{"$f":"Q130*Full!$F$16/10^6","v":0},{"$f":"R130*Full!$F$16/10^6","v":0},{"$f":"S130*Full!$F$16/10^6","v":0},{"$f":"T130*Full!$F$16/10^6","v":0},{"$f":"U130*Full!$F$16/10^6","v":0},{"$f":"V130*Full!$F$16/10^6","v":0},{"$f":"W130*Full!$F$16/10^6","v":0},{"$f":"X130*Full!$F$16/10^6","v":0},{"$f":"Y130*Full!$F$16/10^6","v":0},{"$f":"Z130*Full!$F$16/10^6","v":0},{"$f":"AA130*Full!$F$16/10^6","v":0}]
[{"$nulls":6},"",{"$f":"H131*Full!$F$16/10^6","v":0},{"$f":"I131*Full!$F$16/10^6","v":0},{"$f":"J131*Full!$F$16/10^6","v":0},{"$f":"K131*Full!$F$16/10^6","v":0},{"$f":"L131*Full!$F$16/10^6","v":0},{"$f":"M131*Full!$F$16/10^6","v":0},{"$f":"N131*Full!$F$16/10^6","v":0},{"$f":"O131*Full!$F$16/10^6","v":0},{"$f":"P131*Full!$F$16/10^6","v":0},{"$f":"Q131*Full!$F$16/10^6","v":0},{"$f":"R131*Full!$F$16/10^6","v":0},{"$f":"S131*Full!$F$16/10^6","v":0},{"$f":"T131*Full!$F$16/10^6","v":0},{"$f":"U131*Full!$F$16/10^6","v":0},{"$f":"V131*Full!$F$16/10^6","v":0},{"$f":"W131*Full!$F$16/10^6","v":0},{"$f":"X131*Full!$F$16/10^6","v":0},{"$f":"Y131*Full!$F$16/10^6","v":0},{"$f":"Z131*Full!$F$16/10^6","v":0},{"$f":"AA131*Full!$F$16/10^6","v":0}]
[{"$nulls":6},"",{"$f":"H132*Full!$F$16/10^6","v":0},{"$f":"I132*Full!$F$16/10^6","v":0},{"$f":"J132*Full!$F$16/10^6","v":0},{"$f":"K132*Full!$F$16/10^6","v":0},{"$f":"L132*Full!$F$16/10^6","v":0},{"$f":"M132*Full!$F$16/10^6","v":0},{"$f":"N132*Full!$F$16/10^6","v":0},{"$f":"O132*Full!$F$16/10^6","v":0},{"$f":"P132*Full!$F$16/10^6","v":0},{"$f":"Q132*Full!$F$16/10^6","v":0},{"$f":"R132*Full!$F$16/10^6","v":0},{"$f":"S132*Full!$F$16/10^6","v":0},{"$f":"T132*Full!$F$16/10^6","v":0},{"$f":"U132*Full!$F$16/10^6","v":0},{"$f":"V132*Full!$F$16/10^6","v":0},{"$f":"W132*Full!$F$16/10^6","v":0},{"$f":"X132*Full!$F$16/10^6","v":0},{"$f":"Y132*Full!$F$16/10^6","v":0},{"$f":"Z132*Full!$F$16/10^6","v":0},{"$f":"AA132*Full!$F$16/10^6","v":0}]
[{"$nulls":6},"BRT",{"$f":"H133*Full!$F$16/10^6","v":0},{"$f":"I133*Full!$F$16/10^6","v":0},{"$f":"J133*Full!$F$16/10^6","v":0},{"$f":"K133*Full!$F$16/10^6","v":0},{"$f":"L133*Full!$F$16/10^6","v":0},{"$f":"M133*Full!$F$16/10^6","v":0},{"$f":"N133*Full!$F$16/10^6","v":0},{"$f":"O133*Full!$F$16/10^6","v":0},{"$f":"P133*Full!$F$16/10^6","v":0},{"$f":"Q133*Full!$F$16/10^6","v":0},{"$f":"R133*Full!$F$16/10^6","v":0},{"$f":"S133*Full!$F$16/10^6","v":0},{"$f":"T133*Full!$F$16/10^6","v":0},{"$f":"U133*Full!$F$16/10^6","v":0},{"$f":"V133*Full!$F$16/10^6","v":0},{"$f":"W133*Full!$F$16/10^6","v":0},{"$f":"X133*Full!$F$16/10^6","v":0},{"$f":"Y133*Full!$F$16/10^6","v":0},{"$f":"Z133*Full!$F$16/10^6","v":0},{"$f":"AA133*Full!$F$16/10^6","v":0}]
[{"$nulls":7},{"$f":"SUM(H2158:H2167)-H2168","v":0}]

{"sheet":"Summary","index":9,"n_rows":332,"n_cols":54,"rows_kept":332,"merged":[[286,1,292,1],[321,2,321,5]]}
[]
[]
[null,null,{"$f":"Full!F8","v":0}]
[null,null,{"$f":"Full!F9","v":0},{"$nulls":5},"*analysis does not consider land use impacts"]
[]
[null,null,"Ridership/year (millions)",null,null,"Emissions Savings"]
[null,null,{"$f":"Full!F12","v":0},{"$f":"Full!G171*Full!$F$16/10^6","v":0},null,{"$f":"IF($X$238<0,\"PM increase (tons)\",\"PM reduction (tons)\")","v":"PM reduction (tons)"},{"$f":"X238","v":0}]
[null,null,{"$f":"Full!F13","v":9},{"$f":"Full!H171*Full!$F$16/10^6","v":0},null,{"$f":"IF($X$239<0,\"NOx increase (tons)\",\"NOx reduction (tons)\")","v":"NOx reduction (tons)"},{"$f":"X239","v":0}]
[null,null,{"$f":"Full!F14","v":19},{"$f":"Full!I171*Full!$F$16/10^6","v":0},null,{"$f":"IF($X$237<0,\"CO2 increase (tons)\",\"CO2 reduction (tons)\")","v":"CO2 reduction (tons)"},{"$f":"X237-SUM(Calculations!H2112:J2112)","v":0}]
[]
[null,null,"Financial Indicators"]
[null,null,"EIRR",{"$f":"D299","v":{"$error":"#VALUE!"}},null,{"$f":"IF($X$238<0,\"PM increase (tons/km)\",\"PM reduction (tons/km)\")","v":"PM reduction (tons/km)"},{"$f":"G7/Full!$I$43","v":{"$error":"#DIV/0!"}}]
[null,null,"NPV (million USD)",{"$f":"D300/10^6","v":{"$error":"#N/A"}},null,{"$f":"IF($X$239<0,\"NOx increase (tons/km)\",\"NOx reduction (tons/km)\")","v":"NOx reduction (tons/km)"},{"$f":"G8/Full!$I$43","v":{"$error":"#DIV/0!"}}]
[null,null,"Project Cost (million USD)",{"$f":"Full!G283/1000000","v":0},null,{"$f":"IF($X$237<0,\"CO2 increase (tons/km)\",\"CO2 reduction (tons/km)\")","v":"CO2 reduction (tons/km)"},{"$f":"G9/Full!$I$43","v":{"$error":"#DIV/0!"}}]
[]
[null,null,"Co-benefits"]
[null,null,"VKT Saved (millions)",{"$f":"SUM(D242:W242)","v":0},null,{"$f":"IF($X$238<0,\"PM increase (tons/km/yr)\",\"PM reduction (tons/km/yr)\")","v":"PM reduction (tons/km/yr)"},{"$f":"G12/($C$9-$C$7+1)","v":{"$error":"#DIV/0!"}}]
[null,null,"Time travel savings ('000s hours)",{"$f":"X251","v":{"$error":"#DIV/0!"}},null,{"$f":"IF($X$239<0,\"NOx increase (tons/km/yr)\",\"NOx reduction (tons/km/yr)\")","v":"NOx reduction (tons/km/yr)"},{"$f":"G13/($C$9-$C$7+1)","v":{"$error":"#DIV/0!"}}]
[null,null,"No. of fatalities reduced",{"$f":"X244","v":{"$error":"#N/A"}},null,{"$f":"IF($X$237<0,\"CO2 increase (tons/km/yr)\",\"CO2 reduction (tons/km/yr)\")","v":"CO2 reduction (tons/km/yr)"},{"$f":"G14/($C$9-$C$7+1)","v":{"$error":"#DIV/0!"}}]
[null,null,"No. of injuries reduced",{"$f":"X245","v":{"$error":"#N/A"}}]
[null,null,"Fuel Savings ('000 USD)",{"$f":"X282/1000","v":0}]
[null,null,"Emissions reduction ('000 USD)",{"$f":"(SUM(X306:X308)-X315)/1000","v":0}]
{"$rows_empty":31}
[{"$nulls":13}," "]
{"$rows_empty":179}
[null,null,"Final Calculations"]
[{"$nulls":13},{"$f":"N237/56","v":0}]
[{"$nulls":3},{"$f":"Calculations!H23","v":0},{"$f":"Calculations!I23","v":1},{"$f":"Calculations!J23","v":2},{"$f":"Calculations!K23","v":3},{"$f":"Calculations!L23","v":4},{"$f":"Calculations!M23","v":5},{"$f":"Calculations!N23","v":6},{"$f":"Calculations!O23","v":7},{"$f":"Calculations!P23","v":8},{"$f":"Calculations!Q23","v":9},{"$f":"Calculations!R23","v":10},{"$f":"Calculations!S23","v":11},{"$f":"Calculations!T23","v":12},{"$f":"Calculations!U23","v":13},{"$f":"Calculations!V23","v":14},{"$f":"Calculations!W23","v":15},{"$f":"Calculations!X23","v":16},{"$f":"Calculations!Y23","v":17},{"$f":"Calculations!Z23","v":18},{"$f":"Calculations!AA23","v":19},"Total"]
[null,null,"CO2 savings or increase (tons)",{"$f":"Calculations!H2098","v":0},{"$f":"Calculations!I2098","v":0},{"$f":"Calculations!J2098","v":0},{"$f":"Calculations!K2098","v":0},{"$f":"Calculations!L2098","v":0},{"$f":"Calculations!M2098","v":0},{"$f":"Calculations!N2098","v":0},{"$f":"Calculations!O2098","v":0},{"$f":"Calculations!P2098","v":0},{"$f":"Calculations!Q2098","v":0},{"$f":"Calculations!R2098","v":0},{"$f":"Calculations!S2098","v":0},{"$f":"Calculations!T2098","v":0},{"$f":"Calculations!U2098","v":0},{"$f":"Calculations!V2098","v":0},{"$f":"Calculations!W2098","v":0},{"$f":"Calculations!X2098","v":0},{"$f":"Calculations!Y2098","v":0},{"$f":"Calculations!Z2098","v":0},{"$f":"Calculations!AA2098","v":0},{"$f":"SUM(D237:W237)","v":0}]
[null,null,"PM savings or increase (tons)",{"$f":"Calculations!H2084","v":0},{"$f":"Calculations!I2084","v":0},{"$f":"Calculations!J2084","v":0},{"$f":"Calculations!K2084","v":0},{"$f":"Calculations!L2084","v":0},{"$f":"Calculations!M2084","v":0},{"$f":"Calculations!N2084","v":0},{"$f":"Calculations!O2084","v":0},{"$f":"Calculations!P2084","v":0},{"$f":"Calculations!Q2084","v":0},{"$f":"Calculations!R2084","v":0},{"$f":"Calculations!S2084","v":0},{"$f":"Calculations!T2084","v":0},{"$f":"Calculations!U2084","v":0},{"$f":"Calculations!V2084","v":0},{"$f":"Calculations!W2084","v":0},{"$f":"Calculations!X2084","v":0},{"$f":"Calculations!Y2084","v":0},{"$f":"Calculations!Z2084","v":0},{"$f":"Calculations!AA2084","v":0},{"$f":"SUM(D238:W238)","v":0}]
[null,null,"NOx savings or increase (tons)",{"$f":"Calculations!H2091","v":0},{"$f":"Calculations!I2091","v":0},{"$f":"Calculations!J2091","v":0},{"$f":"Calculations!K2091","v":0},{"$f":"Calculations!L2091","v":0},{"$f":"Calculations!M2091","v":0},{"$f":"Calculations!N2091","v":0},{"$f":"Calculations!O2091","v":0},{"$f":"Calculations!P2091","v":0},{"$f":"Calculations!Q2091","v":0},{"$f":"Calculations!R2091","v":0},{"$f":"Calculations!S2091","v":0},{"$f":"Calculations!T2091","v":0},{"$f":"Calculations!U2091","v":0},{"$f":"Calculations!V2091","v":0},{"$f":"Calculations!W2091","v":0},{"$f":"Calculations!X2091","v":0},{"$f":"Calculations!Y2091","v":0},{"$f":"Calculations!Z2091","v":0},{"$f":"Calculations!AA2091","v":0},0]
[null,null,"Construction CO2 (tons)",{"$f":"Calculations!H2112","v":0},{"$nulls":9},{"$f":"Calculations!I2112","v":0},{"$nulls":8},{"$f":"Calculations!J2112","v":0},0]
[]
[null,null,"VKT savings (millions/year)",{"$f":"(SUM(Calculations!H123:H132)-Calculations!H133)*Full!$F$16/10^6","v":0},{"$f":"(SUM(Calculations!I123:I132)-Calculations!I133)*Full!$F$16/10^6","v":0},{"$f":"(SUM(Calculations!J123:J132)-Calculations!J133)*Full!$F$16/10^6","v":0},{"$f":"(SUM(Calculations!K123:K132)-Calculations!K133)*Full!$F$16/10^6","v":0},{"$f":"(SUM(Calculations!L123:L132)-Calculations!L133)*Full!$F$16/10^6","v":0},{"$f":"(SUM(Calculations!M123:M132)-Calculations!M133)*Full!$F$16/10^6","v":0},{"$f":"(SUM(Calculations!N123:N132)-Calculations!N133)*Full!$F$16/10^6","v":0},{"$f":"(SUM(Calculations!O123:O132)-Calculations!O133)*Full!$F$16/10^6","v":0},{"$f":"(SUM(Calculations!P123:P132)-Calculations!P133)*Full!$F$16/10^6","v":0},{"$f":"(SUM(Calculations!Q123:Q132)-Calculations!Q133)*Full!$F$16/10^6","v":0},{"$f":"(SUM(Calculations!R123:R132)-Calculations!R133)*Full!$F$16/10^6","v":0},{"$f":"(SUM(Calculations!S123:S132)-Calculations!S133)*Full!$F$16/10^6","v":0},{"$f":"(SUM(Calculations!T123:T132)-Calculations!T133)*Full!$F$16/10^6","v":0},{"$f":"(SUM(Calculations!U123:U132)-Calculations!U133)*Full!$F$16/10^6","v":0},{"$f":"(SUM(Calculations!V123:V132)-Calculations!V133)*Full!$F$16/10^6","v":0},{"$f":"(SUM(Calculations!W123:W132)-Calculations!W133)*Full!$F$16/10^6","v":0},{"$f":"(SUM(Calculations!X123:X132)-Calculations!X133)*Full!$F$16/10^6","v":0},{"$f":"(SUM(Calculations!Y123:Y132)-Calculations!Y133)*Full!$F$16/10^6","v":0},{"$f":"(SUM(Calculations!Z123:Z132)-Calculations!Z133)*Full!$F$16/10^6","v":0},{"$f":"(SUM(Calculations!AA123:AA132)-Calculations!AA133)*Full!$F$16/10^6","v":0},{"$f":"SUM(D242:W242)","v":0}]
[null,null,"Projected fatality rates (fatalities/billion VKM)",{"$f":"HLOOKUP(D236,D331:BB332,2,FALSE)","v":{"$error":"#N/A"}},{"$error":"#N/A"},{"$error":"#N/A"},{"$error":"#N/A"},{"$error":"#N/A"},{"$error":"#N/A"},{"$error":"#N/A"},{"$error":"#N/A"},{"$error":"#N/A"},{"$f":"HLOOKUP(M236,M331:BK332,2,FALSE)","v":{"$error":"#N/A"}},{"$error":"#N/A"},{"$error":"#N/A"},{"$error":"#N/A"},{"$error":"#N/A"},{"$error":"#N/A"},{"$error":"#N/A"},{"$error":"#N/A"},{"$error":"#N/A"},{"$error":"#N/A"},{"$error":"#N/A"},{"$error":"#N/A"}]
[null,null,"No. of fatalities reduced",{"$f":"(D242/1000)*D243","v":{"$error":"#N/A"}},{"$f":"(E242/1000)*E243","v":{"$error":"#N/A"}},{"$error":"#N/A"},{"$error":"#N/A"},{"$error":"#N/A"},{"$error":"#N/A"},{"$error":"#N/A"},{"$error":"#N/A"},{"$error":"#N/A"},{"$f":"(M242/1000)*M243","v":{"$error":"#N/A"}},{"$error":"#N/A"},{"$error":"#N/A"},{"$error":"#N/A"},{"$error":"#N/A"},{"$error":"#N/A"},{"$error":"#N/A"},{"$error":"#N/A"},{"$error":"#N/A"},{"$error":"#N/A"},{"$error":"#N/A"},{"$error":"#N/A"}]
[null,null,"No. of injuries reduced",{"$f":"D244*15","v":{"$error":"#N/A"}},{"$f":"E244*15","v":{"$error":"#N/A"}},{"$error":"#N/A"},{"$error":"#N/A"},{"$error":"#N/A"},{"$error":"#N/A"},{"$error":"#N/A"},{"$error":"#N/A"},{"$error":"#N/A"},{"$error":"#N/A"},{"$error":"#N/A"},{"$error":"#N/A"},{"$error":"#N/A"},{"$error":"#N/A"},{"$error":"#N/A"},{"$error":"#N/A"},{"$error":"#N/A"},{"$error":"#N/A"},{"$error":"#N/A"},{"$error":"#N/A"},{"$error":"#N/A"}]
[]
[null,null,"Average Speed of Modes other than BRT",{"$f":"Calculations!H680","v":{"$error":"#DIV/0!"}},{"$f":"Calculations!I680","v":{"$error":"#DIV/0!"}},{"$f":"Calculations!J680","v":{"$error":"#DIV/0!"}},{"$f":"Calculations!K680","v":{"$error":"#DIV/0!"}},{"$f":"Calculations!L680","v":{"$error":"#DIV/0!"}},{"$f":"Calculations!M680","v":{"$error":"#DIV/0!"}},{"$f":"Calculations!N680","v":{"$error":"#DIV/0!"}},{"$f":"Calculations!O680","v":{"$error":"#DIV/0!"}},{"$f":"Calculations!P680","v":{"$error":"#DIV/0!"}},{"$f":"Calculations!Q680","v":{"$error":"#DIV/0!"}},{"$f":"Calculations!R680","v":{"$error":"#DIV/0!"}},{"$f":"Calculations!S680","v":{"$error":"#DIV/0!"}},{"$f":"Calculations!T680","v":{"$error":"#DIV/0!"}},{"$f":"Calculations!U680","v":{"$error":"#DIV/0!"}},{"$f":"Calculations!V680","v":{"$error":"#DIV/0!"}},{"$f":"Calculations!W680","v":{"$error":"#DIV/0!"}},{"$f":"Calculations!X680","v":{"$error":"#DIV/0!"}},{"$f":"Calculations!Y680","v":{"$error":"#DIV/0!"}},{"$f":"Calculations!Z680","v":{"$error":"#DIV/0!"}},{"$f":"Calculations!AA680","v":{"$error":"#DIV/0!"}}]
[null,null,"Average Speed of BRT",{"$f":"Calculations!H679","v":0},{"$f":"Calculations!I679","v":0},{"$f":"Calculations!J679","v":0},{"$f":"Calculations!K679","v":0},{"$f":"Calculations!L679","v":0},{"$f":"Calculations!M679","v":0},{"$f":"Calculations!N679","v":0},{"$f":"Calculations!O679","v":0},{"$f":"Calculations!P679","v":0},{"$f":"Calculations!Q679","v":0},{"$f":"Calculations!R679","v":0},{"$f":"Calculations!S679","v":0},{"$f":"Calculations!T679","v":0},{"$f":"Calculations!U679","v":0},{"$f":"Calculations!V679","v":0},{"$f":"Calculations!W679","v":0},{"$f":"Calculations!X679","v":0},{"$f":"Calculations!Y679","v":0},{"$f":"Calculations!Z679","v":0},{"$f":"Calculations!AA679","v":0}]
[null,null,"Difference in Speed",{"$f":"D248-D247","v":{"$error":"#DIV/0!"}},{"$f":"E248-E247","v":{"$error":"#DIV/0!"}},{"$error":"#DIV/0!"},{"$error":"#DIV/0!"},{"$error":"#DIV/0!"},{"$error":"#DIV/0!"},{"$error":"#DIV/0!"},{"$error":"#DIV/0!"},{"$error":"#DIV/0!"},{"$error":"#DIV/0!"},{"$error":"#DIV/0!"},{"$error":"#DIV/0!"},{"$error":"#DIV/0!"},{"$error":"#DIV/0!"},{"$error":"#DIV/0!"},{"$error":"#DIV/0!"},{"$error":"#DIV/0!"},{"$error":"#DIV/0!"},{"$error":"#DIV/0!"},{"$error":"#DIV/0!"}]
[null,null,"PKT (millions)",{"$f":"(Full!$F$16*Calculations!H166)/10^6","v":0},{"$f":"(Full!$F$16*Calculations!I166)/10^6","v":0},{"$f":"(Full!$F$16*Calculations!J166)/10^6","v":0},{"$f":"(Full!$F$16*Calculations!K166)/10^6","v":0},{"$f":"(Full!$F$16*Calculations!L166)/10^6","v":0},{"$f":"(Full!$F$16*Calculations!M166)/10^6","v":0},{"$f":"(Full!$F$16*Calculations!N166)/10^6","v":0},{"$f":"(Full!$F$16*Calculations!O166)/10^6","v":0},{"$f":"(Full!$F$16*Calculations!P166)/10^6","v":0},{"$f":"(Full!$F$16*Calculations!Q166)/10^6","v":0},{"$f":"(Full!$F$16*Calculations!R166)/10^6","v":0},{"$f":"(Full!$F$16*Calculations!S166)/10^6","v":0},{"$f":"(Full!$F$16*Calculations!T166)/10^6","v":0},{"$f":"(Full!$F$16*Calculations!U166)/10^6","v":0},{"$f":"(Full!$F$16*Calculations!V166)/10^6","v":0},{"$f":"(Full!$F$16*Calculations!W166)/10^6","v":0},{"$f":"(Full!$F$16*Calculations!X166)/10^6","v":0},{"$f":"(Full!$F$16*Calculations!Y166)/10^6","v":0},{"$f":"(Full!$F$16*Calculations!Z166)/10^6","v":0},{"$f":"(Full!$F$16*Calculations!AA166)/10^6","v":0},{"$f":"SUM(D250:W250)","v":0}]
[null,null,"Time travel savings('000s hours)",{"$f":"((D250/D247)-(D250/D248))*1000","v":{"$error":"#DIV/0!"}},{"$f":"((E250/E247)-(E250/E248))*1000","v":{"$error":"#DIV/0!"}},{"$error":"#DIV/0!"},{"$error":"#DIV/0!"},{"$error":"#DIV/0!"},{"$error":"#DIV/0!"},{"$error":"#DIV/0!"},{"$error":"#DIV/0!"},{"$error":"#DIV/0!"},{"$error":"#DIV/0!"},{"$error":"#DIV/0!"},{"$error":"#DIV/0!"},{"$error":"#DIV/0!"},{"$error":"#DIV/0!"},{"$error":"#DIV/0!"},{"$error":"#DIV/0!"},{"$error":"#DIV/0!"},{"$error":"#DIV/0!"},{"$error":"#DIV/0!"},{"$error":"#DIV/0!"},{"$error":"#DIV/0!"}]
[]
[null,null,"Fuel Consumption"]
[null,null,{"$f":"CONCATENATE('IF Factors'!$E$8,\" \",\"(\",'IF Factors'!$E$22,\")\",\" -no BRT\")","v":"Petrol (liter) -no BRT"},{"$f":"SUM(Calculations!H831:H840)*Full!$F$16","v":0},{"$f":"SUM(Calculations!I831:I840)*Full!$F$16","v":0},{"$f":"SUM(Calculations!J831:J840)*Full!$F$16","v":0},{"$f":"SUM(Calculations!K831:K840)*Full!$F$16","v":0},{"$f":"SUM(Calculations!L831:L840)*Full!$F$16","v":0},{"$f":"SUM(Calculations!M831:M840)*Full!$F$16","v":0},{"$f":"SUM(Calculations!N831:N840)*Full!$F$16","v":0},{"$f":"SUM(Calculations!O831:O840)*Full!$F$16","v":0},{"$f":"SUM(Calculations!P831:P840)*Full!$F$16","v":0},{"$f":"SUM(Calculations!Q831:Q840)*Full!$F$16","v":0},{"$f":"SUM(Calculations!R831:R840)*Full!$F$16","v":0},{"$f":"SUM(Calculations!S831:S840)*Full!$F$16","v":0},{"$f":"SUM(Calculations!T831:T840)*Full!$F$16","v":0},{"$f":"SUM(Calculations!U831:U840)*Full!$F$16","v":0},{"$f":"SUM(Calculations!V831:V840)*Full!$F$16","v":0},{"$f":"SUM(Calculations!W831:W840)*Full!$F$16","v":0},{"$f":"SUM(Calculations!X831:X840)*Full!$F$16","v":0},{"$f":"SUM(Calculations!Y831:Y840)*Full!$F$16","v":0},{"$f":"SUM(Calculations!Z831:Z840)*Full!$F$16","v":0},{"$f":"SUM(Calculations!AA831:AA840)*Full!$F$16","v":0}]
[null,null,{"$f":"CONCATENATE('IF Factors'!$E$8,\" \",\"(\",'IF Factors'!$E$22,\")\",\" -BRT\")","v":"Petrol (liter) -BRT"},{"$f":"Calculations!H841*Full!$F$16","v":0},{"$f":"Calculations!I841*Full!$F$16","v":0},{"$f":"Calculations!J841*Full!$F$16","v":0},{"$f":"Calculations!K841*Full!$F$16","v":0},{"$f":"Calculations!L841*Full!$F$16","v":0},{"$f":"Calculations!M841*Full!$F$16","v":0},{"$f":"Calculations!N841*Full!$F$16","v":0},{"$f":"Calculations!O841*Full!$F$16","v":0},{"$f":"Calculations!P841*Full!$F$16","v":0},{"$f":"Calculations!Q841*Full!$F$16","v":0},{"$f":"Calculations!R841*Full!$F$16","v":0},{"$f":"Calculations!S841*Full!$F$16","v":0},{"$f":"Calculations!T841*Full!$F$16","v":0},{"$f":"Calculations!U841*Full!$F$16","v":0},{"$f":"Calculations!V841*Full!$F$16","v":0},{"$f":"Calculations!W841*Full!$F$16","v":0},{"$f":"Calculations!X841*Full!$F$16","v":0},{"$f":"Calculations!Y841*Full!$F$16","v":0},{"$f":"Calculations!Z841*Full!$F$16","v":0},{"$f":"Calculations!AA841*Full!$F$16","v":0}]
[null,null,{"$f":"CONCATENATE('IF Factors'!$F$8,\" \",\"(\",'IF Factors'!$F$22,\")\",\" -no BRT\")","v":"Diesel (liter) -no BRT"},{"$f":"SUM(Calculations!H846:H855)*Full!$F$16","v":0},{"$f":"SUM(Calculations!I846:I855)*Full!$F$16","v":0},{"$f":"SUM(Calculations!J846:J855)*Full!$F$16","v":0},{"$f":"SUM(Calculations!K846:K855)*Full!$F$16","v":0},{"$f":"SUM(Calculations!L846:L855)*Full!$F$16","v":0},{"$f":"SUM(Calculations!M846:M855)*Full!$F$16","v":0},{"$f":"SUM(Calculations!N846:N855)*Full!$F$16","v":0},{"$f":"SUM(Calculations!O846:O855)*Full!$F$16","v":0},{"$f":"SUM(Calculations!P846:P855)*Full!$F$16","v":0},{"$f":"SUM(Calculations!Q846:Q855)*Full!$F$16","v":0},{"$f":"SUM(Calculations!R846:R855)*Full!$F$16","v":0},{"$f":"SUM(Calculations!S846:S855)*Full!$F$16","v":0},{"$f":"SUM(Calculations!T846:T855)*Full!$F$16","v":0},{"$f":"SUM(Calculations!U846:U855)*Full!$F$16","v":0},{"$f":"SUM(Calculations!V846:V855)*Full!$F$16","v":0},{"$f":"SUM(Calculations!W846:W855)*Full!$F$16","v":0},{"$f":"SUM(Calculations!X846:X855)*Full!$F$16","v":0},{"$f":"SUM(Calculations!Y846:Y855)*Full!$F$16","v":0},{"$f":"SUM(Calculations!Z846:Z855)*Full!$F$16","v":0},{"$f":"SUM(Calculations!AA846:AA855)*Full!$F$16","v":0}]
[null,null,{"$f":"CONCATENATE('IF Factors'!$F$8,\" \",\"(\",'IF Factors'!$F$22,\")\",\" -BRT\")","v":"Diesel (liter) -BRT"},{"$f":"Calculations!H856*Full!$F$16","v":0},{"$f":"Calculations!I856*Full!$F$16","v":0},{"$f":"Calculations!J856*Full!$F$16","v":0},{"$f":"Calculations!K856*Full!$F$16","v":0},{"$f":"Calculations!L856*Full!$F$16","v":0},{"$f":"Calculations!M856*Full!$F$16","v":0},{"$f":"Calculations!N856*Full!$F$16","v":0},{"$f":"Calculations!O856*Full!$F$16","v":0},{"$f":"Calculations!P856*Full!$F$16","v":0},{"$f":"Calculations!Q856*Full!$F$16","v":0},{"$f":"Calculations!R856*Full!$F$16","v":0},{"$f":"Calculations!S856*Full!$F$16","v":0},{"$f":"Calculations!T856*Full!$F$16","v":0},{"$f":"Calculations!U856*Full!$F$16","v":0},{"$f":"Calculations!V856*Full!$F$16","v":0},{"$f":"Calculations!W856*Full!$F$16","v":0},{"$f":"Calculations!X856*Full!$F$16","v":0},{"$f":"Calculations!Y856*Full!$F$16","v":0},{"$f":"Calculations!Z856*Full!$F$16","v":0},{"$f":"Calculations!AA856*Full!$F$16","v":0}]
[null,null,{"$f":"CONCATENATE('IF Factors'!$G$8,\" \",\"(\",'IF Factors'!$G$22,\")\",\" -no BRT\")","v":"LPG (liter) -no BRT"},{"$f":"SUM(Calculations!H861:H870)*Full!$F$16","v":0},{"$f":"SUM(Calculations!I861:I870)*Full!$F$16","v":0},{"$f":"SUM(Calculations!J861:J870)*Full!$F$16","v":0},{"$f":"SUM(Calculations!K861:K870)*Full!$F$16","v":0},{"$f":"SUM(Calculations!L861:L870)*Full!$F$16","v":0},{"$f":"SUM(Calculations!M861:M870)*Full!$F$16","v":0},{"$f":"SUM(Calculations!N861:N870)*Full!$F$16","v":0},{"$f":"SUM(Calculations!O861:O870)*Full!$F$16","v":0},{"$f":"SUM(Calculations!P861:P870)*Full!$F$16","v":0},{"$f":"SUM(Calculations!Q861:Q870)*Full!$F$16","v":0},{"$f":"SUM(Calculations!R861:R870)*Full!$F$16","v":0},{"$f":"SUM(Calculations!S861:S870)*Full!$F$16","v":0},{"$f":"SUM(Calculations!T861:T870)*Full!$F$16","v":0},{"$f":"SUM(Calculations!U861:U870)*Full!$F$16","v":0},{"$f":"SUM(Calculations!V861:V870)*Full!$F$16","v":0},{"$f":"SUM(Calculations!W861:W870)*Full!$F$16","v":0},{"$f":"SUM(Calculations!X861:X870)*Full!$F$16","v":0},{"$f":"SUM(Calculations!Y861:Y870)*Full!$F$16","v":0},{"$f":"SUM(Calculations!Z861:Z870)*Full!$F$16","v":0},{"$f":"SUM(Calculations!AA861:AA870)*Full!$F$16","v":0}]
[null,null,{"$f":"CONCATENATE('IF Factors'!$G$8,\" \",\"(\",'IF Factors'!$G$22,\")\",\" -BRT\")","v":"LPG (liter) -BRT"},{"$f":"Calculations!H871*Full!$F$16","v":0},{"$f":"Calculations!I871*Full!$F$16","v":0},{"$f":"Calculations!J871*Full!$F$16","v":0},{"$f":"Calculations!K871*Full!$F$16","v":0},{"$f":"Calculations!L871*Full!$F$16","v":0},{"$f":"Calculations!M871*Full!$F$16","v":0},{"$f":"Calculations!N871*Full!$F$16","v":0},{"$f":"Calculations!O871*Full!$F$16","v":0},{"$f":"Calculations!P871*Full!$F$16","v":0},{"$f":"Calculations!Q871*Full!$F$16","v":0},{"$f":"Calculations!R871*Full!$F$16","v":0},{"$f":"Calculations!S871*Full!$F$16","v":0},{"$f":"Calculations!T871*Full!$F$16","v":0},{"$f":"Calculations!U871*Full!$F$16","v":0},{"$f":"Calculations!V871*Full!$F$16","v":0},{"$f":"Calculations!W871*Full!$F$16","v":0},{"$f":"Calculations!X871*Full!$F$16","v":0},{"$f":"Calculations!Y871*Full!$F$16","v":0},{"$f":"Calculations!Z871*Full!$F$16","v":0},{"$f":"Calculations!AA871*Full!$F$16","v":0}]
[null,null,{"$f":"CONCATENATE('IF Factors'!$H$8,\" \",\"(\",'IF Factors'!$H$22,\")\",\" -no BRT\")","v":"CNG (kg) -no BRT"},{"$f":"SUM(Calculations!H876:H885)*Full!$F$16","v":0},{"$f":"SUM(Calculations!I876:I885)*Full!$F$16","v":0},{"$f":"SUM(Calculations!J876:J885)*Full!$F$16","v":0},{"$f":"SUM(Calculations!K876:K885)*Full!$F$16","v":0},{"$f":"SUM(Calculations!L876:L885)*Full!$F$16","v":0},{"$f":"SUM(Calculations!M876:M885)*Full!$F$16","v":0},{"$f":"SUM(Calculations!N876:N885)*Full!$F$16","v":0},{"$f":"SUM(Calculations!O876:O885)*Full!$F$16","v":0},{"$f":"SUM(Calculations!P876:P885)*Full!$F$16","v":0},{"$f":"SUM(Calculations!Q876:Q885)*Full!$F$16","v":0},{"$f":"SUM(Calculations!R876:R885)*Full!$F$16","v":0},{"$f":"SUM(Calculations!S876:S885)*Full!$F$16","v":0},{"$f":"SUM(Calculations!T876:T885)*Full!$F$16","v":0},{"$f":"SUM(Calculations!U876:U885)*Full!$F$16","v":0},{"$f":"SUM(Calculations!V876:V885)*Full!$F$16","v":0},{"$f":"SUM(Calculations!W876:W885)*Full!$F$16","v":0},{"$f":"SUM(Calculations!X876:X885)*Full!$F$16","v":0},{"$f":"SUM(Calculations!Y876:Y885)*Full!$F$16","v":0},{"$f":"SUM(Calculations!Z876:Z885)*Full!$F$16","v":0},{"$f":"SUM(Calculations!AA876:AA885)*Full!$F$16","v":0}]
[null,null,{"$f":"CONCATENATE('IF Factors'!$H$8,\" \",\"(\",'IF Factors'!$H$22,\")\",\" -BRT\")","v":"CNG (kg) -BRT"},{"$f":"Calculations!H886*Full!$F$16","v":0},{"$f":"Calculations!I886*Full!$F$16","v":0},{"$f":"Calculations!J886*Full!$F$16","v":0},{"$f":"Calculations!K886*Full!$F$16","v":0},{"$f":"Calculations!L886*Full!$F$16","v":0},{"$f":"Calculations!M886*Full!$F$16","v":0},{"$f":"Calculations!N886*Full!$F$16","v":0},{"$f":"Calculations!O886*Full!$F$16","v":0},{"$f":"Calculations!P886*Full!$F$16","v":0},{"$f":"Calculations!Q886*Full!$F$16","v":0},{"$f":"Calculations!R886*Full!$F$16","v":0},{"$f":"Calculations!S886*Full!$F$16","v":0},{"$f":"Calculations!T886*Full!$F$16","v":0},{"$f":"Calculations!U886*Full!$F$16","v":0},{"$f":"Calculations!V886*Full!$F$16","v":0},{"$f":"Calculations!W886*Full!$F$16","v":0},{"$f":"Calculations!X886*Full!$F$16","v":0},{"$f":"Calculations!Y886*Full!$F$16","v":0},{"$f":"Calculations!Z886*Full!$F$16","v":0},{"$f":"Calculations!AA886*Full!$F$16","v":0}]
[null,null,{"$f":"CONCATENATE('IF Factors'!$I$8,\" \",\"(\",'IF Factors'!$I$22,\")\",\" -no BRT\")","v":"Electric (kwh) -no BRT"},{"$f":"SUM(Calculations!H891:H900)*Full!$F$16","v":0},{"$f":"SUM(Calculations!I891:I900)*Full!$F$16","v":0},{"$f":"SUM(Calculations!J891:J900)*Full!$F$16","v":0},{"$f":"SUM(Calculations!K891:K900)*Full!$F$16","v":0},{"$f":"SUM(Calculations!L891:L900)*Full!$F$16","v":0},{"$f":"SUM(Calculations!M891:M900)*Full!$F$16","v":0},{"$f":"SUM(Calculations!N891:N900)*Full!$F$16","v":0},{"$f":"SUM(Calculations!O891:O900)*Full!$F$16","v":0},{"$f":"SUM(Calculations!P891:P900)*Full!$F$16","v":0},{"$f":"SUM(Calculations!Q891:Q900)*Full!$F$16","v":0},{"$f":"SUM(Calculations!R891:R900)*Full!$F$16","v":0},{"$f":"SUM(Calculations!S891:S900)*Full!$F$16","v":0},{"$f":"SUM(Calculations!T891:T900)*Full!$F$16","v":0},{"$f":"SUM(Calculations!U891:U900)*Full!$F$16","v":0},{"$f":"SUM(Calculations!V891:V900)*Full!$F$16","v":0},{"$f":"SUM(Calculations!W891:W900)*Full!$F$16","v":0},{"$f":"SUM(Calculations!X891:X900)*Full!$F$16","v":0},{"$f":"SUM(Calculations!Y891:Y900)*Full!$F$16","v":0},{"$f":"SUM(Calculations!Z891:Z900)*Full!$F$16","v":0},{"$f":"SUM(Calculations!AA891:AA900)*Full!$F$16","v":0}]
[null,null,{"$f":"CONCATENATE('IF Factors'!$I$8,\" \",\"(\",'IF Factors'!$I$22,\")\",\" -BRT\")","v":"Electric (kwh) -BRT"},{"$f":"Calculations!H901*Full!$F$16","v":0},{"$f":"Calculations!I901*Full!$F$16","v":0},{"$f":"Calculations!J901*Full!$F$16","v":0},{"$f":"Calculations!K901*Full!$F$16","v":0},{"$f":"Calculations!L901*Full!$F$16","v":0},{"$f":"Calculations!M901*Full!$F$16","v":0},{"$f":"Calculations!N901*Full!$F$16","v":0},{"$f":"Calculations!O901*Full!$F$16","v":0},{"$f":"Calculations!P901*Full!$F$16","v":0},{"$f":"Calculations!Q901*Full!$F$16","v":0},{"$f":"Calculations!R901*Full!$F$16","v":0},{"$f":"Calculations!S901*Full!$F$16","v":0},{"$f":"Calculations!T901*Full!$F$16","v":0},{"$f":"Calculations!U901*Full!$F$16","v":0},{"$f":"Calculations!V901*Full!$F$16","v":0},{"$f":"Calculations!W901*Full!$F$16","v":0},{"$f":"Calculations!X901*Full!$F$16","v":0},{"$f":"Calculations!Y901*Full!$F$16","v":0},{"$f":"Calculations!Z901*Full!$F$16","v":0},{"$f":"Calculations!AA901*Full!$F$16","v":0}]
[null,null,{"$f":"IF('IF Factors'!J8=\"\",\"\",CONCATENATE('IF Factors'!$J$8,\" \",\"(\",'IF Factors'!$J$22,\")\",\" -no BRT\"))","v":"Ethanol (liter) -no BRT"},{"$f":"SUM(Calculations!H906:H915)*Full!$F$16","v":0},{"$f":"SUM(Calculations!I906:I915)*Full!$F$16","v":0},{"$f":"SUM(Calculations!J906:J915)*Full!$F$16","v":0},{"$f":"SUM(Calculations!K906:K915)*Full!$F$16","v":0},{"$f":"SUM(Calculations!L906:L915)*Full!$F$16","v":0},{"$f":"SUM(Calculations!M906:M915)*Full!$F$16","v":0},{"$f":"SUM(Calculations!N906:N915)*Full!$F$16","v":0},{"$f":"SUM(Calculations!O906:O915)*Full!$F$16","v":0},{"$f":"SUM(Calculations!P906:P915)*Full!$F$16","v":0},{"$f":"SUM(Calculations!Q906:Q915)*Full!$F$16","v":0},{"$f":"SUM(Calculations!R906:R915)*Full!$F$16","v":0},{"$f":"SUM(Calculations!S906:S915)*Full!$F$16","v":0},{"$f":"SUM(Calculations!T906:T915)*Full!$F$16","v":0},{"$f":"SUM(Calculations!U906:U915)*Full!$F$16","v":0},{"$f":"SUM(Calculations!V906:V915)*Full!$F$16","v":0},{"$f":"SUM(Calculations!W906:W915)*Full!$F$16","v":0},{"$f":"SUM(Calculations!X906:X915)*Full!$F$16","v":0},{"$f":"SUM(Calculations!Y906:Y915)*Full!$F$16","v":0},{"$f":"SUM(Calculations!Z906:Z915)*Full!$F$16","v":0},{"$f":"SUM(Calculations!AA906:AA915)*Full!$F$16","v":0}]
[null,null,{"$f":"IF('IF Factors'!J9=\"\",\"\",CONCATENATE('IF Factors'!$J$8,\" \",\"(\",'IF Factors'!$J$22,\")\",\" -BRT\"))","v":""},{"$f":"Calculations!H916*Full!$F$16","v":0},{"$f":"Calculations!I916*Full!$F$16","v":0},{"$f":"Calculations!J916*Full!$F$16","v":0},{"$f":"Calculations!K916*Full!$F$16","v":0},{"$f":"Calculations!L916*Full!$F$16","v":0},{"$f":"Calculations!M916*Full!$F$16","v":0},{"$f":"Calculations!N916*Full!$F$16","v":0},{"$f":"Calculations!O916*Full!$F$16","v":0},{"$f":"Calculations!P916*Full!$F$16","v":0},{"$f":"Calculations!Q916*Full!$F$16","v":0},{"$f":"Calculations!R916*Full!$F$16","v":0},{"$f":"Calculations!S916*Full!$F$16","v":0},{"$f":"Calculations!T916*Full!$F$16","v":0},{"$f":"Calculations!U916*Full!$F$16","v":0},{"$f":"Calculations!V916*Full!$F$16","v":0},{"$f":"Calculations!W916*Full!$F$16","v":0},{"$f":"Calculations!X916*Full!$F$16","v":0},{"$f":"Calculations!Y916*Full!$F$16","v":0},{"$f":"Calculations!Z916*Full!$F$16","v":0},{"$f":"Calculations!AA916*Full!$F$16","v":0}]
[]
[null,null,"Fuel Savings"]
[null,null,{"$f":"CONCATENATE('IF Factors'!E8,\" - \",'IF Factors'!E22)","v":"Petrol - liter"},{"$f":"D254-D255","v":0},{"$f":"E254-E255","v":0},0,0,0,0,0,0,0,0,0,0,0,0,0,0,0,0,0,0,{"$f":"SUM(D268:W268)","v":0}]
[null,null,{"$f":"CONCATENATE('IF Factors'!F8,\" - \",'IF Factors'!F22)","v":"Diesel - liter"},{"$f":"D256-D257","v":0},{"$f":"E256-E257","v":0},0,0,0,0,0,0,0,0,0,0,0,0,0,0,0,0,0,0,0]
[null,null,{"$f":"CONCATENATE('IF Factors'!G8,\" - \",'IF Factors'!G22)","v":"LPG - liter"},{"$f":"D258-D259","v":0},{"$f":"E258-E259","v":0},0,0,0,0,0,0,0,0,0,0,0,0,0,0,0,0,0,0,0]
[null,null,{"$f":"CONCATENATE('IF Factors'!H8,\" - \",'IF Factors'!H22)","v":"CNG - kg"},{"$f":"D260-D261","v":0},{"$f":"E260-E261","v":0},0,0,0,0,0,0,0,0,0,0,0,0,0,0,0,0,0,0,0]
[null,null,{"$f":"CONCATENATE('IF Factors'!I8,\" - \",'IF Factors'!I22)","v":"Electric - kwh"},{"$f":"D262-D263","v":0},{"$f":"E262-E263","v":0},0,0,0,0,0,0,0,0,0,0,0,0,0,0,0,0,0,0,0]
[null,null,{"$f":"CONCATENATE('IF Factors'!J8,\" - \",'IF Factors'!J22)","v":"Ethanol - liter"},{"$f":"D264-D265","v":0},{"$f":"E264-E265","v":0},0,0,0,0,0,0,0,0,0,0,0,0,0,0,0,0,0,0,0]
[]
[null,null,"Fuel Savings (USD)"]
[null,null,{"$f":"'IF Factors'!$E$8","v":"Petrol"},{"$f":"D268*Full!$G$281*D$284","v":0},{"$f":"E268*Full!$G$281*E$284","v":0},{"$f":"F268*Full!$G$281*F$284","v":0},{"$f":"G268*Full!$G$281*G$284","v":0},{"$f":"H268*Full!$G$281*H$284","v":0},{"$f":"I268*Full!$G$281*I$284","v":0},{"$f":"J268*Full!$G$281*J$284","v":0},{"$f":"K268*Full!$G$281*K$284","v":0},{"$f":"L268*Full!$G$281*L$284","v":0},{"$f":"M268*Full!$G$281*M$284","v":0},{"$f":"N268*Full!$G$281*N$284","v":0},{"$f":"O268*Full!$G$281*O$284","v":0},{"$f":"P268*Full!$G$281*P$284","v":0},{"$f":"Q268*Full!$G$281*Q$284","v":0},{"$f":"R268*Full!$G$281*R$284","v":0},{"$f":"S268*Full!$G$281*S$284","v":0},{"$f":"T268*Full!$G$281*T$284","v":0},{"$f":"U268*Full!$G$281*U$284","v":0},{"$f":"V268*Full!$G$281*V$284","v":0},{"$f":"W268*Full!$G$281*W$284","v":0},{"$f":"SUM(D276:W276)","v":0}]
[null,null,{"$f":"'IF Factors'!$F$8","v":"Diesel"},{"$f":"D269*Full!$H$281*D$284","v":0},{"$f":"E269*Full!$H$281*E$284","v":0},{"$f":"F269*Full!$H$281*F$284","v":0},{"$f":"G269*Full!$H$281*G$284","v":0},{"$f":"H269*Full!$H$281*H$284","v":0},{"$f":"I269*Full!$H$281*I$284","v":0},{"$f":"J269*Full!$H$281*J$284","v":0},{"$f":"K269*Full!$H$281*K$284","v":0},{"$f":"L269*Full!$H$281*L$284","v":0},{"$f":"M269*Full!$H$281*M$284","v":0},{"$f":"N269*Full!$H$281*N$284","v":0},{"$f":"O269*Full!$H$281*O$284","v":0},{"$f":"P269*Full!$H$281*P$284","v":0},{"$f":"Q269*Full!$H$281*Q$284","v":0},{"$f":"R269*Full!$H$281*R$284","v":0},{"$f":"S269*Full!$H$281*S$284","v":0},{"$f":"T269*Full!$H$281*T$284","v":0},{"$f":"U269*Full!$H$281*U$284","v":0},{"$f":"V269*Full!$H$281*V$284","v":0},{"$f":"W269*Full!$H$281*W$284","v":0},0]
[null,null,{"$f":"'IF Factors'!$G$8","v":"LPG"},{"$f":"D270*Full!$I$281*D$284","v":0},{"$f":"E270*Full!$I$281*E$284","v":0},{"$f":"F270*Full!$I$281*F$284","v":0},{"$f":"G270*Full!$I$281*G$284","v":0},{"$f":"H270*Full!$I$281*H$284","v":0},{"$f":"I270*Full!$I$281*I$284","v":0},{"$f":"J270*Full!$I$281*J$284","v":0},{"$f":"K270*Full!$I$281*K$284","v":0},{"$f":"L270*Full!$I$281*L$284","v":0},{"$f":"M270*Full!$I$281*M$284","v":0},{"$f":"N270*Full!$I$281*N$284","v":0},{"$f":"O270*Full!$I$281*O$284","v":0},{"$f":"P270*Full!$I$281*P$284","v":0},{"$f":"Q270*Full!$I$281*Q$284","v":0},{"$f":"R270*Full!$I$281*R$284","v":0},{"$f":"S270*Full!$I$281*S$284","v":0},{"$f":"T270*Full!$I$281*T$284","v":0},{"$f":"U270*Full!$I$281*U$284","v":0},{"$f":"V270*Full!$I$281*V$284","v":0},{"$f":"W270*Full!$I$281*W$284","v":0},0]
[null,null,{"$f":"'IF Factors'!$H$8","v":"CNG"},{"$f":"D271*Full!$J$281*D$284","v":0},{"$f":"E271*Full!$J$281*E$284","v":0},{"$f":"F271*Full!$J$281*F$284","v":0},{"$f":"G271*Full!$J$281*G$284","v":0},{"$f":"H271*Full!$J$281*H$284","v":0},{"$f":"I271*Full!$J$281*I$284","v":0},{"$f":"J271*Full!$J$281*J$284","v":0},{"$f":"K271*Full!$J$281*K$284","v":0},{"$f":"L271*Full!$J$281*L$284","v":0},{"$f":"M271*Full!$J$281*M$284","v":0},{"$f":"N271*Full!$J$281*N$284","v":0},{"$f":"O271*Full!$J$281*O$284","v":0},{"$f":"P271*Full!$J$281*P$284","v":0},{"$f":"Q271*Full!$J$281*Q$284","v":0},{"$f":"R271*Full!$J$281*R$284","v":0},{"$f":"S271*Full!$J$281*S$284","v":0},{"$f":"T271*Full!$J$281*T$284","v":0},{"$f":"U271*Full!$J$281*U$284","v":0},{"$f":"V271*Full!$J$281*V$284","v":0},{"$f":"W271*Full!$J$281*W$284","v":0},0]
[null,null,{"$f":"'IF Factors'!$I$8","v":"Electric"},{"$f":"D272*Full!$K$281*D$284","v":0},{"$f":"E272*Full!$K$281*E$284","v":0},{"$f":"F272*Full!$K$281*F$284","v":0},{"$f":"G272*Full!$K$281*G$284","v":0},{"$f":"H272*Full!$K$281*H$284","v":0},{"$f":"I272*Full!$K$281*I$284","v":0},{"$f":"J272*Full!$K$281*J$284","v":0},{"$f":"K272*Full!$K$281*K$284","v":0},{"$f":"L272*Full!$K$281*L$284","v":0},{"$f":"M272*Full!$K$281*M$284","v":0},{"$f":"N272*Full!$K$281*N$284","v":0},{"$f":"O272*Full!$K$281*O$284","v":0},{"$f":"P272*Full!$K$281*P$284","v":0},{"$f":"Q272*Full!$K$281*Q$284","v":0},{"$f":"R272*Full!$K$281*R$284","v":0},{"$f":"S272*Full!$K$281*S$284","v":0},{"$f":"T272*Full!$K$281*T$284","v":0},{"$f":"U272*Full!$K$281*U$284","v":0},{"$f":"V272*Full!$K$281*V$284","v":0},{"$f":"W272*Full!$K$281*W$284","v":0},0]
[null,null,{"$f":"IF('IF Factors'!$J$8=\"\",\"\",'IF Factors'!$J$8)","v":"Ethanol"},{"$f":"D273*Full!$L$281*D$284","v":0},{"$f":"E273*Full!$L$281*E$284","v":0},{"$f":"F273*Full!$L$281*F$284","v":0},{"$f":"G273*Full!$L$281*G$284","v":0},{"$f":"H273*Full!$L$281*H$284","v":0},{"$f":"I273*Full!$L$281*I$284","v":0},{"$f":"J273*Full!$L$281*J$284","v":0},{"$f":"K273*Full!$L$281*K$284","v":0},{"$f":"L273*Full!$L$281*L$284","v":0},{"$f":"M273*Full!$L$281*M$284","v":0},{"$f":"N273*Full!$L$281*N$284","v":0},{"$f":"O273*Full!$L$281*O$284","v":0},{"$f":"P273*Full!$L$281*P$284","v":0},{"$f":"Q273*Full!$L$281*Q$284","v":0},{"$f":"R273*Full!$L$281*R$284","v":0},{"$f":"S273*Full!$L$281*S$284","v":0},{"$f":"T273*Full!$L$281*T$284","v":0},{"$f":"U273*Full!$L$281*U$284","v":0},{"$f":"V273*Full!$L$281*V$284","v":0},{"$f":"W273*Full!$L$281*W$284","v":0},0]
[null,null,"Total",{"$f":"SUM(D276:D281)","v":0},{"$f":"SUM(E276:E281)","v":0},0,0,0,0,0,0,0,0,0,0,0,0,0,0,0,0,0,0,0]
[]
[null,null,"Inflation",{"v":1,"d":"1.00"},{"$f":"D284+(D284*Full!$G$290)","v":{"v":1,"d":"1.00"}},{"$f":"E284+(E284*Full!$G$290)","v":{"v":1,"d":"1.00"}},{"$f":"F284+(F284*Full!$G$290)","v":{"v":1,"d":"1.00"}},{"$f":"G284+(G284*Full!$G$290)","v":{"v":1,"d":"1.00"}},{"$f":"H284+(H284*Full!$G$290)","v":{"v":1,"d":"1.00"}},{"$f":"I284+(I284*Full!$G$290)","v":{"v":1,"d":"1.00"}},{"$f":"J284+(J284*Full!$G$290)","v":{"v":1,"d":"1.00"}},{"$f":"K284+(K284*Full!$G$290)","v":{"v":1,"d":"1.00"}},{"$f":"L284+(L284*Full!$G$290)","v":{"v":1,"d":"1.00"}},{"$f":"M284+(M284*Full!$G$290)","v":{"v":1,"d":"1.00"}},{"$f":"N284+(N284*Full!$G$290)","v":{"v":1,"d":"1.00"}},{"$f":"O284+(O284*Full!$G$290)","v":{"v":1,"d":"1.00"}},{"$f":"P284+(P284*Full!$G$290)","v":{"v":1,"d":"1.00"}},{"$f":"Q284+(Q284*Full!$G$290)","v":{"v":1,"d":"1.00"}},{"$f":"R284+(R284*Full!$G$290)","v":{"v":1,"d":"1.00"}},{"$f":"S284+(S284*Full!$G$290)","v":{"v":1,"d":"1.00"}},{"$f":"T284+(T284*Full!$G$290)","v":{"v":1,"d":"1.00"}},{"$f":"U284+(U284*Full!$G$290)","v":{"v":1,"d":"1.00"}},{"$f":"V284+(V284*Full!$G$290)","v":{"v":1,"d":"1.00"}}]
[]
[null,null,"Economic Analysis"]
[null,null,"CO2",{"$f":"D237*Full!$G$284","v":0},{"$f":"E237*Full!$G$284","v":0},{"$f":"F237*Full!$G$284","v":0},{"$f":"G237*Full!$G$284","v":0},{"$f":"H237*Full!$G$284","v":0},{"$f":"I237*Full!$G$284","v":0},{"$f":"J237*Full!$G$284","v":0},{"$f":"K237*Full!$G$284","v":0},{"$f":"L237*Full!$G$284","v":0},{"$f":"M237*Full!$G$284","v":0},{"$f":"N237*Full!$G$284","v":0},{"$f":"O237*Full!$G$284","v":0},{"$f":"P237*Full!$G$284","v":0},{"$f":"Q237*Full!$G$284","v":0},{"$f":"R237*Full!$G$284","v":0},{"$f":"S237*Full!$G$284","v":0},{"$f":"T237*Full!$G$284","v":0},{"$f":"U237*Full!$G$284","v":0},{"$f":"V237*Full!$G$284","v":0},{"$f":"W237*Full!$G$284","v":0},{"$f":"SUM(D287:W287)","v":0}]
[null,null,"PM",{"$f":"D238*Full!$G$285","v":0},{"$f":"E238*Full!$G$285","v":0},{"$f":"F238*Full!$G$285","v":0},{"$f":"G238*Full!$G$285","v":0},{"$f":"H238*Full!$G$285","v":0},{"$f":"I238*Full!$G$285","v":0},{"$f":"J238*Full!$G$285","v":0},{"$f":"K238*Full!$G$285","v":0},{"$f":"L238*Full!$G$285","v":0},{"$f":"M238*Full!$G$285","v":0},{"$f":"N238*Full!$G$285","v":0},{"$f":"O238*Full!$G$285","v":0},{"$f":"P238*Full!$G$285","v":0},{"$f":"Q238*Full!$G$285","v":0},{"$f":"R238*Full!$G$285","v":0},{"$f":"S238*Full!$G$285","v":0},{"$f":"T238*Full!$G$285","v":0},{"$f":"U238*Full!$G$285","v":0},{"$f":"V238*Full!$G$285","v":0},{"$f":"W238*Full!$G$285","v":0},{"$f":"SUM(D288:W288)","v":0}]
[null,null,"Nox",{"$f":"D239*Full!$G$286","v":0},{"$f":"E239*Full!$G$286","v":0},{"$f":"F239*Full!$G$286","v":0},{"$f":"G239*Full!$G$286","v":0},{"$f":"H239*Full!$G$286","v":0},{"$f":"I239*Full!$G$286","v":0},{"$f":"J239*Full!$G$286","v":0},{"$f":"K239*Full!$G$286","v":0},{"$f":"L239*Full!$G$286","v":0},{"$f":"M239*Full!$G$286","v":0},{"$f":"N239*Full!$G$286","v":0},{"$f":"O239*Full!$G$286","v":0},{"$f":"P239*Full!$G$286","v":0},{"$f":"Q239*Full!$G$286","v":0},{"$f":"R239*Full!$G$286","v":0},{"$f":"S239*Full!$G$286","v":0},{"$f":"T239*Full!$G$286","v":0},{"$f":"U239*Full!$G$286","v":0},{"$f":"V239*Full!$G$286","v":0},{"$f":"W239*Full!$G$286","v":0},0]
[null,null,"Fatalities",{"$f":"D244*Full!$G$288","v":{"$error":"#N/A"}},{"$f":"E244*Full!$G$288","v":{"$error":"#N/A"}},{"$f":"F244*Full!$G$288","v":{"$error":"#N/A"}},{"$f":"G244*Full!$G$288","v":{"$error":"#N/A"}},{"$f":"H244*Full!$G$288","v":{"$error":"#N/A"}},{"$f":"I244*Full!$G$288","v":{"$error":"#N/A"}},{"$f":"J244*Full!$G$288","v":{"$error":"#N/A"}},{"$f":"K244*Full!$G$288","v":{"$error":"#N/A"}},{"$f":"L244*Full!$G$288","v":{"$error":"#N/A"}},{"$f":"M244*Full!$G$288","v":{"$error":"#N/A"}},{"$f":"N244*Full!$G$288","v":{"$error":"#N/A"}},{"$f":"O244*Full!$G$288","v":{"$error":"#N/A"}},{"$f":"P244*Full!$G$288","v":{"$error":"#N/A"}},{"$f":"Q244*Full!$G$288","v":{"$error":"#N/A"}},{"$f":"R244*Full!$G$288","v":{"$error":"#N/A"}},{"$f":"S244*Full!$G$288","v":{"$error":"#N/A"}},{"$f":"T244*Full!$G$288","v":{"$error":"#N/A"}},{"$f":"U244*Full!$G$288","v":{"$error":"#N/A"}},{"$f":"V244*Full!$G$288","v":{"$error":"#N/A"}},{"$f":"W244*Full!$G$288","v":{"$error":"#N/A"}},{"$error":"#N/A"}]
[null,null,"Injuries",{"$f":"D245*Full!$G$289","v":{"$error":"#N/A"}},{"$f":"E245*Full!$G$289","v":{"$error":"#N/A"}},{"$f":"F245*Full!$G$289","v":{"$error":"#N/A"}},{"$f":"G245*Full!$G$289","v":{"$error":"#N/A"}},{"$f":"H245*Full!$G$289","v":{"$error":"#N/A"}},{"$f":"I245*Full!$G$289","v":{"$error":"#N/A"}},{"$f":"J245*Full!$G$289","v":{"$error":"#N/A"}},{"$f":"K245*Full!$G$289","v":{"$error":"#N/A"}},{"$f":"L245*Full!$G$289","v":{"$error":"#N/A"}},{"$f":"M245*Full!$G$289","v":{"$error":"#N/A"}},{"$f":"N245*Full!$G$289","v":{"$error":"#N/A"}},{"$f":"O245*Full!$G$289","v":{"$error":"#N/A"}},{"$f":"P245*Full!$G$289","v":{"$error":"#N/A"}},{"$f":"Q245*Full!$G$289","v":{"$error":"#N/A"}},{"$f":"R245*Full!$G$289","v":{"$error":"#N/A"}},{"$f":"S245*Full!$G$289","v":{"$error":"#N/A"}},{"$f":"T245*Full!$G$289","v":{"$error":"#N/A"}},{"$f":"U245*Full!$G$289","v":{"$error":"#N/A"}},{"$f":"V245*Full!$G$289","v":{"$error":"#N/A"}},{"$f":"W245*Full!$G$289","v":{"$error":"#N/A"}},{"$error":"#N/A"}]
[null,null,"Travel Time",{"$f":"Summary!D251*1000*Full!$G$287","v":{"$error":"#DIV/0!"}},{"$f":"Summary!E251*1000*Full!$G$287","v":{"$error":"#DIV/0!"}},{"$f":"Summary!F251*1000*Full!$G$287","v":{"$error":"#DIV/0!"}},{"$f":"Summary!G251*1000*Full!$G$287","v":{"$error":"#DIV/0!"}},{"$f":"Summary!H251*1000*Full!$G$287","v":{"$error":"#DIV/0!"}},{"$f":"Summary!I251*1000*Full!$G$287","v":{"$error":"#DIV/0!"}},{"$f":"Summary!J251*1000*Full!$G$287","v":{"$error":"#DIV/0!"}},{"$f":"Summary!K251*1000*Full!$G$287","v":{"$error":"#DIV/0!"}},{"$f":"Summary!L251*1000*Full!$G$287","v":{"$error":"#DIV/0!"}},{"$f":"Summary!M251*1000*Full!$G$287","v":{"$error":"#DIV/0!"}},{"$f":"Summary!N251*1000*Full!$G$287","v":{"$error":"#DIV/0!"}},{"$f":"Summary!O251*1000*Full!$G$287","v":{"$error":"#DIV/0!"}},{"$f":"Summary!P251*1000*Full!$G$287","v":{"$error":"#DIV/0!"}},{"$f":"Summary!Q251*1000*Full!$G$287","v":{"$error":"#DIV/0!"}},{"$f":"Summary!R251*1000*Full!$G$287","v":{"$error":"#DIV/0!"}},{"$f":"Summary!S251*1000*Full!$G$287","v":{"$error":"#DIV/0!"}},{"$f":"Summary!T251*1000*Full!$G$287","v":{"$error":"#DIV/0!"}},{"$f":"Summary!U251*1000*Full!$G$287","v":{"$error":"#DIV/0!"}},{"$f":"Summary!V251*1000*Full!$G$287","v":{"$error":"#DIV/0!"}},{"$f":"Summary!W251*1000*Full!$G$287","v":{"$error":"#DIV/0!"}},{"$error":"#DIV/0!"}]
[null,null,"Fuel",{"$f":"D282","v":0},{"$f":"E282","v":0},0,0,0,0,0,0,0,0,0,0,0,0,0,0,0,0,0,0,0]
[null,null,"Maintenance",{"$f":"-(Full!$G$283*Full!$G$292)","v":0},{"$f":"-(Full!$G$283*Full!$G$292)","v":0},{"$f":"-(Full!$G$283*Full!$G$292)","v":0},{"$f":"-(Full!$G$283*Full!$G$292)","v":0},{"$f":"-(Full!$G$283*Full!$G$292)","v":0},{"$f":"-(Full!$G$283*Full!$G$292)","v":0},{"$f":"-(Full!$G$283*Full!$G$292)","v":0},{"$f":"-(Full!$G$283*Full!$G$292)","v":0},{"$f":"-(Full!$G$283*Full!$G$292)","v":0},{"$f":"-(Full!$G$283*Full!$G$292)","v":0},{"$f":"-(Full!$G$283*Full!$G$292)","v":0},{"$f":"-(Full!$G$283*Full!$G$292)","v":0},{"$f":"-(Full!$G$283*Full!$G$292)","v":0},{"$f":"-(Full!$G$283*Full!$G$292)","v":0},{"$f":"-(Full!$G$283*Full!$G$292)","v":0},{"$f":"-(Full!$G$283*Full!$G$292)","v":0},{"$f":"-(Full!$G$283*Full!$G$292)","v":0},{"$f":"-(Full!$G$283*Full!$G$292)","v":0},{"$f":"-(Full!$G$283*Full!$G$292)","v":0},{"$f":"-(Full!$G$283*Full!$G$292)","v":0},{"$f":"SUM(D294:W294)","v":0}]
[null,null,"Construction",{"$nulls":20},{"$f":"-Full!G283","v":0}]
[null,null,"Construction CO2",{"$nulls":20},{"$f":"-SUM(Calculations!H2112:J2112)*Full!G284","v":0}]
[null,null,{"$f":"X295+X296","v":0},{"$f":"SUM(D287:D295)","v":{"$error":"#N/A"}},{"$error":"#N/A"},{"$error":"#N/A"},{"$error":"#N/A"},{"$error":"#N/A"},{"$error":"#N/A"},{"$error":"#N/A"},{"$error":"#N/A"},{"$error":"#N/A"},{"$error":"#N/A"},{"$error":"#N/A"},{"$error":"#N/A"},{"$error":"#N/A"},{"$error":"#N/A"},{"$error":"#N/A"},{"$error":"#N/A"},{"$error":"#N/A"},{"$error":"#N/A"},{"$error":"#N/A"},{"$error":"#N/A"},{"$f":"SUM(X287:X296)","v":{"$error":"#N/A"}}]
[]
[null,null,"EIRR",{"$f":"IRR(C297:W297)","v":{"$error":"#VALUE!"}}]
[null,null,"NPV",{"$f":"NPV(Full!G291,C297:W297)","v":{"$error":"#N/A"}}]
[]
[null,null,"Total Costs vs Savings",{"$f":"C297+D297","v":{"$error":"#N/A"}},{"$f":"D302+E297","v":{"$error":"#N/A"}},{"$f":"E302+F297","v":{"$error":"#N/A"}},{"$error":"#N/A"},{"$error":"#N/A"},{"$error":"#N/A"},{"$error":"#N/A"},{"$error":"#N/A"},{"$error":"#N/A"},{"$error":"#N/A"},{"$error":"#N/A"},{"$error":"#N/A"},{"$error":"#N/A"},{"$error":"#N/A"},{"$error":"#N/A"},{"$error":"#N/A"},{"$error":"#N/A"},{"$error":"#N/A"},{"$error":"#N/A"},{"$error":"#N/A"}]
[]
[null,null,"Costs vs Savings"]
[{"$nulls":3},{"$f":"D236","v":0},{"$f":"E236","v":1},2,3,4,5,6,7,8,9,10,11,12,13,14,15,16,17,18,19,"Total"]
[null,null,"CO2",{"$f":"D287","v":0},{"$f":"E287","v":0},0,0,0,0,0,0,0,0,0,0,0,0,0,0,0,0,0,0,0]
[null,null,"PM",{"$f":"D288","v":0},0,0,0,0,0,0,0,0,0,0,0,0,0,0,0,0,0,0,0,0]
[null,null,"Nox",{"$f":"D289","v":0},0,0,0,0,0,0,0,0,0,0,0,0,0,0,0,0,0,0,0,0]
[null,null,"Fatalities",{"$f":"D290","v":{"$error":"#N/A"}},{"$error":"#N/A"},{"$error":"#N/A"},{"$error":"#N/A"},{"$error":"#N/A"},{"$error":"#N/A"},{"$error":"#N/A"},{"$error":"#N/A"},{"$error":"#N/A"},{"$error":"#N/A"},{"$error":"#N/A"},{"$error":"#N/A"},{"$error":"#N/A"},{"$error":"#N/A"},{"$error":"#N/A"},{"$error":"#N/A"},{"$error":"#N/A"},{"$error":"#N/A"},{"$error":"#N/A"},{"$error":"#N/A"},{"$error":"#N/A"}]
[null,null,"Injuries",{"$f":"D291","v":{"$error":"#N/A"}},{"$error":"#N/A"},{"$error":"#N/A"},{"$error":"#N/A"},{"$error":"#N/A"},{"$error":"#N/A"},{"$error":"#N/A"},{"$error":"#N/A"},{"$error":"#N/A"},{"$error":"#N/A"},{"$error":"#N/A"},{"$error":"#N/A"},{"$error":"#N/A"},{"$error":"#N/A"},{"$error":"#N/A"},{"$error":"#N/A"},{"$error":"#N/A"},{"$error":"#N/A"},{"$error":"#N/A"},{"$error":"#N/A"},{"$error":"#N/A"}]
[null,null,"Travel Time",{"$f":"D292","v":{"$error":"#DIV/0!"}},{"$error":"#DIV/0!"},{"$error":"#DIV/0!"},{"$error":"#DIV/0!"},{"$error":"#DIV/0!"},{"$error":"#DIV/0!"},{"$error":"#DIV/0!"},{"$error":"#DIV/0!"},{"$error":"#DIV/0!"},{"$error":"#DIV/0!"},{"$error":"#DIV/0!"},{"$error":"#DIV/0!"},{"$error":"#DIV/0!"},{"$error":"#DIV/0!"},{"$error":"#DIV/0!"},{"$error":"#DIV/0!"},{"$error":"#DIV/0!"},{"$error":"#DIV/0!"},{"$error":"#DIV/0!"},{"$error":"#DIV/0!"},{"$error":"#DIV/0!"}]
[null,null,"Fuel",{"$f":"D293","v":0},0,0,0,0,0,0,0,0,0,0,0,0,0,0,0,0,0,0,0,0]
[null,null,"Maintenance",{"$f":"D294","v":0},0,0,0,0,0,0,0,0,0,0,0,0,0,0,0,0,0,0,0,0]
[null,null,"Construction",{"$f":"X295","v":0},{"$f":"E295","v":0},0,0,0,0,0,0,0,0,0,0,0,0,0,0,0,0,0,0,0]
[null,null,"Construction CO2",{"$f":"X296","v":0},{"$f":"E296","v":0},0,0,0,0,0,0,0,0,0,0,0,0,0,0,0,0,0,0,0]
[{"$nulls":3},{"$f":"D297","v":{"$error":"#N/A"}},{"$error":"#N/A"},{"$error":"#N/A"},{"$error":"#N/A"},{"$error":"#N/A"},{"$error":"#N/A"},{"$error":"#N/A"},{"$error":"#N/A"},{"$error":"#N/A"},{"$error":"#N/A"},{"$error":"#N/A"},{"$error":"#N/A"},{"$error":"#N/A"},{"$error":"#N/A"},{"$error":"#N/A"},{"$error":"#N/A"},{"$error":"#N/A"},{"$error":"#N/A"},{"$error":"#N/A"},{"$error":"#N/A"},{"$error":"#N/A"}]
[]
[]
[]
[]
[null,null,"Factors used for the calculation of savings from fatality reduction"]
[null,null,"Source: Koornstra Reference Model as proposed in SMP"]
[null,null,"Traffic Fatality rates \n(per billion km)",{"$f":"Full!G555","v":2000},{"$f":"Full!H555","v":2010},{"$f":"Full!I555","v":2020},{"$f":"Full!J555","v":2030},{"$f":"Full!K555","v":2040},{"$f":"Full!L555","v":2050}]
[null,null,"OECD Regions - Reference Case",{"$f":"Full!G556","v":{"v":19.6,"d":"19.60"}},{"$f":"Full!H556","v":{"v":12.3,"d":"12.30"}},{"$f":"Full!I556","v":{"v":7.5,"d":"7.50"}},{"$f":"Full!J556","v":{"v":4.6,"d":"4.60"}},{"$f":"Full!K556","v":{"v":2.8,"d":"2.80"}},{"$f":"Full!L556","v":{"v":1.7,"d":"1.70"}}]
[null,null,"Non OECD Regions - Reference Case",{"$f":"Full!G557","v":{"v":251.4,"d":"251.40"}},{"$f":"Full!H557","v":{"v":193.6,"d":"193.60"}},{"$f":"Full!I557","v":{"v":141.2,"d":"141.20"}},{"$f":"Full!J557","v":{"v":99.6,"d":"99.60"}},{"$f":"Full!K557","v":{"v":66.6,"d":"66.60"}},{"$f":"Full!L557","v":{"v":44,"d":"44.00"}}]
[null,null,"City Traffic Fatality rates (per billion vehicle km)",{"$f":"Full!G558","v":{"v":251.4,"d":"251.40"}},{"$f":"Full!H558","v":{"v":193.6,"d":"193.60"}},{"$f":"Full!I558","v":{"v":141.2,"d":"141.20"}},{"$f":"Full!J558","v":{"v":99.6,"d":"99.60"}},{"$f":"Full!K558","v":{"v":66.6,"d":"66.60"}},{"$f":"Full!L558","v":{"v":44,"d":"44.00"}}]
[null,null,"Growth rate",{"$f":"Full!G559","v":{"v":0,"d":"0%"}},{"$f":"Full!H559","v":{"v":-2.578680390563959,"d":"-258%"}},{"$f":"Full!I559","v":{"v":-3.106881388892946,"d":"-311%"}},{"$f":"Full!J559","v":{"v":-3.429948242096581,"d":"-343%"}},{"$f":"Full!K559","v":{"v":-3.944665420327731,"d":"-394%"}},{"$f":"Full!L559","v":{"v":-4.060412967913218,"d":"-406%"}}]
[null,null,"Growth rate %",{"$f":"Full!G560","v":{"v":0,"d":"0%"}},{"$f":"Full!H560","v":{"v":-0.025786803905639588,"d":"-3%"}},{"$f":"Full!I560","v":{"v":-0.03106881388892946,"d":"-3%"}},{"$f":"Full!J560","v":{"v":-0.03429948242096581,"d":"-3%"}},{"$f":"Full!K560","v":{"v":-0.03944665420327731,"d":"-4%"}},{"$f":"Full!L560","v":{"v":-0.040604129679132184,"d":"-4%"}}]
[]
[]
[{"$nulls":3},{"$f":"D323","v":2000},{"$f":"D331+1","v":2001},{"$f":"E331+1","v":2002},2003,2004,2005,2006,2007,2008,2009,2010,2011,2012,2013,2014,2015,2016,2017,2018,2019,2020,2021,2022,2023,2024,2025,2026,2027,2028,2029,2030,2031,2032,2033,2034,2035,2036,2037,2038,2039,2040,2041,2042,2043,2044,2045,2046,2047,2048,2049,2050]
[null,null,"City Traffic fatality rates/billion pkm",{"$f":"D326","v":{"v":251.4,"d":"251.40"}},{"$f":"D332+(D332*$E$328)","v":{"v":244.91719749812222,"d":"244.92"}},{"$f":"E332+(E332*$E$328)","v":{"v":238.60156575311933,"d":"238.60"}},{"v":232.4487939654651,"d":"232.45"},{"v":226.45468249737522,"d":"226.45"},{"v":220.61514000630152,"d":"220.62"},{"v":214.9261806523438,"d":"214.93"},{"v":209.38392137767374,"d":"209.38"},{"v":203.98457925611382,"d":"203.98"},{"v":198.72446891106202,"d":"198.72"},{"$f":"E326","v":{"v":193.6,"d":"193.60"}},{"$f":"N332+(N332*$F$328)","v":{"v":187.58507763110325,"d":"187.59"}},{"$f":"O332+(O332*$F$328)","v":{"v":181.7570317658421,"d":"181.76"}},{"v":176.11005637290492,"d":"176.11"},{"v":170.63852580748627,"d":"170.64"},{"v":165.33698920689218,"d":"165.34"},{"v":160.20016506026732,"d":"160.20"},{"v":155.2229359470341,"d":"155.22"},{"v":150.40034343880248,"d":"150.40"},{"v":145.72758315967124,"d":"145.73"},{"$f":"F326","v":{"v":141.2,"d":"141.20"}},{"$f":"X332+(X332*$G$328)","v":{"v":136.35691308215962,"d":"136.36"}},{"$f":"Y332+(Y332*$G$328)","v":{"v":131.67994153892093,"d":"131.68"}},{"v":127.1633876989129,"d":"127.16"},{"v":122.80174931794357,"d":"122.80"},{"v":118.58971287594892,"d":"118.59"},{"v":114.52214710385293,"d":"114.52"},{"v":110.59409673245307,"d":"110.59"},{"v":106.8007764557157,"d":"106.80"},{"v":103.1375651011274,"d":"103.14"},{"$f":"G326","v":{"v":99.6,"d":"99.60"}},{"$f":"AH332+(AH332*$H$328)","v":{"v":95.67111324135358,"d":"95.67"}},{"$f":"AI332+(AI332*$H$328)","v":{"v":91.89720792007932,"d":"91.90"}},{"v":88.27217053700927,"d":"88.27"},{"v":84.79012875006315,"d":"84.79"},{"v":81.44544186140804,"d":"81.45"},{"v":78.23269167986795,"d":"78.23"},{"v":75.1466737437806,"d":"75.15"},{"v":72.18238889008319,"d":"72.18"},{"v":69.33503515596959,"d":"69.34"},{"$f":"H326","v":{"v":66.6,"d":"66.60"}},{"$f":"AR332+(AR332*$I$328)","v":{"v":63.89576496336979,"d":"63.90"}},{"$f":"AS332+(AS332*$I$328)","v":{"v":61.301333036849776,"d":"61.30"}},{"v":58.81224576071786,"d":"58.81"},{"v":56.42422570712868,"d":"56.42"},{"v":54.1331691294718,"d":"54.13"},{"v":51.935138910196336,"d":"51.94"},{"v":49.82635779498298,"d":"49.83"},{"v":47.803201901636655,"d":"47.80"},{"v":45.86219449254486,"d":"45.86"},{"$f":"I326","v":{"v":44,"d":"44.00"}}]

{"sheet":"Summary2","index":10,"n_rows":332,"n_cols":54,"rows_kept":332,"merged":[[234,26,235,26],[234,27,234,28],[234,29,234,30],[286,1,292,1],[321,2,321,5]]}
[]
[]
[null,null,{"$f":"Full!F8","v":0}]
[null,null,{"$f":"Full!F9","v":0},{"$nulls":5},"*analysis considers land use impact"]
[]
[null,null,"Ridership/year (millions)",null,null,"Emissions Savings"]
[null,null,{"$f":"Full!F12","v":0},{"$f":"Full!G171*Full!$F$16/10^6","v":0},null,{"$f":"IF($X$238<0,\"PM increase (tons)\",\"PM reduction (tons)\")","v":"PM reduction (tons)"},{"$f":"X238","v":0}]
[null,null,{"$f":"Full!F13","v":9},{"$f":"Full!H171*Full!$F$16/10^6","v":0},null,{"$f":"IF($X$239<0,\"NOx increase (tons)\",\"NOx reduction (tons)\")","v":"NOx reduction (tons)"},{"$f":"X239","v":0}]
[null,null,{"$f":"Full!F14","v":19},{"$f":"Full!I171*Full!$F$16/10^6","v":0},null,{"$f":"IF($X$237<0,\"CO2 increase (tons)\",\"CO2 reduction (tons)\")","v":"CO2 reduction (tons)"},{"$f":"X237-SUM(Calculations2!H2112:J2112)","v":0}]
[]
[null,null,"Financial Indicators"]
[null,null,"EIRR",{"$f":"D299","v":{"$error":"#VALUE!"}},null,{"$f":"IF($X$238<0,\"PM increase (tons/km)\",\"PM reduction (tons/km)\")","v":"PM reduction (tons/km)"},{"$f":"G7/Full!$I$43","v":{"$error":"#DIV/0!"}}]
[null,null,"NPV (million USD)",{"$f":"D300/10^6","v":{"$error":"#N/A"}},null,{"$f":"IF($X$239<0,\"NOx increase (tons/km)\",\"NOx reduction (tons/km)\")","v":"NOx reduction (tons/km)"},{"$f":"G8/Full!$I$43","v":{"$error":"#DIV/0!"}}]
[null,null,"Project Cost (million USD)",{"$f":"Full!G283/1000000","v":0},null,{"$f":"IF($X$237<0,\"CO2 increase (tons/km)\",\"CO2 reduction (tons/km)\")","v":"CO2 reduction (tons/km)"},{"$f":"G9/Full!$I$43","v":{"$error":"#DIV/0!"}}]
[]
[null,null,"Co-benefits"]
[null,null,"VKT Saved (millions)",{"$f":"SUM(D242:W242)","v":0},null,{"$f":"IF($X$238<0,\"PM increase (tons/km/yr)\",\"PM reduction (tons/km/yr)\")","v":"PM reduction (tons/km/yr)"},{"$f":"G12/($C$9-$C$7+1)","v":{"$error":"#DIV/0!"}}]
[null,null,"Time travel savings ('000s hours)",{"$f":"X251","v":{"$error":"#DIV/0!"}},null,{"$f":"IF($X$239<0,\"NOx increase (tons/km/yr)\",\"NOx reduction (tons/km/yr)\")","v":"NOx reduction (tons/km/yr)"},{"$f":"G13/($C$9-$C$7+1)","v":{"$error":"#DIV/0!"}}]
[null,null,"No. of fatalities reduced",{"$f":"X244","v":{"$error":"#N/A"}},null,{"$f":"IF($X$237<0,\"CO2 increase (tons/km/yr)\",\"CO2 reduction (tons/km/yr)\")","v":"CO2 reduction (tons/km/yr)"},{"$f":"G14/($C$9-$C$7+1)","v":{"$error":"#DIV/0!"}}]
[null,null,"No. of injuries reduced",{"$f":"X245","v":{"$error":"#N/A"}}]
[null,null,"Fuel Savings ('000 USD)",{"$f":"X282/1000","v":0}]
[null,null,"Emissions reduction ('000 USD)",{"$f":"(SUM(X306:X308)-X315)/1000","v":0}]
{"$rows_empty":31}
[{"$nulls":13}," "]
{"$rows_empty":179}
[null,null,"Final Calculations2"]
[{"$nulls":12},{"$f":"M237/56","v":0},{"$nulls":13},"% Reduction for Buses","Mode Shift",null,"Bus Tech"]
[{"$nulls":3},{"$f":"Calculations2!H23","v":0},{"$f":"Calculations2!I23","v":1},{"$f":"Calculations2!J23","v":2},{"$f":"Calculations2!K23","v":3},{"$f":"Calculations2!L23","v":4},{"$f":"Calculations2!M23","v":5},{"$f":"Calculations2!N23","v":6},{"$f":"Calculations2!O23","v":7},{"$f":"Calculations2!P23","v":8},{"$f":"Calculations2!Q23","v":9},{"$f":"Calculations2!R23","v":10},{"$f":"Calculations2!S23","v":11},{"$f":"Calculations2!T23","v":12},{"$f":"Calculations2!U23","v":13},{"$f":"Calculations2!V23","v":14},{"$f":"Calculations2!W23","v":15},{"$f":"Calculations2!X23","v":16},{"$f":"Calculations2!Y23","v":17},{"$f":"Calculations2!Z23","v":18},{"$f":"Calculations2!AA23","v":19},"Total",null,"20yr Avg",null,"%","#","%","#"]
[null,null,"CO2 savings or increase (tons)",{"$f":"Calculations2!H2098","v":0},{"$f":"Calculations2!I2098","v":0},{"$f":"Calculations2!J2098","v":0},{"$f":"Calculations2!K2098","v":0},{"$f":"Calculations2!L2098","v":0},{"$f":"Calculations2!M2098","v":0},{"$f":"Calculations2!N2098","v":0},{"$f":"Calculations2!O2098","v":0},{"$f":"Calculations2!P2098","v":0},{"$f":"Calculations2!Q2098","v":0},{"$f":"Calculations2!R2098","v":0},{"$f":"Calculations2!S2098","v":0},{"$f":"Calculations2!T2098","v":0},{"$f":"Calculations2!U2098","v":0},{"$f":"Calculations2!V2098","v":0},{"$f":"Calculations2!W2098","v":0},{"$f":"Calculations2!X2098","v":0},{"$f":"Calculations2!Y2098","v":0},{"$f":"Calculations2!Z2098","v":0},{"$f":"Calculations2!AA2098","v":0},{"$f":"SUM(D237:W237)","v":0},null,{"$f":"X237/20","v":0},{"$f":"1-(Calculations2!AC2077/SUM(Calculations2!AC2073:AC2074))","v":{"$error":"#DIV/0!"}},{"$f":"1-AD237","v":{"$error":"#DIV/0!"}},{"$f":"Z237*AB237","v":{"$error":"#DIV/0!"}},{"$f":"(SUM(Calculations2!AC2073:AC2074)-Calculations2!AC2077)/(SUM(Calculations2!AC2067:AC2074)-Calculations2!AC2077)","v":{"$error":"#DIV/0!"}},{"$f":"Z237*AD237","v":{"$error":"#DIV/0!"}}]
[null,null,"PM savings or increase (tons)",{"$f":"Calculations2!H2084","v":0},{"$f":"Calculations2!I2084","v":0},{"$f":"Calculations2!J2084","v":0},{"$f":"Calculations2!K2084","v":0},{"$f":"Calculations2!L2084","v":0},{"$f":"Calculations2!M2084","v":0},{"$f":"Calculations2!N2084","v":0},{"$f":"Calculations2!O2084","v":0},{"$f":"Calculations2!P2084","v":0},{"$f":"Calculations2!Q2084","v":0},{"$f":"Calculations2!R2084","v":0},{"$f":"Calculations2!S2084","v":0},{"$f":"Calculations2!T2084","v":0},{"$f":"Calculations2!U2084","v":0},{"$f":"Calculations2!V2084","v":0},{"$f":"Calculations2!W2084","v":0},{"$f":"Calculations2!X2084","v":0},{"$f":"Calculations2!Y2084","v":0},{"$f":"Calculations2!Z2084","v":0},{"$f":"Calculations2!AA2084","v":0},{"$f":"SUM(D238:W238)","v":0},null,{"$f":"X238/20","v":0},{"$f":"1-(Calculations2!AC2049/SUM(Calculations2!AC2045:AC2046))","v":{"$error":"#DIV/0!"}},{"$f":"1-AD238","v":{"$error":"#DIV/0!"}},{"$f":"Z238*AB238","v":{"$error":"#DIV/0!"}},{"$f":"(SUM(Calculations2!AC2045:AC2046)-Calculations2!AC2049)/(SUM(Calculations2!AC2039:AC2046)-Calculations2!AC2049)","v":{"$error":"#DIV/0!"}},{"$f":"Z238*AD238","v":{"$error":"#DIV/0!"}}]
[null,null,"NOx savings or increase (tons)",{"$f":"Calculations2!H2091","v":0},{"$f":"Calculations2!I2091","v":0},{"$f":"Calculations2!J2091","v":0},{"$f":"Calculations2!K2091","v":0},{"$f":"Calculations2!L2091","v":0},{"$f":"Calculations2!M2091","v":0},{"$f":"Calculations2!N2091","v":0},{"$f":"Calculations2!O2091","v":0},{"$f":"Calculations2!P2091","v":0},{"$f":"Calculations2!Q2091","v":0},{"$f":"Calculations2!R2091","v":0},{"$f":"Calculations2!S2091","v":0},{"$f":"Calculations2!T2091","v":0},{"$f":"Calculations2!U2091","v":0},{"$f":"Calculations2!V2091","v":0},{"$f":"Calculations2!W2091","v":0},{"$f":"Calculations2!X2091","v":0},{"$f":"Calculations2!Y2091","v":0},{"$f":"Calculations2!Z2091","v":0},{"$f":"Calculations2!AA2091","v":0},0,null,{"$f":"X239/20","v":0},{"$f":"1-(Calculations2!AC2063/SUM(Calculations2!AC2059:AC2060))","v":{"$error":"#DIV/0!"}},{"$f":"1-AD239","v":{"$error":"#DIV/0!"}},{"$f":"Z239*AB239","v":{"$error":"#DIV/0!"}},{"$f":"(SUM(Calculations2!AC2059:AC2060)-Calculations2!AC2063)/(SUM(Calculations2!AC2053:AC2060)-Calculations2!AC2063)","v":{"$error":"#DIV/0!"}},{"$f":"Z239*AD239","v":{"$error":"#DIV/0!"}}]
[null,null,"Construction CO2 (tons)",{"$f":"Calculations2!H2112","v":0},{"$nulls":9},{"$f":"Calculations2!I2112","v":0},{"$nulls":8},{"$f":"Calculations2!J2112","v":0},0,null,null,{"$f":"1-SUM(Calculations2!H34:AA34)/SUM(Calculations2!H30:AA31)","v":{"$error":"#DIV/0!"}}]
[]
[null,null,"VKT savings (millions/year)",{"$f":"(SUM(Calculations2!H123:H132)-Calculations2!H133)*Full!$F$16/10^6","v":0},{"$f":"(SUM(Calculations2!I123:I132)-Calculations2!I133)*Full!$F$16/10^6","v":0},{"$f":"(SUM(Calculations2!J123:J132)-Calculations2!J133)*Full!$F$16/10^6","v":0},{"$f":"(SUM(Calculations2!K123:K132)-Calculations2!K133)*Full!$F$16/10^6","v":0},{"$f":"(SUM(Calculations2!L123:L132)-Calculations2!L133)*Full!$F$16/10^6","v":0},{"$f":"(SUM(Calculations2!M123:M132)-Calculations2!M133)*Full!$F$16/10^6","v":0},{"$f":"(SUM(Calculations2!N123:N132)-Calculations2!N133)*Full!$F$16/10^6","v":0},{"$f":"(SUM(Calculations2!O123:O132)-Calculations2!O133)*Full!$F$16/10^6","v":0},{"$f":"(SUM(Calculations2!P123:P132)-Calculations2!P133)*Full!$F$16/10^6","v":0},{"$f":"(SUM(Calculations2!Q123:Q132)-Calculations2!Q133)*Full!$F$16/10^6","v":0},{"$f":"(SUM(Calculations2!R123:R132)-Calculations2!R133)*Full!$F$16/10^6","v":0},{"$f":"(SUM(Calculations2!S123:S132)-Calculations2!S133)*Full!$F$16/10^6","v":0},{"$f":"(SUM(Calculations2!T123:T132)-Calculations2!T133)*Full!$F$16/10^6","v":0},{"$f":"(SUM(Calculations2!U123:U132)-Calculations2!U133)*Full!$F$16/10^6","v":0},{"$f":"(SUM(Calculations2!V123:V132)-Calculations2!V133)*Full!$F$16/10^6","v":0},{"$f":"(SUM(Calculations2!W123:W132)-Calculations2!W133)*Full!$F$16/10^6","v":0},{"$f":"(SUM(Calculations2!X123:X132)-Calculations2!X133)*Full!$F$16/10^6","v":0},{"$f":"(SUM(Calculations2!Y123:Y132)-Calculations2!Y133)*Full!$F$16/10^6","v":0},{"$f":"(SUM(Calculations2!Z123:Z132)-Calculations2!Z133)*Full!$F$16/10^6","v":0},{"$f":"(SUM(Calculations2!AA123:AA132)-Calculations2!AA133)*Full!$F$16/10^6","v":0},{"$f":"SUM(D242:W242)","v":0},null,{"$f":"X242/20","v":0},{"$f":"1-(Calculations2!AC133/SUM(Calculations2!AC129:AC130))","v":{"$error":"#DIV/0!"}},{"$f":"1-AD242","v":{"$error":"#DIV/0!"}},{"$f":"Z242*AB242","v":{"$error":"#DIV/0!"}},{"$f":"(SUM(Calculations2!AC129:AC130)-Calculations2!AC133)/(SUM(Calculations2!AC123:AC130)-Calculations2!AC133)","v":{"$error":"#DIV/0!"}},{"$f":"Z242*AD242","v":{"$error":"#DIV/0!"}}]
[null,null,"Projected fatality rates (fatalities/billion VKM)",{"$f":"HLOOKUP(D236,D331:BB332,2,FALSE)","v":{"$error":"#N/A"}},{"$error":"#N/A"},{"$error":"#N/A"},{"$error":"#N/A"},{"$error":"#N/A"},{"$error":"#N/A"},{"$error":"#N/A"},{"$error":"#N/A"},{"$error":"#N/A"},{"$f":"HLOOKUP(M236,M331:BK332,2,FALSE)","v":{"$error":"#N/A"}},{"$error":"#N/A"},{"$error":"#N/A"},{"$error":"#N/A"},{"$error":"#N/A"},{"$error":"#N/A"},{"$error":"#N/A"},{"$error":"#N/A"},{"$error":"#N/A"},{"$error":"#N/A"},{"$error":"#N/A"},{"$error":"#N/A"}]
[null,null,"No. of fatalities reduced",{"$f":"(D242/1000)*D243","v":{"$error":"#N/A"}},{"$f":"(E242/1000)*E243","v":{"$error":"#N/A"}},{"$error":"#N/A"},{"$error":"#N/A"},{"$error":"#N/A"},{"$error":"#N/A"},{"$error":"#N/A"},{"$error":"#N/A"},{"$error":"#N/A"},{"$f":"(M242/1000)*M243","v":{"$error":"#N/A"}},{"$error":"#N/A"},{"$error":"#N/A"},{"$error":"#N/A"},{"$error":"#N/A"},{"$error":"#N/A"},{"$error":"#N/A"},{"$error":"#N/A"},{"$error":"#N/A"},{"$error":"#N/A"},{"$error":"#N/A"},{"$error":"#N/A"},null,{"$f":"X244/20","v":{"$error":"#N/A"}},{"$f":"1-(SUM(Calculations2!H133:AA133)/SUM(Calculations2!H123:AA132))","v":{"$error":"#DIV/0!"}}]
[null,null,"No. of injuries reduced",{"$f":"D244*15","v":{"$error":"#N/A"}},{"$f":"E244*15","v":{"$error":"#N/A"}},{"$error":"#N/A"},{"$error":"#N/A"},{"$error":"#N/A"},{"$error":"#N/A"},{"$error":"#N/A"},{"$error":"#N/A"},{"$error":"#N/A"},{"$error":"#N/A"},{"$error":"#N/A"},{"$error":"#N/A"},{"$error":"#N/A"},{"$error":"#N/A"},{"$error":"#N/A"},{"$error":"#N/A"},{"$error":"#N/A"},{"$error":"#N/A"},{"$error":"#N/A"},{"$error":"#N/A"},{"$error":"#N/A"},null,{"$f":"X245/20","v":{"$error":"#N/A"}},{"$f":"1-(SUM(Calculations2!H133:AA133)/SUM(Calculations2!H123:AA132))","v":{"$error":"#DIV/0!"}}]
[]
[null,null,"Average Speed of Modes other than BRT",{"$f":"Calculations2!H680","v":{"$error":"#DIV/0!"}},{"$f":"Calculations2!I680","v":{"$error":"#DIV/0!"}},{"$f":"Calculations2!J680","v":{"$error":"#DIV/0!"}},{"$f":"Calculations2!K680","v":{"$error":"#DIV/0!"}},{"$f":"Calculations2!L680","v":{"$error":"#DIV/0!"}},{"$f":"Calculations2!M680","v":{"$error":"#DIV/0!"}},{"$f":"Calculations2!N680","v":{"$error":"#DIV/0!"}},{"$f":"Calculations2!O680","v":{"$error":"#DIV/0!"}},{"$f":"Calculations2!P680","v":{"$error":"#DIV/0!"}},{"$f":"Calculations2!Q680","v":{"$error":"#DIV/0!"}},{"$f":"Calculations2!R680","v":{"$error":"#DIV/0!"}},{"$f":"Calculations2!S680","v":{"$error":"#DIV/0!"}},{"$f":"Calculations2!T680","v":{"$error":"#DIV/0!"}},{"$f":"Calculations2!U680","v":{"$error":"#DIV/0!"}},{"$f":"Calculations2!V680","v":{"$error":"#DIV/0!"}},{"$f":"Calculations2!W680","v":{"$error":"#DIV/0!"}},{"$f":"Calculations2!X680","v":{"$error":"#DIV/0!"}},{"$f":"Calculations2!Y680","v":{"$error":"#DIV/0!"}},{"$f":"Calculations2!Z680","v":{"$error":"#DIV/0!"}},{"$f":"Calculations2!AA680","v":{"$error":"#DIV/0!"}}]
[null,null,"Average Speed of BRT",{"$f":"Calculations2!H679","v":0},{"$f":"Calculations2!I679","v":0},{"$f":"Calculations2!J679","v":0},{"$f":"Calculations2!K679","v":0},{"$f":"Calculations2!L679","v":0},{"$f":"Calculations2!M679","v":0},{"$f":"Calculations2!N679","v":0},{"$f":"Calculations2!O679","v":0},{"$f":"Calculations2!P679","v":0},{"$f":"Calculations2!Q679","v":0},{"$f":"Calculations2!R679","v":0},{"$f":"Calculations2!S679","v":0},{"$f":"Calculations2!T679","v":0},{"$f":"Calculations2!U679","v":0},{"$f":"Calculations2!V679","v":0},{"$f":"Calculations2!W679","v":0},{"$f":"Calculations2!X679","v":0},{"$f":"Calculations2!Y679","v":0},{"$f":"Calculations2!Z679","v":0},{"$f":"Calculations2!AA679","v":0}]
[null,null,"Difference in Speed",{"$f":"D248-D247","v":{"$error":"#DIV/0!"}},{"$f":"E248-E247","v":{"$error":"#DIV/0!"}},{"$error":"#DIV/0!"},{"$error":"#DIV/0!"},{"$error":"#DIV/0!"},{"$error":"#DIV/0!"},{"$error":"#DIV/0!"},{"$error":"#DIV/0!"},{"$error":"#DIV/0!"},{"$error":"#DIV/0!"},{"$error":"#DIV/0!"},{"$error":"#DIV/0!"},{"$error":"#DIV/0!"},{"$error":"#DIV/0!"},{"$error":"#DIV/0!"},{"$error":"#DIV/0!"},{"$error":"#DIV/0!"},{"$error":"#DIV/0!"},{"$error":"#DIV/0!"},{"$error":"#DIV/0!"}]
[null,null,"PKT (millions)",{"$f":"(Full!$F$16*Calculations2!H166)/10^6","v":0},{"$f":"(Full!$F$16*Calculations2!I166)/10^6","v":0},{"$f":"(Full!$F$16*Calculations2!J166)/10^6","v":0},{"$f":"(Full!$F$16*Calculations2!K166)/10^6","v":0},{"$f":"(Full!$F$16*Calculations2!L166)/10^6","v":0},{"$f":"(Full!$F$16*Calculations2!M166)/10^6","v":0},{"$f":"(Full!$F$16*Calculations2!N166)/10^6","v":0},{"$f":"(Full!$F$16*Calculations2!O166)/10^6","v":0},{"$f":"(Full!$F$16*Calculations2!P166)/10^6","v":0},{"$f":"(Full!$F$16*Calculations2!Q166)/10^6","v":0},{"$f":"(Full!$F$16*Calculations2!R166)/10^6","v":0},{"$f":"(Full!$F$16*Calculations2!S166)/10^6","v":0},{"$f":"(Full!$F$16*Calculations2!T166)/10^6","v":0},{"$f":"(Full!$F$16*Calculations2!U166)/10^6","v":0},{"$f":"(Full!$F$16*Calculations2!V166)/10^6","v":0},{"$f":"(Full!$F$16*Calculations2!W166)/10^6","v":0},{"$f":"(Full!$F$16*Calculations2!X166)/10^6","v":0},{"$f":"(Full!$F$16*Calculations2!Y166)/10^6","v":0},{"$f":"(Full!$F$16*Calculations2!Z166)/10^6","v":0},{"$f":"(Full!$F$16*Calculations2!AA166)/10^6","v":0},{"$f":"SUM(D250:W250)","v":0},null,{"$f":"X250/20","v":0}]
[null,null,"Time travel savings('000s hours)",{"$f":"((D250/D247)-(D250/D248))*1000","v":{"$error":"#DIV/0!"}},{"$f":"((E250/E247)-(E250/E248))*1000","v":{"$error":"#DIV/0!"}},{"$error":"#DIV/0!"},{"$error":"#DIV/0!"},{"$error":"#DIV/0!"},{"$error":"#DIV/0!"},{"$error":"#DIV/0!"},{"$error":"#DIV/0!"},{"$error":"#DIV/0!"},{"$error":"#DIV/0!"},{"$error":"#DIV/0!"},{"$error":"#DIV/0!"},{"$error":"#DIV/0!"},{"$error":"#DIV/0!"},{"$error":"#DIV/0!"},{"$error":"#DIV/0!"},{"$error":"#DIV/0!"},{"$error":"#DIV/0!"},{"$error":"#DIV/0!"},{"$error":"#DIV/0!"},{"$error":"#DIV/0!"},null,{"$f":"X251/20","v":{"$error":"#DIV/0!"}}]
[]
[null,null,"Fuel Consumption"]
[null,null,{"$f":"CONCATENATE('IF Factors'!$E$8,\" \",\"(\",'IF Factors'!$E$22,\")\",\" -no BRT\")","v":"Petrol (liter) -no BRT"},{"$f":"SUM(Calculations2!H831:H840)*Full!$F$16","v":0},{"$f":"SUM(Calculations2!I831:I840)*Full!$F$16","v":0},{"$f":"SUM(Calculations2!J831:J840)*Full!$F$16","v":0},{"$f":"SUM(Calculations2!K831:K840)*Full!$F$16","v":0},{"$f":"SUM(Calculations2!L831:L840)*Full!$F$16","v":0},{"$f":"SUM(Calculations2!M831:M840)*Full!$F$16","v":0},{"$f":"SUM(Calculations2!N831:N840)*Full!$F$16","v":0},{"$f":"SUM(Calculations2!O831:O840)*Full!$F$16","v":0},{"$f":"SUM(Calculations2!P831:P840)*Full!$F$16","v":0},{"$f":"SUM(Calculations2!Q831:Q840)*Full!$F$16","v":0},{"$f":"SUM(Calculations2!R831:R840)*Full!$F$16","v":0},{"$f":"SUM(Calculations2!S831:S840)*Full!$F$16","v":0},{"$f":"SUM(Calculations2!T831:T840)*Full!$F$16","v":0},{"$f":"SUM(Calculations2!U831:U840)*Full!$F$16","v":0},{"$f":"SUM(Calculations2!V831:V840)*Full!$F$16","v":0},{"$f":"SUM(Calculations2!W831:W840)*Full!$F$16","v":0},{"$f":"SUM(Calculations2!X831:X840)*Full!$F$16","v":0},{"$f":"SUM(Calculations2!Y831:Y840)*Full!$F$16","v":0},{"$f":"SUM(Calculations2!Z831:Z840)*Full!$F$16","v":0},{"$f":"SUM(Calculations2!AA831:AA840)*Full!$F$16","v":0}]
[null,null,{"$f":"CONCATENATE('IF Factors'!$E$8,\" \",\"(\",'IF Factors'!$E$22,\")\",\" -BRT\")","v":"Petrol (liter) -BRT"},{"$f":"Calculations2!H841*Full!$F$16","v":0},{"$f":"Calculations2!I841*Full!$F$16","v":0},{"$f":"Calculations2!J841*Full!$F$16","v":0},{"$f":"Calculations2!K841*Full!$F$16","v":0},{"$f":"Calculations2!L841*Full!$F$16","v":0},{"$f":"Calculations2!M841*Full!$F$16","v":0},{"$f":"Calculations2!N841*Full!$F$16","v":0},{"$f":"Calculations2!O841*Full!$F$16","v":0},{"$f":"Calculations2!P841*Full!$F$16","v":0},{"$f":"Calculations2!Q841*Full!$F$16","v":0},{"$f":"Calculations2!R841*Full!$F$16","v":0},{"$f":"Calculations2!S841*Full!$F$16","v":0},{"$f":"Calculations2!T841*Full!$F$16","v":0},{"$f":"Calculations2!U841*Full!$F$16","v":0},{"$f":"Calculations2!V841*Full!$F$16","v":0},{"$f":"Calculations2!W841*Full!$F$16","v":0},{"$f":"Calculations2!X841*Full!$F$16","v":0},{"$f":"Calculations2!Y841*Full!$F$16","v":0},{"$f":"Calculations2!Z841*Full!$F$16","v":0},{"$f":"Calculations2!AA841*Full!$F$16","v":0}]
[null,null,{"$f":"CONCATENATE('IF Factors'!$F$8,\" \",\"(\",'IF Factors'!$F$22,\")\",\" -no BRT\")","v":"Diesel (liter) -no BRT"},{"$f":"SUM(Calculations2!H846:H855)*Full!$F$16","v":0},{"$f":"SUM(Calculations2!I846:I855)*Full!$F$16","v":0},{"$f":"SUM(Calculations2!J846:J855)*Full!$F$16","v":0},{"$f":"SUM(Calculations2!K846:K855)*Full!$F$16","v":0},{"$f":"SUM(Calculations2!L846:L855)*Full!$F$16","v":0},{"$f":"SUM(Calculations2!M846:M855)*Full!$F$16","v":0},{"$f":"SUM(Calculations2!N846:N855)*Full!$F$16","v":0},{"$f":"SUM(Calculations2!O846:O855)*Full!$F$16","v":0},{"$f":"SUM(Calculations2!P846:P855)*Full!$F$16","v":0},{"$f":"SUM(Calculations2!Q846:Q855)*Full!$F$16","v":0},{"$f":"SUM(Calculations2!R846:R855)*Full!$F$16","v":0},{"$f":"SUM(Calculations2!S846:S855)*Full!$F$16","v":0},{"$f":"SUM(Calculations2!T846:T855)*Full!$F$16","v":0},{"$f":"SUM(Calculations2!U846:U855)*Full!$F$16","v":0},{"$f":"SUM(Calculations2!V846:V855)*Full!$F$16","v":0},{"$f":"SUM(Calculations2!W846:W855)*Full!$F$16","v":0},{"$f":"SUM(Calculations2!X846:X855)*Full!$F$16","v":0},{"$f":"SUM(Calculations2!Y846:Y855)*Full!$F$16","v":0},{"$f":"SUM(Calculations2!Z846:Z855)*Full!$F$16","v":0},{"$f":"SUM(Calculations2!AA846:AA855)*Full!$F$16","v":0}]
[null,null,{"$f":"CONCATENATE('IF Factors'!$F$8,\" \",\"(\",'IF Factors'!$F$22,\")\",\" -BRT\")","v":"Diesel (liter) -BRT"},{"$f":"Calculations2!H856*Full!$F$16","v":0},{"$f":"Calculations2!I856*Full!$F$16","v":0},{"$f":"Calculations2!J856*Full!$F$16","v":0},{"$f":"Calculations2!K856*Full!$F$16","v":0},{"$f":"Calculations2!L856*Full!$F$16","v":0},{"$f":"Calculations2!M856*Full!$F$16","v":0},{"$f":"Calculations2!N856*Full!$F$16","v":0},{"$f":"Calculations2!O856*Full!$F$16","v":0},{"$f":"Calculations2!P856*Full!$F$16","v":0},{"$f":"Calculations2!Q856*Full!$F$16","v":0},{"$f":"Calculations2!R856*Full!$F$16","v":0},{"$f":"Calculations2!S856*Full!$F$16","v":0},{"$f":"Calculations2!T856*Full!$F$16","v":0},{"$f":"Calculations2!U856*Full!$F$16","v":0},{"$f":"Calculations2!V856*Full!$F$16","v":0},{"$f":"Calculations2!W856*Full!$F$16","v":0},{"$f":"Calculations2!X856*Full!$F$16","v":0},{"$f":"Calculations2!Y856*Full!$F$16","v":0},{"$f":"Calculations2!Z856*Full!$F$16","v":0},{"$f":"Calculations2!AA856*Full!$F$16","v":0}]
[null,null,{"$f":"CONCATENATE('IF Factors'!$G$8,\" \",\"(\",'IF Factors'!$G$22,\")\",\" -no BRT\")","v":"LPG (liter) -no BRT"},{"$f":"SUM(Calculations2!H861:H870)*Full!$F$16","v":0},{"$f":"SUM(Calculations2!I861:I870)*Full!$F$16","v":0},{"$f":"SUM(Calculations2!J861:J870)*Full!$F$16","v":0},{"$f":"SUM(Calculations2!K861:K870)*Full!$F$16","v":0},{"$f":"SUM(Calculations2!L861:L870)*Full!$F$16","v":0},{"$f":"SUM(Calculations2!M861:M870)*Full!$F$16","v":0},{"$f":"SUM(Calculations2!N861:N870)*Full!$F$16","v":0},{"$f":"SUM(Calculations2!O861:O870)*Full!$F$16","v":0},{"$f":"SUM(Calculations2!P861:P870)*Full!$F$16","v":0},{"$f":"SUM(Calculations2!Q861:Q870)*Full!$F$16","v":0},{"$f":"SUM(Calculations2!R861:R870)*Full!$F$16","v":0},{"$f":"SUM(Calculations2!S861:S870)*Full!$F$16","v":0},{"$f":"SUM(Calculations2!T861:T870)*Full!$F$16","v":0},{"$f":"SUM(Calculations2!U861:U870)*Full!$F$16","v":0},{"$f":"SUM(Calculations2!V861:V870)*Full!$F$16","v":0},{"$f":"SUM(Calculations2!W861:W870)*Full!$F$16","v":0},{"$f":"SUM(Calculations2!X861:X870)*Full!$F$16","v":0},{"$f":"SUM(Calculations2!Y861:Y870)*Full!$F$16","v":0},{"$f":"SUM(Calculations2!Z861:Z870)*Full!$F$16","v":0},{"$f":"SUM(Calculations2!AA861:AA870)*Full!$F$16","v":0}]
[null,null,{"$f":"CONCATENATE('IF Factors'!$G$8,\" \",\"(\",'IF Factors'!$G$22,\")\",\" -BRT\")","v":"LPG (liter) -BRT"},{"$f":"Calculations2!H871*Full!$F$16","v":0},{"$f":"Calculations2!I871*Full!$F$16","v":0},{"$f":"Calculations2!J871*Full!$F$16","v":0},{"$f":"Calculations2!K871*Full!$F$16","v":0},{"$f":"Calculations2!L871*Full!$F$16","v":0},{"$f":"Calculations2!M871*Full!$F$16","v":0},{"$f":"Calculations2!N871*Full!$F$16","v":0},{"$f":"Calculations2!O871*Full!$F$16","v":0},{"$f":"Calculations2!P871*Full!$F$16","v":0},{"$f":"Calculations2!Q871*Full!$F$16","v":0},{"$f":"Calculations2!R871*Full!$F$16","v":0},{"$f":"Calculations2!S871*Full!$F$16","v":0},{"$f":"Calculations2!T871*Full!$F$16","v":0},{"$f":"Calculations2!U871*Full!$F$16","v":0},{"$f":"Calculations2!V871*Full!$F$16","v":0},{"$f":"Calculations2!W871*Full!$F$16","v":0},{"$f":"Calculations2!X871*Full!$F$16","v":0},{"$f":"Calculations2!Y871*Full!$F$16","v":0},{"$f":"Calculations2!Z871*Full!$F$16","v":0},{"$f":"Calculations2!AA871*Full!$F$16","v":0}]
[null,null,{"$f":"CONCATENATE('IF Factors'!$H$8,\" \",\"(\",'IF Factors'!$H$22,\")\",\" -no BRT\")","v":"CNG (kg) -no BRT"},{"$f":"SUM(Calculations2!H876:H885)*Full!$F$16","v":0},{"$f":"SUM(Calculations2!I876:I885)*Full!$F$16","v":0},{"$f":"SUM(Calculations2!J876:J885)*Full!$F$16","v":0},{"$f":"SUM(Calculations2!K876:K885)*Full!$F$16","v":0},{"$f":"SUM(Calculations2!L876:L885)*Full!$F$16","v":0},{"$f":"SUM(Calculations2!M876:M885)*Full!$F$16","v":0},{"$f":"SUM(Calculations2!N876:N885)*Full!$F$16","v":0},{"$f":"SUM(Calculations2!O876:O885)*Full!$F$16","v":0},{"$f":"SUM(Calculations2!P876:P885)*Full!$F$16","v":0},{"$f":"SUM(Calculations2!Q876:Q885)*Full!$F$16","v":0},{"$f":"SUM(Calculations2!R876:R885)*Full!$F$16","v":0},{"$f":"SUM(Calculations2!S876:S885)*Full!$F$16","v":0},{"$f":"SUM(Calculations2!T876:T885)*Full!$F$16","v":0},{"$f":"SUM(Calculations2!U876:U885)*Full!$F$16","v":0},{"$f":"SUM(Calculations2!V876:V885)*Full!$F$16","v":0},{"$f":"SUM(Calculations2!W876:W885)*Full!$F$16","v":0},{"$f":"SUM(Calculations2!X876:X885)*Full!$F$16","v":0},{"$f":"SUM(Calculations2!Y876:Y885)*Full!$F$16","v":0},{"$f":"SUM(Calculations2!Z876:Z885)*Full!$F$16","v":0},{"$f":"SUM(Calculations2!AA876:AA885)*Full!$F$16","v":0}]
[null,null,{"$f":"CONCATENATE('IF Factors'!$H$8,\" \",\"(\",'IF Factors'!$H$22,\")\",\" -BRT\")","v":"CNG (kg) -BRT"},{"$f":"Calculations2!H886*Full!$F$16","v":0},{"$f":"Calculations2!I886*Full!$F$16","v":0},{"$f":"Calculations2!J886*Full!$F$16","v":0},{"$f":"Calculations2!K886*Full!$F$16","v":0},{"$f":"Calculations2!L886*Full!$F$16","v":0},{"$f":"Calculations2!M886*Full!$F$16","v":0},{"$f":"Calculations2!N886*Full!$F$16","v":0},{"$f":"Calculations2!O886*Full!$F$16","v":0},{"$f":"Calculations2!P886*Full!$F$16","v":0},{"$f":"Calculations2!Q886*Full!$F$16","v":0},{"$f":"Calculations2!R886*Full!$F$16","v":0},{"$f":"Calculations2!S886*Full!$F$16","v":0},{"$f":"Calculations2!T886*Full!$F$16","v":0},{"$f":"Calculations2!U886*Full!$F$16","v":0},{"$f":"Calculations2!V886*Full!$F$16","v":0},{"$f":"Calculations2!W886*Full!$F$16","v":0},{"$f":"Calculations2!X886*Full!$F$16","v":0},{"$f":"Calculations2!Y886*Full!$F$16","v":0},{"$f":"Calculations2!Z886*Full!$F$16","v":0},{"$f":"Calculations2!AA886*Full!$F$16","v":0}]
[null,null,{"$f":"CONCATENATE('IF Factors'!$I$8,\" \",\"(\",'IF Factors'!$I$22,\")\",\" -no BRT\")","v":"Electric (kwh) -no BRT"},{"$f":"SUM(Calculations2!H891:H900)*Full!$F$16","v":0},{"$f":"SUM(Calculations2!I891:I900)*Full!$F$16","v":0},{"$f":"SUM(Calculations2!J891:J900)*Full!$F$16","v":0},{"$f":"SUM(Calculations2!K891:K900)*Full!$F$16","v":0},{"$f":"SUM(Calculations2!L891:L900)*Full!$F$16","v":0},{"$f":"SUM(Calculations2!M891:M900)*Full!$F$16","v":0},{"$f":"SUM(Calculations2!N891:N900)*Full!$F$16","v":0},{"$f":"SUM(Calculations2!O891:O900)*Full!$F$16","v":0},{"$f":"SUM(Calculations2!P891:P900)*Full!$F$16","v":0},{"$f":"SUM(Calculations2!Q891:Q900)*Full!$F$16","v":0},{"$f":"SUM(Calculations2!R891:R900)*Full!$F$16","v":0},{"$f":"SUM(Calculations2!S891:S900)*Full!$F$16","v":0},{"$f":"SUM(Calculations2!T891:T900)*Full!$F$16","v":0},{"$f":"SUM(Calculations2!U891:U900)*Full!$F$16","v":0},{"$f":"SUM(Calculations2!V891:V900)*Full!$F$16","v":0},{"$f":"SUM(Calculations2!W891:W900)*Full!$F$16","v":0},{"$f":"SUM(Calculations2!X891:X900)*Full!$F$16","v":0},{"$f":"SUM(Calculations2!Y891:Y900)*Full!$F$16","v":0},{"$f":"SUM(Calculations2!Z891:Z900)*Full!$F$16","v":0},{"$f":"SUM(Calculations2!AA891:AA900)*Full!$F$16","v":0}]
[null,null,{"$f":"CONCATENATE('IF Factors'!$I$8,\" \",\"(\",'IF Factors'!$I$22,\")\",\" -BRT\")","v":"Electric (kwh) -BRT"},{"$f":"Calculations2!H901*Full!$F$16","v":0},{"$f":"Calculations2!I901*Full!$F$16","v":0},{"$f":"Calculations2!J901*Full!$F$16","v":0},{"$f":"Calculations2!K901*Full!$F$16","v":0},{"$f":"Calculations2!L901*Full!$F$16","v":0},{"$f":"Calculations2!M901*Full!$F$16","v":0},{"$f":"Calculations2!N901*Full!$F$16","v":0},{"$f":"Calculations2!O901*Full!$F$16","v":0},{"$f":"Calculations2!P901*Full!$F$16","v":0},{"$f":"Calculations2!Q901*Full!$F$16","v":0},{"$f":"Calculations2!R901*Full!$F$16","v":0},{"$f":"Calculations2!S901*Full!$F$16","v":0},{"$f":"Calculations2!T901*Full!$F$16","v":0},{"$f":"Calculations2!U901*Full!$F$16","v":0},{"$f":"Calculations2!V901*Full!$F$16","v":0},{"$f":"Calculations2!W901*Full!$F$16","v":0},{"$f":"Calculations2!X901*Full!$F$16","v":0},{"$f":"Calculations2!Y901*Full!$F$16","v":0},{"$f":"Calculations2!Z901*Full!$F$16","v":0},{"$f":"Calculations2!AA901*Full!$F$16","v":0}]
[null,null,{"$f":"IF('IF Factors'!J8=\"\",\"\",CONCATENATE('IF Factors'!$J$8,\" \",\"(\",'IF Factors'!$J$22,\")\",\" -no BRT\"))","v":"Ethanol (liter) -no BRT"},{"$f":"SUM(Calculations2!H906:H915)*Full!$F$16","v":0},{"$f":"SUM(Calculations2!I906:I915)*Full!$F$16","v":0},{"$f":"SUM(Calculations2!J906:J915)*Full!$F$16","v":0},{"$f":"SUM(Calculations2!K906:K915)*Full!$F$16","v":0},{"$f":"SUM(Calculations2!L906:L915)*Full!$F$16","v":0},{"$f":"SUM(Calculations2!M906:M915)*Full!$F$16","v":0},{"$f":"SUM(Calculations2!N906:N915)*Full!$F$16","v":0},{"$f":"SUM(Calculations2!O906:O915)*Full!$F$16","v":0},{"$f":"SUM(Calculations2!P906:P915)*Full!$F$16","v":0},{"$f":"SUM(Calculations2!Q906:Q915)*Full!$F$16","v":0},{"$f":"SUM(Calculations2!R906:R915)*Full!$F$16","v":0},{"$f":"SUM(Calculations2!S906:S915)*Full!$F$16","v":0},{"$f":"SUM(Calculations2!T906:T915)*Full!$F$16","v":0},{"$f":"SUM(Calculations2!U906:U915)*Full!$F$16","v":0},{"$f":"SUM(Calculations2!V906:V915)*Full!$F$16","v":0},{"$f":"SUM(Calculations2!W906:W915)*Full!$F$16","v":0},{"$f":"SUM(Calculations2!X906:X915)*Full!$F$16","v":0},{"$f":"SUM(Calculations2!Y906:Y915)*Full!$F$16","v":0},{"$f":"SUM(Calculations2!Z906:Z915)*Full!$F$16","v":0},{"$f":"SUM(Calculations2!AA906:AA915)*Full!$F$16","v":0}]
[null,null,{"$f":"IF('IF Factors'!J9=\"\",\"\",CONCATENATE('IF Factors'!$J$8,\" \",\"(\",'IF Factors'!$J$22,\")\",\" -BRT\"))","v":""},{"$f":"Calculations2!H916*Full!$F$16","v":0},{"$f":"Calculations2!I916*Full!$F$16","v":0},{"$f":"Calculations2!J916*Full!$F$16","v":0},{"$f":"Calculations2!K916*Full!$F$16","v":0},{"$f":"Calculations2!L916*Full!$F$16","v":0},{"$f":"Calculations2!M916*Full!$F$16","v":0},{"$f":"Calculations2!N916*Full!$F$16","v":0},{"$f":"Calculations2!O916*Full!$F$16","v":0},{"$f":"Calculations2!P916*Full!$F$16","v":0},{"$f":"Calculations2!Q916*Full!$F$16","v":0},{"$f":"Calculations2!R916*Full!$F$16","v":0},{"$f":"Calculations2!S916*Full!$F$16","v":0},{"$f":"Calculations2!T916*Full!$F$16","v":0},{"$f":"Calculations2!U916*Full!$F$16","v":0},{"$f":"Calculations2!V916*Full!$F$16","v":0},{"$f":"Calculations2!W916*Full!$F$16","v":0},{"$f":"Calculations2!X916*Full!$F$16","v":0},{"$f":"Calculations2!Y916*Full!$F$16","v":0},{"$f":"Calculations2!Z916*Full!$F$16","v":0},{"$f":"Calculations2!AA916*Full!$F$16","v":0}]
[]
[null,null,"Fuel Savings"]
[null,null,{"$f":"CONCATENATE('IF Factors'!E8,\" - \",'IF Factors'!E22)","v":"Petrol - liter"},{"$f":"D254-D255","v":0},{"$f":"E254-E255","v":0},0,0,0,0,0,0,0,0,0,0,0,0,0,0,0,0,0,0,{"$f":"SUM(D268:W268)","v":0},null,{"$f":"X268/20","v":0}]
[null,null,{"$f":"CONCATENATE('IF Factors'!F8,\" - \",'IF Factors'!F22)","v":"Diesel - liter"},{"$f":"D256-D257","v":0},{"$f":"E256-E257","v":0},0,0,0,0,0,0,0,0,0,0,0,0,0,0,0,0,0,0,0,null,{"$f":"X269/20","v":0}]
[null,null,{"$f":"CONCATENATE('IF Factors'!G8,\" - \",'IF Factors'!G22)","v":"LPG - liter"},{"$f":"D258-D259","v":0},{"$f":"E258-E259","v":0},0,0,0,0,0,0,0,0,0,0,0,0,0,0,0,0,0,0,0]
[null,null,{"$f":"CONCATENATE('IF Factors'!H8,\" - \",'IF Factors'!H22)","v":"CNG - kg"},{"$f":"D260-D261","v":0},{"$f":"E260-E261","v":0},0,0,0,0,0,0,0,0,0,0,0,0,0,0,0,0,0,0,0]
[null,null,{"$f":"CONCATENATE('IF Factors'!I8,\" - \",'IF Factors'!I22)","v":"Electric - kwh"},{"$f":"D262-D263","v":0},{"$f":"E262-E263","v":0},0,0,0,0,0,0,0,0,0,0,0,0,0,0,0,0,0,0,0]
[null,null,{"$f":"CONCATENATE('IF Factors'!J8,\" - \",'IF Factors'!J22)","v":"Ethanol - liter"},{"$f":"D264-D265","v":0},{"$f":"E264-E265","v":0},0,0,0,0,0,0,0,0,0,0,0,0,0,0,0,0,0,0,0]
[]
[null,null,"Fuel Savings (USD)"]
[null,null,{"$f":"'IF Factors'!$E$8","v":"Petrol"},{"$f":"D268*Full!$G$281*D$284","v":0},{"$f":"E268*Full!$G$281*E$284","v":0},{"$f":"F268*Full!$G$281*F$284","v":0},{"$f":"G268*Full!$G$281*G$284","v":0},{"$f":"H268*Full!$G$281*H$284","v":0},{"$f":"I268*Full!$G$281*I$284","v":0},{"$f":"J268*Full!$G$281*J$284","v":0},{"$f":"K268*Full!$G$281*K$284","v":0},{"$f":"L268*Full!$G$281*L$284","v":0},{"$f":"M268*Full!$G$281*M$284","v":0},{"$f":"N268*Full!$G$281*N$284","v":0},{"$f":"O268*Full!$G$281*O$284","v":0},{"$f":"P268*Full!$G$281*P$284","v":0},{"$f":"Q268*Full!$G$281*Q$284","v":0},{"$f":"R268*Full!$G$281*R$284","v":0},{"$f":"S268*Full!$G$281*S$284","v":0},{"$f":"T268*Full!$G$281*T$284","v":0},{"$f":"U268*Full!$G$281*U$284","v":0},{"$f":"V268*Full!$G$281*V$284","v":0},{"$f":"W268*Full!$G$281*W$284","v":0},{"$f":"SUM(D276:W276)","v":0}]
[null,null,{"$f":"'IF Factors'!$F$8","v":"Diesel"},{"$f":"D269*Full!$H$281*D$284","v":0},{"$f":"E269*Full!$H$281*E$284","v":0},{"$f":"F269*Full!$H$281*F$284","v":0},{"$f":"G269*Full!$H$281*G$284","v":0},{"$f":"H269*Full!$H$281*H$284","v":0},{"$f":"I269*Full!$H$281*I$284","v":0},{"$f":"J269*Full!$H$281*J$284","v":0},{"$f":"K269*Full!$H$281*K$284","v":0},{"$f":"L269*Full!$H$281*L$284","v":0},{"$f":"M269*Full!$H$281*M$284","v":0},{"$f":"N269*Full!$H$281*N$284","v":0},{"$f":"O269*Full!$H$281*O$284","v":0},{"$f":"P269*Full!$H$281*P$284","v":0},{"$f":"Q269*Full!$H$281*Q$284","v":0},{"$f":"R269*Full!$H$281*R$284","v":0},{"$f":"S269*Full!$H$281*S$284","v":0},{"$f":"T269*Full!$H$281*T$284","v":0},{"$f":"U269*Full!$H$281*U$284","v":0},{"$f":"V269*Full!$H$281*V$284","v":0},{"$f":"W269*Full!$H$281*W$284","v":0},0]
[null,null,{"$f":"'IF Factors'!$G$8","v":"LPG"},{"$f":"D270*Full!$I$281*D$284","v":0},{"$f":"E270*Full!$I$281*E$284","v":0},{"$f":"F270*Full!$I$281*F$284","v":0},{"$f":"G270*Full!$I$281*G$284","v":0},{"$f":"H270*Full!$I$281*H$284","v":0},{"$f":"I270*Full!$I$281*I$284","v":0},{"$f":"J270*Full!$I$281*J$284","v":0},{"$f":"K270*Full!$I$281*K$284","v":0},{"$f":"L270*Full!$I$281*L$284","v":0},{"$f":"M270*Full!$I$281*M$284","v":0},{"$f":"N270*Full!$I$281*N$284","v":0},{"$f":"O270*Full!$I$281*O$284","v":0},{"$f":"P270*Full!$I$281*P$284","v":0},{"$f":"Q270*Full!$I$281*Q$284","v":0},{"$f":"R270*Full!$I$281*R$284","v":0},{"$f":"S270*Full!$I$281*S$284","v":0},{"$f":"T270*Full!$I$281*T$284","v":0},{"$f":"U270*Full!$I$281*U$284","v":0},{"$f":"V270*Full!$I$281*V$284","v":0},{"$f":"W270*Full!$I$281*W$284","v":0},0]
[null,null,{"$f":"'IF Factors'!$H$8","v":"CNG"},{"$f":"D271*Full!$J$281*D$284","v":0},{"$f":"E271*Full!$J$281*E$284","v":0},{"$f":"F271*Full!$J$281*F$284","v":0},{"$f":"G271*Full!$J$281*G$284","v":0},{"$f":"H271*Full!$J$281*H$284","v":0},{"$f":"I271*Full!$J$281*I$284","v":0},{"$f":"J271*Full!$J$281*J$284","v":0},{"$f":"K271*Full!$J$281*K$284","v":0},{"$f":"L271*Full!$J$281*L$284","v":0},{"$f":"M271*Full!$J$281*M$284","v":0},{"$f":"N271*Full!$J$281*N$284","v":0},{"$f":"O271*Full!$J$281*O$284","v":0},{"$f":"P271*Full!$J$281*P$284","v":0},{"$f":"Q271*Full!$J$281*Q$284","v":0},{"$f":"R271*Full!$J$281*R$284","v":0},{"$f":"S271*Full!$J$281*S$284","v":0},{"$f":"T271*Full!$J$281*T$284","v":0},{"$f":"U271*Full!$J$281*U$284","v":0},{"$f":"V271*Full!$J$281*V$284","v":0},{"$f":"W271*Full!$J$281*W$284","v":0},0]
[null,null,{"$f":"'IF Factors'!$I$8","v":"Electric"},{"$f":"D272*Full!$K$281*D$284","v":0},{"$f":"E272*Full!$K$281*E$284","v":0},{"$f":"F272*Full!$K$281*F$284","v":0},{"$f":"G272*Full!$K$281*G$284","v":0},{"$f":"H272*Full!$K$281*H$284","v":0},{"$f":"I272*Full!$K$281*I$284","v":0},{"$f":"J272*Full!$K$281*J$284","v":0},{"$f":"K272*Full!$K$281*K$284","v":0},{"$f":"L272*Full!$K$281*L$284","v":0},{"$f":"M272*Full!$K$281*M$284","v":0},{"$f":"N272*Full!$K$281*N$284","v":0},{"$f":"O272*Full!$K$281*O$284","v":0},{"$f":"P272*Full!$K$281*P$284","v":0},{"$f":"Q272*Full!$K$281*Q$284","v":0},{"$f":"R272*Full!$K$281*R$284","v":0},{"$f":"S272*Full!$K$281*S$284","v":0},{"$f":"T272*Full!$K$281*T$284","v":0},{"$f":"U272*Full!$K$281*U$284","v":0},{"$f":"V272*Full!$K$281*V$284","v":0},{"$f":"W272*Full!$K$281*W$284","v":0},0]
[null,null,{"$f":"IF('IF Factors'!$J$8=\"\",\"\",'IF Factors'!$J$8)","v":"Ethanol"},{"$f":"D273*Full!$L$281*D$284","v":0},{"$f":"E273*Full!$L$281*E$284","v":0},{"$f":"F273*Full!$L$281*F$284","v":0},{"$f":"G273*Full!$L$281*G$284","v":0},{"$f":"H273*Full!$L$281*H$284","v":0},{"$f":"I273*Full!$L$281*I$284","v":0},{"$f":"J273*Full!$L$281*J$284","v":0},{"$f":"K273*Full!$L$281*K$284","v":0},{"$f":"L273*Full!$L$281*L$284","v":0},{"$f":"M273*Full!$L$281*M$284","v":0},{"$f":"N273*Full!$L$281*N$284","v":0},{"$f":"O273*Full!$L$281*O$284","v":0},{"$f":"P273*Full!$L$281*P$284","v":0},{"$f":"Q273*Full!$L$281*Q$284","v":0},{"$f":"R273*Full!$L$281*R$284","v":0},{"$f":"S273*Full!$L$281*S$284","v":0},{"$f":"T273*Full!$L$281*T$284","v":0},{"$f":"U273*Full!$L$281*U$284","v":0},{"$f":"V273*Full!$L$281*V$284","v":0},{"$f":"W273*Full!$L$281*W$284","v":0},0]
[null,null,"Total",{"$f":"SUM(D276:D281)","v":0},{"$f":"SUM(E276:E281)","v":0},0,0,0,0,0,0,0,0,0,0,0,0,0,0,0,0,0,0,0,null,{"$f":"X282/20","v":0}]
[]
[null,null,"Inflation",{"v":1,"d":"1.00"},{"$f":"D284+(D284*Full!$G$290)","v":{"v":1,"d":"1.00"}},{"$f":"E284+(E284*Full!$G$290)","v":{"v":1,"d":"1.00"}},{"$f":"F284+(F284*Full!$G$290)","v":{"v":1,"d":"1.00"}},{"$f":"G284+(G284*Full!$G$290)","v":{"v":1,"d":"1.00"}},{"$f":"H284+(H284*Full!$G$290)","v":{"v":1,"d":"1.00"}},{"$f":"I284+(I284*Full!$G$290)","v":{"v":1,"d":"1.00"}},{"$f":"J284+(J284*Full!$G$290)","v":{"v":1,"d":"1.00"}},{"$f":"K284+(K284*Full!$G$290)","v":{"v":1,"d":"1.00"}},{"$f":"L284+(L284*Full!$G$290)","v":{"v":1,"d":"1.00"}},{"$f":"M284+(M284*Full!$G$290)","v":{"v":1,"d":"1.00"}},{"$f":"N284+(N284*Full!$G$290)","v":{"v":1,"d":"1.00"}},{"$f":"O284+(O284*Full!$G$290)","v":{"v":1,"d":"1.00"}},{"$f":"P284+(P284*Full!$G$290)","v":{"v":1,"d":"1.00"}},{"$f":"Q284+(Q284*Full!$G$290)","v":{"v":1,"d":"1.00"}},{"$f":"R284+(R284*Full!$G$290)","v":{"v":1,"d":"1.00"}},{"$f":"S284+(S284*Full!$G$290)","v":{"v":1,"d":"1.00"}},{"$f":"T284+(T284*Full!$G$290)","v":{"v":1,"d":"1.00"}},{"$f":"U284+(U284*Full!$G$290)","v":{"v":1,"d":"1.00"}},{"$f":"V284+(V284*Full!$G$290)","v":{"v":1,"d":"1.00"}}]
[]
[null,null,"Economic Analysis"]
[null,null,"CO2",{"$f":"D237*Full!$G$284","v":0},{"$f":"E237*Full!$G$284","v":0},{"$f":"F237*Full!$G$284","v":0},{"$f":"G237*Full!$G$284","v":0},{"$f":"H237*Full!$G$284","v":0},{"$f":"I237*Full!$G$284","v":0},{"$f":"J237*Full!$G$284","v":0},{"$f":"K237*Full!$G$284","v":0},{"$f":"L237*Full!$G$284","v":0},{"$f":"M237*Full!$G$284","v":0},{"$f":"N237*Full!$G$284","v":0},{"$f":"O237*Full!$G$284","v":0},{"$f":"P237*Full!$G$284","v":0},{"$f":"Q237*Full!$G$284","v":0},{"$f":"R237*Full!$G$284","v":0},{"$f":"S237*Full!$G$284","v":0},{"$f":"T237*Full!$G$284","v":0},{"$f":"U237*Full!$G$284","v":0},{"$f":"V237*Full!$G$284","v":0},{"$f":"W237*Full!$G$284","v":0},{"$f":"SUM(D287:W287)","v":0}]
[null,null,"PM",{"$f":"D238*Full!$G$285","v":0},{"$f":"E238*Full!$G$285","v":0},{"$f":"F238*Full!$G$285","v":0},{"$f":"G238*Full!$G$285","v":0},{"$f":"H238*Full!$G$285","v":0},{"$f":"I238*Full!$G$285","v":0},{"$f":"J238*Full!$G$285","v":0},{"$f":"K238*Full!$G$285","v":0},{"$f":"L238*Full!$G$285","v":0},{"$f":"M238*Full!$G$285","v":0},{"$f":"N238*Full!$G$285","v":0},{"$f":"O238*Full!$G$285","v":0},{"$f":"P238*Full!$G$285","v":0},{"$f":"Q238*Full!$G$285","v":0},{"$f":"R238*Full!$G$285","v":0},{"$f":"S238*Full!$G$285","v":0},{"$f":"T238*Full!$G$285","v":0},{"$f":"U238*Full!$G$285","v":0},{"$f":"V238*Full!$G$285","v":0},{"$f":"W238*Full!$G$285","v":0},{"$f":"SUM(D288:W288)","v":0}]
[null,null,"Nox",{"$f":"D239*Full!$G$286","v":0},{"$f":"E239*Full!$G$286","v":0},{"$f":"F239*Full!$G$286","v":0},{"$f":"G239*Full!$G$286","v":0},{"$f":"H239*Full!$G$286","v":0},{"$f":"I239*Full!$G$286","v":0},{"$f":"J239*Full!$G$286","v":0},{"$f":"K239*Full!$G$286","v":0},{"$f":"L239*Full!$G$286","v":0},{"$f":"M239*Full!$G$286","v":0},{"$f":"N239*Full!$G$286","v":0},{"$f":"O239*Full!$G$286","v":0},{"$f":"P239*Full!$G$286","v":0},{"$f":"Q239*Full!$G$286","v":0},{"$f":"R239*Full!$G$286","v":0},{"$f":"S239*Full!$G$286","v":0},{"$f":"T239*Full!$G$286","v":0},{"$f":"U239*Full!$G$286","v":0},{"$f":"V239*Full!$G$286","v":0},{"$f":"W239*Full!$G$286","v":0},0]
[null,null,"Fatalities",{"$f":"D244*Full!$G$288","v":{"$error":"#N/A"}},{"$f":"E244*Full!$G$288","v":{"$error":"#N/A"}},{"$f":"F244*Full!$G$288","v":{"$error":"#N/A"}},{"$f":"G244*Full!$G$288","v":{"$error":"#N/A"}},{"$f":"H244*Full!$G$288","v":{"$error":"#N/A"}},{"$f":"I244*Full!$G$288","v":{"$error":"#N/A"}},{"$f":"J244*Full!$G$288","v":{"$error":"#N/A"}},{"$f":"K244*Full!$G$288","v":{"$error":"#N/A"}},{"$f":"L244*Full!$G$288","v":{"$error":"#N/A"}},{"$f":"M244*Full!$G$288","v":{"$error":"#N/A"}},{"$f":"N244*Full!$G$288","v":{"$error":"#N/A"}},{"$f":"O244*Full!$G$288","v":{"$error":"#N/A"}},{"$f":"P244*Full!$G$288","v":{"$error":"#N/A"}},{"$f":"Q244*Full!$G$288","v":{"$error":"#N/A"}},{"$f":"R244*Full!$G$288","v":{"$error":"#N/A"}},{"$f":"S244*Full!$G$288","v":{"$error":"#N/A"}},{"$f":"T244*Full!$G$288","v":{"$error":"#N/A"}},{"$f":"U244*Full!$G$288","v":{"$error":"#N/A"}},{"$f":"V244*Full!$G$288","v":{"$error":"#N/A"}},{"$f":"W244*Full!$G$288","v":{"$error":"#N/A"}},{"$error":"#N/A"}]
[null,null,"Injuries",{"$f":"D245*Full!$G$289","v":{"$error":"#N/A"}},{"$f":"E245*Full!$G$289","v":{"$error":"#N/A"}},{"$f":"F245*Full!$G$289","v":{"$error":"#N/A"}},{"$f":"G245*Full!$G$289","v":{"$error":"#N/A"}},{"$f":"H245*Full!$G$289","v":{"$error":"#N/A"}},{"$f":"I245*Full!$G$289","v":{"$error":"#N/A"}},{"$f":"J245*Full!$G$289","v":{"$error":"#N/A"}},{"$f":"K245*Full!$G$289","v":{"$error":"#N/A"}},{"$f":"L245*Full!$G$289","v":{"$error":"#N/A"}},{"$f":"M245*Full!$G$289","v":{"$error":"#N/A"}},{"$f":"N245*Full!$G$289","v":{"$error":"#N/A"}},{"$f":"O245*Full!$G$289","v":{"$error":"#N/A"}},{"$f":"P245*Full!$G$289","v":{"$error":"#N/A"}},{"$f":"Q245*Full!$G$289","v":{"$error":"#N/A"}},{"$f":"R245*Full!$G$289","v":{"$error":"#N/A"}},{"$f":"S245*Full!$G$289","v":{"$error":"#N/A"}},{"$f":"T245*Full!$G$289","v":{"$error":"#N/A"}},{"$f":"U245*Full!$G$289","v":{"$error":"#N/A"}},{"$f":"V245*Full!$G$289","v":{"$error":"#N/A"}},{"$f":"W245*Full!$G$289","v":{"$error":"#N/A"}},{"$error":"#N/A"}]
[null,null,"Travel Time",{"$f":"Summary2!D251*1000*Full!$G$287","v":{"$error":"#DIV/0!"}},{"$f":"Summary2!E251*1000*Full!$G$287","v":{"$error":"#DIV/0!"}},{"$f":"Summary2!F251*1000*Full!$G$287","v":{"$error":"#DIV/0!"}},{"$f":"Summary2!G251*1000*Full!$G$287","v":{"$error":"#DIV/0!"}},{"$f":"Summary2!H251*1000*Full!$G$287","v":{"$error":"#DIV/0!"}},{"$f":"Summary2!I251*1000*Full!$G$287","v":{"$error":"#DIV/0!"}},{"$f":"Summary2!J251*1000*Full!$G$287","v":{"$error":"#DIV/0!"}},{"$f":"Summary2!K251*1000*Full!$G$287","v":{"$error":"#DIV/0!"}},{"$f":"Summary2!L251*1000*Full!$G$287","v":{"$error":"#DIV/0!"}},{"$f":"Summary2!M251*1000*Full!$G$287","v":{"$error":"#DIV/0!"}},{"$f":"Summary2!N251*1000*Full!$G$287","v":{"$error":"#DIV/0!"}},{"$f":"Summary2!O251*1000*Full!$G$287","v":{"$error":"#DIV/0!"}},{"$f":"Summary2!P251*1000*Full!$G$287","v":{"$error":"#DIV/0!"}},{"$f":"Summary2!Q251*1000*Full!$G$287","v":{"$error":"#DIV/0!"}},{"$f":"Summary2!R251*1000*Full!$G$287","v":{"$error":"#DIV/0!"}},{"$f":"Summary2!S251*1000*Full!$G$287","v":{"$error":"#DIV/0!"}},{"$f":"Summary2!T251*1000*Full!$G$287","v":{"$error":"#DIV/0!"}},{"$f":"Summary2!U251*1000*Full!$G$287","v":{"$error":"#DIV/0!"}},{"$f":"Summary2!V251*1000*Full!$G$287","v":{"$error":"#DIV/0!"}},{"$f":"Summary2!W251*1000*Full!$G$287","v":{"$error":"#DIV/0!"}},{"$error":"#DIV/0!"}]
[null,null,"Fuel",{"$f":"D282","v":0},{"$f":"E282","v":0},0,0,0,0,0,0,0,0,0,0,0,0,0,0,0,0,0,0,0]
[null,null,"Maintenance",{"$f":"-(Full!$G$283*Full!$G$292)","v":0},{"$f":"-(Full!$G$283*Full!$G$292)","v":0},{"$f":"-(Full!$G$283*Full!$G$292)","v":0},{"$f":"-(Full!$G$283*Full!$G$292)","v":0},{"$f":"-(Full!$G$283*Full!$G$292)","v":0},{"$f":"-(Full!$G$283*Full!$G$292)","v":0},{"$f":"-(Full!$G$283*Full!$G$292)","v":0},{"$f":"-(Full!$G$283*Full!$G$292)","v":0},{"$f":"-(Full!$G$283*Full!$G$292)","v":0},{"$f":"-(Full!$G$283*Full!$G$292)","v":0},{"$f":"-(Full!$G$283*Full!$G$292)","v":0},{"$f":"-(Full!$G$283*Full!$G$292)","v":0},{"$f":"-(Full!$G$283*Full!$G$292)","v":0},{"$f":"-(Full!$G$283*Full!$G$292)","v":0},{"$f":"-(Full!$G$283*Full!$G$292)","v":0},{"$f":"-(Full!$G$283*Full!$G$292)","v":0},{"$f":"-(Full!$G$283*Full!$G$292)","v":0},{"$f":"-(Full!$G$283*Full!$G$292)","v":0},{"$f":"-(Full!$G$283*Full!$G$292)","v":0},{"$f":"-(Full!$G$283*Full!$G$292)","v":0},{"$f":"SUM(D294:W294)","v":0}]
[null,null,"Construction",{"$nulls":20},{"$f":"-Full!G283","v":0}]
[null,null,"Construction CO2",{"$nulls":20},{"$f":"-SUM(Calculations2!H2112:J2112)*Full!G284","v":0}]
[null,null,{"$f":"X295+X296","v":0},{"$f":"SUM(D287:D295)","v":{"$error":"#N/A"}},{"$error":"#N/A"},{"$error":"#N/A"},{"$error":"#N/A"},{"$error":"#N/A"},{"$error":"#N/A"},{"$error":"#N/A"},{"$error":"#N/A"},{"$error":"#N/A"},{"$error":"#N/A"},{"$error":"#N/A"},{"$error":"#N/A"},{"$error":"#N/A"},{"$error":"#N/A"},{"$error":"#N/A"},{"$error":"#N/A"},{"$error":"#N/A"},{"$error":"#N/A"},{"$error":"#N/A"},{"$error":"#N/A"},{"$f":"SUM(X287:X296)","v":{"$error":"#N/A"}},null,{"$f":"X297/20","v":{"$error":"#N/A"}}]
[]
[null,null,"EIRR",{"$f":"IRR(C297:W297)","v":{"$error":"#VALUE!"}}]
[null,null,"NPV",{"$f":"NPV(Full!G291,C297:W297)","v":{"$error":"#N/A"}}]
[]
[null,null,"Total Costs vs Savings",{"$f":"C297+D297","v":{"$error":"#N/A"}},{"$f":"D302+E297","v":{"$error":"#N/A"}},{"$f":"E302+F297","v":{"$error":"#N/A"}},{"$error":"#N/A"},{"$error":"#N/A"},{"$error":"#N/A"},{"$error":"#N/A"},{"$error":"#N/A"},{"$error":"#N/A"},{"$error":"#N/A"},{"$error":"#N/A"},{"$error":"#N/A"},{"$error":"#N/A"},{"$error":"#N/A"},{"$error":"#N/A"},{"$error":"#N/A"},{"$error":"#N/A"},{"$error":"#N/A"},{"$error":"#N/A"},{"$error":"#N/A"}]
[]
[null,null,"Costs vs Savings"]
[{"$nulls":3},{"$f":"D236","v":0},{"$f":"E236","v":1},2,3,4,5,6,7,8,9,10,11,12,13,14,15,16,17,18,19,"Total"]
[null,null,"CO2",{"$f":"D287","v":0},{"$f":"E287","v":0},0,0,0,0,0,0,0,0,0,0,0,0,0,0,0,0,0,0,0]
[null,null,"PM",{"$f":"D288","v":0},0,0,0,0,0,0,0,0,0,0,0,0,0,0,0,0,0,0,0,0]
[null,null,"Nox",0,0,0,0,0,0,0,0,0,0,0,0,0,0,0,0,0,0,0,0,0]
[null,null,"Fatalities",{"$error":"#N/A"},{"$error":"#N/A"},{"$error":"#N/A"},{"$error":"#N/A"},{"$error":"#N/A"},{"$error":"#N/A"},{"$error":"#N/A"},{"$error":"#N/A"},{"$error":"#N/A"},{"$error":"#N/A"},{"$error":"#N/A"},{"$error":"#N/A"},{"$error":"#N/A"},{"$error":"#N/A"},{"$error":"#N/A"},{"$error":"#N/A"},{"$error":"#N/A"},{"$error":"#N/A"},{"$error":"#N/A"},{"$error":"#N/A"},{"$error":"#N/A"}]
[null,null,"Injuries",{"$error":"#N/A"},{"$error":"#N/A"},{"$error":"#N/A"},{"$error":"#N/A"},{"$error":"#N/A"},{"$error":"#N/A"},{"$error":"#N/A"},{"$error":"#N/A"},{"$error":"#N/A"},{"$error":"#N/A"},{"$error":"#N/A"},{"$error":"#N/A"},{"$error":"#N/A"},{"$error":"#N/A"},{"$error":"#N/A"},{"$error":"#N/A"},{"$error":"#N/A"},{"$error":"#N/A"},{"$error":"#N/A"},{"$error":"#N/A"},{"$error":"#N/A"}]
[null,null,"Travel Time",{"$error":"#DIV/0!"},{"$error":"#DIV/0!"},{"$error":"#DIV/0!"},{"$error":"#DIV/0!"},{"$error":"#DIV/0!"},{"$error":"#DIV/0!"},{"$error":"#DIV/0!"},{"$error":"#DIV/0!"},{"$error":"#DIV/0!"},{"$error":"#DIV/0!"},{"$error":"#DIV/0!"},{"$error":"#DIV/0!"},{"$error":"#DIV/0!"},{"$error":"#DIV/0!"},{"$error":"#DIV/0!"},{"$error":"#DIV/0!"},{"$error":"#DIV/0!"},{"$error":"#DIV/0!"},{"$error":"#DIV/0!"},{"$error":"#DIV/0!"},{"$error":"#DIV/0!"}]
[null,null,"Fuel",0,0,0,0,0,0,0,0,0,0,0,0,0,0,0,0,0,0,0,0,0]
[null,null,"Maintenance",0,0,0,0,0,0,0,0,0,0,0,0,0,0,0,0,0,0,0,0,0]
[null,null,"Construction",{"$f":"X295","v":0},0,0,0,0,0,0,0,0,0,0,0,0,0,0,0,0,0,0,0,0]
[null,null,"Construction CO2",{"$f":"X296","v":0},0,0,0,0,0,0,0,0,0,0,0,0,0,0,0,0,0,0,0,0]
[{"$nulls":3},{"$f":"D297","v":{"$error":"#N/A"}},{"$error":"#N/A"},{"$error":"#N/A"},{"$error":"#N/A"},{"$error":"#N/A"},{"$error":"#N/A"},{"$error":"#N/A"},{"$error":"#N/A"},{"$error":"#N/A"},{"$error":"#N/A"},{"$error":"#N/A"},{"$error":"#N/A"},{"$error":"#N/A"},{"$error":"#N/A"},{"$error":"#N/A"},{"$error":"#N/A"},{"$error":"#N/A"},{"$error":"#N/A"},{"$error":"#N/A"},{"$error":"#N/A"},{"$error":"#N/A"}]
[]
[]
[]
[]
[null,null,"Factors used for the calculation of savings from fatality reduction"]
[null,null,"Source: Koornstra Reference Model as proposed in SMP"]
[null,null,"Traffic Fatality rates \n(per billion km)",{"$f":"Full!G555","v":2000},{"$f":"Full!H555","v":2010},{"$f":"Full!I555","v":2020},{"$f":"Full!J555","v":2030},{"$f":"Full!K555","v":2040},{"$f":"Full!L555","v":2050}]
[null,null,"OECD Regions - Reference Case",{"$f":"Full!G556","v":{"v":19.6,"d":"19.60"}},{"$f":"Full!H556","v":{"v":12.3,"d":"12.30"}},{"$f":"Full!I556","v":{"v":7.5,"d":"7.50"}},{"$f":"Full!J556","v":{"v":4.6,"d":"4.60"}},{"$f":"Full!K556","v":{"v":2.8,"d":"2.80"}},{"$f":"Full!L556","v":{"v":1.7,"d":"1.70"}}]
[null,null,"Non OECD Regions - Reference Case",{"$f":"Full!G557","v":{"v":251.4,"d":"251.40"}},{"$f":"Full!H557","v":{"v":193.6,"d":"193.60"}},{"$f":"Full!I557","v":{"v":141.2,"d":"141.20"}},{"$f":"Full!J557","v":{"v":99.6,"d":"99.60"}},{"$f":"Full!K557","v":{"v":66.6,"d":"66.60"}},{"$f":"Full!L557","v":{"v":44,"d":"44.00"}}]
[null,null,"City Traffic Fatality rates (per billion vehicle km)",{"$f":"Full!G558","v":{"v":251.4,"d":"251.40"}},{"$f":"Full!H558","v":{"v":193.6,"d":"193.60"}},{"$f":"Full!I558","v":{"v":141.2,"d":"141.20"}},{"$f":"Full!J558","v":{"v":99.6,"d":"99.60"}},{"$f":"Full!K558","v":{"v":66.6,"d":"66.60"}},{"$f":"Full!L558","v":{"v":44,"d":"44.00"}}]
[null,null,"Growth rate",{"$f":"Full!G559","v":{"v":0,"d":"0%"}},{"$f":"Full!H559","v":{"v":-2.578680390563959,"d":"-258%"}},{"$f":"Full!I559","v":{"v":-3.106881388892946,"d":"-311%"}},{"$f":"Full!J559","v":{"v":-3.429948242096581,"d":"-343%"}},{"$f":"Full!K559","v":{"v":-3.944665420327731,"d":"-394%"}},{"$f":"Full!L559","v":{"v":-4.060412967913218,"d":"-406%"}}]
[null,null,"Growth rate %",{"$f":"Full!G560","v":{"v":0,"d":"0%"}},{"$f":"Full!H560","v":{"v":-0.025786803905639588,"d":"-3%"}},{"$f":"Full!I560","v":{"v":-0.03106881388892946,"d":"-3%"}},{"$f":"Full!J560","v":{"v":-0.03429948242096581,"d":"-3%"}},{"$f":"Full!K560","v":{"v":-0.03944665420327731,"d":"-4%"}},{"$f":"Full!L560","v":{"v":-0.040604129679132184,"d":"-4%"}}]
[]
[]
[{"$nulls":3},{"$f":"D323","v":2000},{"$f":"D331+1","v":2001},{"$f":"E331+1","v":2002},2003,2004,2005,2006,2007,2008,2009,2010,2011,2012,2013,2014,2015,2016,2017,2018,2019,2020,2021,2022,2023,2024,2025,2026,2027,2028,2029,2030,2031,2032,2033,2034,2035,2036,2037,2038,2039,2040,2041,2042,2043,2044,2045,2046,2047,2048,2049,2050]
[null,null,"City Traffic fatality rates/billion pkm",{"$f":"D326","v":{"v":251.4,"d":"251.40"}},{"$f":"D332+(D332*$E$328)","v":{"v":244.91719749812222,"d":"244.92"}},{"$f":"E332+(E332*$E$328)","v":{"v":238.60156575311933,"d":"238.60"}},{"v":232.4487939654651,"d":"232.45"},{"v":226.45468249737522,"d":"226.45"},{"v":220.61514000630152,"d":"220.62"},{"v":214.9261806523438,"d":"214.93"},{"v":209.38392137767374,"d":"209.38"},{"v":203.98457925611382,"d":"203.98"},{"v":198.72446891106202,"d":"198.72"},{"$f":"E326","v":{"v":193.6,"d":"193.60"}},{"$f":"N332+(N332*$F$328)","v":{"v":187.58507763110325,"d":"187.59"}},{"$f":"O332+(O332*$F$328)","v":{"v":181.7570317658421,"d":"181.76"}},{"v":176.11005637290492,"d":"176.11"},{"v":170.63852580748627,"d":"170.64"},{"v":165.33698920689218,"d":"165.34"},{"v":160.20016506026732,"d":"160.20"},{"v":155.2229359470341,"d":"155.22"},{"v":150.40034343880248,"d":"150.40"},{"v":145.72758315967124,"d":"145.73"},{"$f":"F326","v":{"v":141.2,"d":"141.20"}},{"$f":"X332+(X332*$G$328)","v":{"v":136.35691308215962,"d":"136.36"}},{"$f":"Y332+(Y332*$G$328)","v":{"v":131.67994153892093,"d":"131.68"}},{"v":127.1633876989129,"d":"127.16"},{"v":122.80174931794357,"d":"122.80"},{"v":118.58971287594892,"d":"118.59"},{"v":114.52214710385293,"d":"114.52"},{"v":110.59409673245307,"d":"110.59"},{"v":106.8007764557157,"d":"106.80"},{"v":103.1375651011274,"d":"103.14"},{"$f":"G326","v":{"v":99.6,"d":"99.60"}},{"$f":"AH332+(AH332*$H$328)","v":{"v":95.67111324135358,"d":"95.67"}},{"$f":"AI332+(AI332*$H$328)","v":{"v":91.89720792007932,"d":"91.90"}},{"v":88.27217053700927,"d":"88.27"},{"v":84.79012875006315,"d":"84.79"},{"v":81.44544186140804,"d":"81.45"},{"v":78.23269167986795,"d":"78.23"},{"v":75.1466737437806,"d":"75.15"},{"v":72.18238889008319,"d":"72.18"},{"v":69.33503515596959,"d":"69.34"},{"$f":"H326","v":{"v":66.6,"d":"66.60"}},{"$f":"AR332+(AR332*$I$328)","v":{"v":63.89576496336979,"d":"63.90"}},{"$f":"AS332+(AS332*$I$328)","v":{"v":61.301333036849776,"d":"61.30"}},{"v":58.81224576071786,"d":"58.81"},{"v":56.42422570712868,"d":"56.42"},{"v":54.1331691294718,"d":"54.13"},{"v":51.935138910196336,"d":"51.94"},{"v":49.82635779498298,"d":"49.83"},{"v":47.803201901636655,"d":"47.80"},{"v":45.86219449254486,"d":"45.86"},{"$f":"I326","v":{"v":44,"d":"44.00"}}]

{"sheet":"Color Coding","index":11,"n_rows":38,"n_cols":3,"rows_kept":38,"merged":[[6,1,7,10],[10,1,12,10]]}
[]
[null,"Basic Color Coding Guide"]
[]
[]
[null,"Sheets"]
[]
[null,"Sheets with green tabs are input sheets for project parameters"]
[]
[]
[]
[null,"Sheets with blue tabs would give you the results of the model"]
[]
[]
[null,"Sheets with clear tabs are guide and/or calculation sheets not to be edited"]
[]
[]
[null,"Sheets with black tabs are supposed to be hidden sheets which are not to be edited as well"]
[]
[]
[]
[]
[null,"Cells*"]
[]
[null,"The guide below on cell colors only appply to cells in the INPUT SHEETS"]
[]
[null,null,"These cells are not supposed to be edited"]
[]
[null,null,"These are the input cells, put the needed values here"]
[]
[null,null,"These are input cells as well, but with default values which can be used if the user does not have project specifc values. You can change the values and they will turn green to indicate that these have been edited"]
[]
[null,null,"These are input cells as well, with no values inputted (please check whether you need to input values in these cells)"]
[]
[null,null,"These cells indicate that the sum should be 100%"]
[]
[null,null,"This icon will lead you to suggested \"Default\" values that you can use in case you don't have any data"]
[]
[null,null,"Cells with this icon contain some explanation on the required parameters. Click on the cell to view the explanation."]

{"sheet":"Dissemination Rate","index":12,"n_rows":233,"n_cols":26,"rows_kept":233,"hidden":true}
["Dissemination  Rate "]
[null,null,"Phase I","End diss","multiplier"]
["Curitiba",null,{"$f":"V12","v":{"v":46.2,"d":"46.20"}},{"$f":"V45","v":206.28},{"$f":"D3/C3","v":{"v":4.464935064935065,"d":"4.46"}}]
["TransMilenio",null,{"$f":"F37+F38","v":{"v":42,"d":"42.00"}},{"$f":"X45","v":{"v":737.8499999999999,"d":"737.85"}},{"$f":"D4/C4","v":{"v":17.56785714285714,"d":"17.57"}}]
["Quito",null,{"$f":"G31","v":{"v":16.2,"d":"16.20"}},{"$f":"W45","v":{"v":53.9,"d":"53.90"}},{"$f":"D5/C5","v":{"v":3.3271604938271606,"d":"3.33"}}]
["Avg for gold Standard",{"$nulls":3},{"$f":"SUM(E3:E5)/3","v":{"v":8.453317567206456,"d":"8.45"}}]
[]
["BRT History "]
[null,"Mexico","China","India","Indonesia","Colombia","Ecuador","Guatemala","S. Africa","USA","Brazil","Chile ","Korea","Taiwan","Australia","Japan","Europe","Turkey","Other","Total","Global KM BRT","Curitiba","Quito","TransMilenio","Others","Total"]
["1974",0,0,0,0,0,0,0,0,0,26.2,0,0,0,0,0,0,0,0,26.2,26.2,26.2,0,0,0,26.2]
["1975",0,0,0,0,0,0,0,0,0,15,0,0,0,0,0,0,0,0,15,41.2,41.2,0,0,0,41.2]
["1976",0,0,0,0,0,0,0,0,0,5,0,0,0,0,0,0,0,0,5,46.2,46.2,0,0,0,46.2]
["1977",0,0,0,0,0,0,0,0,0,22.630000000000003,0,0,0,0,0,0,0,0,22.630000000000003,68.83000000000001,68.83000000000001,0,0,0,68.83000000000001]
["1978",0,0,0,0,0,0,0,0,0,0,0,0,0,0,0,0,0,0,0,68.83000000000001,68.83000000000001,0,0,0,68.83000000000001]
["1979",0,0,0,0,0,0,0,0,0,12.18,0,0,0,0,0,0,0,0,12.18,81.01000000000002,81.01000000000002,0,0,0,81.01000000000002]
["1980",0,0,0,0,0,0,0,0,0,10.4,0,0,0,0,0,0,0,0,10.4,91.41000000000003,91.41000000000003,0,0,0,91.41000000000003]
["1981",0,0,0,0,0,0,0,0,0,40.07,0,0,0,0,0,0,0,0,40.07,131.48000000000002,131.48000000000002,0,0,0,131.48000000000002]
["1982",0,0,0,0,0,0,0,0,0,23,0,0,0,0,0,0,0,0,23,154.48000000000002,154.48000000000002,0,0,0,154.48000000000002]
["1983",0,0,0,0,0,0,0,0,0,29.3,0,0,0,0,0,0,0,0,29.3,183.78000000000003,183.78000000000003,0,0,0,183.78000000000003]
["1984",0,0,0,0,0,0,0,0,0,11.5,0,0,0,0,0,0,0,0,11.5,195.28000000000003,195.28000000000003,0,0,0,195.28000000000003]
["1985",0,0,0,0,0,0,0,0,0,11,0,0,0,0,0,0,0,0,11,206.28000000000003,206.28000000000003,0,0,0,206.28000000000003]
["1986",0,0,0,0,0,0,0,0,0,0,0,0,0,12,0,0,0,0,12,218.28000000000003,218.28000000000003,0,0,0,218.28000000000003]
["1987",0,0,0,0,0,0,0,0,0,0,0,0,0,0,0,0,0,0,0,218.28000000000003,218.28000000000003,0,0,0,218.28000000000003]
["1988",0,0,0,0,0,0,0,0,0,0,0,0,0,0,0,0,0,0,0,218.28000000000003,218.28000000000003,0,0,0,218.28000000000003]
["1989",0,0,0,0,0,0,0,0,0,0,0,0,0,0,0,0,0,0,0,218.28000000000003,218.28000000000003,0,0,0,218.28000000000003]
["1990",0,0,0,0,0,0,0,0,0,0,0,0,0,0,0,0,0,0,0,218.28000000000003,218.28000000000003,0,0,0,218.28000000000003]
["1991",0,0,0,0,0,0,0,0,0,0,0,0,0,0,0,0,0,0,0,218.28000000000003,218.28000000000003,0,0,0,218.28000000000003]
["1992",0,0,0,0,0,0,0,0,0,0,0,0,0,0,0,0,0,0,0,218.28000000000003,218.28000000000003,0,0,0,218.28000000000003]
["1993",0,0,0,0,0,0,0,0,0,0,0,0,0,0,0,12.5,0,0,12.5,230.78000000000003,230.78000000000003,0,0,0,230.78000000000003]
["1994",0,0,0,0,0,0,0,0,0,0,0,0,0,0,0,0,0,0,0,230.78000000000003,230.78000000000003,0,0,0,230.78000000000003]
["1995",0,0,0,0,0,16.2,0,0,0,0,0,0,0,0,0,0,0,0,16.2,246.98000000000002,206.28,16.2,0,0,222.48]
["1996",0,0,0,0,0,0,0,0,0,0,0,0,0,0,0,0,0,0,0,246.98000000000002,206.28,16.2,0,0,222.48]
["1997",0,0,0,0,0,0,0,0,0,0,0,0,0,0,0,0,0,0,0,246.98000000000002,206.28,16.2,0,0,222.48]
["1998",0,12,0,0,0,0,0,0,0,0,0,0,20,0,0,0,0,0,32,278.98,206.28,16.2,0,32,254.48]
["1999",0,0,0,0,0,0,0,0,0,0,0,0,0,0,0,0,0,0,0,278.98,206.28,16.2,0,32,254.48]
["2000",0,0,0,0,0,0,0,0,0,12,0,0,20,0,0,0,0,0,32,310.98,206.28,16.2,0,32,254.48]
["2001",0,0,0,0,{"$f":"E139","v":32},9.4,0,0,0,0,0,0,0,16.5,6.8,26,0,0,58.699999999999996,369.68,206.28,25.6,{"$f":"F37","v":32},81.3,313.18]
["2002",{"$f":"E50","v":26},0,0,0,10,0,0,0,7.7,0,0,20,20,0,0,45.7,0,0,129.4,499.08000000000004,206.28,25.6,56,154.7,442.58]
["2003",{"$f":"E51","v":0},0,0,0,0,0,0,0,11.3,0,0,20,0,2.8,0,36,0,0,70.1,569.1800000000001,206.28,25.6,76,204.8,512.6800000000001]
["2004",0,5,0,12.9,0,12.8,0,0,22.7,59,0,20,0,0,0,0,0,0,132.4,701.58,206.28,38.400000000000006,113.9,286.5,645.08]
["2005",20,31,0,0,13,0,0,0,6.44,0,0,0,8,0,0,0,0,0,78.44,780.02,206.28,38.4,177.9,300.94,723.52]
["2006",0,27,13,33,19,15.5,0,0,0,0,0,26,0,0,0,11,0,0,144.5,924.52,206.28,53.9,295.9,311.94,868.02]
["2007",0,0,0,51.45,26,0,0,0,10.88,8,50,0,0,0,0,0,11,0,157.32999999999998,1081.85,206.28,53.9,384.34999999999997,361.94,1006.47]
["2008",28.5,156,5.6,0,0,0,0,0,0,0,28,0,0,0,0,8,7.3,0,233.4,1315.25,206.28,53.9,581.7499999999999,422.82,1264.7499999999998]
["2009",16,78.9,12.5,22.2,1,0,0,25.5,0,0,0,0,0,0,0,0,0,0,156.1,1471.35,206.28,53.9,737.8499999999999,422.82,1420.85]
["2010 Proj",0,23,12,null,36]
[]
[]
["Mexico","Mexico City","Leon","Guadalajara","Total"]
[2002,0,26,0,26]
[2003,0,0,0,0]
[2004,0,0,0,0]
[2005,20,0,0,20]
[2006,0,0,0,0]
[2007,0,0,0,0]
[2008,28.5,0,0,28.5]
[2009,0,0,16,16]
[]
["China BRT trend line"]
[null,"Beijing",null,null,"Hangzhou",null,"Changzhou",null,"Dalian","Chongqing","Jinan",null,null,"Hefei","Xiamen","Kunming","Zhengzhou","Guangzhou","Harbin ","Lanzhou","TOTAL KM"]
[null,"Line 1","Line 2","Line 3","Line 1","Line 2","Line 1","Line 2",null,null,"Line 1","Line 2","Line 4"]
["1998",0,0,0,0,0,0,0,0,0,0,0,0,0,0,12,0,0,0,0,12]
["1999",0,0,0,0,0,0,0,0,0,0,0,0,0,0,0,0,0,0,0,0]
["2000",0,0,0,0,0,0,0,0,0,0,0,0,0,0,0,0,0,0,0,0]
["2001",0,0,0,0,0,0,0,0,0,0,0,0,0,0,0,0,0,0,0,0]
["2002",0,0,0,0,0,0,0,0,0,0,0,0,0,0,0,0,0,0,0,0]
["2003",0,0,0,0,0,0,0,0,0,0,0,0,0,0,0,0,0,0,0,0]
["2004",5,0,0,0,0,0,0,0,0,0,0,0,0,0,0,0,0,0,0,5]
["2005",11,0,0,0,0,0,0,0,0,0,0,0,0,0,20,0,0,0,0,31]
["2006",0,0,0,27,0,0,0,0,0,0,0,0,0,0,0,0,0,0,0,27]
["2007",0,0,0,0,0,0,0,0,0,0,0,0,0,0,0,0,0,0,0,0]
["2008",0,15,23,0,6,24.5,0,13,6,11,3,0,0,40,14.5,0,0,0,0,156]
["2009",0,0,0,0,0,0,21.5,0,0,0,0,7.9,18.5,0,0,31,0,0,0,78.9]
["2010",0,0,0,0,0,0,0,0,0,0,0,0,0,0,0,0,23,0,0,23]
["2011",0,0,0,0,0,0,0,0,0,0,0,0,0,0,0,0,0,0,13,13]
[{"$nulls":18},27.4]
[]
["India","Pune","Delhi","Ahmedabad","Total "]
[2002,0,0,0,0]
[2003,0,0,0,0]
[2004,0,0,0,0]
[2005,0,0,0,0]
[2006,13,0,0,13]
[2007,0,0,0,0]
[2008,0,5.6,0,5.6]
[2009,0,0,12.5,12.5]
[2010,0,0,12,12]
[]
["Indonesia","Jakarta","Yogyakarta","Total"]
[2002,0,0,0]
[2003,0,0,0]
[2004,12.9,0,12.9]
[2005,0,0,0]
[2006,{"v":33,"d":"33.00"},0,33]
[2007,51.45,0,51.45]
[2008,{"v":0,"d":"0.00"},0,0]
[2009,{"v":22.2,"d":"22.20"},0,22.2]
[2010]
[]
["USA Canada"]
[null,"Pittsburgh","LA","Boston","Eugene ","Cleveland","Total"]
[1977,6.9,0,0,0,0,6.9]
[1978,0,0,0,0,0,0]
[1979,0,0,0,0,0,0]
[1980,0,0,0,0,0,0]
[1981,0,0,0,0,0,0]
[1982,0,0,0,0,0,0]
[1983,7,0,0,0,0,7]
[1984,0,0,0,0,0,0]
[1985,0,0,0,0,0,0]
[1986,0,0,0,0,0,0]
[1987,0,0,0,0,0,0]
[1988,0,0,0,0,0,0]
[1989,0,0,0,0,0,0]
[1990,0,0,0,0,0,0]
[1991,0,0,0,0,0,0]
[1992,0,0,0,0,0,0]
[1993,0,0,0,0,0,0]
[1994,0,0,0,0,0,0]
[1995,0,0,0,0,0,0]
[1996,0,0,0,0,0,0]
[1997,4.8,0,0,0,0,4.8]
[1998,0,0,0,0,0,0]
[1999,0,0,0,0,0,0]
[2000,8.1,0,0,0,0,8.1]
[2001,0,0,0,0,0,0]
[2002,0,0,0,0,0,0]
[2003,7.7,0,0,0,0,7.7]
[2004,0,0,11.3,0,0,11.3]
[2005,0,22.7,0,0,0,22.7]
[2006,0,0,0,6.44,0,6.44]
[2007,0,0,0,0,0,0]
[2008,0,0,0,0,10.88,10.88]
[2009,0,0,0,0,0,0]
[]
[]
["Colombia","Transmilenio","Megabus","MIO"]
[null,"Bogotá","Pereira","Cali","Total"]
[2000,32,null,null,32]
[2001,10,null,null,10]
[2002,{"$nulls":3},0]
[2003,{"$nulls":3},0]
[2004,13,null,null,13]
[2005,19,null,null,19]
[2006,10,16,null,26]
[2007,{"$nulls":3},0]
[2008,null,1,null,1]
[2009,null,null,36,36]
[2010,21.5,1,null,22.5]
[]
["Brazil","S. Paulo","Curitiba",{"$nulls":6},"Porto Alegre","Belo Horizonte","Goiania","Total"]
[null,null,"Corridor Norte Sul","Corredor Boquierrao","Linha Direita","Circular Sur","L'est Oeste",null,"Linha Verde"]
[1974,null,26.2,{"$nulls":9},26.2]
[1975,10,{"$nulls":9},5,15]
[1976,{"$nulls":10},5,5]
[1977,null,null,10.63,{"$nulls":5},7,null,5,22.630000000000003,{"$nulls":6},3.6,"Multiplier"]
[1978,{"$nulls":11},0,{"$nulls":6},38.379999999999995,"control"]
[1979,{"$nulls":5},12.18,{"$nulls":5},12.18]
[1980,{"$nulls":8},5.4,null,5,10.4]
[1981,10,{"$nulls":4},8.27,null,null,4.8,12,5,40.07]
[1982,10,{"$nulls":7},5,3,5,23]
[1983,10,{"$nulls":7},5.3,9,5,29.3]
[1984,11.5,{"$nulls":10},11.5]
[1985,11,{"$nulls":10},11]
[1986,{"$nulls":11},0]
[1987,{"$nulls":11},0]
[1988,{"$nulls":11},0]
[1989,{"$nulls":11},0]
[1990,{"$nulls":11},0]
[1991,{"$nulls":11},0]
[1992,{"$nulls":11},0]
[1993,{"$nulls":11},0]
[1994,{"$nulls":11},0]
[1995,{"$nulls":11},0]
[1996,{"$nulls":11},0]
[1997,{"$nulls":11},0]
[1998,{"$nulls":11},0]
[1999,{"$nulls":11},0]
[2000,{"$nulls":4},12,{"$nulls":6},12]
[2001,{"$nulls":11},0]
[2002,{"$nulls":11},0]
[2001,{"$nulls":10},0,0]
[2003,59,0,0,0,0,{"$nulls":6},59]
[2004,0,0,0,0,0,{"$nulls":6},0]
[2005,0,0,0,0,0,{"$nulls":6},0]
[2006,8,0,0,0,0,{"$nulls":6},8]
[2007,0,0,0,0,0,{"$nulls":6},0]
[2008,0,0,0,0,0,{"$nulls":6},0]
[2009,0,0,0,0,0,{"$nulls":6},0]
["Total",129.5,26.2,10.63,0,12,20.45,null,0,27.5,24,35,285.28]
["Sources: "]
["FTA BRT Case studies, 2003 (Brazilian systems except Curitiba: Curitiba is from URBS web site. Colombia data from the BRT authorities)"]
["Sao Paulo and Goiania data is cooked"]
[]
["European BRT"]
[null,"Caen","Lyon ","Nantes","Rouen","Paris","Amsterdam","Eindhoven","Crawley","Total"]
["1974",0,0,0,0,0,0,0,0,0]
["1975",0,0,0,0,0,0,0,0,0]
["1976",0,0,0,0,0,0,0,0,0]
["1977",0,0,0,0,0,0,0,0,0]
["1978",0,0,0,0,0,0,0,0,0]
["1979",0,0,0,0,0,0,0,0,0]
["1980",0,0,0,0,0,0,0,0,0]
["1981",0,0,0,0,0,0,0,0,0]
["1982",0,0,0,0,0,0,0,0,0]
["1983",0,0,0,0,0,0,0,0,0]
["1984",0,0,0,0,0,0,0,0,0]
["1985",0,0,0,0,0,0,0,0,0]
["1986",0,0,0,0,0,0,0,0,0]
["1987",0,0,0,0,0,0,0,0,0]
["1988",0,0,0,0,0,0,0,0,0]
["1989",0,0,0,0,0,0,0,0,0]
["1990",0,0,0,0,0,0,0,0,0]
["1991",0,0,0,0,0,0,0,0,0]
["1992",0,0,0,0,0,0,0,0,0]
["1993",0,0,0,0,12.5,0,0,0,12.5]
["1994",0,0,0,0,0,0,0,0,0]
["1995",0,0,0,0,0,0,0,0,0]
["1996",0,0,0,0,0,0,0,0,0]
["1997",0,0,0,0,0,0,0,0,0]
["1998",0,0,0,0,0,0,0,0,0]
["1999",0,0,0,0,0,0,0,0,0]
["2000",0,0,0,0,0,0,0,0,0]
["2001",0,0,0,26,0,0,0,0,26]
["2002",15.7,0,0,0,0,30,0,0,45.7]
["2003",0,0,0,0,0,0,12,24,36]
["2004",0,0,0,0,0,0,0,0,0]
["2005",0,0,0,0,0,0,0,0,0]
["2006",0,4,7,0,0,0,0,0,11]
["2007",0,0,0,0,0,0,0,0,0]
["2008",0,0,0,0,0,8,0,0,8]
["2009",0,0,0,0,0,0,0,0,0]
["2010 Proj",0,0,0,0,0,0,0,0,0]

{"sheet":"Default","index":13,"n_rows":111,"n_cols":18,"rows_kept":111,"merged":[[0,2,1,5],[2,2,2,18],[7,2,8,21],[12,1,17,1],[91,2,92,21],[100,2,101,21]]}
[null,null,"Default Values"]
[]
[null,null,"*The values below are suggested values if the user does not have data. The values are meant to be reasonable placeholders in the absence of local/real data\nClick on the + arrows on the left panel to view the default values"]
[]
[]
[]
[]
[null,null,"Factors relating to Vehicles"]
[]
[]
[null,null,"Fuel Efficiency@50 kmph"]
[null,null,"Vehicle","Petrol (km/liter)","Diesel (km/liter)","LPG (km/liter)","CNG (km/kg)","Electric (km/kwh)"]
[null,null,"Car",{"$f":"100/8","v":{"v":12.5,"d":"12.50"}},{"$f":"100/7","v":{"v":14.285714285714286,"d":"14.29"}},{"$f":"D13","v":{"v":12.5,"d":"12.50"}}]
[null,null,"2-wheeler",{"$f":"100/1.8","v":{"v":55.55555555555556,"d":"55.56"}},{"$nulls":3},{"v":20,"d":"20.00"}]
[null,null,"Taxi",{"$f":"D13","v":{"v":12.5,"d":"12.50"}},{"$f":"E13","v":{"v":14.285714285714286,"d":"14.29"}},{"$f":"D15","v":{"v":12.5,"d":"12.50"}}]
[null,null,"3-wheeler",{"v":25,"d":"25.00"}]
[null,null,"Bus",null,{"$f":"100/28","v":{"v":3.5714285714285716,"d":"3.57"}}]
[null,null,"Mini-bus"]
[]
[]
[]
[null,null,"Occupancy"]
[null,null,"Vehicle","Occupants"," Occupants (Brasil)"]
[null,null,"Car",2.38,2.38]
[null,null,"2-wheeler",1.26,1.26]
[null,null,"Taxi",2.38,2.38]
[null,null,"3-wheeler",1.92,1.92]
[null,null,"Bus",41.34,41.34]
[null,null,"Mini-bus"]
[]
[null,null,"Trip Length (km)"]
[null,null,"Vehicle","km"]
[null,null,"Car",{"v":9.9,"d":"9.90"}]
[null,null,"2-wheeler",{"v":6.7,"d":"6.70"}]
[null,null,"Taxi",{"v":9.9,"d":"9.90"}]
[null,null,"3-wheeler",{"v":7.3,"d":"7.30"}]
[null,null,"Bus",{"v":10.5,"d":"10.50"}]
[null,null,"Mini-bus"]
[]
[]
[null,null,"EMISSION FACTORS"]
[]
[null,null,"CO2 Emission Factor"]
[null,null,{"$f":"'IF Factors'!E8","v":"Petrol"},{"v":2.416,"d":"2.42"},"kg/liter"]
[null,null,{"$f":"'IF Factors'!F8","v":"Diesel"},{"v":2.582,"d":"2.58"},"kg/liter"]
[null,null,{"$f":"'IF Factors'!G8","v":"LPG"},{"v":1.5,"d":"1.50"},"kg/liter"]
[null,null,{"$f":"'IF Factors'!H8","v":"CNG"},null,"kg/kg"]
[]
[]
[]
[null,null,"Emission Factor (g/vkm) - Gasoline"]
[{"$nulls":3},"PM Emission Factor",{"$nulls":7},"NOx Emission Factor"]
[null,null,"Vehicle Type","Pre-Euro","Euro I/1","Euro II/2","Euro III/3","Euro IV/4","Euro V/5","Euro VI/6",null,"Pre-Euro","Euro I/1","Euro II/2","Euro III/3","Euro IV/4","Euro V/5","Euro VI/6"]
[null,null,"Car",0.008,{"v":5.963232280641077E-3,"d":"0.006"},{"v":0.003696560130419488,"d":"0.004"},{"v":3.1887315418851134E-3,"d":"0.003"},{"v":3.0750601370907083E-3,"d":"0.003"},{"v":3.0750601370907083E-3,"d":"0.003"},{"v":3.0750601370907083E-3,"d":"0.003"},null,0.95,{"v":0.19719683039612831,"d":"0.20"},{"v":0.07967979984509391,"d":"0.08"},{"v":0.041531539111535544,"d":"0.04"},{"v":0.02835433174491723,"d":"0.03"},{"v":0.016835384473544608,"d":"0.02"},{"v":0.016835384473544608,"d":"0.017"}]
[null,null,"2-wheeler",{"v":0.02,"d":"0.020"},{"v":0.05,"d":"0.050"},{"v":0.0225,"d":"0.023"},{"v":0.0085,"d":"0.009"},{"$nulls":4},0.05,{"v":0.056778513421464866,"d":"0.06"},{"v":0.05410166753385964,"d":"0.05"},{"v":0.0267751284043608,"d":"0.03"}]
[null,null,"Taxi",{"$f":"D54","v":0.008},{"$f":"E54","v":{"v":5.963232280641077E-3,"d":"0.006"}},{"$f":"F54","v":{"v":0.003696560130419488,"d":"0.004"}},{"v":3.1887315418851134E-3,"d":"0.003"},{"v":3.0750601370907083E-3,"d":"0.003"},{"v":3.0750601370907083E-3,"d":"0.003"},{"$f":"J54","v":{"v":3.0750601370907083E-3,"d":"0.003"}},null,{"$f":"L54","v":0.95},{"v":0.19719683039612831,"d":"0.20"},{"v":0.07967979984509391,"d":"0.08"},{"v":0.041531539111535544,"d":"0.04"},{"v":0.02835433174491723,"d":"0.03"},{"v":0.016835384473544608,"d":"0.02"},{"v":0.016835384473544608,"d":"0.017"}]
[null,null,"3-wheeler",0.045,0.015,{"$nulls":6},{"v":0.2,"d":"0.20"},0.53]
[null,null,"Bus"]
[null,null,"Mini-bus"]
[]
[null,null,"Emission Factor (g/vkm) - Diesel"," "]
[{"$nulls":3},"PM Emission Factor",{"$nulls":7},"NOx Emission Factor"]
[null,null,"Vehicle Type","Pre-Euro","Euro I/1","Euro II/2","Euro III/3","Euro IV/4","Euro V/5","Euro VI/6",null,"Pre-Euro","Euro I/1","Euro II/2","Euro III/3","Euro IV/4","Euro V/5","Euro VI/6"]
[null,null,"Car",0.145,{"v":0.0575453557721758,"d":"0.058"},{"v":0.0435835147650033,"d":"0.044"},{"v":0.03023896455788226,"d":"0.030"},{"v":0.012919748233333483,"d":"0.013"},{"v":0.0005,"d":"0.001"},{"v":0.0005,"d":"0.001"},null,{"v":1.4568752989780807,"d":"1.457"},{"v":0.6660841829229535,"d":"0.666"},{"v":0.720666283804383,"d":"0.721"},{"v":0.5010504712267386,"d":"0.501"},{"v":0.27937024797393184,"d":"0.279"},{"v":0.18857491738240403,"d":"0.189"},{"v":0.08381107439217955,"d":"0.084"}]
[null,null,"2-wheeler"]
[null,null,"Taxi",{"v":0.2670448658605502,"d":"0.267"},{"v":0.10264412714332943,"d":"0.103"},{"v":0.10946741981445998,"d":"0.109"},{"v":0.04728799669666443,"d":"0.047"},{"v":0.028372798017998663,"d":"0.028"},{"v":0.0005,"d":"0.001"},{"v":0.0005,"d":"0.001"},null,{"v":1.644024352427989,"d":"1.644"},{"v":1.145508338293133,"d":"1.146"},{"v":1.2514081369473389,"d":"1.251"},{"v":0.7404103516462104,"d":"0.740"},{"v":0.3702051758231052,"d":"0.370"},{"v":0.24917656065016694,"d":"0.249"},{"v":0.11123953600453873,"d":"0.111"}]
[null,null,"3-wheeler"]
[null,null,"Bus",1.213,{"v":0.7792315877544599,"d":"0.779"},{"v":0.3471958611250078,"d":"0.347"},{"v":0.29100895246397374,"d":"0.291"},{"v":0.08566993564066241,"d":"0.086"},{"v":0.06278632456986338,"d":"0.063"},{"v":0.00627879264205887,"d":"0.006"},null,{"v":11.458845790108038,"d":"11.459"},{"v":7.206578224300734,"d":"7.207"},{"v":7.535606803726232,"d":"7.536"},{"v":5.9370332212959225,"d":"5.937"},{"v":3.7081531812119843,"d":"3.708"},{"v":2.1948680094314046,"d":"2.195"},{"v":0.43897360188628093,"d":"0.439"}]
[null,null,"Mini-bus",{"v":0.4717823679088994,"d":"0.472"},{"v":0.35942451811771703,"d":"0.359"},{"v":0.16784055760065145,"d":"0.168"},{"v":0.17120362309955944,"d":"0.171"},{"v":0.03225825290568043,"d":"0.032"},{"v":0.033149626402398366,"d":"0.033"},{"v":3.3237513564872497E-3,"d":"0.003"},null,{"v":10.990782492921644,"d":"10.991"},{"v":8.237294018386306,"d":"8.237"},{"v":8.968251627638395,"d":"8.968"},{"v":7.267820597563996,"d":"7.268"},{"v":4.4282783888785975,"d":"4.428"},{"v":2.6574170835653934,"d":"2.657"},{"v":0.5314834167130787,"d":"0.531"}]
[]
[null,null,"Emission Factor (g/vkm) - LPG"]
[{"$nulls":3},"PM Emission Factor",{"$nulls":7},"NOx Emission Factor"]
[{"$nulls":3},"Pre-Euro","Euro I/1","Euro II/2","Euro III/3","Euro IV/4","Euro V/5","Euro VI/6",null,"Pre-Euro","Euro I/1","Euro II/2","Euro III/3","Euro IV/4","Euro V/5","Euro VI/6"]
[null,null,"Car",null,{"v":2.7417942828668724E-3,"d":"0.003"},{"v":1.4408828814874953E-3,"d":"0.001"},{"v":1.4408828814874953E-3,"d":"0.001"},{"v":1.4408828814874953E-3,"d":"0.001"},{"v":1.4408828814874953E-3,"d":"0.001"},{"v":1.4408828814874953E-3,"d":"0.001"},null,null,{"v":0.2243914715282673,"d":"0.224"},{"v":0.11566570697333367,"d":"0.116"},{"v":0.3161255169326401,"d":"0.316"},{"v":0.16860027569740807,"d":"0.169"},{"v":0.12645020677305607,"d":"0.126"},{"v":0.12645020677305607,"d":"0.126"}]
[null,null,"2-wheeler"]
[null,null,"Taxi"]
[null,null,"3-wheeler"]
[null,null,"Bus"]
[null,null,"Mini-bus"]
[]
[null,null,"Emission Factor (g/vkm) - CNG"]
[{"$nulls":3},"PM Emission Factor",{"$nulls":7},"NOx Emission Factor"]
[{"$nulls":3},"Pre-Euro","Euro I/1","Euro II/2","Euro III/3","Euro IV/4","Euro V/5","Euro VI/6",null,"Pre-Euro","Euro I/1","Euro II/2","Euro III/3","Euro IV/4","Euro V/5","Euro VI/6"]
[null,null,"Car"]
[null,null,"2-wheeler"]
[null,null,"Taxi"]
[null,null,"3-wheeler"]
[null,null,"Bus"]
[null,null,"Mini-bus"]
[]
[]
[null,null,"Construction - related factors"]
[]
[]
[null,null,"(tonCO2/\nton of material)"]
[null,null,"Cement",0.99]
[null,null,"Bitumen",0.03]
[null,null,"Steel",{"v":2.5,"d":"2.50"}]
[]
[]
[null,null,"Cost-related factors"]
[]
[]
[null,null,"Project Construction Cost (USD)",{"v":50000000,"d":"50,000,000.00"}]
[null,null,"Cost of CO2 (USD)/Ton",{"v":20,"d":"20.00"}]
[null,null,"Cost of PM (USD)/ton",{"v":15000,"d":"15,000.00"}]
[null,null,"Cost of Nox (USD)/ton",{"v":3500,"d":"3,500.00"}]
[null,null,"Cost of Time (USD/hour)",{"v":0.3,"d":"0.30"}]
[null,null,"Cost of fatality (USD/person)",{"v":100000,"d":"100,000.00"}]
[null,null,"Cost of Injury (USD/person)",{"v":40000,"d":"40,000.00"}]
[null,null,"Annual Maintenance (% of construction)",{"v":1E-3,"d":"0.00"}]

{"sheet":"Writeup","index":14,"n_rows":0,"n_cols":0,"rows_kept":0}

{"sheet":"Impact of Speed","index":15,"n_rows":100,"n_cols":26,"rows_kept":100}
[]
[null,null,"CO2","CO2","CO2","CO2","CO2","CO2",{"$nulls":4},"PM","PM","PM","PM","PM","PM",null,null,"NOx","NOx","NOx","NOx","NOx","NOx"]
[null,null,"Bus","3W","Car","2w","Light-duty truck","Heavy-duty truck",null,"car",null,null,"Bus","3W","Car","2w","Light-duty truck","Heavy-duty truck",null,null,"Bus","3W","Car","2w","Light-duty truck","Heavy-duty truck"]
[null,1,{"v":350.045553011013,"d":"350.05"},{"v":157.000691108304,"d":"157.00"},{"v":273.413202995188,"d":"273.41"},{"v":157.000691108304,"d":"157.00"},{"v":307.651039863626,"d":"307.65"},{"v":350.045553011013,"d":"350.05"},{"$nulls":3},1,{"v":0.254,"d":"0.25"},{"v":0.762631665147954,"d":"0.76"},{"v":0.762631665147954,"d":"0.76"},{"v":0.762631665147954,"d":"0.76"},{"v":0.254,"d":"0.25"},{"v":0.832844274214362,"d":"0.83"},null,1,{"v":0.790560044330695,"d":"0.79"},{"v":0.80101690219997,"d":"0.80"},{"v":0.80101690219997,"d":"0.80"},{"v":0.80101690219997,"d":"0.80"},{"v":0.7265267199915211,"d":"0.73"},{"v":0.681416699629778,"d":"0.68"}]
[null,5,{"v":350.045553011013,"d":"350.05"},{"v":157.000691108304,"d":"157.00"},{"v":273.413202995188,"d":"273.41"},{"v":157.000691108304,"d":"157.00"},{"v":307.651039863626,"d":"307.65"},{"v":350.045553011013,"d":"350.05"},{"$nulls":3},5,{"v":0.254,"d":"0.25"},{"v":0.762631665147954,"d":"0.76"},{"v":0.762631665147954,"d":"0.76"},{"v":0.762631665147954,"d":"0.76"},{"v":0.254,"d":"0.25"},{"v":0.832844274214362,"d":"0.83"},null,5,{"v":0.790560044330695,"d":"0.79"},{"v":0.80101690219997,"d":"0.80"},{"v":0.80101690219997,"d":"0.80"},{"v":0.80101690219997,"d":"0.80"},{"v":0.7265267199915211,"d":"0.73"},{"v":0.681416699629778,"d":"0.68"}]
[null,6,{"v":304.648535171791,"d":"304.65"},{"v":141.6661676119965,"d":"141.67"},{"v":239.0668885522492,"d":"239.07"},{"v":141.6661676119965,"d":"141.67"},{"v":264.2834069612835,"d":"264.28"},{"v":304.648535171791,"d":"304.65"},{"$nulls":3},6,{"v":0.2540590447063056,"d":"0.25"},{"v":0.7130151451095554,"d":"0.71"},{"v":0.7130151451095554,"d":"0.71"},{"v":0.7130151451095554,"d":"0.71"},{"v":0.2540590447063056,"d":"0.25"},{"v":0.8038532432491361,"d":"0.80"},null,6,{"v":0.7647507498273101,"d":"0.76"},{"v":0.75292148245812,"d":"0.75"},{"v":0.75292148245812,"d":"0.75"},{"v":0.75292148245812,"d":"0.75"},{"v":0.6824519906257563,"d":"0.68"},{"v":0.655216824625997,"d":"0.66"}]
[null,7,{"v":259.25151733256905,"d":"259.25"},{"v":126.33164411568902,"d":"126.33"},{"v":204.7205741093104,"d":"204.72"},{"v":126.33164411568902,"d":"126.33"},{"v":220.915774058941,"d":"220.92"},{"v":259.25151733256905,"d":"259.25"},{"$nulls":3},7,{"v":0.2541180894126112,"d":"0.25"},{"v":0.6633986250711569,"d":"0.66"},{"v":0.6633986250711569,"d":"0.66"},{"v":0.6633986250711569,"d":"0.66"},{"v":0.2541180894126112,"d":"0.25"},{"v":0.7748622122839102,"d":"0.77"},null,7,{"v":0.738941455323925,"d":"0.74"},{"v":0.70482606271627,"d":"0.70"},{"v":0.70482606271627,"d":"0.70"},{"v":0.70482606271627,"d":"0.70"},{"v":0.6383772612599917,"d":"0.64"},{"v":0.629016949622216,"d":"0.63"}]
[null,8,{"v":213.85449949334705,"d":"213.85"},{"v":110.99712061938152,"d":"111.00"},{"v":170.37425966637161,"d":"170.37"},{"v":110.99712061938152,"d":"111.00"},{"v":177.5481411565985,"d":"177.55"},{"v":213.85449949334705,"d":"213.85"},{"$nulls":3},8,{"v":0.25417713411891685,"d":"0.25"},{"v":0.6137821050327582,"d":"0.61"},{"v":0.6137821050327582,"d":"0.61"},{"v":0.6137821050327582,"d":"0.61"},{"v":0.25417713411891685,"d":"0.25"},{"v":0.7458711813186842,"d":"0.75"},null,8,{"v":0.71313216082054,"d":"0.71"},{"v":0.6567306429744201,"d":"0.66"},{"v":0.6567306429744201,"d":"0.66"},{"v":0.6567306429744201,"d":"0.66"},{"v":0.5943025318942271,"d":"0.59"},{"v":0.6028170746184349,"d":"0.60"}]
[null,9,{"v":168.45748165412505,"d":"168.46"},{"v":95.66259712307402,"d":"95.66"},{"v":136.02794522343282,"d":"136.03"},{"v":95.66259712307402,"d":"95.66"},{"v":134.18050825425598,"d":"134.18"},{"v":168.45748165412505,"d":"168.46"},{"$nulls":3},9,{"v":0.2542361788252224,"d":"0.25"},{"v":0.5641655849943596,"d":"0.56"},{"v":0.5641655849943596,"d":"0.56"},{"v":0.5641655849943596,"d":"0.56"},{"v":0.2542361788252224,"d":"0.25"},{"v":0.7168801503534583,"d":"0.72"},null,9,{"v":0.687322866317155,"d":"0.69"},{"v":0.6086352232325701,"d":"0.61"},{"v":0.6086352232325701,"d":"0.61"},{"v":0.6086352232325701,"d":"0.61"},{"v":0.5502278025284625,"d":"0.55"},{"v":0.576617199614654,"d":"0.58"}]
[null,10,{"v":123.060463814903,"d":"123.06"},{"v":80.3280736267665,"d":"80.33"},{"v":101.681630780494,"d":"101.68"},{"v":80.3280736267665,"d":"80.33"},{"v":90.8128753519134,"d":"90.81"},{"v":123.060463814903,"d":"123.06"},{"$nulls":3},10,{"v":0.254295223531528,"d":"0.25"},{"v":0.514549064955961,"d":"0.51"},{"v":0.514549064955961,"d":"0.51"},{"v":0.514549064955961,"d":"0.51"},{"v":0.254295223531528,"d":"0.25"},{"v":0.687889119388232,"d":"0.69"},null,10,{"v":0.6615135718137699,"d":"0.66"},{"v":0.56053980349072,"d":"0.56"},{"v":0.56053980349072,"d":"0.56"},{"v":0.56053980349072,"d":"0.56"},{"v":0.506153073162698,"d":"0.51"},{"v":0.550417324610873,"d":"0.55"}]
[null,11,{"v":117.2640365558435,"d":"117.26"},{"v":78.16679152824662,"d":"78.17"},{"v":93.58348124019126,"d":"93.58"},{"v":78.16679152824662,"d":"78.17"},{"v":86.39769216039484,"d":"86.40"},{"v":117.2640365558435,"d":"117.26"},{"$nulls":3},11,{"v":0.24505627721563183,"d":"0.25"},{"v":0.4969070571702008,"d":"0.50"},{"v":0.4969070571702008,"d":"0.50"},{"v":0.4969070571702008,"d":"0.50"},{"v":0.24505627721563183,"d":"0.25"},{"v":0.6709464151246869,"d":"0.67"},null,11,{"v":0.6412063331253465,"d":"0.64"},{"v":0.5337167059326446,"d":"0.53"},{"v":0.5337167059326446,"d":"0.53"},{"v":0.5337167059326446,"d":"0.53"},{"v":0.4751212822258296,"d":"0.48"},{"v":0.5292146157170275,"d":"0.53"}]
[null,12,{"v":111.467609296784,"d":"111.47"},{"v":76.00550942972674,"d":"76.01"},{"v":85.48533169988852,"d":"85.49"},{"v":76.00550942972674,"d":"76.01"},{"v":81.98250896887627,"d":"81.98"},{"v":111.467609296784,"d":"111.47"},{"$nulls":3},12,{"v":0.23581733089973564,"d":"0.24"},{"v":0.4792650493844406,"d":"0.48"},{"v":0.4792650493844406,"d":"0.48"},{"v":0.4792650493844406,"d":"0.48"},{"v":0.23581733089973564,"d":"0.24"},{"v":0.6540037108611416,"d":"0.65"},null,12,{"v":0.6208990944369231,"d":"0.62"},{"v":0.5068936083745692,"d":"0.51"},{"v":0.5068936083745692,"d":"0.51"},{"v":0.5068936083745692,"d":"0.51"},{"v":0.4440894912889612,"d":"0.44"},{"v":0.5080119068231821,"d":"0.51"}]
[null,13,{"v":105.6711820377245,"d":"105.67"},{"v":73.84422733120687,"d":"73.84"},{"v":77.38718215958578,"d":"77.39"},{"v":73.84422733120687,"d":"73.84"},{"v":77.56732577735771,"d":"77.57"},{"v":105.6711820377245,"d":"105.67"},{"$nulls":3},13,{"v":0.22657838458383947,"d":"0.23"},{"v":0.46162304159868045,"d":"0.46"},{"v":0.46162304159868045,"d":"0.46"},{"v":0.46162304159868045,"d":"0.46"},{"v":0.22657838458383947,"d":"0.23"},{"v":0.6370610065975965,"d":"0.64"},null,13,{"v":0.6005918557484997,"d":"0.60"},{"v":0.4800705108164939,"d":"0.48"},{"v":0.4800705108164939,"d":"0.48"},{"v":0.4800705108164939,"d":"0.48"},{"v":0.41305770035209277,"d":"0.41"},{"v":0.48680919792933675,"d":"0.49"}]
[null,14,{"v":99.87475477866501,"d":"99.87"},{"v":71.68294523268699,"d":"71.68"},{"v":69.28903261928303,"d":"69.29"},{"v":71.68294523268699,"d":"71.68"},{"v":73.15214258583914,"d":"73.15"},{"v":99.87475477866501,"d":"99.87"},{"$nulls":3},14,{"v":0.21733943826794327,"d":"0.22"},{"v":0.44398103381292026,"d":"0.44"},{"v":0.44398103381292026,"d":"0.44"},{"v":0.44398103381292026,"d":"0.44"},{"v":0.21733943826794327,"d":"0.22"},{"v":0.6201183023340512,"d":"0.62"},null,14,{"v":0.5802846170600764,"d":"0.58"},{"v":0.4532474132584185,"d":"0.45"},{"v":0.4532474132584185,"d":"0.45"},{"v":0.4532474132584185,"d":"0.45"},{"v":0.38202590941522435,"d":"0.38"},{"v":0.4656064890354913,"d":"0.47"}]
[null,15,{"v":94.0783275196055,"d":"94.08"},{"v":69.5216631341671,"d":"69.52"},{"v":61.1908830789803,"d":"61.19"},{"v":69.5216631341671,"d":"69.52"},{"v":68.7369593943206,"d":"68.74"},{"v":94.0783275196055,"d":"94.08"},{"$nulls":3},15,{"v":0.20810049195204702,"d":"0.21"},{"v":0.42633902602716,"d":"0.43"},{"v":0.42633902602716,"d":"0.43"},{"v":0.42633902602716,"d":"0.43"},{"v":0.20810049195204702,"d":"0.21"},{"v":0.603175598070506,"d":"0.60"},null,15,{"v":0.5599773783716531,"d":"0.56"},{"v":0.42642431570034295,"d":"0.43"},{"v":0.42642431570034295,"d":"0.43"},{"v":0.42642431570034295,"d":"0.43"},{"v":0.350994118478356,"d":"0.35"},{"v":0.444403780141646,"d":"0.44"}]
[null,16,{"v":85.46026738642144,"d":"85.46"},{"v":64.23237186505389,"d":"64.23"},{"v":55.82801844072686,"d":"55.83"},{"v":64.23237186505389,"d":"64.23"},{"v":62.570766729216764,"d":"62.57"},{"v":85.46026738642144,"d":"85.46"},{"$nulls":3},16,{"v":0.1976412896919838,"d":"0.20"},{"v":0.3935266734304764,"d":"0.39"},{"v":0.3935266734304764,"d":"0.39"},{"v":0.3935266734304764,"d":"0.39"},{"v":0.1976412896919838,"d":"0.20"},{"v":0.5919278557046355,"d":"0.59"},null,16,{"v":0.5396701396832299,"d":"0.54"},{"v":0.4048387034961256,"d":"0.40"},{"v":0.4048387034961256,"d":"0.40"},{"v":0.4048387034961256,"d":"0.40"},{"v":0.3270755999678532,"d":"0.33"},{"v":0.4283778885471286,"d":"0.43"}]
[null,17,{"v":76.84220725323738,"d":"76.84"},{"v":58.94308059594069,"d":"58.94"},{"v":50.46515380247342,"d":"50.47"},{"v":58.94308059594069,"d":"58.94"},{"v":56.40457406411292,"d":"56.40"},{"v":76.84220725323738,"d":"76.84"},{"$nulls":3},17,{"v":0.1871820874319206,"d":"0.19"},{"v":0.36071432083379285,"d":"0.36"},{"v":0.36071432083379285,"d":"0.36"},{"v":0.36071432083379285,"d":"0.36"},{"v":0.1871820874319206,"d":"0.19"},{"v":0.5806801133387648,"d":"0.58"},null,17,{"v":0.5193629009948065,"d":"0.52"},{"v":0.3832530912919082,"d":"0.38"},{"v":0.3832530912919082,"d":"0.38"},{"v":0.3832530912919082,"d":"0.38"},{"v":0.30315708145735043,"d":"0.30"},{"v":0.4123519969526112,"d":"0.41"}]
[null,18,{"v":68.22414712005332,"d":"68.22"},{"v":53.65378932682749,"d":"53.65"},{"v":45.102289164219975,"d":"45.10"},{"v":53.65378932682749,"d":"53.65"},{"v":50.23838139900908,"d":"50.24"},{"v":68.22414712005332,"d":"68.22"},{"$nulls":3},18,{"v":0.1767228851718574,"d":"0.18"},{"v":0.32790196823710926,"d":"0.33"},{"v":0.32790196823710926,"d":"0.33"},{"v":0.32790196823710926,"d":"0.33"},{"v":0.1767228851718574,"d":"0.18"},{"v":0.5694323709728942,"d":"0.57"},null,18,{"v":0.4990556623063834,"d":"0.50"},{"v":0.3616674790876908,"d":"0.36"},{"v":0.3616674790876908,"d":"0.36"},{"v":0.3616674790876908,"d":"0.36"},{"v":0.2792385629468476,"d":"0.28"},{"v":0.3963261053580938,"d":"0.40"}]
[null,19,{"v":59.60608698686926,"d":"59.61"},{"v":48.36449805771429,"d":"48.36"},{"v":39.739424525966534,"d":"39.74"},{"v":48.36449805771429,"d":"48.36"},{"v":44.072188733905236,"d":"44.07"},{"v":59.60608698686926,"d":"59.61"},{"$nulls":3},19,{"v":0.16626368291179422,"d":"0.17"},{"v":0.2950896156404257,"d":"0.30"},{"v":0.2950896156404257,"d":"0.30"},{"v":0.2950896156404257,"d":"0.30"},{"v":0.16626368291179422,"d":"0.17"},{"v":0.5581846286070237,"d":"0.56"},null,19,{"v":0.4787484236179601,"d":"0.48"},{"v":0.3400818668834734,"d":"0.34"},{"v":0.3400818668834734,"d":"0.34"},{"v":0.3400818668834734,"d":"0.34"},{"v":0.2553200444363448,"d":"0.26"},{"v":0.3803002137635765,"d":"0.38"}]
[null,20,{"v":50.9880268536852,"d":"50.99"},{"v":43.0752067886011,"d":"43.08"},{"v":34.3765598877131,"d":"34.38"},{"v":43.0752067886011,"d":"43.08"},{"v":37.9059960688014,"d":"37.91"},{"v":50.9880268536852,"d":"50.99"},{"$nulls":3},20,{"v":0.155804480651731,"d":"0.16"},{"v":0.262277263043742,"d":"0.26"},{"v":0.262277263043742,"d":"0.26"},{"v":0.262277263043742,"d":"0.26"},{"v":0.155804480651731,"d":"0.16"},{"v":0.546936886241153,"d":"0.55"},null,20,{"v":0.45844118492953695,"d":"0.46"},{"v":0.31849625467925596,"d":"0.32"},{"v":0.31849625467925596,"d":"0.32"},{"v":0.31849625467925596,"d":"0.32"},{"v":0.231401525925842,"d":"0.23"},{"v":0.364274322169059,"d":"0.36"}]
[null,21,{"v":48.66536061936414,"d":"48.67"},{"v":39.68849778056886,"d":"39.69"},{"v":31.50585451434484,"d":"31.51"},{"v":39.68849778056886,"d":"39.69"},{"v":34.7991589774105,"d":"34.80"},{"v":48.66536061936414,"d":"48.67"},{"$nulls":3},21,{"v":0.14947189936554758,"d":"0.15"},{"v":0.24512348926189043,"d":"0.25"},{"v":0.24512348926189043,"d":"0.25"},{"v":0.24512348926189043,"d":"0.25"},{"v":0.14947189936554758,"d":"0.15"},{"v":0.5268912994265068,"d":"0.53"},null,21,{"v":0.44148679453325995,"d":"0.44"},{"v":0.3008060617886076,"d":"0.30"},{"v":0.3008060617886076,"d":"0.30"},{"v":0.3008060617886076,"d":"0.30"},{"v":0.2133128619507742,"d":"0.21"},{"v":0.34792004314492897,"d":"0.35"}]
[null,22,{"v":46.342694385043075,"d":"46.34"},{"v":36.30178877253662,"d":"36.30"},{"v":28.63514914097658,"d":"28.64"},{"v":36.30178877253662,"d":"36.30"},{"v":31.6923218860196,"d":"31.69"},{"v":46.342694385043075,"d":"46.34"},{"$nulls":3},22,{"v":0.1431393180793642,"d":"0.14"},{"v":0.2279697154800388,"d":"0.23"},{"v":0.2279697154800388,"d":"0.23"},{"v":0.2279697154800388,"d":"0.23"},{"v":0.1431393180793642,"d":"0.14"},{"v":0.5068457126118606,"d":"0.51"},null,22,{"v":0.42453240413698295,"d":"0.42"},{"v":0.2831158688979592,"d":"0.28"},{"v":0.2831158688979592,"d":"0.28"},{"v":0.2831158688979592,"d":"0.28"},{"v":0.19522419797570642,"d":"0.20"},{"v":0.331565764120799,"d":"0.33"}]
[null,23,{"v":44.02002815072201,"d":"44.02"},{"v":32.91507976450438,"d":"32.92"},{"v":25.76444376760832,"d":"25.76"},{"v":32.91507976450438,"d":"32.92"},{"v":28.585484794628698,"d":"28.59"},{"v":44.02002815072201,"d":"44.02"},{"$nulls":3},23,{"v":0.13680673679318078,"d":"0.14"},{"v":0.2108159416981872,"d":"0.21"},{"v":0.2108159416981872,"d":"0.21"},{"v":0.2108159416981872,"d":"0.21"},{"v":0.13680673679318078,"d":"0.14"},{"v":0.4868001257972143,"d":"0.49"},null,23,{"v":0.40757801374070596,"d":"0.41"},{"v":0.2654256760073108,"d":"0.27"},{"v":0.2654256760073108,"d":"0.27"},{"v":0.2654256760073108,"d":"0.27"},{"v":0.1771355340006386,"d":"0.18"},{"v":0.315211485096669,"d":"0.32"}]
[null,24,{"v":41.69736191640095,"d":"41.70"},{"v":29.528370756472135,"d":"29.53"},{"v":22.89373839424006,"d":"22.89"},{"v":29.528370756472135,"d":"29.53"},{"v":25.478647703237797,"d":"25.48"},{"v":41.69736191640095,"d":"41.70"},{"$nulls":3},24,{"v":0.13047415550699737,"d":"0.13"},{"v":0.19366216791633561,"d":"0.19"},{"v":0.19366216791633561,"d":"0.19"},{"v":0.19366216791633561,"d":"0.19"},{"v":0.13047415550699737,"d":"0.13"},{"v":0.46675453898256813,"d":"0.47"},null,24,{"v":0.39062362334442896,"d":"0.39"},{"v":0.24773548311666238,"d":"0.25"},{"v":0.24773548311666238,"d":"0.25"},{"v":0.24773548311666238,"d":"0.25"},{"v":0.15904687002557083,"d":"0.16"},{"v":0.298857206072539,"d":"0.30"}]
[null,25,{"v":39.3746956820799,"d":"39.37"},{"v":26.1416617484399,"d":"26.14"},{"v":20.0230330208718,"d":"20.02"},{"v":26.1416617484399,"d":"26.14"},{"v":22.3718106118469,"d":"22.37"},{"v":39.3746956820799,"d":"39.37"},{"$nulls":3},25,{"v":0.12414157422081401,"d":"0.12"},{"v":0.176508394134484,"d":"0.18"},{"v":0.176508394134484,"d":"0.18"},{"v":0.176508394134484,"d":"0.18"},{"v":0.12414157422081401,"d":"0.12"},{"v":0.44670895216792206,"d":"0.45"},null,25,{"v":0.373669232948152,"d":"0.37"},{"v":0.230045290226014,"d":"0.23"},{"v":0.230045290226014,"d":"0.23"},{"v":0.230045290226014,"d":"0.23"},{"v":0.140958206050503,"d":"0.14"},{"v":0.28250292704840896,"d":"0.28"}]
[null,26,{"v":36.18167158940762,"d":"36.18"},{"v":25.098417013498082,"d":"25.10"},{"v":18.50476647888008,"d":"18.50"},{"v":25.098417013498082,"d":"25.10"},{"v":21.46635526729356,"d":"21.47"},{"v":36.18167158940762,"d":"36.18"},{"$nulls":3},26,{"v":0.11731545476633289,"d":"0.12"},{"v":0.16352308549187058,"d":"0.16"},{"v":0.16352308549187058,"d":"0.16"},{"v":0.16352308549187058,"d":"0.16"},{"v":0.11731545476633289,"d":"0.12"},{"v":0.4268447059354934,"d":"0.43"},null,26,{"v":0.356714842551875,"d":"0.36"},{"v":0.2155664468726658,"d":"0.22"},{"v":0.2155664468726658,"d":"0.22"},{"v":0.2155664468726658,"d":"0.22"},{"v":0.12784161485243323,"d":"0.13"},{"v":0.270602731502275,"d":"0.27"}]
[null,27,{"v":32.98864749673534,"d":"32.99"},{"v":24.055172278556263,"d":"24.06"},{"v":16.986499936888357,"d":"16.99"},{"v":24.055172278556263,"d":"24.06"},{"v":20.560899922740223,"d":"20.56"},{"v":32.98864749673534,"d":"32.99"},{"$nulls":3},27,{"v":0.11048933531185176,"d":"0.11"},{"v":0.15053777684925718,"d":"0.15"},{"v":0.15053777684925718,"d":"0.15"},{"v":0.15053777684925718,"d":"0.15"},{"v":0.11048933531185176,"d":"0.11"},{"v":0.4069804597030648,"d":"0.41"},null,27,{"v":0.339760452155598,"d":"0.34"},{"v":0.2010876035193176,"d":"0.20"},{"v":0.2010876035193176,"d":"0.20"},{"v":0.2010876035193176,"d":"0.20"},{"v":0.11472502365436345,"d":"0.11"},{"v":0.258702535956141,"d":"0.26"}]
[null,28,{"v":29.795623404063058,"d":"29.80"},{"v":23.011927543614444,"d":"23.01"},{"v":15.468233394896638,"d":"15.47"},{"v":23.011927543614444,"d":"23.01"},{"v":19.655444578186884,"d":"19.66"},{"v":29.795623404063058,"d":"29.80"},{"$nulls":3},28,{"v":0.10366321585737064,"d":"0.10"},{"v":0.1375524682066438,"d":"0.14"},{"v":0.1375524682066438,"d":"0.14"},{"v":0.1375524682066438,"d":"0.14"},{"v":0.10366321585737064,"d":"0.10"},{"v":0.3871162134706362,"d":"0.39"},null,28,{"v":0.322806061759321,"d":"0.32"},{"v":0.18660876016596942,"d":"0.19"},{"v":0.18660876016596942,"d":"0.19"},{"v":0.18660876016596942,"d":"0.19"},{"v":0.10160843245629367,"d":"0.10"},{"v":0.24680234041000698,"d":"0.25"}]
[null,29,{"v":26.602599311390776,"d":"26.60"},{"v":21.968682808672625,"d":"21.97"},{"v":13.949966852904918,"d":"13.95"},{"v":21.968682808672625,"d":"21.97"},{"v":18.749989233633546,"d":"18.75"},{"v":26.602599311390776,"d":"26.60"},{"$nulls":3},29,{"v":0.09683709640288951,"d":"0.10"},{"v":0.12456715956403039,"d":"0.12"},{"v":0.12456715956403039,"d":"0.12"},{"v":0.12456715956403039,"d":"0.12"},{"v":0.09683709640288951,"d":"0.10"},{"v":0.3672519672382076,"d":"0.37"},null,29,{"v":0.305851671363044,"d":"0.31"},{"v":0.17212991681262121,"d":"0.17"},{"v":0.17212991681262121,"d":"0.17"},{"v":0.17212991681262121,"d":"0.17"},{"v":0.0884918412582239,"d":"0.09"},{"v":0.23490214486387298,"d":"0.23"}]
[null,30,{"v":23.4095752187185,"d":"23.41"},{"v":20.9254380737308,"d":"20.93"},{"v":12.4317003109132,"d":"12.43"},{"v":20.9254380737308,"d":"20.93"},{"v":17.8445338890802,"d":"17.84"},{"v":23.4095752187185,"d":"23.41"},{"$nulls":3},30,{"v":0.0900109769484084,"d":"0.09"},{"v":0.111581850921417,"d":"0.11"},{"v":0.111581850921417,"d":"0.11"},{"v":0.111581850921417,"d":"0.11"},{"v":0.0900109769484084,"d":"0.09"},{"v":0.34738772100577897,"d":"0.35"},null,30,{"v":0.288897280966767,"d":"0.29"},{"v":0.15765107345927298,"d":"0.16"},{"v":0.15765107345927298,"d":"0.16"},{"v":0.15765107345927298,"d":"0.16"},{"v":0.0753752500601541,"d":"0.08"},{"v":0.22300194931773898,"d":"0.22"}]
[null,31,{"v":21.821545682515442,"d":"21.82"},{"v":18.178992211286616,"d":"18.18"},{"v":10.998570743844882,"d":"11.00"},{"v":18.178992211286616,"d":"18.18"},{"v":15.391798232004954,"d":"15.39"},{"v":21.821545682515442,"d":"21.82"},{"$nulls":3},31,{"v":0.08519188015027603,"d":"0.09"},{"v":0.10202101536536151,"d":"0.10"},{"v":0.10202101536536151,"d":"0.10"},{"v":0.10202101536536151,"d":"0.10"},{"v":0.08519188015027603,"d":"0.09"},{"v":0.3279385530736342,"d":"0.33"},null,31,{"v":0.27382906316757316,"d":"0.27"},{"v":0.14601449821626683,"d":"0.15"},{"v":0.14601449821626683,"d":"0.15"},{"v":0.14601449821626683,"d":"0.15"},{"v":0.0665569132086246,"d":"0.07"},{"v":0.20874850770256898,"d":"0.21"}]
[null,32,{"v":20.233516146312382,"d":"20.23"},{"v":15.432546348842433,"d":"15.43"},{"v":9.565441176776563,"d":"9.57"},{"v":15.432546348842433,"d":"15.43"},{"v":12.939062574929707,"d":"12.94"},{"v":20.233516146312382,"d":"20.23"},{"$nulls":3},32,{"v":0.08037278335214364,"d":"0.08"},{"v":0.09246017980930603,"d":"0.09"},{"v":0.09246017980930603,"d":"0.09"},{"v":0.09246017980930603,"d":"0.09"},{"v":0.08037278335214364,"d":"0.08"},{"v":0.3084893851414894,"d":"0.31"},null,32,{"v":0.25876084536837934,"d":"0.26"},{"v":0.13437792297326065,"d":"0.13"},{"v":0.13437792297326065,"d":"0.13"},{"v":0.13437792297326065,"d":"0.13"},{"v":0.0577385763570951,"d":"0.06"},{"v":0.194495066087399,"d":"0.19"}]
[null,33,{"v":18.645486610109323,"d":"18.65"},{"v":12.68610048639825,"d":"12.69"},{"v":8.132311609708244,"d":"8.13"},{"v":12.68610048639825,"d":"12.69"},{"v":10.486326917854461,"d":"10.49"},{"v":18.645486610109323,"d":"18.65"},{"$nulls":3},33,{"v":0.07555368655401125,"d":"0.08"},{"v":0.08289934425325055,"d":"0.08"},{"v":0.08289934425325055,"d":"0.08"},{"v":0.08289934425325055,"d":"0.08"},{"v":0.07555368655401125,"d":"0.08"},{"v":0.2890402172093446,"d":"0.29"},null,33,{"v":0.24369262756918555,"d":"0.24"},{"v":0.12274134773025447,"d":"0.12"},{"v":0.12274134773025447,"d":"0.12"},{"v":0.12274134773025447,"d":"0.12"},{"v":0.04892023950556561,"d":"0.05"},{"v":0.180241624472229,"d":"0.18"}]
[null,34,{"v":17.057457073906264,"d":"17.06"},{"v":9.939654623954066,"d":"9.94"},{"v":6.699182042639926,"d":"6.70"},{"v":9.939654623954066,"d":"9.94"},{"v":8.033591260779215,"d":"8.03"},{"v":17.057457073906264,"d":"17.06"},{"$nulls":3},34,{"v":0.07073458975587886,"d":"0.07"},{"v":0.07333850869719506,"d":"0.07"},{"v":0.07333850869719506,"d":"0.07"},{"v":0.07333850869719506,"d":"0.07"},{"v":0.07073458975587886,"d":"0.07"},{"v":0.2695910492771998,"d":"0.27"},null,34,{"v":0.22862440976999174,"d":"0.23"},{"v":0.11110477248724829,"d":"0.11"},{"v":0.11110477248724829,"d":"0.11"},{"v":0.11110477248724829,"d":"0.11"},{"v":0.040101902654036105,"d":"0.04"},{"v":0.165988182857059,"d":"0.17"}]
[null,35,{"v":15.4694275377032,"d":"15.47"},{"v":7.19320876150988,"d":"7.19"},{"v":5.26605247557161,"d":"5.27"},{"v":7.19320876150988,"d":"7.19"},{"v":5.58085560370397,"d":"5.58"},{"v":15.4694275377032,"d":"15.47"},{"$nulls":3},35,{"v":0.0659154929577465,"d":"0.07"},{"v":0.06377767314113961,"d":"0.06"},{"v":0.06377767314113961,"d":"0.06"},{"v":0.06377767314113961,"d":"0.06"},{"v":0.0659154929577465,"d":"0.07"},{"v":0.250141881345055,"d":"0.25"},null,35,{"v":0.213556191970798,"d":"0.21"},{"v":0.0994681972442421,"d":"0.10"},{"v":0.0994681972442421,"d":"0.10"},{"v":0.0994681972442421,"d":"0.10"},{"v":0.0312835658025066,"d":"0.03"},{"v":0.151734741241889,"d":"0.15"}]
[null,36,{"v":14.10583100799165,"d":"14.11"},{"v":7.188534200010694,"d":"7.19"},{"v":4.856000273142148,"d":"4.86"},{"v":7.188534200010694,"d":"7.19"},{"v":5.800825283618864,"d":"5.80"},{"v":14.10583100799165,"d":"14.11"},{"$nulls":3},36,{"v":0.06083424621804906,"d":"0.06"},{"v":0.057107505002886666,"d":"0.06"},{"v":0.057107505002886666,"d":"0.06"},{"v":0.057107505002886666,"d":"0.06"},{"v":0.06083424621804906,"d":"0.06"},{"v":0.23159898802729018,"d":"0.23"},null,36,{"v":0.1984879741716042,"d":"0.20"},{"v":0.0904522694500564,"d":"0.09"},{"v":0.0904522694500564,"d":"0.09"},{"v":0.0904522694500564,"d":"0.09"},{"v":0.02617959985683651,"d":"0.03"},{"v":0.14224172557778078,"d":"0.14"}]
[null,37,{"v":12.7422344782801,"d":"12.74"},{"v":7.183859638511508,"d":"7.18"},{"v":4.445948070712686,"d":"4.45"},{"v":7.183859638511508,"d":"7.18"},{"v":6.020794963533758,"d":"6.02"},{"v":12.7422344782801,"d":"12.74"},{"$nulls":3},37,{"v":0.05575299947835163,"d":"0.06"},{"v":0.050437336864633725,"d":"0.05"},{"v":0.050437336864633725,"d":"0.05"},{"v":0.050437336864633725,"d":"0.05"},{"v":0.05575299947835163,"d":"0.06"},{"v":0.21305609470952538,"d":"0.21"},null,37,{"v":0.18341975637241037,"d":"0.18"},{"v":0.0814363416558707,"d":"0.08"},{"v":0.0814363416558707,"d":"0.08"},{"v":0.0814363416558707,"d":"0.08"},{"v":0.02107563391116642,"d":"0.02"},{"v":0.13274870991367257,"d":"0.13"}]
[null,38,{"v":11.37863794856855,"d":"11.38"},{"v":7.179185077012321,"d":"7.18"},{"v":4.035895868283224,"d":"4.04"},{"v":7.179185077012321,"d":"7.18"},{"v":6.240764643448652,"d":"6.24"},{"v":11.37863794856855,"d":"11.38"},{"$nulls":3},38,{"v":0.05067175273865419,"d":"0.05"},{"v":0.04376716872638079,"d":"0.04"},{"v":0.04376716872638079,"d":"0.04"},{"v":0.04376716872638079,"d":"0.04"},{"v":0.05067175273865419,"d":"0.05"},{"v":0.19451320139176062,"d":"0.19"},null,38,{"v":0.16835153857321658,"d":"0.17"},{"v":0.072420413861685,"d":"0.07"},{"v":0.072420413861685,"d":"0.07"},{"v":0.072420413861685,"d":"0.07"},{"v":0.01597166796549633,"d":"0.02"},{"v":0.12325569424956438,"d":"0.12"}]
[null,39,{"v":10.015041418856999,"d":"10.02"},{"v":7.174510515513135,"d":"7.17"},{"v":3.625843665853762,"d":"3.63"},{"v":7.174510515513135,"d":"7.17"},{"v":6.460734323363546,"d":"6.46"},{"v":10.015041418856999,"d":"10.02"},{"$nulls":3},39,{"v":0.045590505998956754,"d":"0.05"},{"v":0.03709700058812785,"d":"0.04"},{"v":0.03709700058812785,"d":"0.04"},{"v":0.03709700058812785,"d":"0.04"},{"v":0.045590505998956754,"d":"0.05"},{"v":0.17597030807399583,"d":"0.18"},null,39,{"v":0.1532833207740228,"d":"0.15"},{"v":0.06340448606749931,"d":"0.06"},{"v":0.06340448606749931,"d":"0.06"},{"v":0.06340448606749931,"d":"0.06"},{"v":0.01086770201982624,"d":"0.01"},{"v":0.11376267858545618,"d":"0.11"}]
[null,40,{"v":8.65144488914545,"d":"8.65"},{"v":7.16983595401395,"d":"7.17"},{"v":3.2157914634243,"d":"3.22"},{"v":7.16983595401395,"d":"7.17"},{"v":6.68070400327844,"d":"6.68"},{"v":8.65144488914545,"d":"8.65"},{"$nulls":3},40,{"v":0.0405092592592593,"d":"0.04"},{"v":0.030426832449874902,"d":"0.03"},{"v":0.030426832449874902,"d":"0.03"},{"v":0.030426832449874902,"d":"0.03"},{"v":0.0405092592592593,"d":"0.04"},{"v":0.157427414756231,"d":"0.16"},null,40,{"v":0.138215102974829,"d":"0.14"},{"v":0.0543885582733136,"d":"0.05"},{"v":0.0543885582733136,"d":"0.05"},{"v":0.0543885582733136,"d":"0.05"},{"v":0.00576373607415615,"d":"0.01"},{"v":0.104269662921348,"d":"0.10"}]
[null,41,{"v":7.58914414326017,"d":"7.59"},{"v":5.874004818578313,"d":"5.87"},{"v":2.659631890958754,"d":"2.66"},{"v":5.874004818578313,"d":"5.87"},{"v":5.372573085952926,"d":"5.37"},{"v":7.58914414326017,"d":"7.59"},{"$nulls":3},41,{"v":0.03654207958697036,"d":"0.04"},{"v":0.026265553279191972,"d":"0.03"},{"v":0.026265553279191972,"d":"0.03"},{"v":0.026265553279191972,"d":"0.03"},{"v":0.03654207958697036,"d":"0.04"},{"v":0.14049240786959177,"d":"0.14"},null,41,{"v":0.12439359267734605,"d":"0.12"},{"v":0.047817946330836865,"d":"0.05"},{"v":0.047817946330836865,"d":"0.05"},{"v":0.047817946330836865,"d":"0.05"},{"v":0.005379639814517061,"d":"0.01"},{"v":0.09126632409211767,"d":"0.09"}]
[null,42,{"v":6.52684339737489,"d":"6.53"},{"v":4.578173683142676,"d":"4.58"},{"v":2.103472318493208,"d":"2.10"},{"v":4.578173683142676,"d":"4.58"},{"v":4.06444216862741,"d":"4.06"},{"v":6.52684339737489,"d":"6.53"},{"$nulls":3},42,{"v":0.03257489991468142,"d":"0.03"},{"v":0.022104274108509046,"d":"0.02"},{"v":0.022104274108509046,"d":"0.02"},{"v":0.022104274108509046,"d":"0.02"},{"v":0.03257489991468142,"d":"0.03"},{"v":0.12355740098295255,"d":"0.12"},null,42,{"v":0.1105720823798631,"d":"0.11"},{"v":0.041247334388360125,"d":"0.04"},{"v":0.041247334388360125,"d":"0.04"},{"v":0.041247334388360125,"d":"0.04"},{"v":4.9955435548779716E-3,"d":"0.00"},{"v":0.07826298526288736,"d":"0.08"}]
[null,43,{"v":5.46454265148961,"d":"5.46"},{"v":3.2823425477070396,"d":"3.28"},{"v":1.5473127460276614,"d":"1.55"},{"v":3.2823425477070396,"d":"3.28"},{"v":2.7563112513018955,"d":"2.76"},{"v":5.46454265148961,"d":"5.46"},{"$nulls":3},43,{"v":0.028607720242392477,"d":"0.03"},{"v":0.01794299493782612,"d":"0.02"},{"v":0.01794299493782612,"d":"0.02"},{"v":0.01794299493782612,"d":"0.02"},{"v":0.028607720242392477,"d":"0.03"},{"v":0.10662239409631333,"d":"0.11"},null,43,{"v":0.09675057208238017,"d":"0.10"},{"v":0.034676722445883386,"d":"0.03"},{"v":0.034676722445883386,"d":"0.03"},{"v":0.034676722445883386,"d":"0.03"},{"v":0.004611447295238883,"d":"0.00"},{"v":0.06525964643365705,"d":"0.07"}]
[null,44,{"v":4.402241905604329,"d":"4.40"},{"v":1.986511412271403,"d":"1.99"},{"v":0.9911531735621151,"d":"0.99"},{"v":1.986511412271403,"d":"1.99"},{"v":1.4481803339763806,"d":"1.45"},{"v":4.402241905604329,"d":"4.40"},{"$nulls":3},44,{"v":0.024640540570103536,"d":"0.02"},{"v":0.01378171576714319,"d":"0.01"},{"v":0.01378171576714319,"d":"0.01"},{"v":0.01378171576714319,"d":"0.01"},{"v":0.024640540570103536,"d":"0.02"},{"v":0.0896873872096741,"d":"0.09"},null,44,{"v":0.08292906178489722,"d":"0.08"},{"v":0.028106110503406646,"d":"0.03"},{"v":0.028106110503406646,"d":"0.03"},{"v":0.028106110503406646,"d":"0.03"},{"v":0.004227351035599794,"d":"0.00"},{"v":0.05225630760442672,"d":"0.05"}]
[null,45,{"v":3.33994115971905,"d":"3.34"},{"v":0.690680276835766,"d":"0.69"},{"v":0.434993601096568,"d":"0.43"},{"v":0.690680276835766,"d":"0.69"},{"v":0.140049416650866,"d":"0.14"},{"v":3.33994115971905,"d":"3.34"},{"$nulls":3},45,{"v":0.020673360897814602,"d":"0.02"},{"v":0.00962043659646026,"d":"0.01"},{"v":0.00962043659646026,"d":"0.01"},{"v":0.00962043659646026,"d":"0.01"},{"v":0.020673360897814602,"d":"0.02"},{"v":0.07275238032303491,"d":"0.07"},null,45,{"v":0.06910755148741429,"d":"0.07"},{"v":0.021535498560929903,"d":"0.02"},{"v":0.021535498560929903,"d":"0.02"},{"v":0.021535498560929903,"d":"0.02"},{"v":0.003843254775960705,"d":"0.00"},{"v":0.0392529687751964,"d":"0.04"}]
[null,46,{"v":2.67195292777524,"d":"2.67"},{"v":0.5525442214686128,"d":"0.55"},{"v":0.3479948808772544,"d":"0.35"},{"v":0.5525442214686128,"d":"0.55"},{"v":0.1120395333206928,"d":"0.11"},{"v":2.67195292777524,"d":"2.67"},{"$nulls":3},46,{"v":0.016538688718251683,"d":"0.02"},{"v":0.007696349277168208,"d":"0.01"},{"v":0.007696349277168208,"d":"0.01"},{"v":0.007696349277168208,"d":"0.01"},{"v":0.016538688718251683,"d":"0.02"},{"v":0.058201904258427924,"d":"0.06"},null,46,{"v":0.05528604118993144,"d":"0.06"},{"v":0.01722839884874392,"d":"0.02"},{"v":0.01722839884874392,"d":"0.02"},{"v":0.01722839884874392,"d":"0.02"},{"v":3.0746038207685638E-3,"d":"0.00"},{"v":0.03140237502015712,"d":"0.03"}]
[null,47,{"v":2.0039646958314297,"d":"2.00"},{"v":0.4144081661014596,"d":"0.41"},{"v":0.2609961606579408,"d":"0.26"},{"v":0.4144081661014596,"d":"0.41"},{"v":0.0840296499905196,"d":"0.08"},{"v":2.0039646958314297,"d":"2.00"},{"$nulls":3},47,{"v":0.012404016538688762,"d":"0.01"},{"v":0.005772261957876157,"d":"0.01"},{"v":0.005772261957876157,"d":"0.01"},{"v":0.005772261957876157,"d":"0.01"},{"v":0.012404016538688762,"d":"0.01"},{"v":0.043651428193820944,"d":"0.04"},null,47,{"v":0.04146453089244858,"d":"0.04"},{"v":0.012921299136557943,"d":"0.01"},{"v":0.012921299136557943,"d":"0.01"},{"v":0.012921299136557943,"d":"0.01"},{"v":2.3059528655764226E-3,"d":"0.00"},{"v":0.02355178126511784,"d":"0.02"}]
[null,48,{"v":1.3359764638876197,"d":"1.34"},{"v":0.27627211073430635,"d":"0.28"},{"v":0.1739974404386272,"d":"0.17"},{"v":0.27627211073430635,"d":"0.28"},{"v":0.056019766660346394,"d":"0.06"},{"v":1.3359764638876197,"d":"1.34"},{"$nulls":3},48,{"v":0.008269344359125842,"d":"0.01"},{"v":3.8481746385841046E-3,"d":"0.00"},{"v":3.8481746385841046E-3,"d":"0.00"},{"v":3.8481746385841046E-3,"d":"0.00"},{"v":0.008269344359125842,"d":"0.01"},{"v":0.029100952129213962,"d":"0.03"},null,48,{"v":0.02764302059496572,"d":"0.03"},{"v":0.008614199424371962,"d":"0.01"},{"v":0.008614199424371962,"d":"0.01"},{"v":0.008614199424371962,"d":"0.01"},{"v":1.5373019103842817E-3,"d":"0.00"},{"v":0.01570118751007856,"d":"0.02"}]
[null,49,{"v":0.6679882319438097,"d":"0.67"},{"v":0.13813605536715315,"d":"0.14"},{"v":0.0869987202193136,"d":"0.09"},{"v":0.13813605536715315,"d":"0.14"},{"v":0.028009883330173194,"d":"0.03"},{"v":0.6679882319438097,"d":"0.67"},{"$nulls":3},49,{"v":0.004134672179562922,"d":"0.00"},{"v":1.9240873192920528E-3,"d":"0.00"},{"v":1.9240873192920528E-3,"d":"0.00"},{"v":1.9240873192920528E-3,"d":"0.00"},{"v":0.004134672179562922,"d":"0.00"},{"v":0.014550476064606981,"d":"0.01"},null,49,{"v":0.01382151029748286,"d":"0.01"},{"v":0.004307099712185982,"d":"0.00"},{"v":0.004307099712185982,"d":"0.00"},{"v":0.004307099712185982,"d":"0.00"},{"v":7.6865095519214072E-4,"d":"0.00"},{"v":0.007850593755039282,"d":"0.01"}]
[null,50,0,0,0,0,0,0,{"$nulls":3},50,0,0,0,0,0,0,null,50,0,0,0,0,0,0]
[null,51,{"v":0.383320225191884,"d":"0.38"},{"v":0.0908895748552772,"d":"0.09"},{"v":0.21947729571942598,"d":"0.22"},{"v":0.0908895748552772,"d":"0.09"},{"v":0.253718382384988,"d":"0.25"},{"v":0.383320225191884,"d":"0.38"},{"$nulls":3},51,{"v":3.4355828220858932E-3,"d":"0.00"},{"v":1.1378739808806319E-4,"d":"0.00"},{"v":1.1378739808806319E-4,"d":"0.00"},{"v":1.1378739808806319E-4,"d":"0.00"},{"v":3.4355828220858932E-3,"d":"0.00"},{"v":0.011484897097620262,"d":"0.01"},null,51,{"v":0.012822049131216309,"d":"0.01"},{"v":2.2429209512524946E-3,"d":"0.00"},{"v":2.2429209512524946E-3,"d":"0.00"},{"v":2.2429209512524946E-3,"d":"0.00"},{"v":3.0037248958903803E-3,"d":"0.00"},{"v":0.012166043910381388,"d":"0.01"}]
[null,52,{"v":0.766640450383768,"d":"0.77"},{"v":0.1817791497105544,"d":"0.18"},{"v":0.43895459143885196,"d":"0.44"},{"v":0.1817791497105544,"d":"0.18"},{"v":0.507436764769976,"d":"0.51"},{"v":0.766640450383768,"d":"0.77"},{"$nulls":3},52,{"v":6.8711656441717865E-3,"d":"0.01"},{"v":2.2757479617612638E-4,"d":"0.00"},{"v":2.2757479617612638E-4,"d":"0.00"},{"v":2.2757479617612638E-4,"d":"0.00"},{"v":6.8711656441717865E-3,"d":"0.01"},{"v":0.022969794195240523,"d":"0.02"},null,52,{"v":0.025644098262432618,"d":"0.03"},{"v":0.004485841902504989,"d":"0.00"},{"v":0.004485841902504989,"d":"0.00"},{"v":0.004485841902504989,"d":"0.00"},{"v":6.0074497917807605E-3,"d":"0.01"},{"v":0.024332087820762776,"d":"0.02"}]
[null,53,{"v":1.149960675575652,"d":"1.15"},{"v":0.2726687245658316,"d":"0.27"},{"v":0.6584318871582779,"d":"0.66"},{"v":0.2726687245658316,"d":"0.27"},{"v":0.761155147154964,"d":"0.76"},{"v":1.149960675575652,"d":"1.15"},{"$nulls":3},53,{"v":0.010306748466257681,"d":"0.01"},{"v":3.4136219426418959E-4,"d":"0.00"},{"v":3.4136219426418959E-4,"d":"0.00"},{"v":3.4136219426418959E-4,"d":"0.00"},{"v":0.010306748466257681,"d":"0.01"},{"v":0.03445469129286079,"d":"0.03"},null,53,{"v":0.038466147393648925,"d":"0.04"},{"v":0.006728762853757484,"d":"0.01"},{"v":0.006728762853757484,"d":"0.01"},{"v":0.006728762853757484,"d":"0.01"},{"v":9.011174687671139E-3,"d":"0.01"},{"v":0.03649813173114416,"d":"0.04"}]
[null,54,{"v":1.533280900767536,"d":"1.53"},{"v":0.3635582994211088,"d":"0.36"},{"v":0.8779091828777039,"d":"0.88"},{"v":0.3635582994211088,"d":"0.36"},{"v":1.014873529539952,"d":"1.01"},{"v":1.533280900767536,"d":"1.53"},{"$nulls":3},54,{"v":0.013742331288343573,"d":"0.01"},{"v":4.5514959235225277E-4,"d":"0.00"},{"v":4.5514959235225277E-4,"d":"0.00"},{"v":4.5514959235225277E-4,"d":"0.00"},{"v":0.013742331288343573,"d":"0.01"},{"v":0.04593958839048105,"d":"0.05"},null,54,{"v":0.051288196524865236,"d":"0.05"},{"v":0.008971683805009978,"d":"0.01"},{"v":0.008971683805009978,"d":"0.01"},{"v":0.008971683805009978,"d":"0.01"},{"v":0.012014899583561521,"d":"0.01"},{"v":0.04866417564152555,"d":"0.05"}]
[null,55,{"v":1.91660112595942,"d":"1.92"},{"v":0.454447874276386,"d":"0.45"},{"v":1.09738647859713,"d":"1.10"},{"v":0.454447874276386,"d":"0.45"},{"v":1.26859191192494,"d":"1.27"},{"v":1.91660112595942,"d":"1.92"},{"$nulls":3},55,{"v":0.017177914110429463,"d":"0.02"},{"v":0.000568936990440316,"d":"0.00"},{"v":0.000568936990440316,"d":"0.00"},{"v":0.000568936990440316,"d":"0.00"},{"v":0.017177914110429463,"d":"0.02"},{"v":0.0574244854881013,"d":"0.06"},null,55,{"v":0.06411024565608155,"d":"0.06"},{"v":0.011214604756262474,"d":"0.01"},{"v":0.011214604756262474,"d":"0.01"},{"v":0.011214604756262474,"d":"0.01"},{"v":0.015018624479451901,"d":"0.02"},{"v":0.06083021955190694,"d":"0.06"}]
[null,56,{"v":2.458438057369616,"d":"2.46"},{"v":0.4927975803239856,"d":"0.49"},{"v":1.099183315091828,"d":"1.10"},{"v":0.4927975803239856,"d":"0.49"},{"v":1.6895520206188819,"d":"1.69"},{"v":2.458438057369616,"d":"2.46"},{"$nulls":3},56,{"v":0.020733592212188744,"d":"0.02"},{"v":0.002558904668289893,"d":"0.00"},{"v":0.002558904668289893,"d":"0.00"},{"v":0.002558904668289893,"d":"0.00"},{"v":0.020733592212188744,"d":"0.02"},{"v":0.06541466635894007,"d":"0.07"},null,56,{"v":0.07693229478729785,"d":"0.08"},{"v":0.01159864856926335,"d":"0.01"},{"v":0.01159864856926335,"d":"0.01"},{"v":0.01159864856926335,"d":"0.01"},{"v":0.0198420361350542,"d":"0.02"},{"v":0.0674347574197912,"d":"0.07"}]
[null,57,{"v":3.000274988779812,"d":"3.00"},{"v":0.5311472863715851,"d":"0.53"},{"v":1.100980151586526,"d":"1.10"},{"v":0.5311472863715851,"d":"0.53"},{"v":2.1105121293128235,"d":"2.11"},{"v":3.000274988779812,"d":"3.00"},{"$nulls":3},57,{"v":0.024289270313948022,"d":"0.02"},{"v":0.00454887234613947,"d":"0.00"},{"v":0.00454887234613947,"d":"0.00"},{"v":0.00454887234613947,"d":"0.00"},{"v":0.024289270313948022,"d":"0.02"},{"v":0.07340484722977884,"d":"0.07"},null,57,{"v":0.08975434391851415,"d":"0.09"},{"v":0.011982692382264227,"d":"0.01"},{"v":0.011982692382264227,"d":"0.01"},{"v":0.011982692382264227,"d":"0.01"},{"v":0.024665447790656502,"d":"0.02"},{"v":0.07403929528767546,"d":"0.07"}]
[null,58,{"v":3.542111920190008,"d":"3.54"},{"v":0.5694969924191847,"d":"0.57"},{"v":1.1027769880812242,"d":"1.10"},{"v":0.5694969924191847,"d":"0.57"},{"v":2.5314722380067654,"d":"2.53"},{"v":3.542111920190008,"d":"3.54"},{"$nulls":3},58,{"v":0.0278449484157073,"d":"0.03"},{"v":0.006538840023989047,"d":"0.01"},{"v":0.006538840023989047,"d":"0.01"},{"v":0.006538840023989047,"d":"0.01"},{"v":0.0278449484157073,"d":"0.03"},{"v":0.08139502810061762,"d":"0.08"},null,58,{"v":0.10257639304973047,"d":"0.10"},{"v":0.012366736195265102,"d":"0.01"},{"v":0.012366736195265102,"d":"0.01"},{"v":0.012366736195265102,"d":"0.01"},{"v":0.0294888594462588,"d":"0.03"},{"v":0.08064383315555972,"d":"0.08"}]
[null,59,{"v":4.083948851600204,"d":"4.08"},{"v":0.6078466984667843,"d":"0.61"},{"v":1.1045738245759222,"d":"1.10"},{"v":0.6078466984667843,"d":"0.61"},{"v":2.952432346700707,"d":"2.95"},{"v":4.083948851600204,"d":"4.08"},{"$nulls":3},59,{"v":0.03140062651746658,"d":"0.03"},{"v":8.528807701838623E-3,"d":"0.01"},{"v":8.528807701838623E-3,"d":"0.01"},{"v":8.528807701838623E-3,"d":"0.01"},{"v":0.03140062651746658,"d":"0.03"},{"v":0.08938520897145638,"d":"0.09"},null,59,{"v":0.11539844218094679,"d":"0.12"},{"v":0.012750780008265978,"d":"0.01"},{"v":0.012750780008265978,"d":"0.01"},{"v":0.012750780008265978,"d":"0.01"},{"v":0.0343122711018611,"d":"0.03"},{"v":0.08724837102344399,"d":"0.09"}]
[null,60,{"v":4.6257857830104,"d":"4.63"},{"v":0.646196404514384,"d":"0.65"},{"v":1.10637066107062,"d":"1.11"},{"v":0.646196404514384,"d":"0.65"},{"v":3.3733924553946495,"d":"3.37"},{"v":4.6257857830104,"d":"4.63"},{"$nulls":3},60,{"v":0.03495630461922586,"d":"0.03"},{"v":0.0105187753796882,"d":"0.01"},{"v":0.0105187753796882,"d":"0.01"},{"v":0.0105187753796882,"d":"0.01"},{"v":0.03495630461922586,"d":"0.03"},{"v":0.09737538984229514,"d":"0.10"},null,60,{"v":0.1282204913121631,"d":"0.13"},{"v":0.013134823821266857,"d":"0.01"},{"v":0.013134823821266857,"d":"0.01"},{"v":0.013134823821266857,"d":"0.01"},{"v":0.0391356827574634,"d":"0.04"},{"v":0.09385290889132826,"d":"0.09"}]
[null,61,{"v":4.228641527367447,"d":"4.23"},{"v":1.363962265874679,"d":"1.36"},{"v":2.0090947960694923,"d":"2.01"},{"v":1.363962265874679,"d":"1.36"},{"v":4.082590058726398,"d":"4.08"},{"v":4.228641527367447,"d":"4.23"},{"$nulls":3},61,{"v":0.03495630461922586,"d":"0.03"},{"v":0.014231571663494641,"d":"0.01"},{"v":0.014231571663494641,"d":"0.01"},{"v":0.014231571663494641,"d":"0.01"},{"v":0.03495630461922586,"d":"0.03"},{"v":0.10178771702775764,"d":"0.10"},null,61,{"v":0.1282204913121631,"d":"0.13"},{"v":0.011857102355658964,"d":"0.01"},{"v":0.011857102355658964,"d":"0.01"},{"v":0.011857102355658964,"d":"0.01"},{"v":0.045405095083112725,"d":"0.05"},{"v":0.09397304649801592,"d":"0.09"}]
[null,62,{"v":3.8314972717244946,"d":"3.83"},{"v":2.081728127234974,"d":"2.08"},{"v":2.9118189310683644,"d":"2.91"},{"v":2.081728127234974,"d":"2.08"},{"v":4.791787662058145,"d":"4.79"},{"v":3.8314972717244946,"d":"3.83"},{"$nulls":3},62,{"v":0.03495630461922586,"d":"0.03"},{"v":0.01794436794730108,"d":"0.02"},{"v":0.01794436794730108,"d":"0.02"},{"v":0.01794436794730108,"d":"0.02"},{"v":0.03495630461922586,"d":"0.03"},{"v":0.10620004421322013,"d":"0.11"},null,62,{"v":0.1282204913121631,"d":"0.13"},{"v":0.01057938089005107,"d":"0.01"},{"v":0.01057938089005107,"d":"0.01"},{"v":0.01057938089005107,"d":"0.01"},{"v":0.051674507408762047,"d":"0.05"},{"v":0.09409318410470359,"d":"0.09"}]
[null,63,{"v":3.434353016081542,"d":"3.43"},{"v":2.799493988595269,"d":"2.80"},{"v":3.8145430660672366,"d":"3.81"},{"v":2.799493988595269,"d":"2.80"},{"v":5.500985265389893,"d":"5.50"},{"v":3.434353016081542,"d":"3.43"},{"$nulls":3},63,{"v":0.03495630461922586,"d":"0.03"},{"v":0.021657164231107518,"d":"0.02"},{"v":0.021657164231107518,"d":"0.02"},{"v":0.021657164231107518,"d":"0.02"},{"v":0.03495630461922586,"d":"0.03"},{"v":0.11061237139868263,"d":"0.11"},null,63,{"v":0.1282204913121631,"d":"0.13"},{"v":0.009301659424443179,"d":"0.01"},{"v":0.009301659424443179,"d":"0.01"},{"v":0.009301659424443179,"d":"0.01"},{"v":0.05794391973441137,"d":"0.06"},{"v":0.09421332171139125,"d":"0.09"}]
[null,64,{"v":3.0372087604385896,"d":"3.04"},{"v":3.5172598499555643,"d":"3.52"},{"v":4.717267201066108,"d":"4.72"},{"v":3.5172598499555643,"d":"3.52"},{"v":6.210182868721641,"d":"6.21"},{"v":3.0372087604385896,"d":"3.04"},{"$nulls":3},64,{"v":0.03495630461922586,"d":"0.03"},{"v":0.02536996051491396,"d":"0.03"},{"v":0.02536996051491396,"d":"0.03"},{"v":0.02536996051491396,"d":"0.03"},{"v":0.03495630461922586,"d":"0.03"},{"v":0.11502469858414513,"d":"0.12"},null,64,{"v":0.1282204913121631,"d":"0.13"},{"v":0.008023937958835286,"d":"0.01"},{"v":0.008023937958835286,"d":"0.01"},{"v":0.008023937958835286,"d":"0.01"},{"v":0.06421333206006069,"d":"0.06"},{"v":0.09433345931807892,"d":"0.09"}]
[null,65,{"v":2.6400645047956366,"d":"2.64"},{"v":4.23502571131586,"d":"4.24"},{"v":5.61999133606498,"d":"5.62"},{"v":4.23502571131586,"d":"4.24"},{"v":6.91938047205339,"d":"6.92"},{"v":2.6400645047956366,"d":"2.64"},{"$nulls":3},65,{"v":0.03495630461922586,"d":"0.03"},{"v":0.0290827567987204,"d":"0.03"},{"v":0.0290827567987204,"d":"0.03"},{"v":0.0290827567987204,"d":"0.03"},{"v":0.03495630461922586,"d":"0.03"},{"v":0.11943702576960759,"d":"0.12"},null,65,{"v":0.1282204913121631,"d":"0.13"},{"v":0.006746216493227392,"d":"0.01"},{"v":0.006746216493227392,"d":"0.01"},{"v":0.006746216493227392,"d":"0.01"},{"v":0.07048274438571,"d":"0.07"},{"v":0.09445359692476661,"d":"0.09"}]
[null,66,{"v":3.357654604812214,"d":"3.36"},{"v":3.7968264111416397,"d":"3.80"},{"v":5.605465324723192,"d":"5.61"},{"v":3.7968264111416397,"d":"3.80"},{"v":5.980906860565702,"d":"5.98"},{"v":3.357654604812214,"d":"3.36"},{"$nulls":3},66,{"v":0.03495630461922586,"d":"0.03"},{"v":0.03435252858954292,"d":"0.03"},{"v":0.03435252858954292,"d":"0.03"},{"v":0.03435252858954292,"d":"0.03"},{"v":0.03495630461922586,"d":"0.03"},{"v":0.12053977384816075,"d":"0.12"},null,66,{"v":0.1282204913121631,"d":"0.13"},{"v":0.006806152980246476,"d":"0.01"},{"v":0.006806152980246476,"d":"0.01"},{"v":0.006806152980246476,"d":"0.01"},{"v":0.0778667968017386,"d":"0.08"},{"v":0.09433345931807895,"d":"0.09"}]
[null,67,{"v":4.0752447048287905,"d":"4.08"},{"v":3.3586271109674195,"d":"3.36"},{"v":5.590939313381404,"d":"5.59"},{"v":3.3586271109674195,"d":"3.36"},{"v":5.042433249078015,"d":"5.04"},{"v":4.0752447048287905,"d":"4.08"},{"$nulls":3},67,{"v":0.03495630461922586,"d":"0.03"},{"v":0.03962230038036543,"d":"0.04"},{"v":0.03962230038036543,"d":"0.04"},{"v":0.03962230038036543,"d":"0.04"},{"v":0.03495630461922586,"d":"0.03"},{"v":0.12164252192671393,"d":"0.12"},null,67,{"v":0.1282204913121631,"d":"0.13"},{"v":0.006866089467265559,"d":"0.01"},{"v":0.006866089467265559,"d":"0.01"},{"v":0.006866089467265559,"d":"0.01"},{"v":0.08525084921776721,"d":"0.09"},{"v":0.09421332171139127,"d":"0.09"}]
[null,68,{"v":4.792834804845367,"d":"4.79"},{"v":2.9204278107931994,"d":"2.92"},{"v":5.576413302039616,"d":"5.58"},{"v":2.9204278107931994,"d":"2.92"},{"v":4.103959637590328,"d":"4.10"},{"v":4.792834804845367,"d":"4.79"},{"$nulls":3},68,{"v":0.03495630461922586,"d":"0.03"},{"v":0.04489207217118795,"d":"0.04"},{"v":0.04489207217118795,"d":"0.04"},{"v":0.04489207217118795,"d":"0.04"},{"v":0.03495630461922586,"d":"0.03"},{"v":0.1227452700052671,"d":"0.12"},null,68,{"v":0.1282204913121631,"d":"0.13"},{"v":0.006926025954284642,"d":"0.01"},{"v":0.006926025954284642,"d":"0.01"},{"v":0.006926025954284642,"d":"0.01"},{"v":0.09263490163379581,"d":"0.09"},{"v":0.0940931841047036,"d":"0.09"}]
[null,69,{"v":5.510424904861944,"d":"5.51"},{"v":2.482228510618979,"d":"2.48"},{"v":5.561887290697828,"d":"5.56"},{"v":2.482228510618979,"d":"2.48"},{"v":3.16548602610264,"d":"3.17"},{"v":5.510424904861944,"d":"5.51"},{"$nulls":3},69,{"v":0.03495630461922586,"d":"0.03"},{"v":0.05016184396201047,"d":"0.05"},{"v":0.05016184396201047,"d":"0.05"},{"v":0.05016184396201047,"d":"0.05"},{"v":0.03495630461922586,"d":"0.03"},{"v":0.12384801808382027,"d":"0.12"},null,69,{"v":0.1282204913121631,"d":"0.13"},{"v":0.006985962441303725,"d":"0.01"},{"v":0.006985962441303725,"d":"0.01"},{"v":0.006985962441303725,"d":"0.01"},{"v":0.10001895404982442,"d":"0.10"},{"v":0.09397304649801594,"d":"0.09"}]
[null,70,{"v":6.228015004878522,"d":"6.23"},{"v":2.04402921044476,"d":"2.04"},{"v":5.54736127935604,"d":"5.55"},{"v":2.04402921044476,"d":"2.04"},{"v":2.227012414614952,"d":"2.23"},{"v":6.228015004878522,"d":"6.23"},{"$nulls":3},70,{"v":0.03495630461922586,"d":"0.03"},{"v":0.055431615752832994,"d":"0.06"},{"v":0.055431615752832994,"d":"0.06"},{"v":0.055431615752832994,"d":"0.06"},{"v":0.03495630461922586,"d":"0.03"},{"v":0.12495076616237347,"d":"0.12"},null,70,{"v":0.1282204913121631,"d":"0.13"},{"v":0.00704589892832281,"d":"0.01"},{"v":0.00704589892832281,"d":"0.01"},{"v":0.00704589892832281,"d":"0.01"},{"v":0.107403006465853,"d":"0.11"},{"v":0.09385290889132826,"d":"0.09"}]
[null,71,{"v":5.0791156030431015,"d":"5.08"},{"v":4.002666972118428,"d":"4.00"},{"v":7.082914170936952,"d":"7.08"},{"v":4.002666972118428,"d":"4.00"},{"v":5.042363373468421,"d":"5.04"},{"v":5.0791156030431015,"d":"5.08"},{"$nulls":3},71,{"v":0.029913886569923928,"d":"0.03"},{"v":0.06206919862195154,"d":"0.06"},{"v":0.06206919862195154,"d":"0.06"},{"v":0.06206919862195154,"d":"0.06"},{"v":0.029913886569923928,"d":"0.03"},{"v":0.12328934824184028,"d":"0.12"},null,71,{"v":0.12287561113071847,"d":"0.12"},{"v":0.011121860181527408,"d":"0.01"},{"v":0.011121860181527408,"d":"0.01"},{"v":0.011121860181527408,"d":"0.01"},{"v":0.11561152740533559,"d":"0.12"},{"v":0.08854072505180378,"d":"0.09"}]
[null,72,{"v":3.930216201207681,"d":"3.93"},{"v":5.961304733792096,"d":"5.96"},{"v":8.618467062517864,"d":"8.62"},{"v":5.961304733792096,"d":"5.96"},{"v":7.85771433232189,"d":"7.86"},{"v":3.930216201207681,"d":"3.93"},{"$nulls":3},72,{"v":0.024871468520621994,"d":"0.02"},{"v":0.06870678149107007,"d":"0.07"},{"v":0.06870678149107007,"d":"0.07"},{"v":0.06870678149107007,"d":"0.07"},{"v":0.024871468520621994,"d":"0.02"},{"v":0.12162793032130709,"d":"0.12"},null,72,{"v":0.11753073094927385,"d":"0.12"},{"v":0.015197821434732006,"d":"0.02"},{"v":0.015197821434732006,"d":"0.02"},{"v":0.015197821434732006,"d":"0.02"},{"v":0.12382004834481819,"d":"0.12"},{"v":0.08322854121227931,"d":"0.08"}]
[null,73,{"v":2.7813167993722603,"d":"2.78"},{"v":7.919942495465763,"d":"7.92"},{"v":10.154019954098775,"d":"10.15"},{"v":7.919942495465763,"d":"7.92"},{"v":10.673065291175359,"d":"10.67"},{"v":2.7813167993722603,"d":"2.78"},{"$nulls":3},73,{"v":0.019829050471320067,"d":"0.02"},{"v":0.07534436436018861,"d":"0.08"},{"v":0.07534436436018861,"d":"0.08"},{"v":0.07534436436018861,"d":"0.08"},{"v":0.019829050471320067,"d":"0.02"},{"v":0.11996651240077391,"d":"0.12"},null,73,{"v":0.11218585076782923,"d":"0.11"},{"v":0.019273782687936603,"d":"0.02"},{"v":0.019273782687936603,"d":"0.02"},{"v":0.019273782687936603,"d":"0.02"},{"v":0.1320285692843008,"d":"0.13"},{"v":0.07791635737275483,"d":"0.08"}]
[null,74,{"v":1.6324173975368397,"d":"1.63"},{"v":9.878580257139431,"d":"9.88"},{"v":11.689572845679686,"d":"11.69"},{"v":9.878580257139431,"d":"9.88"},{"v":13.488416250028827,"d":"13.49"},{"v":1.6324173975368397,"d":"1.63"},{"$nulls":3},74,{"v":0.014786632422018138,"d":"0.01"},{"v":0.08198194722930716,"d":"0.08"},{"v":0.08198194722930716,"d":"0.08"},{"v":0.08198194722930716,"d":"0.08"},{"v":0.014786632422018138,"d":"0.01"},{"v":0.11830509448024072,"d":"0.12"},null,74,{"v":0.10684097058638463,"d":"0.11"},{"v":0.023349743941141202,"d":"0.02"},{"v":0.023349743941141202,"d":"0.02"},{"v":0.023349743941141202,"d":"0.02"},{"v":0.1402370902237834,"d":"0.14"},{"v":0.07260417353323036,"d":"0.07"}]
[null,75,{"v":0.483517995701419,"d":"0.48"},{"v":11.8372180188131,"d":"11.84"},{"v":13.2251257372606,"d":"13.23"},{"v":11.8372180188131,"d":"11.84"},{"v":16.3037672088823,"d":"16.30"},{"v":0.483517995701419,"d":"0.48"},{"$nulls":3},75,{"v":0.00974421437271621,"d":"0.01"},{"v":0.08861953009842569,"d":"0.09"},{"v":0.08861953009842569,"d":"0.09"},{"v":0.08861953009842569,"d":"0.09"},{"v":0.00974421437271621,"d":"0.01"},{"v":0.11664367655970753,"d":"0.12"},null,75,{"v":0.10149609040494,"d":"0.10"},{"v":0.027425705194345798,"d":"0.03"},{"v":0.027425705194345798,"d":"0.03"},{"v":0.027425705194345798,"d":"0.03"},{"v":0.14844561116326602,"d":"0.15"},{"v":0.06729198969370588,"d":"0.07"}]
[null,76,{"v":1.4384645760785213,"d":"1.44"},{"v":10.988436682758705,"d":"10.99"},{"v":13.17364003667904,"d":"13.17"},{"v":10.988436682758705,"d":"10.99"},{"v":13.761539784983935,"d":"13.76"},{"v":1.4384645760785213,"d":"1.44"},{"$nulls":3},76,{"v":0.010649117039195568,"d":"0.01"},{"v":0.09641125070603457,"d":"0.10"},{"v":0.09641125070603457,"d":"0.10"},{"v":0.09641125070603457,"d":"0.10"},{"v":0.010649117039195568,"d":"0.01"},{"v":0.11292390855278278,"d":"0.11"},null,76,{"v":0.09615121022349538,"d":"0.10"},{"v":0.03267249480162194,"d":"0.03"},{"v":0.03267249480162194,"d":"0.03"},{"v":0.03267249480162194,"d":"0.03"},{"v":0.1572271034225424,"d":"0.16"},{"v":0.06197980585418141,"d":"0.06"}]
[null,77,{"v":2.3934111564556235,"d":"2.39"},{"v":10.13965534670431,"d":"10.14"},{"v":13.122154336097479,"d":"13.12"},{"v":10.13965534670431,"d":"10.14"},{"v":11.21931236108557,"d":"11.22"},{"v":2.3934111564556235,"d":"2.39"},{"$nulls":3},77,{"v":0.011554019705674927,"d":"0.01"},{"v":0.10420297131364344,"d":"0.10"},{"v":0.10420297131364344,"d":"0.10"},{"v":0.10420297131364344,"d":"0.10"},{"v":0.011554019705674927,"d":"0.01"},{"v":0.10920414054585802,"d":"0.11"},null,77,{"v":0.09080633004205076,"d":"0.09"},{"v":0.03791928440889808,"d":"0.04"},{"v":0.03791928440889808,"d":"0.04"},{"v":0.03791928440889808,"d":"0.04"},{"v":0.1660085956818188,"d":"0.17"},{"v":0.056667622014656936,"d":"0.06"}]
[null,78,{"v":3.3483577368327255,"d":"3.35"},{"v":9.290874010649913,"d":"9.29"},{"v":13.070668635515919,"d":"13.07"},{"v":9.290874010649913,"d":"9.29"},{"v":8.677084937187207,"d":"8.68"},{"v":3.3483577368327255,"d":"3.35"},{"$nulls":3},78,{"v":0.012458922372154286,"d":"0.01"},{"v":0.1119946919212523,"d":"0.11"},{"v":0.1119946919212523,"d":"0.11"},{"v":0.1119946919212523,"d":"0.11"},{"v":0.012458922372154286,"d":"0.01"},{"v":0.10548437253893325,"d":"0.11"},null,78,{"v":0.08546144986060615,"d":"0.09"},{"v":0.04316607401617421,"d":"0.04"},{"v":0.04316607401617421,"d":"0.04"},{"v":0.04316607401617421,"d":"0.04"},{"v":0.1747900879410952,"d":"0.17"},{"v":0.05135543817513246,"d":"0.05"}]
[null,79,{"v":4.303304317209828,"d":"4.30"},{"v":8.442092674595518,"d":"8.44"},{"v":13.019182934934358,"d":"13.02"},{"v":8.442092674595518,"d":"8.44"},{"v":6.134857513288843,"d":"6.13"},{"v":4.303304317209828,"d":"4.30"},{"$nulls":3},79,{"v":0.013363825038633646,"d":"0.01"},{"v":0.11978641252886117,"d":"0.12"},{"v":0.11978641252886117,"d":"0.12"},{"v":0.11978641252886117,"d":"0.12"},{"v":0.013363825038633646,"d":"0.01"},{"v":0.1017646045320085,"d":"0.10"},null,79,{"v":0.08011656967916153,"d":"0.08"},{"v":0.04841286362345035,"d":"0.05"},{"v":0.04841286362345035,"d":"0.05"},{"v":0.04841286362345035,"d":"0.05"},{"v":0.18357158020037162,"d":"0.18"},{"v":0.046043254335607985,"d":"0.05"}]
[null,80,{"v":5.25825089758693,"d":"5.26"},{"v":7.59331133854112,"d":"7.59"},{"v":12.9676972343528,"d":"12.97"},{"v":7.59331133854112,"d":"7.59"},{"v":3.59263008939048,"d":"3.59"},{"v":5.25825089758693,"d":"5.26"},{"$nulls":3},80,{"v":0.014268727705113,"d":"0.01"},{"v":0.12757813313647,"d":"0.13"},{"v":0.12757813313647,"d":"0.13"},{"v":0.12757813313647,"d":"0.13"},{"v":0.014268727705113,"d":"0.01"},{"v":0.09804483652508374,"d":"0.10"},null,80,{"v":0.07477168949771688,"d":"0.07"},{"v":0.053659653230726495,"d":"0.05"},{"v":0.053659653230726495,"d":"0.05"},{"v":0.053659653230726495,"d":"0.05"},{"v":0.192353072459648,"d":"0.19"},{"v":0.040731070496083516,"d":"0.04"}]
[null,81,{"v":5.590061442965578,"d":"5.59"},{"v":10.723502404108617,"d":"10.72"},{"v":15.09899668073852,"d":"15.10"},{"v":10.723502404108617,"d":"10.72"},{"v":8.635734915680345,"d":"8.64"},{"v":5.590061442965578,"d":"5.59"},{"$nulls":3},81,{"v":0.0206209660536186,"d":"0.02"},{"v":0.1362920324389966,"d":"0.14"},{"v":0.1362920324389966,"d":"0.14"},{"v":0.1362920324389966,"d":"0.14"},{"v":0.0206209660536186,"d":"0.02"},{"v":0.09301709130924611,"d":"0.09"},null,81,{"v":0.06809751840661757,"d":"0.07"},{"v":0.059943895130882295,"d":"0.06"},{"v":0.059943895130882295,"d":"0.06"},{"v":0.059943895130882295,"d":"0.06"},{"v":0.2014914263680652,"d":"0.20"},{"v":0.034306175107425674,"d":"0.03"}]
[null,82,{"v":5.921871988344226,"d":"5.92"},{"v":13.853693469676113,"d":"13.85"},{"v":17.23029612712424,"d":"17.23"},{"v":13.853693469676113,"d":"13.85"},{"v":13.67883974197021,"d":"13.68"},{"v":5.921871988344226,"d":"5.92"},{"$nulls":3},82,{"v":0.026973204402124203,"d":"0.03"},{"v":0.1450059317415232,"d":"0.15"},{"v":0.1450059317415232,"d":"0.15"},{"v":0.1450059317415232,"d":"0.15"},{"v":0.026973204402124203,"d":"0.03"},{"v":0.08798934609340847,"d":"0.09"},null,82,{"v":0.061423347315518254,"d":"0.06"},{"v":0.0662281370310381,"d":"0.07"},{"v":0.0662281370310381,"d":"0.07"},{"v":0.0662281370310381,"d":"0.07"},{"v":0.21062978027648238,"d":"0.21"},{"v":0.02788127971876784,"d":"0.03"}]
[null,83,{"v":6.253682533722874,"d":"6.25"},{"v":16.983884535243607,"d":"16.98"},{"v":19.36159557350996,"d":"19.36"},{"v":16.983884535243607,"d":"16.98"},{"v":18.721944568260074,"d":"18.72"},{"v":6.253682533722874,"d":"6.25"},{"$nulls":3},83,{"v":0.033325442750629805,"d":"0.03"},{"v":0.1537198310440498,"d":"0.15"},{"v":0.1537198310440498,"d":"0.15"},{"v":0.1537198310440498,"d":"0.15"},{"v":0.033325442750629805,"d":"0.03"},{"v":0.08296160087757083,"d":"0.08"},null,83,{"v":0.05474917622441894,"d":"0.05"},{"v":0.0725123789311939,"d":"0.07"},{"v":0.0725123789311939,"d":"0.07"},{"v":0.0725123789311939,"d":"0.07"},{"v":0.21976813418489957,"d":"0.22"},{"v":0.02145638433011,"d":"0.02"}]
[null,84,{"v":6.585493079101522,"d":"6.59"},{"v":20.114075600811102,"d":"20.11"},{"v":21.492895019895677,"d":"21.49"},{"v":20.114075600811102,"d":"20.11"},{"v":23.76504939454994,"d":"23.77"},{"v":6.585493079101522,"d":"6.59"},{"$nulls":3},84,{"v":0.03967768109913541,"d":"0.04"},{"v":0.1624337303465764,"d":"0.16"},{"v":0.1624337303465764,"d":"0.16"},{"v":0.1624337303465764,"d":"0.16"},{"v":0.03967768109913541,"d":"0.04"},{"v":0.07793385566173319,"d":"0.08"},null,84,{"v":0.04807500513331963,"d":"0.05"},{"v":0.0787966208313497,"d":"0.08"},{"v":0.0787966208313497,"d":"0.08"},{"v":0.0787966208313497,"d":"0.08"},{"v":0.22890648809331676,"d":"0.23"},{"v":0.01503148894145216,"d":"0.02"}]
[null,85,{"v":6.91730362448017,"d":"6.92"},{"v":23.2442666663786,"d":"23.24"},{"v":23.6241944662814,"d":"23.62"},{"v":23.2442666663786,"d":"23.24"},{"v":28.8081542208398,"d":"28.81"},{"v":6.91730362448017,"d":"6.92"},{"$nulls":3},85,{"v":0.046029919447641,"d":"0.05"},{"v":0.17114762964910302,"d":"0.17"},{"v":0.17114762964910302,"d":"0.17"},{"v":0.17114762964910302,"d":"0.17"},{"v":0.046029919447641,"d":"0.05"},{"v":0.07290611044589554,"d":"0.07"},null,85,{"v":0.04140083404222031,"d":"0.04"},{"v":0.0850808627315055,"d":"0.09"},{"v":0.0850808627315055,"d":"0.09"},{"v":0.0850808627315055,"d":"0.09"},{"v":0.23804484200173398,"d":"0.24"},{"v":0.00860659355279432,"d":"0.01"}]
[null,86,{"v":5.950602545525655,"d":"5.95"},{"v":21.93156603120268,"d":"21.93"},{"v":23.575651034644,"d":"23.58"},{"v":21.93156603120268,"d":"21.93"},{"v":25.80654279192032,"d":"25.81"},{"v":5.950602545525655,"d":"5.95"},{"$nulls":3},86,{"v":0.05198558550237146,"d":"0.05"},{"v":0.18054397965839603,"d":"0.18"},{"v":0.18054397965839603,"d":"0.18"},{"v":0.18054397965839603,"d":"0.18"},{"v":0.05198558550237146,"d":"0.05"},{"v":0.06728031589690882,"d":"0.07"},null,86,{"v":0.03472666295112099,"d":"0.03"},{"v":0.09227813180579479,"d":"0.09"},{"v":0.09227813180579479,"d":"0.09"},{"v":0.09227813180579479,"d":"0.09"},{"v":0.24735584604493638,"d":"0.25"},{"v":0.011588851520334436,"d":"0.01"}]
[null,87,{"v":4.983901466571139,"d":"4.98"},{"v":20.618865396026763,"d":"20.62"},{"v":23.527107603006602,"d":"23.53"},{"v":20.618865396026763,"d":"20.62"},{"v":22.80493136300084,"d":"22.80"},{"v":4.983901466571139,"d":"4.98"},{"$nulls":3},87,{"v":0.05794125155710192,"d":"0.06"},{"v":0.18994032966768903,"d":"0.19"},{"v":0.18994032966768903,"d":"0.19"},{"v":0.18994032966768903,"d":"0.19"},{"v":0.05794125155710192,"d":"0.06"},{"v":0.061654521347922105,"d":"0.06"},null,87,{"v":0.02805249186002168,"d":"0.03"},{"v":0.0994754008800841,"d":"0.10"},{"v":0.0994754008800841,"d":"0.10"},{"v":0.0994754008800841,"d":"0.10"},{"v":0.2566668500881388,"d":"0.26"},{"v":0.014571109487874552,"d":"0.01"}]
[null,88,{"v":4.017200387616624,"d":"4.02"},{"v":19.306164760850844,"d":"19.31"},{"v":23.478564171369204,"d":"23.48"},{"v":19.306164760850844,"d":"19.31"},{"v":19.803319934081358,"d":"19.80"},{"v":4.017200387616624,"d":"4.02"},{"$nulls":3},88,{"v":0.06389691761183237,"d":"0.06"},{"v":0.19933667967698201,"d":"0.20"},{"v":0.19933667967698201,"d":"0.20"},{"v":0.19933667967698201,"d":"0.20"},{"v":0.06389691761183237,"d":"0.06"},{"v":0.056028726798935384,"d":"0.06"},null,88,{"v":0.02137832076892237,"d":"0.02"},{"v":0.1066726699543734,"d":"0.11"},{"v":0.1066726699543734,"d":"0.11"},{"v":0.1066726699543734,"d":"0.11"},{"v":0.2659778541313412,"d":"0.27"},{"v":0.017553367455414668,"d":"0.02"}]
[null,89,{"v":3.0504993086621086,"d":"3.05"},{"v":17.993464125674926,"d":"17.99"},{"v":23.430020739731805,"d":"23.43"},{"v":17.993464125674926,"d":"17.99"},{"v":16.801708505161876,"d":"16.80"},{"v":3.0504993086621086,"d":"3.05"},{"$nulls":3},89,{"v":0.06985258366656283,"d":"0.07"},{"v":0.20873302968627502,"d":"0.21"},{"v":0.20873302968627502,"d":"0.21"},{"v":0.20873302968627502,"d":"0.21"},{"v":0.06985258366656283,"d":"0.07"},{"v":0.05040293224994866,"d":"0.05"},null,89,{"v":0.014704149677823058,"d":"0.01"},{"v":0.11386993902866269,"d":"0.11"},{"v":0.11386993902866269,"d":"0.11"},{"v":0.11386993902866269,"d":"0.11"},{"v":0.27528885817454357,"d":"0.28"},{"v":0.02053562542295478,"d":"0.02"}]
[null,90,{"v":2.0837982297075923,"d":"2.08"},{"v":16.680763490499,"d":"16.68"},{"v":23.3814773080944,"d":"23.38"},{"v":16.680763490499,"d":"16.68"},{"v":13.8000970762424,"d":"13.80"},{"v":2.0837982297075923,"d":"2.08"},{"$nulls":3},90,{"v":0.0758082497212933,"d":"0.08"},{"v":0.218129379695568,"d":"0.22"},{"v":0.218129379695568,"d":"0.22"},{"v":0.218129379695568,"d":"0.22"},{"v":0.0758082497212933,"d":"0.08"},{"v":0.044777137700961964,"d":"0.04"},null,90,{"v":0.008029978586723741,"d":"0.01"},{"v":0.121067208102952,"d":"0.12"},{"v":0.121067208102952,"d":"0.12"},{"v":0.121067208102952,"d":"0.12"},{"v":0.28459986221774597,"d":"0.28"},{"v":0.023517883390494897,"d":"0.02"}]
[null,91,{"v":4.942962694531974,"d":"4.94"},{"v":20.69301054161242,"d":"20.69"},{"v":25.98869343503692,"d":"25.99"},{"v":20.69301054161242,"d":"20.69"},{"v":19.94545006520416,"d":"19.95"},{"v":4.942962694531974,"d":"4.94"},{"$nulls":3},91,{"v":0.0758082497212933,"d":"0.08"},{"v":0.2279723949498636,"d":"0.23"},{"v":0.2279723949498636,"d":"0.23"},{"v":0.2279723949498636,"d":"0.23"},{"v":0.0758082497212933,"d":"0.08"},{"v":0.06420289388385557,"d":"0.06"},null,91,{"v":0.008029978586723741,"d":"0.01"},{"v":0.1290565416227796,"d":"0.13"},{"v":0.1290565416227796,"d":"0.13"},{"v":0.1290565416227796,"d":"0.13"},{"v":0.2939279179203178,"d":"0.29"},{"v":0.023517883390494897,"d":"0.02"}]
[null,92,{"v":7.802127159356355,"d":"7.80"},{"v":24.70525759272584,"d":"24.71"},{"v":28.595909561979443,"d":"28.60"},{"v":24.70525759272584,"d":"24.71"},{"v":26.090803054165917,"d":"26.09"},{"v":7.802127159356355,"d":"7.80"},{"$nulls":3},92,{"v":0.0758082497212933,"d":"0.08"},{"v":0.23781541020415922,"d":"0.24"},{"v":0.23781541020415922,"d":"0.24"},{"v":0.23781541020415922,"d":"0.24"},{"v":0.0758082497212933,"d":"0.08"},{"v":0.08362865006674917,"d":"0.08"},null,92,{"v":0.008029978586723741,"d":"0.01"},{"v":0.1370458751426072,"d":"0.14"},{"v":0.1370458751426072,"d":"0.14"},{"v":0.1370458751426072,"d":"0.14"},{"v":0.3032559736228896,"d":"0.30"},{"v":0.023517883390494897,"d":"0.02"}]
[null,93,{"v":10.661291624180738,"d":"10.66"},{"v":28.71750464383926,"d":"28.72"},{"v":31.203125688921965,"d":"31.20"},{"v":28.71750464383926,"d":"28.72"},{"v":32.23615604312768,"d":"32.24"},{"v":10.661291624180738,"d":"10.66"},{"$nulls":3},93,{"v":0.0758082497212933,"d":"0.08"},{"v":0.24765842545845485,"d":"0.25"},{"v":0.24765842545845485,"d":"0.25"},{"v":0.24765842545845485,"d":"0.25"},{"v":0.0758082497212933,"d":"0.08"},{"v":0.10305440624964278,"d":"0.10"},null,93,{"v":0.008029978586723741,"d":"0.01"},{"v":0.1450352086624348,"d":"0.15"},{"v":0.1450352086624348,"d":"0.15"},{"v":0.1450352086624348,"d":"0.15"},{"v":0.3125840293254614,"d":"0.31"},{"v":0.023517883390494897,"d":"0.02"}]
[null,94,{"v":13.520456089005119,"d":"13.52"},{"v":32.72975169495268,"d":"32.73"},{"v":33.81034181586448,"d":"33.81"},{"v":32.72975169495268,"d":"32.73"},{"v":38.38150903208944,"d":"38.38"},{"v":13.520456089005119,"d":"13.52"},{"$nulls":3},94,{"v":0.0758082497212933,"d":"0.08"},{"v":0.25750144071275044,"d":"0.26"},{"v":0.25750144071275044,"d":"0.26"},{"v":0.25750144071275044,"d":"0.26"},{"v":0.0758082497212933,"d":"0.08"},{"v":0.1224801624325364,"d":"0.12"},null,94,{"v":0.008029978586723741,"d":"0.01"},{"v":0.15302454218226239,"d":"0.15"},{"v":0.15302454218226239,"d":"0.15"},{"v":0.15302454218226239,"d":"0.15"},{"v":0.3219120850280332,"d":"0.32"},{"v":0.023517883390494897,"d":"0.02"}]
[null,95,{"v":16.3796205538295,"d":"16.38"},{"v":36.7419987460661,"d":"36.74"},{"v":36.417557942807,"d":"36.42"},{"v":36.7419987460661,"d":"36.74"},{"v":44.5268620210512,"d":"44.53"},{"v":16.3796205538295,"d":"16.38"},{"$nulls":3},95,{"v":0.0758082497212933,"d":"0.08"},{"v":0.267344455967046,"d":"0.27"},{"v":0.267344455967046,"d":"0.27"},{"v":0.267344455967046,"d":"0.27"},{"v":0.0758082497212933,"d":"0.08"},{"v":0.14190591861543,"d":"0.14"},null,95,{"v":0.008029978586723741,"d":"0.01"},{"v":0.16101387570209,"d":"0.16"},{"v":0.16101387570209,"d":"0.16"},{"v":0.16101387570209,"d":"0.16"},{"v":0.331240140730605,"d":"0.33"},{"v":0.023517883390494897,"d":"0.02"}]
[null,96,{"v":13.72270819249881,"d":"13.72"},{"v":34.86426621368516,"d":"34.86"},{"v":36.39877646999258,"d":"36.40"},{"v":34.86426621368516,"d":"34.86"},{"v":41.650830419248884,"d":"41.65"},{"v":13.72270819249881,"d":"13.72"},{"$nulls":3},96,{"v":0.0758082497212933,"d":"0.08"},{"v":0.277412835132871,"d":"0.28"},{"v":0.277412835132871,"d":"0.28"},{"v":0.277412835132871,"d":"0.28"},{"v":0.0758082497212933,"d":"0.08"},{"v":0.1465197448725956,"d":"0.15"},null,96,{"v":0.008029978586723741,"d":"0.01"},{"v":0.1696718470169672,"d":"0.17"},{"v":0.1696718470169672,"d":"0.17"},{"v":0.1696718470169672,"d":"0.17"},{"v":0.3404553905440324,"d":"0.34"},{"v":0.023517883390494897,"d":"0.02"}]
[null,97,{"v":11.06579583116812,"d":"11.07"},{"v":32.98653368130422,"d":"32.99"},{"v":36.379994997178166,"d":"36.38"},{"v":32.98653368130422,"d":"32.99"},{"v":38.774798817446566,"d":"38.77"},{"v":11.06579583116812,"d":"11.07"},{"$nulls":3},97,{"v":0.0758082497212933,"d":"0.08"},{"v":0.287481214298696,"d":"0.29"},{"v":0.287481214298696,"d":"0.29"},{"v":0.287481214298696,"d":"0.29"},{"v":0.0758082497212933,"d":"0.08"},{"v":0.1511335711297612,"d":"0.15"},null,97,{"v":0.008029978586723741,"d":"0.01"},{"v":0.17832981833184441,"d":"0.18"},{"v":0.17832981833184441,"d":"0.18"},{"v":0.17832981833184441,"d":"0.18"},{"v":0.34967064035745987,"d":"0.35"},{"v":0.023517883390494897,"d":"0.02"}]
[null,98,{"v":8.40888346983743,"d":"8.41"},{"v":31.108801148923284,"d":"31.11"},{"v":36.36121352436375,"d":"36.36"},{"v":31.108801148923284,"d":"31.11"},{"v":35.89876721564425,"d":"35.90"},{"v":8.40888346983743,"d":"8.41"},{"$nulls":3},98,{"v":0.0758082497212933,"d":"0.08"},{"v":0.29754959346452103,"d":"0.30"},{"v":0.29754959346452103,"d":"0.30"},{"v":0.29754959346452103,"d":"0.30"},{"v":0.0758082497212933,"d":"0.08"},{"v":0.1557473973869268,"d":"0.16"},null,98,{"v":0.008029978586723741,"d":"0.01"},{"v":0.1869877896467216,"d":"0.19"},{"v":0.1869877896467216,"d":"0.19"},{"v":0.1869877896467216,"d":"0.19"},{"v":0.3588858901708873,"d":"0.36"},{"v":0.023517883390494897,"d":"0.02"}]
[null,99,{"v":5.751971108506741,"d":"5.75"},{"v":29.231068616542345,"d":"29.23"},{"v":36.34243205154933,"d":"36.34"},{"v":29.231068616542345,"d":"29.23"},{"v":33.02273561384193,"d":"33.02"},{"v":5.751971108506741,"d":"5.75"},{"$nulls":3},99,{"v":0.0758082497212933,"d":"0.08"},{"v":0.30761797263034607,"d":"0.31"},{"v":0.30761797263034607,"d":"0.31"},{"v":0.30761797263034607,"d":"0.31"},{"v":0.0758082497212933,"d":"0.08"},{"v":0.16036122364409242,"d":"0.16"},null,99,{"v":0.008029978586723741,"d":"0.01"},{"v":0.19564576096159883,"d":"0.20"},{"v":0.19564576096159883,"d":"0.20"},{"v":0.19564576096159883,"d":"0.20"},{"v":0.3681011399843147,"d":"0.37"},{"v":0.023517883390494897,"d":"0.02"}]
[null,100,{"v":3.09505874717605,"d":"3.10"},{"v":27.3533360841614,"d":"27.35"},{"v":36.3236505787349,"d":"36.32"},{"v":27.3533360841614,"d":"27.35"},{"v":30.1467040120396,"d":"30.15"},{"v":3.09505874717605,"d":"3.10"},{"$nulls":3},100,{"v":0.0758082497212933,"d":"0.08"},{"v":0.317686351796171,"d":"0.32"},{"v":0.317686351796171,"d":"0.32"},{"v":0.317686351796171,"d":"0.32"},{"v":0.0758082497212933,"d":"0.08"},{"v":0.164975049901258,"d":"0.16"},null,100,{"v":0.008029978586723741,"d":"0.01"},{"v":0.204303732276476,"d":"0.20"},{"v":0.204303732276476,"d":"0.20"},{"v":0.204303732276476,"d":"0.20"},{"v":0.377316389797742,"d":"0.38"},{"v":0.023517883390494897,"d":"0.02"}]

{"sheet":"CO2 per km CO2 per pax","index":16,"n_rows":34,"n_cols":10,"rows_kept":34,"merged":[[1,1,1,9],[2,1,3,1],[2,2,3,2],[2,3,2,5],[2,6,2,7],[2,8,3,8],[2,9,3,9]]}
[]
[null,"GEF and CDM Average CO2e per BRT km and BRT Passenger"]
[null,"Project Code GEF","Place","Estimated CO2e impact",null,null,"Project Data",null,"Annual \n(tCO2/km)","tCO2 annual /(pax/day)"]
[{"$nulls":3},"Direct impact \n(t CO2eq / yr)","Post-project direct impact \n(t CO2eq)","Indirect impact \n(t CO2eq)","Length \n(km)","Users / day"]
[null,1081,"Lima, Peru",{"v":20780.6666666666,"d":"20,780.67"},"-","-",{"v":29,"d":"29.00"},0,{"v":716.5747126436759,"d":"716.57"}]
[null,2178,"Guatemala City",{"v":95000,"d":"95,000.00"},"-","-",{"v":20.5,"d":"20.50"},"-",{"v":4634.1463414634145,"d":"4,634.15"}]
[null,2368,"Hanoi, Vietnam",{"v":6630.125,"d":"6,630.13"},0,"-",{"v":24.5,"d":"24.50"},{"v":320000,"d":"320,000.00"},{"v":270.6173469387755,"d":"270.62"},{"v":0.020719140625,"d":"0.02"}]
[null,2604,"Johannesburg",{"v":35373.5,"d":"35,373.50"},0,0,{"v":25.5,"d":"25.50"},{"v":60000,"d":"60,000.00"},{"v":1387.1960784313726,"d":"1,387.20"},{"v":0.5895583333333333,"d":"0.59"}]
[null,2801,"Managua, Nicaragua",{"v":30250,"d":"30,250.00"},0,{"v":831000,"d":"831,000.00"},{"v":22,"d":"22.00"},{"v":22000,"d":"22,000.00"},{"v":1375,"d":"1,375.00"},{"v":1.375,"d":"1.38"}]
[null,"Sub totals",{"$nulls":4},{"v":121.5,"d":"121.50"},null,{"v":1676.7068958954478,"d":"1,676.71"},{"v":0.6617591579861111,"d":"0.66"}]
[null,2954,"Jakarta, Indonesia",{"v":263600,"d":"263,600.00"},"-",0,{"v":250,"d":"250.00"},{"v":600000,"d":"600,000.00"},{"v":1054.4,"d":"1,054.40"},{"v":0.43933333333333335,"d":"0.44"}]
[null,2954,"Jakarta, Indonesia",{"v":46200,"d":"46,200.00"},"-",0,{"v":250,"d":"250.00"},{"v":105000,"d":"105,000.00"},{"v":184.8,"d":"184.80"},0.44]
[null,2954,"Jakarta, Indonesia",{"v":52000,"d":"52,000.00"},"-",0,{"v":250,"d":"250.00"},{"v":118000,"d":"118,000.00"},{"v":208,"d":"208.00"},{"v":0.4406779661016949,"d":"0.44"}]
[null,2954,"Jakarta, Indonesia",{"v":64200,"d":"64,200.00"},"-",0,{"v":250,"d":"250.00"},{"v":133000,"d":"133,000.00"},{"v":256.8,"d":"256.80"},{"v":0.48270676691729325,"d":"0.48"}]
[null,2954,"Jakarta, Indonesia",{"v":42000,"d":"42,000.00"},"-",0,{"v":250,"d":"250.00"},{"v":96000,"d":"96,000.00"},{"v":168,"d":"168.00"},{"v":0.4375,"d":"0.44"}]
[null,2954,"Jakarta, Indonesia",{"v":121400,"d":"121,400.00"},"-",0,{"v":250,"d":"250.00"},0,{"v":485.6,"d":"485.60"}]
[null,2954,"Jakarta, Indonesia",{"v":15000,"d":"15,000.00"},"-",0,{"v":250,"d":"250.00"},{"v":32000,"d":"32,000.00"},{"v":60,"d":"60.00"},{"v":0.46875,"d":"0.47"}]
[null,null,"Jakarta Low",{"v":263600,"d":"263,600.00"},null,null,{"v":250,"d":"250.00"},{"v":600000,"d":"600,000.00"},{"v":1054.4,"d":"1,054.40"},{"v":0.43933333333333335,"d":"0.44"}]
[null,2954,"Jakarta",{"v":604400,"d":"604,400.00"},null,null,{"v":250,"d":"250.00"},{"v":1084000,"d":"1,084,000.00"},{"v":2417.6,"d":"2,417.60"},{"v":0.5575645756457565,"d":"0.56"}]
[null,"GEF Averages",{"$nulls":4},{"v":19.55263157894737,"d":"19.55"},{"v":148600,"d":"148,600.00"},{"v":1800.1890799128732,"d":"1,800.19"},{"v":0.6357105124010225,"d":"0.64"}]
[null,"CDM","Zhengzhou, China",204715,null,null,106,2771300,{"$f":"D21/G21","v":{"v":1931.2735849056603,"d":"1931.27"}},{"$f":"D21/H21","v":{"v":0.07386966405657995,"d":"0.07"}}]
[null,"CDM"," Lanzhou, China",12343,null,null,12.3,210400,{"$f":"D22/G22","v":{"v":1003.4959349593495,"d":"1003.50"}},{"$f":"D22/H22","v":{"v":0.05866444866920152,"d":"0.06"}}]
[null,"CDM","Guatemala",534188,null,null,46.9,2798700,{"$f":"D23/G23","v":{"v":11389.936034115139,"d":"11389.94"}},{"$f":"D23/H23","v":{"v":0.19087004680744632,"d":"0.19"}}]
[null,"CDM","Chongqing, China",218067,null,null,81.3,1742200,{"$f":"D24/G24","v":{"v":2682.2509225092253,"d":"2682.25"}},{"$f":"D24/H24","v":{"v":0.12516760417862471,"d":"0.13"}}]
[]
[null,"CDM","Medellin, Colombia",123479,null,null,108,561200,{"$f":"D26/G26","v":{"v":1143.3240740740741,"d":"1143.32"}},{"$f":"D26/H26","v":{"v":0.22002672843905915,"d":"0.22"}}]
[null,"CDM"," EDOMEX, Mexico",145863,null,null,101,650000,{"$f":"D27/G27","v":{"v":1444.1881188118812,"d":"1444.19"}},{"$f":"D27/H27","v":{"v":0.2244046153846154,"d":"0.22"}}]
[null,"CDM","Quito, Ecuador",{"v":212633.2857142857,"d":"212,633.29"},"-","-",{"v":61,"d":"61.00"},{"v":353000,"d":"353,000.00"},{"v":3485.791569086651,"d":"3,485.79"},{"v":0.6023605827600161,"d":"0.60"}]
[null,"CDM","Bogota Colombia",{"v":246562.85714285713,"d":"246,562.86"},"-","-",{"v":130,"d":"130.00"},{"v":1800000,"d":"1,800,000.00"},{"v":1896.6373626373625,"d":"1,896.64"},{"v":0.13697936507936506,"d":"0.14"}]
[null,"CDM","Cali, Colombia",{"v":35081.57142857143,"d":"35,081.57"},"-","-",{"v":44,"d":"44.00"},{"v":1000000,"d":"1,000,000.00"},{"v":797.3084415584416,"d":"797.31"},{"v":0.03508157142857143,"d":"0.04"}]
[null,"CDM","Mexico City, Mexico",{"v":26163.428571428572,"d":"26,163.43"},"-","-",{"v":27.6,"d":"27.60"},{"v":250000,"d":"250,000.00"},{"v":947.9503105590062,"d":"947.95"},{"v":0.1046537142857143,"d":"0.10"}]
[null,"CDM Averages",{"$nulls":4},{"$f":"AVERAGE(G21:G31)","v":71.81},{"$f":"AVERAGE(H21:H31)","v":{"v":1213680,"d":"1,213,680.00"}},{"$f":"AVERAGE(I21:I31)","v":{"v":2672.2156353216787,"d":"2,672.22"}},{"$f":"AVERAGE(J21:J31)","v":{"v":0.1772078341089194,"d":"0.18"}}]
[null,"Overall Averages",{"$nulls":6},{"$f":"AVERAGE(I32,I20)","v":{"v":2236.202357617276,"d":"2,236.20"}},{"$f":"AVERAGE(J32,J20)","v":{"v":0.40645917325497094,"d":"0.41"}}]
[null,"Go back "]